{"text_format":"1","workbook":"xlsx","n_sheets":4,"sheets":["INSCRIPCIÓN","RECOGIDA DATOS","CÁLCULOS","HOJA DE CAMPO"],"not_rendered":{"charts":0,"images":1,"macros":1,"external_links":0,"defined_names":6,"comments":0,"pivot_tables":0},"unopened":[],"bounds":{"document_bytes":16777216,"sheet_cells":100000,"rows_first":2000,"rows_last":500,"rows_between":2000,"halvings":0,"cell_chars":16384,"cell_head_chars":4096},"cells_cut":0,"cells_raw":0,"read":"whole","date_system":"1900"}

{"sheet":"INSCRIPCIÓN","index":0,"n_rows":106,"n_cols":7,"rows_kept":106,"cut":false,"hidden":false,"merged":[[1,4,1,6],[2,4,2,6],[3,4,3,6]]}
[]
[null,null,null,"Competición:"]
[null,null,null,"Lugar:"]
[null,null,null,"Prueba:"]
[null,null,null,"Fecha:",null,"Hora:"]
[]
[null,"Orden","Licencia","Atleta","Año","Club","Dorsal"]
[null,{"$f":"IF(G8=\"\",\"\",1)","v":""}]
[null,{"$f":"IF(G9=\"\",\"\",B8+1)","v":""}]
[null,{"$f":"IF(G10=\"\",\"\",B9+1)","v":""}]
[null,""]
[null,""]
[null,""]
[null,""]
[null,""]
[null,""]
[null,""]
[null,""]
[null,""]
[null,""]
[null,""]
[null,""]
[null,""]
[null,{"$f":"IF(G24=\"\",\"\",B23+1)","v":""}]
[null,""]
[null,""]
[null,""]
[null,""]
[null,""]
[null,""]
[null,""]
[null,""]
[null,""]
[null,""]
[null,""]
[null,""]
[null,""]
[null,""]
[null,""]
[null,""]
[null,""]
[null,""]
[null,""]
[null,""]
[null,""]
[null,""]
[null,""]
[null,""]
[null,""]
[null,""]
[null,""]
[null,""]
[null,""]
[null,""]
[null,""]
[null,""]
[null,""]
[null,""]
[null,""]
[null,""]
[null,""]
[null,""]
[null,""]
[null,""]
[null,""]
[null,""]
[null,""]
[null,""]
[null,""]
[null,""]
[null,""]
[null,""]
[null,""]
[null,""]
[null,""]
[null,""]
[null,""]
[null,""]
[null,""]
[null,""]
[null,""]
[null,""]
[null,""]
[null,""]
[null,""]
[null,""]
[null,""]
[null,{"$f":"IF(G88=\"\",\"\",B87+1)","v":""}]
[null,""]
[null,""]
[null,""]
[null,""]
[null,""]
[null,""]
[null,""]
[null,""]
[null,""]
[null,""]
[null,""]
[null,""]
[null,""]
[null,""]
[null,""]
[null,""]
[null,""]
[null,""]

{"sheet":"RECOGIDA DATOS","index":1,"n_rows":102,"n_cols":105,"rows_kept":102,"cut":false,"hidden":false,"merged":[[2,55,2,64],[2,67,2,75],[2,78,2,85],[2,88,2,94],[2,13,2,15],[2,34,2,39],[2,42,2,52],[2,16,2,20],[2,21,2,24]]}
[]
[]
[null,"Orden","Atleta","Licencia","Año","Club","Dorsal",1,2,3,4,5,6,"ELECCIÓN MEJOR MARCA",null,null,"ELECCIÓN 2ª MEJOR MARCA",null,null,null,null,"ELECCIÓN 3ª MEJOR MARCA",null,null,null,"MM","REP","2ªMM","REP2","3ªMM","OR INIC","INVERSO","CLAS 3 PRIM","ORDEN3PRIM","ELECCIÓN MEJOR MARCA",null,null,null,null,null,"MM","REP","ELECCIÓN 2ª MEJOR MARCA",null,null,null,null,null,null,null,null,null,null,"2MM","REP","ELECCIÓN 3ª MEJOR MARCA",null,null,null,null,null,null,null,null,null,"3MM","REP","ELECCIÓN 4ª MEJOR MARCA",null,null,null,null,null,null,null,null,"4MM","REP","ELECCIÓN 5ª MEJOR MARCA",null,null,null,null,null,null,null,"5MM","REP","ELECCIÓN 6ª MEJOR MARCA",null,null,null,null,null,null,"6MM","TRES MEJ","ORD 3MEJ","TRES PEORES","ORD 3PEOR","CADENA CLAS","INTENTOS","INTENTOS VALIDOS EN 3 PRIMEROS","MEJOR","PUESTO"]
[null,{"$f":"INSCRIPCIÓN!B8","v":""},{"$f":"IF(INSCRIPCIÓN!D18=\"\",\"\",INSCRIPCIÓN!D18)","v":""},{"$f":"IF(INSCRIPCIÓN!C18=\"\",\"\",INSCRIPCIÓN!C18)","v":""},{"$f":"IF(INSCRIPCIÓN!E18=\"\",\"\",INSCRIPCIÓN!E18)","v":""},{"$f":"IF(INSCRIPCIÓN!F18=\"\",\"\",INSCRIPCIÓN!F18)","v":""},{"$f":"IF(INSCRIPCIÓN!G18=\"\",\"\",INSCRIPCIÓN!G18)","v":""},null,null,null,null,null,null,{"$f":"IF(H4=\"\",0,IF(H4=\"X\",0,IF(H4=\"-\",0,H4*100)))","v":0},{"$f":"IF(I4=\"\",0,IF(I4=\"X\",0,IF(I4=\"-\",0,I4*100)))","v":0},{"$f":"IF(J4=\"\",0,IF(J4=\"X\",0,IF(J4=\"-\",0,J4*100)))","v":0},{"$f":"IF(N4=$Z4,0,N4)","v":0},{"$f":"IF(O4=$Z4,0,O4)","v":0},{"$f":"IF(P4=$Z4,0,P4)","v":0},{"$f":"IF($AA4>1,$Z4,0)","v":0},{"$f":"IF($AA4>2,$Z4,0)","v":0},{"$f":"IF(Q4=$AB4,0,Q4)","v":0},{"$f":"IF(R4=$AB4,0,R4)","v":0},{"$f":"IF(S4=$AB4,0,S4)","v":0},{"$f":"IF($AC4>1,$AB4,0)","v":0},{"$f":"MAX(N4:P4)","v":0},{"$f":"COUNTIF(N4:P4,Z4)","v":3},{"$f":"MAX(Q4:U4)","v":0},{"$f":"COUNTIF(Q4:U4,AB4)","v":5},{"$f":"MAX(V4:Y4)","v":0},11,{"$f":"IF(CX4=1,IF(CY4=1,IF(AH4>8,99990000000000+AH4,Z4*10^10+AB4*10^6+AD4*10^2+AE4),IF(MAX($B$4:$B$102)<9,Z4*10^10+AB4*10^6+AD4*10^2+AE4,99999999000000)),99999999999999)","v":99999999999999},{"$f":"Z4*10^10+AB4*10^6+AD4*10^2+CX4","v":0},{"$f":"IF(AG4<100,IF(MAX($B$4:$B$102)<9,VLOOKUP(AG4,TRESPRIMERAS,3),VLOOKUP(AG4,TRESPRIMERAS,3)+10),VLOOKUP(AG4,TRESPRIMERAS,3))","v":1},{"$f":"IF(H4=\"\",0,IF(H4=\"X\",0,IF(H4=\"-\",0,H4*100)))","v":0},{"$f":"IF(I4=\"\",0,IF(I4=\"X\",0,IF(I4=\"-\",0,I4*100)))","v":0},{"$f":"IF(J4=\"\",0,IF(J4=\"X\",0,IF(J4=\"-\",0,J4*100)))","v":0},{"$f":"IF(K4=\"\",0,IF(K4=\"X\",0,IF(K4=\"-\",0,K4*100)))","v":0},{"$f":"IF(L4=\"\",0,IF(L4=\"X\",0,IF(L4=\"-\",0,L4*100)))","v":0},{"$f":"IF(M4=\"\",0,IF(M4=\"X\",0,IF(M4=\"-\",0,M4*100)))","v":0},{"$f":"MAX(AI4:AN4)","v":0},{"$f":"COUNTIF(AI4:AN4,AO4)","v":6},{"$f":"IF(AI4=AO4,0,AI4)","v":0},{"$f":"IF(AJ4=AO4,0,AJ4)","v":0},{"$f":"IF(AK4=AO4,0,AK4)","v":0},{"$f":"IF(AL4=AO4,0,AL4)","v":0},{"$f":"IF(AM4=AO4,0,AM4)","v":0},{"$f":"IF(AN4=AO4,0,AN4)","v":0},{"$f":"IF(AP4>6,0,IF(AP4>1,AO4,0))","v":0},{"$f":"IF(AP4>6,0,IF(AP4>2,AO4,0))","v":0},{"$f":"IF(AP4>6,0,IF(AP4>3,AO4,0))","v":0},{"$f":"IF(AP4>6,0,IF(AP4>4,AO4,0))","v":0},{"$f":"IF(AP4>6,0,IF(AP4>5,AO4,0))","v":0},{"$f":"MAX(AQ4:BA4)","v":0},{"$f":"COUNTIF(AQ4:BA4,BB4)","v":11},{"$f":"IF(AQ4=BB4,0,AQ4)","v":0},{"$f":"IF(AR4=BB4,0,AR4)","v":0},{"$f":"IF(AS4=BB4,0,AS4)","v":0},{"$f":"IF(AT4=BB4,0,AT4)","v":0},{"$f":"IF(AU4=BB4,0,AU4)","v":0},{"$f":"IF(AV4=BB4,0,AV4)","v":0},{"$f":"IF(BC4>5,0,IF(BC4>1,BB4,0))","v":0},{"$f":"IF(BC4>5,0,IF(BC4>2,BB4,0))","v":0},{"$f":"IF(BC4>5,0,IF(BC4>3,BB4,0))","v":0},{"$f":"IF(BC4>5,0,IF(BC4>4,BB4,0))","v":0},{"$f":"MAX(BD4:BM4)","v":0},{"$f":"COUNTIF(BD4:BM4,BN4)","v":10},{"$f":"IF(BD4=BN4,0,BD4)","v":0},{"$f":"IF(BE4=BN4,0,BE4)","v":0},{"$f":"IF(BF4=BN4,0,BF4)","v":0},{"$f":"IF(BG4=BN4,0,BG4)","v":0},{"$f":"IF(BH4=BN4,0,BH4)","v":0},{"$f":"IF(BI4=BN4,0,BI4)","v":0},{"$f":"IF(BO4>4,0,IF(BO4>1,BN4,0))","v":0},{"$f":"IF(BO4>4,0,IF(BO4>2,BN4,0))","v":0},{"$f":"IF(BO4>4,0,IF(BO4>3,BN4,0))","v":0},{"$f":"MAX(BP4:BX4)","v":0},{"$f":"COUNTIF(BP4:BX4,BY4)","v":9},{"$f":"IF(BP4=BY4,0,BP4)","v":0},{"$f":"IF(BQ4=BY4,0,BQ4)","v":0},{"$f":"IF(BR4=BY4,0,BR4)","v":0},{"$f":"IF(BS4=BY4,0,BS4)","v":0},{"$f":"IF(BT4=BY4,0,BT4)","v":0},{"$f":"IF(BU4=BY4,0,BU4)","v":0},{"$f":"IF(BZ4>3,0,IF(BZ4>1,BY4,0))","v":0},{"$f":"IF(BZ4>3,0,IF(BZ4>2,BY4,0))","v":0},{"$f":"MAX(CA4:CH4)","v":0},{"$f":"COUNTIF(CA4:CH4,CI4)","v":8},{"$f":"IF(CA4=CI4,0,CA4)","v":0},{"$f":"IF(CB4=CI4,0,CB4)","v":0},{"$f":"IF(CC4=CI4,0,CC4)","v":0},{"$f":"IF(CD4=CI4,0,CD4)","v":0},{"$f":"IF(CE4=CI4,0,CE4)","v":0},{"$f":"IF(CF4=CI4,0,CF4)","v":0},{"$f":"IF(CJ4>2,0,IF(CJ4>1,CI4,0))","v":0},{"$f":"MAX(CK4:CQ4)","v":0},{"$f":"AO4*10^8+BB4*10^4+BN4","v":0},{"$f":"VLOOKUP(CS4,PRIMERAS,3)","v":1},{"$f":"BY4*10^8+CI4*10^4+CR4","v":0},{"$f":"VLOOKUP(CU4,SEGUNDAS,3)","v":1},{"$f":"IF(CX4=1,CT4*10^2+CV4,9999)","v":9999},{"$f":"IF(6-COUNTBLANK(H4:M4)>0,1,0)","v":0},{"$f":"IF(SUM(H4:J4)>0,1,0)","v":0},{"$f":"IF(MAX(H4:M4)=0,IF(CX4=0,\"\",\"NM\"),MAX(H4:M4))","v":""},{"$f":"IF(MAX(H4:M4)=0,IF(CX4=0,\"\",\"NM\"),VLOOKUP(CW4,CLASIFICACION,3))","v":""}]
[null,{"$f":"INSCRIPCIÓN!B9","v":""},{"$f":"IF(INSCRIPCIÓN!D17=\"\",\"\",INSCRIPCIÓN!D17)","v":""},{"$f":"IF(INSCRIPCIÓN!C17=\"\",\"\",INSCRIPCIÓN!C17)","v":""},{"$f":"IF(INSCRIPCIÓN!E17=\"\",\"\",INSCRIPCIÓN!E17)","v":""},{"$f":"IF(INSCRIPCIÓN!F17=\"\",\"\",INSCRIPCIÓN!F17)","v":""},{"$f":"IF(INSCRIPCIÓN!G17=\"\",\"\",INSCRIPCIÓN!G17)","v":""},null,null,null,null,null,null,0,0,0,0,0,0,0,0,0,0,0,0,0,3,0,5,0,10,99999999999999,0,1,0,0,0,0,0,0,0,6,0,0,0,0,0,0,0,0,0,0,0,0,11,0,0,0,0,0,0,0,0,0,0,0,10,0,0,0,0,0,0,0,0,0,0,9,0,0,0,0,0,0,0,0,0,8,0,0,0,0,0,0,0,0,0,1,0,1,9999,0,0,"",""]
[null,{"$f":"INSCRIPCIÓN!B10","v":""},{"$f":"IF(INSCRIPCIÓN!D12=\"\",\"\",INSCRIPCIÓN!D12)","v":""},{"$f":"IF(INSCRIPCIÓN!C12=\"\",\"\",INSCRIPCIÓN!C12)","v":""},{"$f":"IF(INSCRIPCIÓN!E12=\"\",\"\",INSCRIPCIÓN!E12)","v":""},{"$f":"IF(INSCRIPCIÓN!F12=\"\",\"\",INSCRIPCIÓN!F12)","v":""},{"$f":"IF(INSCRIPCIÓN!G12=\"\",\"\",INSCRIPCIÓN!G12)","v":""},null,null,null,null,null,null,0,0,0,0,0,0,0,0,0,0,0,0,0,3,0,5,0,5,99999999999999,0,1,0,0,0,0,0,0,0,6,0,0,0,0,0,0,0,0,0,0,0,0,11,0,0,0,0,0,0,0,0,0,0,0,10,0,0,0,0,0,0,0,0,0,0,9,0,0,0,0,0,0,0,0,0,8,0,0,0,0,0,0,0,0,0,1,0,1,9999,0,0,"",""]
[null,{"$f":"INSCRIPCIÓN!B11","v":""},{"$f":"IF(INSCRIPCIÓN!D15=\"\",\"\",INSCRIPCIÓN!D15)","v":""},{"$f":"IF(INSCRIPCIÓN!C15=\"\",\"\",INSCRIPCIÓN!C15)","v":""},{"$f":"IF(INSCRIPCIÓN!E15=\"\",\"\",INSCRIPCIÓN!E15)","v":""},{"$f":"IF(INSCRIPCIÓN!F15=\"\",\"\",INSCRIPCIÓN!F15)","v":""},{"$f":"IF(INSCRIPCIÓN!G15=\"\",\"\",INSCRIPCIÓN!G15)","v":""},null,null,null,null,null,null,0,0,0,0,0,0,0,0,0,0,0,0,0,3,0,5,0,8,99999999999999,0,1,0,0,0,0,0,0,0,6,0,0,0,0,0,0,0,0,0,0,0,0,11,0,0,0,0,0,0,0,0,0,0,0,10,0,0,0,0,0,0,0,0,0,0,9,0,0,0,0,0,0,0,0,0,8,0,0,0,0,0,0,0,0,0,1,0,1,9999,0,0,"",""]
[null,{"$f":"INSCRIPCIÓN!B12","v":""},{"$f":"IF(INSCRIPCIÓN!D21=\"\",\"\",INSCRIPCIÓN!D21)","v":""},{"$f":"IF(INSCRIPCIÓN!C21=\"\",\"\",INSCRIPCIÓN!C21)","v":""},{"$f":"IF(INSCRIPCIÓN!E21=\"\",\"\",INSCRIPCIÓN!E21)","v":""},{"$f":"IF(INSCRIPCIÓN!F21=\"\",\"\",INSCRIPCIÓN!F21)","v":""},{"$f":"IF(INSCRIPCIÓN!G21=\"\",\"\",INSCRIPCIÓN!G21)","v":""},null,null,null,null,null,null,0,0,0,0,0,0,0,0,0,0,0,0,0,3,0,5,0,14,99999999999999,0,1,0,0,0,0,0,0,0,6,0,0,0,0,0,0,0,0,0,0,0,0,11,0,0,0,0,0,0,0,0,0,0,0,10,0,0,0,0,0,0,0,0,0,0,9,0,0,0,0,0,0,0,0,0,8,0,0,0,0,0,0,0,0,0,1,0,1,9999,0,0,"",""]
[null,{"$f":"INSCRIPCIÓN!B13","v":""},{"$f":"IF(INSCRIPCIÓN!D23=\"\",\"\",INSCRIPCIÓN!D23)","v":""},{"$f":"IF(INSCRIPCIÓN!C23=\"\",\"\",INSCRIPCIÓN!C23)","v":""},{"$f":"IF(INSCRIPCIÓN!E23=\"\",\"\",INSCRIPCIÓN!E23)","v":""},{"$f":"IF(INSCRIPCIÓN!F23=\"\",\"\",INSCRIPCIÓN!F23)","v":""},{"$f":"IF(INSCRIPCIÓN!G23=\"\",\"\",INSCRIPCIÓN!G23)","v":""},null,null,null,null,null,null,0,0,0,0,0,0,0,0,0,0,0,0,0,3,0,5,0,16,99999999999999,0,1,0,0,0,0,0,0,0,6,0,0,0,0,0,0,0,0,0,0,0,0,11,0,0,0,0,0,0,0,0,0,0,0,10,0,0,0,0,0,0,0,0,0,0,9,0,0,0,0,0,0,0,0,0,8,0,0,0,0,0,0,0,0,0,1,0,1,9999,0,0,"",""]
[null,{"$f":"INSCRIPCIÓN!B14","v":""},{"$f":"IF(INSCRIPCIÓN!D13=\"\",\"\",INSCRIPCIÓN!D13)","v":""},{"$f":"IF(INSCRIPCIÓN!C13=\"\",\"\",INSCRIPCIÓN!C13)","v":""},{"$f":"IF(INSCRIPCIÓN!E13=\"\",\"\",INSCRIPCIÓN!E13)","v":""},{"$f":"IF(INSCRIPCIÓN!F13=\"\",\"\",INSCRIPCIÓN!F13)","v":""},{"$f":"IF(INSCRIPCIÓN!G13=\"\",\"\",INSCRIPCIÓN!G13)","v":""},null,null,null,null,null,null,0,0,0,0,0,0,0,0,0,0,0,0,0,3,0,5,0,6,99999999999999,0,1,0,0,0,0,0,0,0,6,0,0,0,0,0,0,0,0,0,0,0,0,11,0,0,0,0,0,0,0,0,0,0,0,10,0,0,0,0,0,0,0,0,0,0,9,0,0,0,0,0,0,0,0,0,8,0,0,0,0,0,0,0,0,0,1,0,1,9999,0,0,"",""]
[null,{"$f":"INSCRIPCIÓN!B15","v":""},{"$f":"IF(INSCRIPCIÓN!D19=\"\",\"\",INSCRIPCIÓN!D19)","v":""},{"$f":"IF(INSCRIPCIÓN!C19=\"\",\"\",INSCRIPCIÓN!C19)","v":""},{"$f":"IF(INSCRIPCIÓN!E19=\"\",\"\",INSCRIPCIÓN!E19)","v":""},{"$f":"IF(INSCRIPCIÓN!F19=\"\",\"\",INSCRIPCIÓN!F19)","v":""},{"$f":"IF(INSCRIPCIÓN!G19=\"\",\"\",INSCRIPCIÓN!G19)","v":""},null,null,null,null,null,null,0,0,0,0,0,0,0,0,0,0,0,0,0,3,0,5,0,12,99999999999999,0,1,0,0,0,0,0,0,0,6,0,0,0,0,0,0,0,0,0,0,0,0,11,0,0,0,0,0,0,0,0,0,0,0,10,0,0,0,0,0,0,0,0,0,0,9,0,0,0,0,0,0,0,0,0,8,0,0,0,0,0,0,0,0,0,1,0,1,9999,0,0,"",""]
[null,{"$f":"INSCRIPCIÓN!B16","v":""},{"$f":"IF(INSCRIPCIÓN!D22=\"\",\"\",INSCRIPCIÓN!D22)","v":""},{"$f":"IF(INSCRIPCIÓN!C22=\"\",\"\",INSCRIPCIÓN!C22)","v":""},{"$f":"IF(INSCRIPCIÓN!E22=\"\",\"\",INSCRIPCIÓN!E22)","v":""},{"$f":"IF(INSCRIPCIÓN!F22=\"\",\"\",INSCRIPCIÓN!F22)","v":""},{"$f":"IF(INSCRIPCIÓN!G22=\"\",\"\",INSCRIPCIÓN!G22)","v":""},null,null,null,null,null,null,0,0,0,0,0,0,0,0,0,0,0,0,0,3,0,5,0,15,99999999999999,0,1,0,0,0,0,0,0,0,6,0,0,0,0,0,0,0,0,0,0,0,0,11,0,0,0,0,0,0,0,0,0,0,0,10,0,0,0,0,0,0,0,0,0,0,9,0,0,0,0,0,0,0,0,0,8,0,0,0,0,0,0,0,0,0,1,0,1,9999,0,0,"",""]
[null,{"$f":"INSCRIPCIÓN!B17","v":""},{"$f":"IF(INSCRIPCIÓN!D9=\"\",\"\",INSCRIPCIÓN!D9)","v":""},{"$f":"IF(INSCRIPCIÓN!C9=\"\",\"\",INSCRIPCIÓN!C9)","v":""},{"$f":"IF(INSCRIPCIÓN!E9=\"\",\"\",INSCRIPCIÓN!E9)","v":""},{"$f":"IF(INSCRIPCIÓN!F9=\"\",\"\",INSCRIPCIÓN!F9)","v":""},{"$f":"IF(INSCRIPCIÓN!G9=\"\",\"\",INSCRIPCIÓN!G9)","v":""},null,null,null,null,null,null,0,0,0,0,0,0,0,0,0,0,0,0,0,3,0,5,0,2,99999999999999,0,1,0,0,0,0,0,0,0,6,0,0,0,0,0,0,0,0,0,0,0,0,11,0,0,0,0,0,0,0,0,0,0,0,10,0,0,0,0,0,0,0,0,0,0,9,0,0,0,0,0,0,0,0,0,8,0,0,0,0,0,0,0,0,0,1,0,1,9999,0,0,"",""]
[null,{"$f":"INSCRIPCIÓN!B18","v":""},{"$f":"IF(INSCRIPCIÓN!D11=\"\",\"\",INSCRIPCIÓN!D11)","v":""},{"$f":"IF(INSCRIPCIÓN!C11=\"\",\"\",INSCRIPCIÓN!C11)","v":""},{"$f":"IF(INSCRIPCIÓN!E11=\"\",\"\",INSCRIPCIÓN!E11)","v":""},{"$f":"IF(INSCRIPCIÓN!F11=\"\",\"\",INSCRIPCIÓN!F11)","v":""},{"$f":"IF(INSCRIPCIÓN!G11=\"\",\"\",INSCRIPCIÓN!G11)","v":""},null,null,null,null,null,null,0,0,0,0,0,0,0,0,0,0,0,0,0,3,0,5,0,4,99999999999999,0,1,0,0,0,0,0,0,0,6,0,0,0,0,0,0,0,0,0,0,0,0,11,0,0,0,0,0,0,0,0,0,0,0,10,0,0,0,0,0,0,0,0,0,0,9,0,0,0,0,0,0,0,0,0,8,0,0,0,0,0,0,0,0,0,1,0,1,9999,0,0,"",""]
[null,{"$f":"INSCRIPCIÓN!B19","v":""},{"$f":"IF(INSCRIPCIÓN!D14=\"\",\"\",INSCRIPCIÓN!D14)","v":""},{"$f":"IF(INSCRIPCIÓN!C14=\"\",\"\",INSCRIPCIÓN!C14)","v":""},{"$f":"IF(INSCRIPCIÓN!E14=\"\",\"\",INSCRIPCIÓN!E14)","v":""},{"$f":"IF(INSCRIPCIÓN!F14=\"\",\"\",INSCRIPCIÓN!F14)","v":""},{"$f":"IF(INSCRIPCIÓN!G14=\"\",\"\",INSCRIPCIÓN!G14)","v":""},null,null,null,null,null,null,0,0,0,0,0,0,0,0,0,0,0,0,0,3,0,5,0,7,99999999999999,0,1,0,0,0,0,0,0,0,6,0,0,0,0,0,0,0,0,0,0,0,0,11,0,0,0,0,0,0,0,0,0,0,0,10,0,0,0,0,0,0,0,0,0,0,9,0,0,0,0,0,0,0,0,0,8,0,0,0,0,0,0,0,0,0,1,0,1,9999,0,0,"",""]
[null,{"$f":"INSCRIPCIÓN!B20","v":""},{"$f":"IF(INSCRIPCIÓN!D16=\"\",\"\",INSCRIPCIÓN!D16)","v":""},{"$f":"IF(INSCRIPCIÓN!C16=\"\",\"\",INSCRIPCIÓN!C16)","v":""},{"$f":"IF(INSCRIPCIÓN!E16=\"\",\"\",INSCRIPCIÓN!E16)","v":""},{"$f":"IF(INSCRIPCIÓN!F16=\"\",\"\",INSCRIPCIÓN!F16)","v":""},{"$f":"IF(INSCRIPCIÓN!G16=\"\",\"\",INSCRIPCIÓN!G16)","v":""},null,null,null,null,null,null,0,0,0,0,0,0,0,0,0,0,0,0,0,3,0,5,0,9,99999999999999,0,1,0,0,0,0,0,0,0,6,0,0,0,0,0,0,0,0,0,0,0,0,11,0,0,0,0,0,0,0,0,0,0,0,10,0,0,0,0,0,0,0,0,0,0,9,0,0,0,0,0,0,0,0,0,8,0,0,0,0,0,0,0,0,0,1,0,1,9999,0,0,"",""]
[null,{"$f":"INSCRIPCIÓN!B21","v":""},{"$f":"IF(INSCRIPCIÓN!D20=\"\",\"\",INSCRIPCIÓN!D20)","v":""},{"$f":"IF(INSCRIPCIÓN!C20=\"\",\"\",INSCRIPCIÓN!C20)","v":""},{"$f":"IF(INSCRIPCIÓN!E20=\"\",\"\",INSCRIPCIÓN!E20)","v":""},{"$f":"IF(INSCRIPCIÓN!F20=\"\",\"\",INSCRIPCIÓN!F20)","v":""},{"$f":"IF(INSCRIPCIÓN!G20=\"\",\"\",INSCRIPCIÓN!G20)","v":""},null,null,null,null,null,null,0,0,0,0,0,0,0,0,0,0,0,0,0,3,0,5,0,13,99999999999999,0,1,0,0,0,0,0,0,0,6,0,0,0,0,0,0,0,0,0,0,0,0,11,0,0,0,0,0,0,0,0,0,0,0,10,0,0,0,0,0,0,0,0,0,0,9,0,0,0,0,0,0,0,0,0,8,0,0,0,0,0,0,0,0,0,1,0,1,9999,0,0,"",""]
[null,{"$f":"INSCRIPCIÓN!B22","v":""},{"$f":"IF(INSCRIPCIÓN!D8=\"\",\"\",INSCRIPCIÓN!D8)","v":""},{"$f":"IF(INSCRIPCIÓN!C8=\"\",\"\",INSCRIPCIÓN!C8)","v":""},{"$f":"IF(INSCRIPCIÓN!E8=\"\",\"\",INSCRIPCIÓN!E8)","v":""},{"$f":"IF(INSCRIPCIÓN!F8=\"\",\"\",INSCRIPCIÓN!F8)","v":""},{"$f":"IF(INSCRIPCIÓN!G8=\"\",\"\",INSCRIPCIÓN!G8)","v":""},null,null,null,null,null,null,0,0,0,0,0,0,0,0,0,0,0,0,0,3,0,5,0,1,99999999999999,0,1,0,0,0,0,0,0,0,6,0,0,0,0,0,0,0,0,0,0,0,0,11,0,0,0,0,0,0,0,0,0,0,0,10,0,0,0,0,0,0,0,0,0,0,9,0,0,0,0,0,0,0,0,0,8,0,0,0,0,0,0,0,0,0,1,0,1,9999,0,0,"",""]
[null,{"$f":"INSCRIPCIÓN!B23","v":""},{"$f":"IF(INSCRIPCIÓN!D10=\"\",\"\",INSCRIPCIÓN!D10)","v":""},{"$f":"IF(INSCRIPCIÓN!C10=\"\",\"\",INSCRIPCIÓN!C10)","v":""},{"$f":"IF(INSCRIPCIÓN!E10=\"\",\"\",INSCRIPCIÓN!E10)","v":""},{"$f":"IF(INSCRIPCIÓN!F10=\"\",\"\",INSCRIPCIÓN!F10)","v":""},{"$f":"IF(INSCRIPCIÓN!G10=\"\",\"\",INSCRIPCIÓN!G10)","v":""},null,null,null,null,null,null,0,0,0,0,0,0,0,0,0,0,0,0,0,3,0,5,0,3,99999999999999,0,1,0,0,0,0,0,0,0,6,0,0,0,0,0,0,0,0,0,0,0,0,11,0,0,0,0,0,0,0,0,0,0,0,10,0,0,0,0,0,0,0,0,0,0,9,0,0,0,0,0,0,0,0,0,8,0,0,0,0,0,0,0,0,0,1,0,1,9999,0,0,"",""]
[null,{"$f":"INSCRIPCIÓN!B24","v":""},{"$f":"IF(INSCRIPCIÓN!D24=\"\",\"\",INSCRIPCIÓN!D24)","v":""},{"$f":"IF(INSCRIPCIÓN!C24=\"\",\"\",INSCRIPCIÓN!C24)","v":""},{"$f":"IF(INSCRIPCIÓN!E24=\"\",\"\",INSCRIPCIÓN!E24)","v":""},{"$f":"IF(INSCRIPCIÓN!F24=\"\",\"\",INSCRIPCIÓN!F24)","v":""},{"$f":"IF(INSCRIPCIÓN!G24=\"\",\"\",INSCRIPCIÓN!G24)","v":""},null,null,null,null,null,null,0,0,0,0,0,0,0,0,0,0,0,0,0,3,0,5,0,17,99999999999999,0,1,0,0,0,0,0,0,0,6,0,0,0,0,0,0,0,0,0,0,0,0,11,0,0,0,0,0,0,0,0,0,0,0,10,0,0,0,0,0,0,0,0,0,0,9,0,0,0,0,0,0,0,0,0,8,0,0,0,0,0,0,0,0,0,1,0,1,9999,0,0,"",""]
[null,{"$f":"INSCRIPCIÓN!B25","v":""},{"$f":"IF(INSCRIPCIÓN!D25=\"\",\"\",INSCRIPCIÓN!D25)","v":""},{"$f":"IF(INSCRIPCIÓN!C25=\"\",\"\",INSCRIPCIÓN!C25)","v":""},{"$f":"IF(INSCRIPCIÓN!E25=\"\",\"\",INSCRIPCIÓN!E25)","v":""},{"$f":"IF(INSCRIPCIÓN!F25=\"\",\"\",INSCRIPCIÓN!F25)","v":""},{"$f":"IF(INSCRIPCIÓN!G25=\"\",\"\",INSCRIPCIÓN!G25)","v":""},null,null,null,null,null,null,0,0,0,0,0,0,0,0,0,0,0,0,0,3,0,5,0,18,99999999999999,0,1,0,0,0,0,0,0,0,6,0,0,0,0,0,0,0,0,0,0,0,0,11,0,0,0,0,0,0,0,0,0,0,0,10,0,0,0,0,0,0,0,0,0,0,9,0,0,0,0,0,0,0,0,0,8,0,0,0,0,0,0,0,0,0,1,0,1,9999,0,0,"",""]
[null,{"$f":"INSCRIPCIÓN!B26","v":""},{"$f":"IF(INSCRIPCIÓN!D26=\"\",\"\",INSCRIPCIÓN!D26)","v":""},{"$f":"IF(INSCRIPCIÓN!C26=\"\",\"\",INSCRIPCIÓN!C26)","v":""},{"$f":"IF(INSCRIPCIÓN!E26=\"\",\"\",INSCRIPCIÓN!E26)","v":""},{"$f":"IF(INSCRIPCIÓN!F26=\"\",\"\",INSCRIPCIÓN!F26)","v":""},{"$f":"IF(INSCRIPCIÓN!G26=\"\",\"\",INSCRIPCIÓN!G26)","v":""},null,null,null,null,null,null,0,0,0,0,0,0,0,0,0,0,0,0,0,3,0,5,0,19,99999999999999,0,1,0,0,0,0,0,0,0,6,0,0,0,0,0,0,0,0,0,0,0,0,11,0,0,0,0,0,0,0,0,0,0,0,10,0,0,0,0,0,0,0,0,0,0,9,0,0,0,0,0,0,0,0,0,8,0,0,0,0,0,0,0,0,0,1,0,1,9999,0,0,"",""]
[null,{"$f":"INSCRIPCIÓN!B27","v":""},{"$f":"IF(INSCRIPCIÓN!D27=\"\",\"\",INSCRIPCIÓN!D27)","v":""},{"$f":"IF(INSCRIPCIÓN!C27=\"\",\"\",INSCRIPCIÓN!C27)","v":""},{"$f":"IF(INSCRIPCIÓN!E27=\"\",\"\",INSCRIPCIÓN!E27)","v":""},{"$f":"IF(INSCRIPCIÓN!F27=\"\",\"\",INSCRIPCIÓN!F27)","v":""},{"$f":"IF(INSCRIPCIÓN!G27=\"\",\"\",INSCRIPCIÓN!G27)","v":""},null,null,null,null,null,null,0,0,0,0,0,0,0,0,0,0,0,0,0,3,0,5,0,20,99999999999999,0,1,0,0,0,0,0,0,0,6,0,0,0,0,0,0,0,0,0,0,0,0,11,0,0,0,0,0,0,0,0,0,0,0,10,0,0,0,0,0,0,0,0,0,0,9,0,0,0,0,0,0,0,0,0,8,0,0,0,0,0,0,0,0,0,1,0,1,9999,0,0,"",""]
[null,{"$f":"INSCRIPCIÓN!B28","v":""},{"$f":"IF(INSCRIPCIÓN!D28=\"\",\"\",INSCRIPCIÓN!D28)","v":""},{"$f":"IF(INSCRIPCIÓN!C28=\"\",\"\",INSCRIPCIÓN!C28)","v":""},{"$f":"IF(INSCRIPCIÓN!E28=\"\",\"\",INSCRIPCIÓN!E28)","v":""},{"$f":"IF(INSCRIPCIÓN!F28=\"\",\"\",INSCRIPCIÓN!F28)","v":""},{"$f":"IF(INSCRIPCIÓN!G28=\"\",\"\",INSCRIPCIÓN!G28)","v":""},null,null,null,null,null,null,0,0,0,0,0,0,0,0,0,0,0,0,0,3,0,5,0,21,99999999999999,0,1,0,0,0,0,0,0,0,6,0,0,0,0,0,0,0,0,0,0,0,0,11,0,0,0,0,0,0,0,0,0,0,0,10,0,0,0,0,0,0,0,0,0,0,9,0,0,0,0,0,0,0,0,0,8,0,0,0,0,0,0,0,0,0,1,0,1,9999,0,0,"",""]
[null,{"$f":"INSCRIPCIÓN!B29","v":""},{"$f":"IF(INSCRIPCIÓN!D29=\"\",\"\",INSCRIPCIÓN!D29)","v":""},{"$f":"IF(INSCRIPCIÓN!C29=\"\",\"\",INSCRIPCIÓN!C29)","v":""},{"$f":"IF(INSCRIPCIÓN!E29=\"\",\"\",INSCRIPCIÓN!E29)","v":""},{"$f":"IF(INSCRIPCIÓN!F29=\"\",\"\",INSCRIPCIÓN!F29)","v":""},{"$f":"IF(INSCRIPCIÓN!G29=\"\",\"\",INSCRIPCIÓN!G29)","v":""},null,null,null,null,null,null,0,0,0,0,0,0,0,0,0,0,0,0,0,3,0,5,0,22,99999999999999,0,1,0,0,0,0,0,0,0,6,0,0,0,0,0,0,0,0,0,0,0,0,11,0,0,0,0,0,0,0,0,0,0,0,10,0,0,0,0,0,0,0,0,0,0,9,0,0,0,0,0,0,0,0,0,8,0,0,0,0,0,0,0,0,0,1,0,1,9999,0,0,"",""]
[null,{"$f":"INSCRIPCIÓN!B30","v":""},{"$f":"IF(INSCRIPCIÓN!D30=\"\",\"\",INSCRIPCIÓN!D30)","v":""},{"$f":"IF(INSCRIPCIÓN!C30=\"\",\"\",INSCRIPCIÓN!C30)","v":""},{"$f":"IF(INSCRIPCIÓN!E30=\"\",\"\",INSCRIPCIÓN!E30)","v":""},{"$f":"IF(INSCRIPCIÓN!F30=\"\",\"\",INSCRIPCIÓN!F30)","v":""},{"$f":"IF(INSCRIPCIÓN!G30=\"\",\"\",INSCRIPCIÓN!G30)","v":""},null,null,null,null,null,null,0,0,0,0,0,0,0,0,0,0,0,0,0,3,0,5,0,23,99999999999999,0,1,0,0,0,0,0,0,0,6,0,0,0,0,0,0,0,0,0,0,0,0,11,0,0,0,0,0,0,0,0,0,0,0,10,0,0,0,0,0,0,0,0,0,0,9,0,0,0,0,0,0,0,0,0,8,0,0,0,0,0,0,0,0,0,1,0,1,9999,0,0,"",""]
[null,{"$f":"INSCRIPCIÓN!B31","v":""},{"$f":"IF(INSCRIPCIÓN!D31=\"\",\"\",INSCRIPCIÓN!D31)","v":""},{"$f":"IF(INSCRIPCIÓN!C31=\"\",\"\",INSCRIPCIÓN!C31)","v":""},{"$f":"IF(INSCRIPCIÓN!E31=\"\",\"\",INSCRIPCIÓN!E31)","v":""},{"$f":"IF(INSCRIPCIÓN!F31=\"\",\"\",INSCRIPCIÓN!F31)","v":""},{"$f":"IF(INSCRIPCIÓN!G31=\"\",\"\",INSCRIPCIÓN!G31)","v":""},null,null,null,null,null,null,0,0,0,0,0,0,0,0,0,0,0,0,0,3,0,5,0,24,99999999999999,0,1,0,0,0,0,0,0,0,6,0,0,0,0,0,0,0,0,0,0,0,0,11,0,0,0,0,0,0,0,0,0,0,0,10,0,0,0,0,0,0,0,0,0,0,9,0,0,0,0,0,0,0,0,0,8,0,0,0,0,0,0,0,0,0,1,0,1,9999,0,0,"",""]
[null,{"$f":"INSCRIPCIÓN!B32","v":""},{"$f":"IF(INSCRIPCIÓN!D32=\"\",\"\",INSCRIPCIÓN!D32)","v":""},{"$f":"IF(INSCRIPCIÓN!C32=\"\",\"\",INSCRIPCIÓN!C32)","v":""},{"$f":"IF(INSCRIPCIÓN!E32=\"\",\"\",INSCRIPCIÓN!E32)","v":""},{"$f":"IF(INSCRIPCIÓN!F32=\"\",\"\",INSCRIPCIÓN!F32)","v":""},{"$f":"IF(INSCRIPCIÓN!G32=\"\",\"\",INSCRIPCIÓN!G32)","v":""},null,null,null,null,null,null,0,0,0,0,0,0,0,0,0,0,0,0,0,3,0,5,0,25,99999999999999,0,1,0,0,0,0,0,0,0,6,0,0,0,0,0,0,0,0,0,0,0,0,11,0,0,0,0,0,0,0,0,0,0,0,10,0,0,0,0,0,0,0,0,0,0,9,0,0,0,0,0,0,0,0,0,8,0,0,0,0,0,0,0,0,0,1,0,1,9999,0,0,"",""]
[null,{"$f":"INSCRIPCIÓN!B33","v":""},{"$f":"IF(INSCRIPCIÓN!D33=\"\",\"\",INSCRIPCIÓN!D33)","v":""},{"$f":"IF(INSCRIPCIÓN!C33=\"\",\"\",INSCRIPCIÓN!C33)","v":""},{"$f":"IF(INSCRIPCIÓN!E33=\"\",\"\",INSCRIPCIÓN!E33)","v":""},{"$f":"IF(INSCRIPCIÓN!F33=\"\",\"\",INSCRIPCIÓN!F33)","v":""},{"$f":"IF(INSCRIPCIÓN!G33=\"\",\"\",INSCRIPCIÓN!G33)","v":""},null,null,null,null,null,null,0,0,0,0,0,0,0,0,0,0,0,0,0,3,0,5,0,26,99999999999999,0,1,0,0,0,0,0,0,0,6,0,0,0,0,0,0,0,0,0,0,0,0,11,0,0,0,0,0,0,0,0,0,0,0,10,0,0,0,0,0,0,0,0,0,0,9,0,0,0,0,0,0,0,0,0,8,0,0,0,0,0,0,0,0,0,1,0,1,9999,0,0,"",""]
[null,{"$f":"INSCRIPCIÓN!B34","v":""},{"$f":"IF(INSCRIPCIÓN!D34=\"\",\"\",INSCRIPCIÓN!D34)","v":""},{"$f":"IF(INSCRIPCIÓN!C34=\"\",\"\",INSCRIPCIÓN!C34)","v":""},{"$f":"IF(INSCRIPCIÓN!E34=\"\",\"\",INSCRIPCIÓN!E34)","v":""},{"$f":"IF(INSCRIPCIÓN!F34=\"\",\"\",INSCRIPCIÓN!F34)","v":""},{"$f":"IF(INSCRIPCIÓN!G34=\"\",\"\",INSCRIPCIÓN!G34)","v":""},null,null,null,null,null,null,0,0,0,0,0,0,0,0,0,0,0,0,0,3,0,5,0,27,99999999999999,0,1,0,0,0,0,0,0,0,6,0,0,0,0,0,0,0,0,0,0,0,0,11,0,0,0,0,0,0,0,0,0,0,0,10,0,0,0,0,0,0,0,0,0,0,9,0,0,0,0,0,0,0,0,0,8,0,0,0,0,0,0,0,0,0,1,0,1,9999,0,0,"",""]
[null,{"$f":"INSCRIPCIÓN!B35","v":""},{"$f":"IF(INSCRIPCIÓN!D35=\"\",\"\",INSCRIPCIÓN!D35)","v":""},{"$f":"IF(INSCRIPCIÓN!C35=\"\",\"\",INSCRIPCIÓN!C35)","v":""},{"$f":"IF(INSCRIPCIÓN!E35=\"\",\"\",INSCRIPCIÓN!E35)","v":""},{"$f":"IF(INSCRIPCIÓN!F35=\"\",\"\",INSCRIPCIÓN!F35)","v":""},{"$f":"IF(INSCRIPCIÓN!G35=\"\",\"\",INSCRIPCIÓN!G35)","v":""},null,null,null,null,null,null,0,0,0,0,0,0,0,0,0,0,0,0,0,3,0,5,0,28,99999999999999,0,1,0,0,0,0,0,0,0,6,0,0,0,0,0,0,0,0,0,0,0,0,11,0,0,0,0,0,0,0,0,0,0,0,10,0,0,0,0,0,0,0,0,0,0,9,0,0,0,0,0,0,0,0,0,8,0,0,0,0,0,0,0,0,0,1,0,1,9999,0,0,"",""]
[null,{"$f":"INSCRIPCIÓN!B36","v":""},{"$f":"IF(INSCRIPCIÓN!D36=\"\",\"\",INSCRIPCIÓN!D36)","v":""},{"$f":"IF(INSCRIPCIÓN!C36=\"\",\"\",INSCRIPCIÓN!C36)","v":""},{"$f":"IF(INSCRIPCIÓN!E36=\"\",\"\",INSCRIPCIÓN!E36)","v":""},{"$f":"IF(INSCRIPCIÓN!F36=\"\",\"\",INSCRIPCIÓN!F36)","v":""},{"$f":"IF(INSCRIPCIÓN!G36=\"\",\"\",INSCRIPCIÓN!G36)","v":""},null,null,null,null,null,null,0,0,0,0,0,0,0,0,0,0,0,0,0,3,0,5,0,29,99999999999999,0,1,0,0,0,0,0,0,0,6,0,0,0,0,0,0,0,0,0,0,0,0,11,0,0,0,0,0,0,0,0,0,0,0,10,0,0,0,0,0,0,0,0,0,0,9,0,0,0,0,0,0,0,0,0,8,0,0,0,0,0,0,0,0,0,1,0,1,9999,0,0,"",""]
[null,{"$f":"INSCRIPCIÓN!B37","v":""},{"$f":"IF(INSCRIPCIÓN!D37=\"\",\"\",INSCRIPCIÓN!D37)","v":""},{"$f":"IF(INSCRIPCIÓN!C37=\"\",\"\",INSCRIPCIÓN!C37)","v":""},{"$f":"IF(INSCRIPCIÓN!E37=\"\",\"\",INSCRIPCIÓN!E37)","v":""},{"$f":"IF(INSCRIPCIÓN!F37=\"\",\"\",INSCRIPCIÓN!F37)","v":""},{"$f":"IF(INSCRIPCIÓN!G37=\"\",\"\",INSCRIPCIÓN!G37)","v":""},null,null,null,null,null,null,0,0,0,0,0,0,0,0,0,0,0,0,0,3,0,5,0,30,99999999999999,0,1,0,0,0,0,0,0,0,6,0,0,0,0,0,0,0,0,0,0,0,0,11,0,0,0,0,0,0,0,0,0,0,0,10,0,0,0,0,0,0,0,0,0,0,9,0,0,0,0,0,0,0,0,0,8,0,0,0,0,0,0,0,0,0,1,0,1,9999,0,0,"",""]
[null,{"$f":"INSCRIPCIÓN!B38","v":""},{"$f":"IF(INSCRIPCIÓN!D38=\"\",\"\",INSCRIPCIÓN!D38)","v":""},{"$f":"IF(INSCRIPCIÓN!C38=\"\",\"\",INSCRIPCIÓN!C38)","v":""},{"$f":"IF(INSCRIPCIÓN!E38=\"\",\"\",INSCRIPCIÓN!E38)","v":""},{"$f":"IF(INSCRIPCIÓN!F38=\"\",\"\",INSCRIPCIÓN!F38)","v":""},{"$f":"IF(INSCRIPCIÓN!G38=\"\",\"\",INSCRIPCIÓN!G38)","v":""},null,null,null,null,null,null,0,0,0,0,0,0,0,0,0,0,0,0,0,3,0,5,0,31,99999999999999,0,1,0,0,0,0,0,0,0,6,0,0,0,0,0,0,0,0,0,0,0,0,11,0,0,0,0,0,0,0,0,0,0,0,10,0,0,0,0,0,0,0,0,0,0,9,0,0,0,0,0,0,0,0,0,8,0,0,0,0,0,0,0,0,0,1,0,1,9999,0,0,"",""]
[null,{"$f":"INSCRIPCIÓN!B39","v":""},{"$f":"IF(INSCRIPCIÓN!D39=\"\",\"\",INSCRIPCIÓN!D39)","v":""},{"$f":"IF(INSCRIPCIÓN!C39=\"\",\"\",INSCRIPCIÓN!C39)","v":""},{"$f":"IF(INSCRIPCIÓN!E39=\"\",\"\",INSCRIPCIÓN!E39)","v":""},{"$f":"IF(INSCRIPCIÓN!F39=\"\",\"\",INSCRIPCIÓN!F39)","v":""},{"$f":"IF(INSCRIPCIÓN!G39=\"\",\"\",INSCRIPCIÓN!G39)","v":""},null,null,null,null,null,null,0,0,0,0,0,0,0,0,0,0,0,0,0,3,0,5,0,32,99999999999999,0,1,0,0,0,0,0,0,0,6,0,0,0,0,0,0,0,0,0,0,0,0,11,0,0,0,0,0,0,0,0,0,0,0,10,0,0,0,0,0,0,0,0,0,0,9,0,0,0,0,0,0,0,0,0,8,0,0,0,0,0,0,0,0,0,1,0,1,9999,0,0,"",""]
[null,{"$f":"INSCRIPCIÓN!B40","v":""},{"$f":"IF(INSCRIPCIÓN!D40=\"\",\"\",INSCRIPCIÓN!D40)","v":""},{"$f":"IF(INSCRIPCIÓN!C40=\"\",\"\",INSCRIPCIÓN!C40)","v":""},{"$f":"IF(INSCRIPCIÓN!E40=\"\",\"\",INSCRIPCIÓN!E40)","v":""},{"$f":"IF(INSCRIPCIÓN!F40=\"\",\"\",INSCRIPCIÓN!F40)","v":""},{"$f":"IF(INSCRIPCIÓN!G40=\"\",\"\",INSCRIPCIÓN!G40)","v":""},null,null,null,null,null,null,{"$f":"IF(H36=\"\",0,IF(H36=\"X\",0,IF(H36=\"-\",0,H36*100)))","v":0},{"$f":"IF(I36=\"\",0,IF(I36=\"X\",0,IF(I36=\"-\",0,I36*100)))","v":0},{"$f":"IF(J36=\"\",0,IF(J36=\"X\",0,IF(J36=\"-\",0,J36*100)))","v":0},{"$f":"IF(N36=$Z36,0,N36)","v":0},{"$f":"IF(O36=$Z36,0,O36)","v":0},{"$f":"IF(P36=$Z36,0,P36)","v":0},{"$f":"IF($AA36>1,$Z36,0)","v":0},{"$f":"IF($AA36>2,$Z36,0)","v":0},{"$f":"IF(Q36=$AB36,0,Q36)","v":0},{"$f":"IF(R36=$AB36,0,R36)","v":0},{"$f":"IF(S36=$AB36,0,S36)","v":0},{"$f":"IF($AC36>1,$AB36,0)","v":0},{"$f":"MAX(N36:P36)","v":0},{"$f":"COUNTIF(N36:P36,Z36)","v":3},{"$f":"MAX(Q36:U36)","v":0},{"$f":"COUNTIF(Q36:U36,AB36)","v":5},{"$f":"MAX(V36:Y36)","v":0},33,{"$f":"IF(CX36=1,IF(CY36=1,IF(AH36>8,99990000000000+AH36,Z36*10^10+AB36*10^6+AD36*10^2+AE36),IF(MAX($B$4:$B$102)<9,Z36*10^10+AB36*10^6+AD36*10^2+AE36,99999999000000)),99999999999999)","v":99999999999999},{"$f":"Z36*10^10+AB36*10^6+AD36*10^2+CX36","v":0},{"$f":"IF(AG36<100,IF(MAX($B$4:$B$102)<9,VLOOKUP(AG36,TRESPRIMERAS,3),VLOOKUP(AG36,TRESPRIMERAS,3)+10),VLOOKUP(AG36,TRESPRIMERAS,3))","v":1},{"$f":"IF(H36=\"\",0,IF(H36=\"X\",0,IF(H36=\"-\",0,H36*100)))","v":0},{"$f":"IF(I36=\"\",0,IF(I36=\"X\",0,IF(I36=\"-\",0,I36*100)))","v":0},{"$f":"IF(J36=\"\",0,IF(J36=\"X\",0,IF(J36=\"-\",0,J36*100)))","v":0},{"$f":"IF(K36=\"\",0,IF(K36=\"X\",0,IF(K36=\"-\",0,K36*100)))","v":0},{"$f":"IF(L36=\"\",0,IF(L36=\"X\",0,IF(L36=\"-\",0,L36*100)))","v":0},{"$f":"IF(M36=\"\",0,IF(M36=\"X\",0,IF(M36=\"-\",0,M36*100)))","v":0},{"$f":"MAX(AI36:AN36)","v":0},{"$f":"COUNTIF(AI36:AN36,AO36)","v":6},{"$f":"IF(AI36=AO36,0,AI36)","v":0},{"$f":"IF(AJ36=AO36,0,AJ36)","v":0},{"$f":"IF(AK36=AO36,0,AK36)","v":0},{"$f":"IF(AL36=AO36,0,AL36)","v":0},{"$f":"IF(AM36=AO36,0,AM36)","v":0},{"$f":"IF(AN36=AO36,0,AN36)","v":0},{"$f":"IF(AP36>6,0,IF(AP36>1,AO36,0))","v":0},{"$f":"IF(AP36>6,0,IF(AP36>2,AO36,0))","v":0},{"$f":"IF(AP36>6,0,IF(AP36>3,AO36,0))","v":0},{"$f":"IF(AP36>6,0,IF(AP36>4,AO36,0))","v":0},{"$f":"IF(AP36>6,0,IF(AP36>5,AO36,0))","v":0},{"$f":"MAX(AQ36:BA36)","v":0},{"$f":"COUNTIF(AQ36:BA36,BB36)","v":11},{"$f":"IF(AQ36=BB36,0,AQ36)","v":0},{"$f":"IF(AR36=BB36,0,AR36)","v":0},{"$f":"IF(AS36=BB36,0,AS36)","v":0},{"$f":"IF(AT36=BB36,0,AT36)","v":0},{"$f":"IF(AU36=BB36,0,AU36)","v":0},{"$f":"IF(AV36=BB36,0,AV36)","v":0},{"$f":"IF(BC36>5,0,IF(BC36>1,BB36,0))","v":0},{"$f":"IF(BC36>5,0,IF(BC36>2,BB36,0))","v":0},{"$f":"IF(BC36>5,0,IF(BC36>3,BB36,0))","v":0},{"$f":"IF(BC36>5,0,IF(BC36>4,BB36,0))","v":0},{"$f":"MAX(BD36:BM36)","v":0},{"$f":"COUNTIF(BD36:BM36,BN36)","v":10},{"$f":"IF(BD36=BN36,0,BD36)","v":0},{"$f":"IF(BE36=BN36,0,BE36)","v":0},{"$f":"IF(BF36=BN36,0,BF36)","v":0},{"$f":"IF(BG36=BN36,0,BG36)","v":0},{"$f":"IF(BH36=BN36,0,BH36)","v":0},{"$f":"IF(BI36=BN36,0,BI36)","v":0},{"$f":"IF(BO36>4,0,IF(BO36>1,BN36,0))","v":0},{"$f":"IF(BO36>4,0,IF(BO36>2,BN36,0))","v":0},{"$f":"IF(BO36>4,0,IF(BO36>3,BN36,0))","v":0},{"$f":"MAX(BP36:BX36)","v":0},{"$f":"COUNTIF(BP36:BX36,BY36)","v":9},{"$f":"IF(BP36=BY36,0,BP36)","v":0},{"$f":"IF(BQ36=BY36,0,BQ36)","v":0},{"$f":"IF(BR36=BY36,0,BR36)","v":0},{"$f":"IF(BS36=BY36,0,BS36)","v":0},{"$f":"IF(BT36=BY36,0,BT36)","v":0},{"$f":"IF(BU36=BY36,0,BU36)","v":0},{"$f":"IF(BZ36>3,0,IF(BZ36>1,BY36,0))","v":0},{"$f":"IF(BZ36>3,0,IF(BZ36>2,BY36,0))","v":0},{"$f":"MAX(CA36:CH36)","v":0},{"$f":"COUNTIF(CA36:CH36,CI36)","v":8},{"$f":"IF(CA36=CI36,0,CA36)","v":0},{"$f":"IF(CB36=CI36,0,CB36)","v":0},{"$f":"IF(CC36=CI36,0,CC36)","v":0},{"$f":"IF(CD36=CI36,0,CD36)","v":0},{"$f":"IF(CE36=CI36,0,CE36)","v":0},{"$f":"IF(CF36=CI36,0,CF36)","v":0},{"$f":"IF(CJ36>2,0,IF(CJ36>1,CI36,0))","v":0},{"$f":"MAX(CK36:CQ36)","v":0},{"$f":"AO36*10^8+BB36*10^4+BN36","v":0},{"$f":"VLOOKUP(CS36,PRIMERAS,3)","v":1},{"$f":"BY36*10^8+CI36*10^4+CR36","v":0},{"$f":"VLOOKUP(CU36,SEGUNDAS,3)","v":1},{"$f":"IF(CX36=1,CT36*10^2+CV36,9999)","v":9999},{"$f":"IF(6-COUNTBLANK(H36:M36)>0,1,0)","v":0},{"$f":"IF(SUM(H36:J36)>0,1,0)","v":0},{"$f":"IF(MAX(H36:M36)=0,IF(CX36=0,\"\",\"NM\"),MAX(H36:M36))","v":""},{"$f":"IF(MAX(H36:M36)=0,IF(CX36=0,\"\",\"NM\"),VLOOKUP(CW36,CLASIFICACION,3))","v":""}]
[null,{"$f":"INSCRIPCIÓN!B41","v":""},{"$f":"IF(INSCRIPCIÓN!D41=\"\",\"\",INSCRIPCIÓN!D41)","v":""},{"$f":"IF(INSCRIPCIÓN!C41=\"\",\"\",INSCRIPCIÓN!C41)","v":""},{"$f":"IF(INSCRIPCIÓN!E41=\"\",\"\",INSCRIPCIÓN!E41)","v":""},{"$f":"IF(INSCRIPCIÓN!F41=\"\",\"\",INSCRIPCIÓN!F41)","v":""},{"$f":"IF(INSCRIPCIÓN!G41=\"\",\"\",INSCRIPCIÓN!G41)","v":""},null,null,null,null,null,null,0,0,0,0,0,0,0,0,0,0,0,0,0,3,0,5,0,34,99999999999999,0,1,0,0,0,0,0,0,0,6,0,0,0,0,0,0,0,0,0,0,0,0,11,0,0,0,0,0,0,0,0,0,0,0,10,0,0,0,0,0,0,0,0,0,0,9,0,0,0,0,0,0,0,0,0,8,0,0,0,0,0,0,0,0,0,1,0,1,9999,0,0,"",""]
[null,{"$f":"INSCRIPCIÓN!B42","v":""},{"$f":"IF(INSCRIPCIÓN!D42=\"\",\"\",INSCRIPCIÓN!D42)","v":""},{"$f":"IF(INSCRIPCIÓN!C42=\"\",\"\",INSCRIPCIÓN!C42)","v":""},{"$f":"IF(INSCRIPCIÓN!E42=\"\",\"\",INSCRIPCIÓN!E42)","v":""},{"$f":"IF(INSCRIPCIÓN!F42=\"\",\"\",INSCRIPCIÓN!F42)","v":""},{"$f":"IF(INSCRIPCIÓN!G42=\"\",\"\",INSCRIPCIÓN!G42)","v":""},null,null,null,null,null,null,0,0,0,0,0,0,0,0,0,0,0,0,0,3,0,5,0,35,99999999999999,0,1,0,0,0,0,0,0,0,6,0,0,0,0,0,0,0,0,0,0,0,0,11,0,0,0,0,0,0,0,0,0,0,0,10,0,0,0,0,0,0,0,0,0,0,9,0,0,0,0,0,0,0,0,0,8,0,0,0,0,0,0,0,0,0,1,0,1,9999,0,0,"",""]
[null,{"$f":"INSCRIPCIÓN!B43","v":""},{"$f":"IF(INSCRIPCIÓN!D43=\"\",\"\",INSCRIPCIÓN!D43)","v":""},{"$f":"IF(INSCRIPCIÓN!C43=\"\",\"\",INSCRIPCIÓN!C43)","v":""},{"$f":"IF(INSCRIPCIÓN!E43=\"\",\"\",INSCRIPCIÓN!E43)","v":""},{"$f":"IF(INSCRIPCIÓN!F43=\"\",\"\",INSCRIPCIÓN!F43)","v":""},{"$f":"IF(INSCRIPCIÓN!G43=\"\",\"\",INSCRIPCIÓN!G43)","v":""},null,null,null,null,null,null,0,0,0,0,0,0,0,0,0,0,0,0,0,3,0,5,0,36,99999999999999,0,1,0,0,0,0,0,0,0,6,0,0,0,0,0,0,0,0,0,0,0,0,11,0,0,0,0,0,0,0,0,0,0,0,10,0,0,0,0,0,0,0,0,0,0,9,0,0,0,0,0,0,0,0,0,8,0,0,0,0,0,0,0,0,0,1,0,1,9999,0,0,"",""]
[null,{"$f":"INSCRIPCIÓN!B44","v":""},{"$f":"IF(INSCRIPCIÓN!D44=\"\",\"\",INSCRIPCIÓN!D44)","v":""},{"$f":"IF(INSCRIPCIÓN!C44=\"\",\"\",INSCRIPCIÓN!C44)","v":""},{"$f":"IF(INSCRIPCIÓN!E44=\"\",\"\",INSCRIPCIÓN!E44)","v":""},{"$f":"IF(INSCRIPCIÓN!F44=\"\",\"\",INSCRIPCIÓN!F44)","v":""},{"$f":"IF(INSCRIPCIÓN!G44=\"\",\"\",INSCRIPCIÓN!G44)","v":""},null,null,null,null,null,null,0,0,0,0,0,0,0,0,0,0,0,0,0,3,0,5,0,37,99999999999999,0,1,0,0,0,0,0,0,0,6,0,0,0,0,0,0,0,0,0,0,0,0,11,0,0,0,0,0,0,0,0,0,0,0,10,0,0,0,0,0,0,0,0,0,0,9,0,0,0,0,0,0,0,0,0,8,0,0,0,0,0,0,0,0,0,1,0,1,9999,0,0,"",""]
[null,{"$f":"INSCRIPCIÓN!B45","v":""},{"$f":"IF(INSCRIPCIÓN!D45=\"\",\"\",INSCRIPCIÓN!D45)","v":""},{"$f":"IF(INSCRIPCIÓN!C45=\"\",\"\",INSCRIPCIÓN!C45)","v":""},{"$f":"IF(INSCRIPCIÓN!E45=\"\",\"\",INSCRIPCIÓN!E45)","v":""},{"$f":"IF(INSCRIPCIÓN!F45=\"\",\"\",INSCRIPCIÓN!F45)","v":""},{"$f":"IF(INSCRIPCIÓN!G45=\"\",\"\",INSCRIPCIÓN!G45)","v":""},null,null,null,null,null,null,0,0,0,0,0,0,0,0,0,0,0,0,0,3,0,5,0,38,99999999999999,0,1,0,0,0,0,0,0,0,6,0,0,0,0,0,0,0,0,0,0,0,0,11,0,0,0,0,0,0,0,0,0,0,0,10,0,0,0,0,0,0,0,0,0,0,9,0,0,0,0,0,0,0,0,0,8,0,0,0,0,0,0,0,0,0,1,0,1,9999,0,0,"",""]
[null,{"$f":"INSCRIPCIÓN!B46","v":""},{"$f":"IF(INSCRIPCIÓN!D46=\"\",\"\",INSCRIPCIÓN!D46)","v":""},{"$f":"IF(INSCRIPCIÓN!C46=\"\",\"\",INSCRIPCIÓN!C46)","v":""},{"$f":"IF(INSCRIPCIÓN!E46=\"\",\"\",INSCRIPCIÓN!E46)","v":""},{"$f":"IF(INSCRIPCIÓN!F46=\"\",\"\",INSCRIPCIÓN!F46)","v":""},{"$f":"IF(INSCRIPCIÓN!G46=\"\",\"\",INSCRIPCIÓN!G46)","v":""},null,null,null,null,null,null,0,0,0,0,0,0,0,0,0,0,0,0,0,3,0,5,0,39,99999999999999,0,1,0,0,0,0,0,0,0,6,0,0,0,0,0,0,0,0,0,0,0,0,11,0,0,0,0,0,0,0,0,0,0,0,10,0,0,0,0,0,0,0,0,0,0,9,0,0,0,0,0,0,0,0,0,8,0,0,0,0,0,0,0,0,0,1,0,1,9999,0,0,"",""]
[null,{"$f":"INSCRIPCIÓN!B47","v":""},{"$f":"IF(INSCRIPCIÓN!D47=\"\",\"\",INSCRIPCIÓN!D47)","v":""},{"$f":"IF(INSCRIPCIÓN!C47=\"\",\"\",INSCRIPCIÓN!C47)","v":""},{"$f":"IF(INSCRIPCIÓN!E47=\"\",\"\",INSCRIPCIÓN!E47)","v":""},{"$f":"IF(INSCRIPCIÓN!F47=\"\",\"\",INSCRIPCIÓN!F47)","v":""},{"$f":"IF(INSCRIPCIÓN!G47=\"\",\"\",INSCRIPCIÓN!G47)","v":""},null,null,null,null,null,null,0,0,0,0,0,0,0,0,0,0,0,0,0,3,0,5,0,40,99999999999999,0,1,0,0,0,0,0,0,0,6,0,0,0,0,0,0,0,0,0,0,0,0,11,0,0,0,0,0,0,0,0,0,0,0,10,0,0,0,0,0,0,0,0,0,0,9,0,0,0,0,0,0,0,0,0,8,0,0,0,0,0,0,0,0,0,1,0,1,9999,0,0,"",""]
[null,{"$f":"INSCRIPCIÓN!B48","v":""},{"$f":"IF(INSCRIPCIÓN!D48=\"\",\"\",INSCRIPCIÓN!D48)","v":""},{"$f":"IF(INSCRIPCIÓN!C48=\"\",\"\",INSCRIPCIÓN!C48)","v":""},{"$f":"IF(INSCRIPCIÓN!E48=\"\",\"\",INSCRIPCIÓN!E48)","v":""},{"$f":"IF(INSCRIPCIÓN!F48=\"\",\"\",INSCRIPCIÓN!F48)","v":""},{"$f":"IF(INSCRIPCIÓN!G48=\"\",\"\",INSCRIPCIÓN!G48)","v":""},null,null,null,null,null,null,0,0,0,0,0,0,0,0,0,0,0,0,0,3,0,5,0,41,99999999999999,0,1,0,0,0,0,0,0,0,6,0,0,0,0,0,0,0,0,0,0,0,0,11,0,0,0,0,0,0,0,0,0,0,0,10,0,0,0,0,0,0,0,0,0,0,9,0,0,0,0,0,0,0,0,0,8,0,0,0,0,0,0,0,0,0,1,0,1,9999,0,0,"",""]
[null,{"$f":"INSCRIPCIÓN!B49","v":""},{"$f":"IF(INSCRIPCIÓN!D49=\"\",\"\",INSCRIPCIÓN!D49)","v":""},{"$f":"IF(INSCRIPCIÓN!C49=\"\",\"\",INSCRIPCIÓN!C49)","v":""},{"$f":"IF(INSCRIPCIÓN!E49=\"\",\"\",INSCRIPCIÓN!E49)","v":""},{"$f":"IF(INSCRIPCIÓN!F49=\"\",\"\",INSCRIPCIÓN!F49)","v":""},{"$f":"IF(INSCRIPCIÓN!G49=\"\",\"\",INSCRIPCIÓN!G49)","v":""},null,null,null,null,null,null,0,0,0,0,0,0,0,0,0,0,0,0,0,3,0,5,0,42,99999999999999,0,1,0,0,0,0,0,0,0,6,0,0,0,0,0,0,0,0,0,0,0,0,11,0,0,0,0,0,0,0,0,0,0,0,10,0,0,0,0,0,0,0,0,0,0,9,0,0,0,0,0,0,0,0,0,8,0,0,0,0,0,0,0,0,0,1,0,1,9999,0,0,"",""]
[null,{"$f":"INSCRIPCIÓN!B50","v":""},{"$f":"IF(INSCRIPCIÓN!D50=\"\",\"\",INSCRIPCIÓN!D50)","v":""},{"$f":"IF(INSCRIPCIÓN!C50=\"\",\"\",INSCRIPCIÓN!C50)","v":""},{"$f":"IF(INSCRIPCIÓN!E50=\"\",\"\",INSCRIPCIÓN!E50)","v":""},{"$f":"IF(INSCRIPCIÓN!F50=\"\",\"\",INSCRIPCIÓN!F50)","v":""},{"$f":"IF(INSCRIPCIÓN!G50=\"\",\"\",INSCRIPCIÓN!G50)","v":""},null,null,null,null,null,null,0,0,0,0,0,0,0,0,0,0,0,0,0,3,0,5,0,43,99999999999999,0,1,0,0,0,0,0,0,0,6,0,0,0,0,0,0,0,0,0,0,0,0,11,0,0,0,0,0,0,0,0,0,0,0,10,0,0,0,0,0,0,0,0,0,0,9,0,0,0,0,0,0,0,0,0,8,0,0,0,0,0,0,0,0,0,1,0,1,9999,0,0,"",""]
[null,{"$f":"INSCRIPCIÓN!B51","v":""},{"$f":"IF(INSCRIPCIÓN!D51=\"\",\"\",INSCRIPCIÓN!D51)","v":""},{"$f":"IF(INSCRIPCIÓN!C51=\"\",\"\",INSCRIPCIÓN!C51)","v":""},{"$f":"IF(INSCRIPCIÓN!E51=\"\",\"\",INSCRIPCIÓN!E51)","v":""},{"$f":"IF(INSCRIPCIÓN!F51=\"\",\"\",INSCRIPCIÓN!F51)","v":""},{"$f":"IF(INSCRIPCIÓN!G51=\"\",\"\",INSCRIPCIÓN!G51)","v":""},null,null,null,null,null,null,0,0,0,0,0,0,0,0,0,0,0,0,0,3,0,5,0,44,99999999999999,0,1,0,0,0,0,0,0,0,6,0,0,0,0,0,0,0,0,0,0,0,0,11,0,0,0,0,0,0,0,0,0,0,0,10,0,0,0,0,0,0,0,0,0,0,9,0,0,0,0,0,0,0,0,0,8,0,0,0,0,0,0,0,0,0,1,0,1,9999,0,0,"",""]
[null,{"$f":"INSCRIPCIÓN!B52","v":""},{"$f":"IF(INSCRIPCIÓN!D52=\"\",\"\",INSCRIPCIÓN!D52)","v":""},{"$f":"IF(INSCRIPCIÓN!C52=\"\",\"\",INSCRIPCIÓN!C52)","v":""},{"$f":"IF(INSCRIPCIÓN!E52=\"\",\"\",INSCRIPCIÓN!E52)","v":""},{"$f":"IF(INSCRIPCIÓN!F52=\"\",\"\",INSCRIPCIÓN!F52)","v":""},{"$f":"IF(INSCRIPCIÓN!G52=\"\",\"\",INSCRIPCIÓN!G52)","v":""},null,null,null,null,null,null,0,0,0,0,0,0,0,0,0,0,0,0,0,3,0,5,0,45,99999999999999,0,1,0,0,0,0,0,0,0,6,0,0,0,0,0,0,0,0,0,0,0,0,11,0,0,0,0,0,0,0,0,0,0,0,10,0,0,0,0,0,0,0,0,0,0,9,0,0,0,0,0,0,0,0,0,8,0,0,0,0,0,0,0,0,0,1,0,1,9999,0,0,"",""]
[null,{"$f":"INSCRIPCIÓN!B53","v":""},{"$f":"IF(INSCRIPCIÓN!D53=\"\",\"\",INSCRIPCIÓN!D53)","v":""},{"$f":"IF(INSCRIPCIÓN!C53=\"\",\"\",INSCRIPCIÓN!C53)","v":""},{"$f":"IF(INSCRIPCIÓN!E53=\"\",\"\",INSCRIPCIÓN!E53)","v":""},{"$f":"IF(INSCRIPCIÓN!F53=\"\",\"\",INSCRIPCIÓN!F53)","v":""},{"$f":"IF(INSCRIPCIÓN!G53=\"\",\"\",INSCRIPCIÓN!G53)","v":""},null,null,null,null,null,null,0,0,0,0,0,0,0,0,0,0,0,0,0,3,0,5,0,46,99999999999999,0,1,0,0,0,0,0,0,0,6,0,0,0,0,0,0,0,0,0,0,0,0,11,0,0,0,0,0,0,0,0,0,0,0,10,0,0,0,0,0,0,0,0,0,0,9,0,0,0,0,0,0,0,0,0,8,0,0,0,0,0,0,0,0,0,1,0,1,9999,0,0,"",""]
[null,{"$f":"INSCRIPCIÓN!B54","v":""},{"$f":"IF(INSCRIPCIÓN!D54=\"\",\"\",INSCRIPCIÓN!D54)","v":""},{"$f":"IF(INSCRIPCIÓN!C54=\"\",\"\",INSCRIPCIÓN!C54)","v":""},{"$f":"IF(INSCRIPCIÓN!E54=\"\",\"\",INSCRIPCIÓN!E54)","v":""},{"$f":"IF(INSCRIPCIÓN!F54=\"\",\"\",INSCRIPCIÓN!F54)","v":""},{"$f":"IF(INSCRIPCIÓN!G54=\"\",\"\",INSCRIPCIÓN!G54)","v":""},null,null,null,null,null,null,0,0,0,0,0,0,0,0,0,0,0,0,0,3,0,5,0,47,99999999999999,0,1,0,0,0,0,0,0,0,6,0,0,0,0,0,0,0,0,0,0,0,0,11,0,0,0,0,0,0,0,0,0,0,0,10,0,0,0,0,0,0,0,0,0,0,9,0,0,0,0,0,0,0,0,0,8,0,0,0,0,0,0,0,0,0,1,0,1,9999,0,0,"",""]
[null,{"$f":"INSCRIPCIÓN!B55","v":""},{"$f":"IF(INSCRIPCIÓN!D55=\"\",\"\",INSCRIPCIÓN!D55)","v":""},{"$f":"IF(INSCRIPCIÓN!C55=\"\",\"\",INSCRIPCIÓN!C55)","v":""},{"$f":"IF(INSCRIPCIÓN!E55=\"\",\"\",INSCRIPCIÓN!E55)","v":""},{"$f":"IF(INSCRIPCIÓN!F55=\"\",\"\",INSCRIPCIÓN!F55)","v":""},{"$f":"IF(INSCRIPCIÓN!G55=\"\",\"\",INSCRIPCIÓN!G55)","v":""},null,null,null,null,null,null,0,0,0,0,0,0,0,0,0,0,0,0,0,3,0,5,0,48,99999999999999,0,1,0,0,0,0,0,0,0,6,0,0,0,0,0,0,0,0,0,0,0,0,11,0,0,0,0,0,0,0,0,0,0,0,10,0,0,0,0,0,0,0,0,0,0,9,0,0,0,0,0,0,0,0,0,8,0,0,0,0,0,0,0,0,0,1,0,1,9999,0,0,"",""]
[null,{"$f":"INSCRIPCIÓN!B56","v":""},{"$f":"IF(INSCRIPCIÓN!D56=\"\",\"\",INSCRIPCIÓN!D56)","v":""},{"$f":"IF(INSCRIPCIÓN!C56=\"\",\"\",INSCRIPCIÓN!C56)","v":""},{"$f":"IF(INSCRIPCIÓN!E56=\"\",\"\",INSCRIPCIÓN!E56)","v":""},{"$f":"IF(INSCRIPCIÓN!F56=\"\",\"\",INSCRIPCIÓN!F56)","v":""},{"$f":"IF(INSCRIPCIÓN!G56=\"\",\"\",INSCRIPCIÓN!G56)","v":""},null,null,null,null,null,null,0,0,0,0,0,0,0,0,0,0,0,0,0,3,0,5,0,49,99999999999999,0,1,0,0,0,0,0,0,0,6,0,0,0,0,0,0,0,0,0,0,0,0,11,0,0,0,0,0,0,0,0,0,0,0,10,0,0,0,0,0,0,0,0,0,0,9,0,0,0,0,0,0,0,0,0,8,0,0,0,0,0,0,0,0,0,1,0,1,9999,0,0,"",""]
[null,{"$f":"INSCRIPCIÓN!B57","v":""},{"$f":"IF(INSCRIPCIÓN!D57=\"\",\"\",INSCRIPCIÓN!D57)","v":""},{"$f":"IF(INSCRIPCIÓN!C57=\"\",\"\",INSCRIPCIÓN!C57)","v":""},{"$f":"IF(INSCRIPCIÓN!E57=\"\",\"\",INSCRIPCIÓN!E57)","v":""},{"$f":"IF(INSCRIPCIÓN!F57=\"\",\"\",INSCRIPCIÓN!F57)","v":""},{"$f":"IF(INSCRIPCIÓN!G57=\"\",\"\",INSCRIPCIÓN!G57)","v":""},null,null,null,null,null,null,0,0,0,0,0,0,0,0,0,0,0,0,0,3,0,5,0,50,99999999999999,0,1,0,0,0,0,0,0,0,6,0,0,0,0,0,0,0,0,0,0,0,0,11,0,0,0,0,0,0,0,0,0,0,0,10,0,0,0,0,0,0,0,0,0,0,9,0,0,0,0,0,0,0,0,0,8,0,0,0,0,0,0,0,0,0,1,0,1,9999,0,0,"",""]
[null,{"$f":"INSCRIPCIÓN!B58","v":""},{"$f":"IF(INSCRIPCIÓN!D58=\"\",\"\",INSCRIPCIÓN!D58)","v":""},{"$f":"IF(INSCRIPCIÓN!C58=\"\",\"\",INSCRIPCIÓN!C58)","v":""},{"$f":"IF(INSCRIPCIÓN!E58=\"\",\"\",INSCRIPCIÓN!E58)","v":""},{"$f":"IF(INSCRIPCIÓN!F58=\"\",\"\",INSCRIPCIÓN!F58)","v":""},{"$f":"IF(INSCRIPCIÓN!G58=\"\",\"\",INSCRIPCIÓN!G58)","v":""},null,null,null,null,null,null,0,0,0,0,0,0,0,0,0,0,0,0,0,3,0,5,0,51,99999999999999,0,1,0,0,0,0,0,0,0,6,0,0,0,0,0,0,0,0,0,0,0,0,11,0,0,0,0,0,0,0,0,0,0,0,10,0,0,0,0,0,0,0,0,0,0,9,0,0,0,0,0,0,0,0,0,8,0,0,0,0,0,0,0,0,0,1,0,1,9999,0,0,"",""]
[null,{"$f":"INSCRIPCIÓN!B59","v":""},{"$f":"IF(INSCRIPCIÓN!D59=\"\",\"\",INSCRIPCIÓN!D59)","v":""},{"$f":"IF(INSCRIPCIÓN!C59=\"\",\"\",INSCRIPCIÓN!C59)","v":""},{"$f":"IF(INSCRIPCIÓN!E59=\"\",\"\",INSCRIPCIÓN!E59)","v":""},{"$f":"IF(INSCRIPCIÓN!F59=\"\",\"\",INSCRIPCIÓN!F59)","v":""},{"$f":"IF(INSCRIPCIÓN!G59=\"\",\"\",INSCRIPCIÓN!G59)","v":""},null,null,null,null,null,null,0,0,0,0,0,0,0,0,0,0,0,0,0,3,0,5,0,52,99999999999999,0,1,0,0,0,0,0,0,0,6,0,0,0,0,0,0,0,0,0,0,0,0,11,0,0,0,0,0,0,0,0,0,0,0,10,0,0,0,0,0,0,0,0,0,0,9,0,0,0,0,0,0,0,0,0,8,0,0,0,0,0,0,0,0,0,1,0,1,9999,0,0,"",""]
[null,{"$f":"INSCRIPCIÓN!B60","v":""},{"$f":"IF(INSCRIPCIÓN!D60=\"\",\"\",INSCRIPCIÓN!D60)","v":""},{"$f":"IF(INSCRIPCIÓN!C60=\"\",\"\",INSCRIPCIÓN!C60)","v":""},{"$f":"IF(INSCRIPCIÓN!E60=\"\",\"\",INSCRIPCIÓN!E60)","v":""},{"$f":"IF(INSCRIPCIÓN!F60=\"\",\"\",INSCRIPCIÓN!F60)","v":""},{"$f":"IF(INSCRIPCIÓN!G60=\"\",\"\",INSCRIPCIÓN!G60)","v":""},null,null,null,null,null,null,0,0,0,0,0,0,0,0,0,0,0,0,0,3,0,5,0,53,99999999999999,0,1,0,0,0,0,0,0,0,6,0,0,0,0,0,0,0,0,0,0,0,0,11,0,0,0,0,0,0,0,0,0,0,0,10,0,0,0,0,0,0,0,0,0,0,9,0,0,0,0,0,0,0,0,0,8,0,0,0,0,0,0,0,0,0,1,0,1,9999,0,0,"",""]
[null,{"$f":"INSCRIPCIÓN!B61","v":""},{"$f":"IF(INSCRIPCIÓN!D61=\"\",\"\",INSCRIPCIÓN!D61)","v":""},{"$f":"IF(INSCRIPCIÓN!C61=\"\",\"\",INSCRIPCIÓN!C61)","v":""},{"$f":"IF(INSCRIPCIÓN!E61=\"\",\"\",INSCRIPCIÓN!E61)","v":""},{"$f":"IF(INSCRIPCIÓN!F61=\"\",\"\",INSCRIPCIÓN!F61)","v":""},{"$f":"IF(INSCRIPCIÓN!G61=\"\",\"\",INSCRIPCIÓN!G61)","v":""},null,null,null,null,null,null,0,0,0,0,0,0,0,0,0,0,0,0,0,3,0,5,0,54,99999999999999,0,1,0,0,0,0,0,0,0,6,0,0,0,0,0,0,0,0,0,0,0,0,11,0,0,0,0,0,0,0,0,0,0,0,10,0,0,0,0,0,0,0,0,0,0,9,0,0,0,0,0,0,0,0,0,8,0,0,0,0,0,0,0,0,0,1,0,1,9999,0,0,"",""]
[null,{"$f":"INSCRIPCIÓN!B62","v":""},{"$f":"IF(INSCRIPCIÓN!D62=\"\",\"\",INSCRIPCIÓN!D62)","v":""},{"$f":"IF(INSCRIPCIÓN!C62=\"\",\"\",INSCRIPCIÓN!C62)","v":""},{"$f":"IF(INSCRIPCIÓN!E62=\"\",\"\",INSCRIPCIÓN!E62)","v":""},{"$f":"IF(INSCRIPCIÓN!F62=\"\",\"\",INSCRIPCIÓN!F62)","v":""},{"$f":"IF(INSCRIPCIÓN!G62=\"\",\"\",INSCRIPCIÓN!G62)","v":""},null,null,null,null,null,null,0,0,0,0,0,0,0,0,0,0,0,0,0,3,0,5,0,55,99999999999999,0,1,0,0,0,0,0,0,0,6,0,0,0,0,0,0,0,0,0,0,0,0,11,0,0,0,0,0,0,0,0,0,0,0,10,0,0,0,0,0,0,0,0,0,0,9,0,0,0,0,0,0,0,0,0,8,0,0,0,0,0,0,0,0,0,1,0,1,9999,0,0,"",""]
[null,{"$f":"INSCRIPCIÓN!B63","v":""},{"$f":"IF(INSCRIPCIÓN!D63=\"\",\"\",INSCRIPCIÓN!D63)","v":""},{"$f":"IF(INSCRIPCIÓN!C63=\"\",\"\",INSCRIPCIÓN!C63)","v":""},{"$f":"IF(INSCRIPCIÓN!E63=\"\",\"\",INSCRIPCIÓN!E63)","v":""},{"$f":"IF(INSCRIPCIÓN!F63=\"\",\"\",INSCRIPCIÓN!F63)","v":""},{"$f":"IF(INSCRIPCIÓN!G63=\"\",\"\",INSCRIPCIÓN!G63)","v":""},null,null,null,null,null,null,0,0,0,0,0,0,0,0,0,0,0,0,0,3,0,5,0,56,99999999999999,0,1,0,0,0,0,0,0,0,6,0,0,0,0,0,0,0,0,0,0,0,0,11,0,0,0,0,0,0,0,0,0,0,0,10,0,0,0,0,0,0,0,0,0,0,9,0,0,0,0,0,0,0,0,0,8,0,0,0,0,0,0,0,0,0,1,0,1,9999,0,0,"",""]
[null,{"$f":"INSCRIPCIÓN!B64","v":""},{"$f":"IF(INSCRIPCIÓN!D64=\"\",\"\",INSCRIPCIÓN!D64)","v":""},{"$f":"IF(INSCRIPCIÓN!C64=\"\",\"\",INSCRIPCIÓN!C64)","v":""},{"$f":"IF(INSCRIPCIÓN!E64=\"\",\"\",INSCRIPCIÓN!E64)","v":""},{"$f":"IF(INSCRIPCIÓN!F64=\"\",\"\",INSCRIPCIÓN!F64)","v":""},{"$f":"IF(INSCRIPCIÓN!G64=\"\",\"\",INSCRIPCIÓN!G64)","v":""},null,null,null,null,null,null,0,0,0,0,0,0,0,0,0,0,0,0,0,3,0,5,0,57,99999999999999,0,1,0,0,0,0,0,0,0,6,0,0,0,0,0,0,0,0,0,0,0,0,11,0,0,0,0,0,0,0,0,0,0,0,10,0,0,0,0,0,0,0,0,0,0,9,0,0,0,0,0,0,0,0,0,8,0,0,0,0,0,0,0,0,0,1,0,1,9999,0,0,"",""]
[null,{"$f":"INSCRIPCIÓN!B65","v":""},{"$f":"IF(INSCRIPCIÓN!D65=\"\",\"\",INSCRIPCIÓN!D65)","v":""},{"$f":"IF(INSCRIPCIÓN!C65=\"\",\"\",INSCRIPCIÓN!C65)","v":""},{"$f":"IF(INSCRIPCIÓN!E65=\"\",\"\",INSCRIPCIÓN!E65)","v":""},{"$f":"IF(INSCRIPCIÓN!F65=\"\",\"\",INSCRIPCIÓN!F65)","v":""},{"$f":"IF(INSCRIPCIÓN!G65=\"\",\"\",INSCRIPCIÓN!G65)","v":""},null,null,null,null,null,null,0,0,0,0,0,0,0,0,0,0,0,0,0,3,0,5,0,58,99999999999999,0,1,0,0,0,0,0,0,0,6,0,0,0,0,0,0,0,0,0,0,0,0,11,0,0,0,0,0,0,0,0,0,0,0,10,0,0,0,0,0,0,0,0,0,0,9,0,0,0,0,0,0,0,0,0,8,0,0,0,0,0,0,0,0,0,1,0,1,9999,0,0,"",""]
[null,{"$f":"INSCRIPCIÓN!B66","v":""},{"$f":"IF(INSCRIPCIÓN!D66=\"\",\"\",INSCRIPCIÓN!D66)","v":""},{"$f":"IF(INSCRIPCIÓN!C66=\"\",\"\",INSCRIPCIÓN!C66)","v":""},{"$f":"IF(INSCRIPCIÓN!E66=\"\",\"\",INSCRIPCIÓN!E66)","v":""},{"$f":"IF(INSCRIPCIÓN!F66=\"\",\"\",INSCRIPCIÓN!F66)","v":""},{"$f":"IF(INSCRIPCIÓN!G66=\"\",\"\",INSCRIPCIÓN!G66)","v":""},null,null,null,null,null,null,0,0,0,0,0,0,0,0,0,0,0,0,0,3,0,5,0,59,99999999999999,0,1,0,0,0,0,0,0,0,6,0,0,0,0,0,0,0,0,0,0,0,0,11,0,0,0,0,0,0,0,0,0,0,0,10,0,0,0,0,0,0,0,0,0,0,9,0,0,0,0,0,0,0,0,0,8,0,0,0,0,0,0,0,0,0,1,0,1,9999,0,0,"",""]
[null,{"$f":"INSCRIPCIÓN!B67","v":""},{"$f":"IF(INSCRIPCIÓN!D67=\"\",\"\",INSCRIPCIÓN!D67)","v":""},{"$f":"IF(INSCRIPCIÓN!C67=\"\",\"\",INSCRIPCIÓN!C67)","v":""},{"$f":"IF(INSCRIPCIÓN!E67=\"\",\"\",INSCRIPCIÓN!E67)","v":""},{"$f":"IF(INSCRIPCIÓN!F67=\"\",\"\",INSCRIPCIÓN!F67)","v":""},{"$f":"IF(INSCRIPCIÓN!G67=\"\",\"\",INSCRIPCIÓN!G67)","v":""},null,null,null,null,null,null,0,0,0,0,0,0,0,0,0,0,0,0,0,3,0,5,0,60,99999999999999,0,1,0,0,0,0,0,0,0,6,0,0,0,0,0,0,0,0,0,0,0,0,11,0,0,0,0,0,0,0,0,0,0,0,10,0,0,0,0,0,0,0,0,0,0,9,0,0,0,0,0,0,0,0,0,8,0,0,0,0,0,0,0,0,0,1,0,1,9999,0,0,"",""]
[null,{"$f":"INSCRIPCIÓN!B68","v":""},{"$f":"IF(INSCRIPCIÓN!D68=\"\",\"\",INSCRIPCIÓN!D68)","v":""},{"$f":"IF(INSCRIPCIÓN!C68=\"\",\"\",INSCRIPCIÓN!C68)","v":""},{"$f":"IF(INSCRIPCIÓN!E68=\"\",\"\",INSCRIPCIÓN!E68)","v":""},{"$f":"IF(INSCRIPCIÓN!F68=\"\",\"\",INSCRIPCIÓN!F68)","v":""},{"$f":"IF(INSCRIPCIÓN!G68=\"\",\"\",INSCRIPCIÓN!G68)","v":""},null,null,null,null,null,null,0,0,0,0,0,0,0,0,0,0,0,0,0,3,0,5,0,61,99999999999999,0,1,0,0,0,0,0,0,0,6,0,0,0,0,0,0,0,0,0,0,0,0,11,0,0,0,0,0,0,0,0,0,0,0,10,0,0,0,0,0,0,0,0,0,0,9,0,0,0,0,0,0,0,0,0,8,0,0,0,0,0,0,0,0,0,1,0,1,9999,0,0,"",""]
[null,{"$f":"INSCRIPCIÓN!B69","v":""},{"$f":"IF(INSCRIPCIÓN!D69=\"\",\"\",INSCRIPCIÓN!D69)","v":""},{"$f":"IF(INSCRIPCIÓN!C69=\"\",\"\",INSCRIPCIÓN!C69)","v":""},{"$f":"IF(INSCRIPCIÓN!E69=\"\",\"\",INSCRIPCIÓN!E69)","v":""},{"$f":"IF(INSCRIPCIÓN!F69=\"\",\"\",INSCRIPCIÓN!F69)","v":""},{"$f":"IF(INSCRIPCIÓN!G69=\"\",\"\",INSCRIPCIÓN!G69)","v":""},null,null,null,null,null,null,0,0,0,0,0,0,0,0,0,0,0,0,0,3,0,5,0,62,99999999999999,0,1,0,0,0,0,0,0,0,6,0,0,0,0,0,0,0,0,0,0,0,0,11,0,0,0,0,0,0,0,0,0,0,0,10,0,0,0,0,0,0,0,0,0,0,9,0,0,0,0,0,0,0,0,0,8,0,0,0,0,0,0,0,0,0,1,0,1,9999,0,0,"",""]
[null,{"$f":"INSCRIPCIÓN!B70","v":""},{"$f":"IF(INSCRIPCIÓN!D70=\"\",\"\",INSCRIPCIÓN!D70)","v":""},{"$f":"IF(INSCRIPCIÓN!C70=\"\",\"\",INSCRIPCIÓN!C70)","v":""},{"$f":"IF(INSCRIPCIÓN!E70=\"\",\"\",INSCRIPCIÓN!E70)","v":""},{"$f":"IF(INSCRIPCIÓN!F70=\"\",\"\",INSCRIPCIÓN!F70)","v":""},{"$f":"IF(INSCRIPCIÓN!G70=\"\",\"\",INSCRIPCIÓN!G70)","v":""},null,null,null,null,null,null,0,0,0,0,0,0,0,0,0,0,0,0,0,3,0,5,0,63,99999999999999,0,1,0,0,0,0,0,0,0,6,0,0,0,0,0,0,0,0,0,0,0,0,11,0,0,0,0,0,0,0,0,0,0,0,10,0,0,0,0,0,0,0,0,0,0,9,0,0,0,0,0,0,0,0,0,8,0,0,0,0,0,0,0,0,0,1,0,1,9999,0,0,"",""]
[null,{"$f":"INSCRIPCIÓN!B71","v":""},{"$f":"IF(INSCRIPCIÓN!D71=\"\",\"\",INSCRIPCIÓN!D71)","v":""},{"$f":"IF(INSCRIPCIÓN!C71=\"\",\"\",INSCRIPCIÓN!C71)","v":""},{"$f":"IF(INSCRIPCIÓN!E71=\"\",\"\",INSCRIPCIÓN!E71)","v":""},{"$f":"IF(INSCRIPCIÓN!F71=\"\",\"\",INSCRIPCIÓN!F71)","v":""},{"$f":"IF(INSCRIPCIÓN!G71=\"\",\"\",INSCRIPCIÓN!G71)","v":""},null,null,null,null,null,null,0,0,0,0,0,0,0,0,0,0,0,0,0,3,0,5,0,64,99999999999999,0,1,0,0,0,0,0,0,0,6,0,0,0,0,0,0,0,0,0,0,0,0,11,0,0,0,0,0,0,0,0,0,0,0,10,0,0,0,0,0,0,0,0,0,0,9,0,0,0,0,0,0,0,0,0,8,0,0,0,0,0,0,0,0,0,1,0,1,9999,0,0,"",""]
[null,{"$f":"INSCRIPCIÓN!B72","v":""},{"$f":"IF(INSCRIPCIÓN!D72=\"\",\"\",INSCRIPCIÓN!D72)","v":""},{"$f":"IF(INSCRIPCIÓN!C72=\"\",\"\",INSCRIPCIÓN!C72)","v":""},{"$f":"IF(INSCRIPCIÓN!E72=\"\",\"\",INSCRIPCIÓN!E72)","v":""},{"$f":"IF(INSCRIPCIÓN!F72=\"\",\"\",INSCRIPCIÓN!F72)","v":""},{"$f":"IF(INSCRIPCIÓN!G72=\"\",\"\",INSCRIPCIÓN!G72)","v":""},null,null,null,null,null,null,{"$f":"IF(H68=\"\",0,IF(H68=\"X\",0,IF(H68=\"-\",0,H68*100)))","v":0},{"$f":"IF(I68=\"\",0,IF(I68=\"X\",0,IF(I68=\"-\",0,I68*100)))","v":0},{"$f":"IF(J68=\"\",0,IF(J68=\"X\",0,IF(J68=\"-\",0,J68*100)))","v":0},{"$f":"IF(N68=$Z68,0,N68)","v":0},{"$f":"IF(O68=$Z68,0,O68)","v":0},{"$f":"IF(P68=$Z68,0,P68)","v":0},{"$f":"IF($AA68>1,$Z68,0)","v":0},{"$f":"IF($AA68>2,$Z68,0)","v":0},{"$f":"IF(Q68=$AB68,0,Q68)","v":0},{"$f":"IF(R68=$AB68,0,R68)","v":0},{"$f":"IF(S68=$AB68,0,S68)","v":0},{"$f":"IF($AC68>1,$AB68,0)","v":0},{"$f":"MAX(N68:P68)","v":0},{"$f":"COUNTIF(N68:P68,Z68)","v":3},{"$f":"MAX(Q68:U68)","v":0},{"$f":"COUNTIF(Q68:U68,AB68)","v":5},{"$f":"MAX(V68:Y68)","v":0},65,{"$f":"IF(CX68=1,IF(CY68=1,IF(AH68>8,99990000000000+AH68,Z68*10^10+AB68*10^6+AD68*10^2+AE68),IF(MAX($B$4:$B$102)<9,Z68*10^10+AB68*10^6+AD68*10^2+AE68,99999999000000)),99999999999999)","v":99999999999999},{"$f":"Z68*10^10+AB68*10^6+AD68*10^2+CX68","v":0},{"$f":"IF(AG68<100,IF(MAX($B$4:$B$102)<9,VLOOKUP(AG68,TRESPRIMERAS,3),VLOOKUP(AG68,TRESPRIMERAS,3)+10),VLOOKUP(AG68,TRESPRIMERAS,3))","v":1},{"$f":"IF(H68=\"\",0,IF(H68=\"X\",0,IF(H68=\"-\",0,H68*100)))","v":0},{"$f":"IF(I68=\"\",0,IF(I68=\"X\",0,IF(I68=\"-\",0,I68*100)))","v":0},{"$f":"IF(J68=\"\",0,IF(J68=\"X\",0,IF(J68=\"-\",0,J68*100)))","v":0},{"$f":"IF(K68=\"\",0,IF(K68=\"X\",0,IF(K68=\"-\",0,K68*100)))","v":0},{"$f":"IF(L68=\"\",0,IF(L68=\"X\",0,IF(L68=\"-\",0,L68*100)))","v":0},{"$f":"IF(M68=\"\",0,IF(M68=\"X\",0,IF(M68=\"-\",0,M68*100)))","v":0},{"$f":"MAX(AI68:AN68)","v":0},{"$f":"COUNTIF(AI68:AN68,AO68)","v":6},{"$f":"IF(AI68=AO68,0,AI68)","v":0},{"$f":"IF(AJ68=AO68,0,AJ68)","v":0},{"$f":"IF(AK68=AO68,0,AK68)","v":0},{"$f":"IF(AL68=AO68,0,AL68)","v":0},{"$f":"IF(AM68=AO68,0,AM68)","v":0},{"$f":"IF(AN68=AO68,0,AN68)","v":0},{"$f":"IF(AP68>6,0,IF(AP68>1,AO68,0))","v":0},{"$f":"IF(AP68>6,0,IF(AP68>2,AO68,0))","v":0},{"$f":"IF(AP68>6,0,IF(AP68>3,AO68,0))","v":0},{"$f":"IF(AP68>6,0,IF(AP68>4,AO68,0))","v":0},{"$f":"IF(AP68>6,0,IF(AP68>5,AO68,0))","v":0},{"$f":"MAX(AQ68:BA68)","v":0},{"$f":"COUNTIF(AQ68:BA68,BB68)","v":11},{"$f":"IF(AQ68=BB68,0,AQ68)","v":0},{"$f":"IF(AR68=BB68,0,AR68)","v":0},{"$f":"IF(AS68=BB68,0,AS68)","v":0},{"$f":"IF(AT68=BB68,0,AT68)","v":0},{"$f":"IF(AU68=BB68,0,AU68)","v":0},{"$f":"IF(AV68=BB68,0,AV68)","v":0},{"$f":"IF(BC68>5,0,IF(BC68>1,BB68,0))","v":0},{"$f":"IF(BC68>5,0,IF(BC68>2,BB68,0))","v":0},{"$f":"IF(BC68>5,0,IF(BC68>3,BB68,0))","v":0},{"$f":"IF(BC68>5,0,IF(BC68>4,BB68,0))","v":0},{"$f":"MAX(BD68:BM68)","v":0},{"$f":"COUNTIF(BD68:BM68,BN68)","v":10},{"$f":"IF(BD68=BN68,0,BD68)","v":0},{"$f":"IF(BE68=BN68,0,BE68)","v":0},{"$f":"IF(BF68=BN68,0,BF68)","v":0},{"$f":"IF(BG68=BN68,0,BG68)","v":0},{"$f":"IF(BH68=BN68,0,BH68)","v":0},{"$f":"IF(BI68=BN68,0,BI68)","v":0},{"$f":"IF(BO68>4,0,IF(BO68>1,BN68,0))","v":0},{"$f":"IF(BO68>4,0,IF(BO68>2,BN68,0))","v":0},{"$f":"IF(BO68>4,0,IF(BO68>3,BN68,0))","v":0},{"$f":"MAX(BP68:BX68)","v":0},{"$f":"COUNTIF(BP68:BX68,BY68)","v":9},{"$f":"IF(BP68=BY68,0,BP68)","v":0},{"$f":"IF(BQ68=BY68,0,BQ68)","v":0},{"$f":"IF(BR68=BY68,0,BR68)","v":0},{"$f":"IF(BS68=BY68,0,BS68)","v":0},{"$f":"IF(BT68=BY68,0,BT68)","v":0},{"$f":"IF(BU68=BY68,0,BU68)","v":0},{"$f":"IF(BZ68>3,0,IF(BZ68>1,BY68,0))","v":0},{"$f":"IF(BZ68>3,0,IF(BZ68>2,BY68,0))","v":0},{"$f":"MAX(CA68:CH68)","v":0},{"$f":"COUNTIF(CA68:CH68,CI68)","v":8},{"$f":"IF(CA68=CI68,0,CA68)","v":0},{"$f":"IF(CB68=CI68,0,CB68)","v":0},{"$f":"IF(CC68=CI68,0,CC68)","v":0},{"$f":"IF(CD68=CI68,0,CD68)","v":0},{"$f":"IF(CE68=CI68,0,CE68)","v":0},{"$f":"IF(CF68=CI68,0,CF68)","v":0},{"$f":"IF(CJ68>2,0,IF(CJ68>1,CI68,0))","v":0},{"$f":"MAX(CK68:CQ68)","v":0},{"$f":"AO68*10^8+BB68*10^4+BN68","v":0},{"$f":"VLOOKUP(CS68,PRIMERAS,3)","v":1},{"$f":"BY68*10^8+CI68*10^4+CR68","v":0},{"$f":"VLOOKUP(CU68,SEGUNDAS,3)","v":1},{"$f":"IF(CX68=1,CT68*10^2+CV68,9999)","v":9999},{"$f":"IF(6-COUNTBLANK(H68:M68)>0,1,0)","v":0},{"$f":"IF(SUM(H68:J68)>0,1,0)","v":0},{"$f":"IF(MAX(H68:M68)=0,IF(CX68=0,\"\",\"NM\"),MAX(H68:M68))","v":""},{"$f":"IF(MAX(H68:M68)=0,IF(CX68=0,\"\",\"NM\"),VLOOKUP(CW68,CLASIFICACION,3))","v":""}]
[null,{"$f":"INSCRIPCIÓN!B73","v":""},{"$f":"IF(INSCRIPCIÓN!D73=\"\",\"\",INSCRIPCIÓN!D73)","v":""},{"$f":"IF(INSCRIPCIÓN!C73=\"\",\"\",INSCRIPCIÓN!C73)","v":""},{"$f":"IF(INSCRIPCIÓN!E73=\"\",\"\",INSCRIPCIÓN!E73)","v":""},{"$f":"IF(INSCRIPCIÓN!F73=\"\",\"\",INSCRIPCIÓN!F73)","v":""},{"$f":"IF(INSCRIPCIÓN!G73=\"\",\"\",INSCRIPCIÓN!G73)","v":""},null,null,null,null,null,null,0,0,0,0,0,0,0,0,0,0,0,0,0,3,0,5,0,66,99999999999999,0,1,0,0,0,0,0,0,0,6,0,0,0,0,0,0,0,0,0,0,0,0,11,0,0,0,0,0,0,0,0,0,0,0,10,0,0,0,0,0,0,0,0,0,0,9,0,0,0,0,0,0,0,0,0,8,0,0,0,0,0,0,0,0,0,1,0,1,9999,0,0,"",""]
[null,{"$f":"INSCRIPCIÓN!B74","v":""},{"$f":"IF(INSCRIPCIÓN!D74=\"\",\"\",INSCRIPCIÓN!D74)","v":""},{"$f":"IF(INSCRIPCIÓN!C74=\"\",\"\",INSCRIPCIÓN!C74)","v":""},{"$f":"IF(INSCRIPCIÓN!E74=\"\",\"\",INSCRIPCIÓN!E74)","v":""},{"$f":"IF(INSCRIPCIÓN!F74=\"\",\"\",INSCRIPCIÓN!F74)","v":""},{"$f":"IF(INSCRIPCIÓN!G74=\"\",\"\",INSCRIPCIÓN!G74)","v":""},null,null,null,null,null,null,0,0,0,0,0,0,0,0,0,0,0,0,0,3,0,5,0,67,99999999999999,0,1,0,0,0,0,0,0,0,6,0,0,0,0,0,0,0,0,0,0,0,0,11,0,0,0,0,0,0,0,0,0,0,0,10,0,0,0,0,0,0,0,0,0,0,9,0,0,0,0,0,0,0,0,0,8,0,0,0,0,0,0,0,0,0,1,0,1,9999,0,0,"",""]
[null,{"$f":"INSCRIPCIÓN!B75","v":""},{"$f":"IF(INSCRIPCIÓN!D75=\"\",\"\",INSCRIPCIÓN!D75)","v":""},{"$f":"IF(INSCRIPCIÓN!C75=\"\",\"\",INSCRIPCIÓN!C75)","v":""},{"$f":"IF(INSCRIPCIÓN!E75=\"\",\"\",INSCRIPCIÓN!E75)","v":""},{"$f":"IF(INSCRIPCIÓN!F75=\"\",\"\",INSCRIPCIÓN!F75)","v":""},{"$f":"IF(INSCRIPCIÓN!G75=\"\",\"\",INSCRIPCIÓN!G75)","v":""},null,null,null,null,null,null,0,0,0,0,0,0,0,0,0,0,0,0,0,3,0,5,0,68,99999999999999,0,1,0,0,0,0,0,0,0,6,0,0,0,0,0,0,0,0,0,0,0,0,11,0,0,0,0,0,0,0,0,0,0,0,10,0,0,0,0,0,0,0,0,0,0,9,0,0,0,0,0,0,0,0,0,8,0,0,0,0,0,0,0,0,0,1,0,1,9999,0,0,"",""]
[null,{"$f":"INSCRIPCIÓN!B76","v":""},{"$f":"IF(INSCRIPCIÓN!D76=\"\",\"\",INSCRIPCIÓN!D76)","v":""},{"$f":"IF(INSCRIPCIÓN!C76=\"\",\"\",INSCRIPCIÓN!C76)","v":""},{"$f":"IF(INSCRIPCIÓN!E76=\"\",\"\",INSCRIPCIÓN!E76)","v":""},{"$f":"IF(INSCRIPCIÓN!F76=\"\",\"\",INSCRIPCIÓN!F76)","v":""},{"$f":"IF(INSCRIPCIÓN!G76=\"\",\"\",INSCRIPCIÓN!G76)","v":""},null,null,null,null,null,null,0,0,0,0,0,0,0,0,0,0,0,0,0,3,0,5,0,69,99999999999999,0,1,0,0,0,0,0,0,0,6,0,0,0,0,0,0,0,0,0,0,0,0,11,0,0,0,0,0,0,0,0,0,0,0,10,0,0,0,0,0,0,0,0,0,0,9,0,0,0,0,0,0,0,0,0,8,0,0,0,0,0,0,0,0,0,1,0,1,9999,0,0,"",""]
[null,{"$f":"INSCRIPCIÓN!B77","v":""},{"$f":"IF(INSCRIPCIÓN!D77=\"\",\"\",INSCRIPCIÓN!D77)","v":""},{"$f":"IF(INSCRIPCIÓN!C77=\"\",\"\",INSCRIPCIÓN!C77)","v":""},{"$f":"IF(INSCRIPCIÓN!E77=\"\",\"\",INSCRIPCIÓN!E77)","v":""},{"$f":"IF(INSCRIPCIÓN!F77=\"\",\"\",INSCRIPCIÓN!F77)","v":""},{"$f":"IF(INSCRIPCIÓN!G77=\"\",\"\",INSCRIPCIÓN!G77)","v":""},null,null,null,null,null,null,0,0,0,0,0,0,0,0,0,0,0,0,0,3,0,5,0,70,99999999999999,0,1,0,0,0,0,0,0,0,6,0,0,0,0,0,0,0,0,0,0,0,0,11,0,0,0,0,0,0,0,0,0,0,0,10,0,0,0,0,0,0,0,0,0,0,9,0,0,0,0,0,0,0,0,0,8,0,0,0,0,0,0,0,0,0,1,0,1,9999,0,0,"",""]
[null,{"$f":"INSCRIPCIÓN!B78","v":""},{"$f":"IF(INSCRIPCIÓN!D78=\"\",\"\",INSCRIPCIÓN!D78)","v":""},{"$f":"IF(INSCRIPCIÓN!C78=\"\",\"\",INSCRIPCIÓN!C78)","v":""},{"$f":"IF(INSCRIPCIÓN!E78=\"\",\"\",INSCRIPCIÓN!E78)","v":""},{"$f":"IF(INSCRIPCIÓN!F78=\"\",\"\",INSCRIPCIÓN!F78)","v":""},{"$f":"IF(INSCRIPCIÓN!G78=\"\",\"\",INSCRIPCIÓN!G78)","v":""},null,null,null,null,null,null,0,0,0,0,0,0,0,0,0,0,0,0,0,3,0,5,0,71,99999999999999,0,1,0,0,0,0,0,0,0,6,0,0,0,0,0,0,0,0,0,0,0,0,11,0,0,0,0,0,0,0,0,0,0,0,10,0,0,0,0,0,0,0,0,0,0,9,0,0,0,0,0,0,0,0,0,8,0,0,0,0,0,0,0,0,0,1,0,1,9999,0,0,"",""]
[null,{"$f":"INSCRIPCIÓN!B79","v":""},{"$f":"IF(INSCRIPCIÓN!D79=\"\",\"\",INSCRIPCIÓN!D79)","v":""},{"$f":"IF(INSCRIPCIÓN!C79=\"\",\"\",INSCRIPCIÓN!C79)","v":""},{"$f":"IF(INSCRIPCIÓN!E79=\"\",\"\",INSCRIPCIÓN!E79)","v":""},{"$f":"IF(INSCRIPCIÓN!F79=\"\",\"\",INSCRIPCIÓN!F79)","v":""},{"$f":"IF(INSCRIPCIÓN!G79=\"\",\"\",INSCRIPCIÓN!G79)","v":""},null,null,null,null,null,null,0,0,0,0,0,0,0,0,0,0,0,0,0,3,0,5,0,72,99999999999999,0,1,0,0,0,0,0,0,0,6,0,0,0,0,0,0,0,0,0,0,0,0,11,0,0,0,0,0,0,0,0,0,0,0,10,0,0,0,0,0,0,0,0,0,0,9,0,0,0,0,0,0,0,0,0,8,0,0,0,0,0,0,0,0,0,1,0,1,9999,0,0,"",""]
[null,{"$f":"INSCRIPCIÓN!B80","v":""},{"$f":"IF(INSCRIPCIÓN!D80=\"\",\"\",INSCRIPCIÓN!D80)","v":""},{"$f":"IF(INSCRIPCIÓN!C80=\"\",\"\",INSCRIPCIÓN!C80)","v":""},{"$f":"IF(INSCRIPCIÓN!E80=\"\",\"\",INSCRIPCIÓN!E80)","v":""},{"$f":"IF(INSCRIPCIÓN!F80=\"\",\"\",INSCRIPCIÓN!F80)","v":""},{"$f":"IF(INSCRIPCIÓN!G80=\"\",\"\",INSCRIPCIÓN!G80)","v":""},null,null,null,null,null,null,0,0,0,0,0,0,0,0,0,0,0,0,0,3,0,5,0,73,99999999999999,0,1,0,0,0,0,0,0,0,6,0,0,0,0,0,0,0,0,0,0,0,0,11,0,0,0,0,0,0,0,0,0,0,0,10,0,0,0,0,0,0,0,0,0,0,9,0,0,0,0,0,0,0,0,0,8,0,0,0,0,0,0,0,0,0,1,0,1,9999,0,0,"",""]
[null,{"$f":"INSCRIPCIÓN!B81","v":""},{"$f":"IF(INSCRIPCIÓN!D81=\"\",\"\",INSCRIPCIÓN!D81)","v":""},{"$f":"IF(INSCRIPCIÓN!C81=\"\",\"\",INSCRIPCIÓN!C81)","v":""},{"$f":"IF(INSCRIPCIÓN!E81=\"\",\"\",INSCRIPCIÓN!E81)","v":""},{"$f":"IF(INSCRIPCIÓN!F81=\"\",\"\",INSCRIPCIÓN!F81)","v":""},{"$f":"IF(INSCRIPCIÓN!G81=\"\",\"\",INSCRIPCIÓN!G81)","v":""},null,null,null,null,null,null,0,0,0,0,0,0,0,0,0,0,0,0,0,3,0,5,0,74,99999999999999,0,1,0,0,0,0,0,0,0,6,0,0,0,0,0,0,0,0,0,0,0,0,11,0,0,0,0,0,0,0,0,0,0,0,10,0,0,0,0,0,0,0,0,0,0,9,0,0,0,0,0,0,0,0,0,8,0,0,0,0,0,0,0,0,0,1,0,1,9999,0,0,"",""]
[null,{"$f":"INSCRIPCIÓN!B82","v":""},{"$f":"IF(INSCRIPCIÓN!D82=\"\",\"\",INSCRIPCIÓN!D82)","v":""},{"$f":"IF(INSCRIPCIÓN!C82=\"\",\"\",INSCRIPCIÓN!C82)","v":""},{"$f":"IF(INSCRIPCIÓN!E82=\"\",\"\",INSCRIPCIÓN!E82)","v":""},{"$f":"IF(INSCRIPCIÓN!F82=\"\",\"\",INSCRIPCIÓN!F82)","v":""},{"$f":"IF(INSCRIPCIÓN!G82=\"\",\"\",INSCRIPCIÓN!G82)","v":""},null,null,null,null,null,null,0,0,0,0,0,0,0,0,0,0,0,0,0,3,0,5,0,75,99999999999999,0,1,0,0,0,0,0,0,0,6,0,0,0,0,0,0,0,0,0,0,0,0,11,0,0,0,0,0,0,0,0,0,0,0,10,0,0,0,0,0,0,0,0,0,0,9,0,0,0,0,0,0,0,0,0,8,0,0,0,0,0,0,0,0,0,1,0,1,9999,0,0,"",""]
[null,{"$f":"INSCRIPCIÓN!B83","v":""},{"$f":"IF(INSCRIPCIÓN!D83=\"\",\"\",INSCRIPCIÓN!D83)","v":""},{"$f":"IF(INSCRIPCIÓN!C83=\"\",\"\",INSCRIPCIÓN!C83)","v":""},{"$f":"IF(INSCRIPCIÓN!E83=\"\",\"\",INSCRIPCIÓN!E83)","v":""},{"$f":"IF(INSCRIPCIÓN!F83=\"\",\"\",INSCRIPCIÓN!F83)","v":""},{"$f":"IF(INSCRIPCIÓN!G83=\"\",\"\",INSCRIPCIÓN!G83)","v":""},null,null,null,null,null,null,0,0,0,0,0,0,0,0,0,0,0,0,0,3,0,5,0,76,99999999999999,0,1,0,0,0,0,0,0,0,6,0,0,0,0,0,0,0,0,0,0,0,0,11,0,0,0,0,0,0,0,0,0,0,0,10,0,0,0,0,0,0,0,0,0,0,9,0,0,0,0,0,0,0,0,0,8,0,0,0,0,0,0,0,0,0,1,0,1,9999,0,0,"",""]
[null,{"$f":"INSCRIPCIÓN!B84","v":""},{"$f":"IF(INSCRIPCIÓN!D84=\"\",\"\",INSCRIPCIÓN!D84)","v":""},{"$f":"IF(INSCRIPCIÓN!C84=\"\",\"\",INSCRIPCIÓN!C84)","v":""},{"$f":"IF(INSCRIPCIÓN!E84=\"\",\"\",INSCRIPCIÓN!E84)","v":""},{"$f":"IF(INSCRIPCIÓN!F84=\"\",\"\",INSCRIPCIÓN!F84)","v":""},{"$f":"IF(INSCRIPCIÓN!G84=\"\",\"\",INSCRIPCIÓN!G84)","v":""},null,null,null,null,null,null,0,0,0,0,0,0,0,0,0,0,0,0,0,3,0,5,0,77,99999999999999,0,1,0,0,0,0,0,0,0,6,0,0,0,0,0,0,0,0,0,0,0,0,11,0,0,0,0,0,0,0,0,0,0,0,10,0,0,0,0,0,0,0,0,0,0,9,0,0,0,0,0,0,0,0,0,8,0,0,0,0,0,0,0,0,0,1,0,1,9999,0,0,"",""]
[null,{"$f":"INSCRIPCIÓN!B85","v":""},{"$f":"IF(INSCRIPCIÓN!D85=\"\",\"\",INSCRIPCIÓN!D85)","v":""},{"$f":"IF(INSCRIPCIÓN!C85=\"\",\"\",INSCRIPCIÓN!C85)","v":""},{"$f":"IF(INSCRIPCIÓN!E85=\"\",\"\",INSCRIPCIÓN!E85)","v":""},{"$f":"IF(INSCRIPCIÓN!F85=\"\",\"\",INSCRIPCIÓN!F85)","v":""},{"$f":"IF(INSCRIPCIÓN!G85=\"\",\"\",INSCRIPCIÓN!G85)","v":""},null,null,null,null,null,null,0,0,0,0,0,0,0,0,0,0,0,0,0,3,0,5,0,78,99999999999999,0,1,0,0,0,0,0,0,0,6,0,0,0,0,0,0,0,0,0,0,0,0,11,0,0,0,0,0,0,0,0,0,0,0,10,0,0,0,0,0,0,0,0,0,0,9,0,0,0,0,0,0,0,0,0,8,0,0,0,0,0,0,0,0,0,1,0,1,9999,0,0,"",""]
[null,{"$f":"INSCRIPCIÓN!B86","v":""},{"$f":"IF(INSCRIPCIÓN!D86=\"\",\"\",INSCRIPCIÓN!D86)","v":""},{"$f":"IF(INSCRIPCIÓN!C86=\"\",\"\",INSCRIPCIÓN!C86)","v":""},{"$f":"IF(INSCRIPCIÓN!E86=\"\",\"\",INSCRIPCIÓN!E86)","v":""},{"$f":"IF(INSCRIPCIÓN!F86=\"\",\"\",INSCRIPCIÓN!F86)","v":""},{"$f":"IF(INSCRIPCIÓN!G86=\"\",\"\",INSCRIPCIÓN!G86)","v":""},null,null,null,null,null,null,0,0,0,0,0,0,0,0,0,0,0,0,0,3,0,5,0,79,99999999999999,0,1,0,0,0,0,0,0,0,6,0,0,0,0,0,0,0,0,0,0,0,0,11,0,0,0,0,0,0,0,0,0,0,0,10,0,0,0,0,0,0,0,0,0,0,9,0,0,0,0,0,0,0,0,0,8,0,0,0,0,0,0,0,0,0,1,0,1,9999,0,0,"",""]
[null,{"$f":"INSCRIPCIÓN!B87","v":""},{"$f":"IF(INSCRIPCIÓN!D87=\"\",\"\",INSCRIPCIÓN!D87)","v":""},{"$f":"IF(INSCRIPCIÓN!C87=\"\",\"\",INSCRIPCIÓN!C87)","v":""},{"$f":"IF(INSCRIPCIÓN!E87=\"\",\"\",INSCRIPCIÓN!E87)","v":""},{"$f":"IF(INSCRIPCIÓN!F87=\"\",\"\",INSCRIPCIÓN!F87)","v":""},{"$f":"IF(INSCRIPCIÓN!G87=\"\",\"\",INSCRIPCIÓN!G87)","v":""},null,null,null,null,null,null,0,0,0,0,0,0,0,0,0,0,0,0,0,3,0,5,0,80,99999999999999,0,1,0,0,0,0,0,0,0,6,0,0,0,0,0,0,0,0,0,0,0,0,11,0,0,0,0,0,0,0,0,0,0,0,10,0,0,0,0,0,0,0,0,0,0,9,0,0,0,0,0,0,0,0,0,8,0,0,0,0,0,0,0,0,0,1,0,1,9999,0,0,"",""]
[null,{"$f":"INSCRIPCIÓN!B88","v":""},{"$f":"IF(INSCRIPCIÓN!D88=\"\",\"\",INSCRIPCIÓN!D88)","v":""},{"$f":"IF(INSCRIPCIÓN!C88=\"\",\"\",INSCRIPCIÓN!C88)","v":""},{"$f":"IF(INSCRIPCIÓN!E88=\"\",\"\",INSCRIPCIÓN!E88)","v":""},{"$f":"IF(INSCRIPCIÓN!F88=\"\",\"\",INSCRIPCIÓN!F88)","v":""},{"$f":"IF(INSCRIPCIÓN!G88=\"\",\"\",INSCRIPCIÓN!G88)","v":""},null,null,null,null,null,null,0,0,0,0,0,0,0,0,0,0,0,0,0,3,0,5,0,81,99999999999999,0,1,0,0,0,0,0,0,0,6,0,0,0,0,0,0,0,0,0,0,0,0,11,0,0,0,0,0,0,0,0,0,0,0,10,0,0,0,0,0,0,0,0,0,0,9,0,0,0,0,0,0,0,0,0,8,0,0,0,0,0,0,0,0,0,1,0,1,9999,0,0,"",""]
[null,{"$f":"INSCRIPCIÓN!B89","v":""},{"$f":"IF(INSCRIPCIÓN!D89=\"\",\"\",INSCRIPCIÓN!D89)","v":""},{"$f":"IF(INSCRIPCIÓN!C89=\"\",\"\",INSCRIPCIÓN!C89)","v":""},{"$f":"IF(INSCRIPCIÓN!E89=\"\",\"\",INSCRIPCIÓN!E89)","v":""},{"$f":"IF(INSCRIPCIÓN!F89=\"\",\"\",INSCRIPCIÓN!F89)","v":""},{"$f":"IF(INSCRIPCIÓN!G89=\"\",\"\",INSCRIPCIÓN!G89)","v":""},null,null,null,null,null,null,0,0,0,0,0,0,0,0,0,0,0,0,0,3,0,5,0,82,99999999999999,0,1,0,0,0,0,0,0,0,6,0,0,0,0,0,0,0,0,0,0,0,0,11,0,0,0,0,0,0,0,0,0,0,0,10,0,0,0,0,0,0,0,0,0,0,9,0,0,0,0,0,0,0,0,0,8,0,0,0,0,0,0,0,0,0,1,0,1,9999,0,0,"",""]
[null,{"$f":"INSCRIPCIÓN!B90","v":""},{"$f":"IF(INSCRIPCIÓN!D90=\"\",\"\",INSCRIPCIÓN!D90)","v":""},{"$f":"IF(INSCRIPCIÓN!C90=\"\",\"\",INSCRIPCIÓN!C90)","v":""},{"$f":"IF(INSCRIPCIÓN!E90=\"\",\"\",INSCRIPCIÓN!E90)","v":""},{"$f":"IF(INSCRIPCIÓN!F90=\"\",\"\",INSCRIPCIÓN!F90)","v":""},{"$f":"IF(INSCRIPCIÓN!G90=\"\",\"\",INSCRIPCIÓN!G90)","v":""},null,null,null,null,null,null,0,0,0,0,0,0,0,0,0,0,0,0,0,3,0,5,0,83,99999999999999,0,1,0,0,0,0,0,0,0,6,0,0,0,0,0,0,0,0,0,0,0,0,11,0,0,0,0,0,0,0,0,0,0,0,10,0,0,0,0,0,0,0,0,0,0,9,0,0,0,0,0,0,0,0,0,8,0,0,0,0,0,0,0,0,0,1,0,1,9999,0,0,"",""]
[null,{"$f":"INSCRIPCIÓN!B91","v":""},{"$f":"IF(INSCRIPCIÓN!D91=\"\",\"\",INSCRIPCIÓN!D91)","v":""},{"$f":"IF(INSCRIPCIÓN!C91=\"\",\"\",INSCRIPCIÓN!C91)","v":""},{"$f":"IF(INSCRIPCIÓN!E91=\"\",\"\",INSCRIPCIÓN!E91)","v":""},{"$f":"IF(INSCRIPCIÓN!F91=\"\",\"\",INSCRIPCIÓN!F91)","v":""},{"$f":"IF(INSCRIPCIÓN!G91=\"\",\"\",INSCRIPCIÓN!G91)","v":""},null,null,null,null,null,null,0,0,0,0,0,0,0,0,0,0,0,0,0,3,0,5,0,84,99999999999999,0,1,0,0,0,0,0,0,0,6,0,0,0,0,0,0,0,0,0,0,0,0,11,0,0,0,0,0,0,0,0,0,0,0,10,0,0,0,0,0,0,0,0,0,0,9,0,0,0,0,0,0,0,0,0,8,0,0,0,0,0,0,0,0,0,1,0,1,9999,0,0,"",""]
[null,{"$f":"INSCRIPCIÓN!B92","v":""},{"$f":"IF(INSCRIPCIÓN!D92=\"\",\"\",INSCRIPCIÓN!D92)","v":""},{"$f":"IF(INSCRIPCIÓN!C92=\"\",\"\",INSCRIPCIÓN!C92)","v":""},{"$f":"IF(INSCRIPCIÓN!E92=\"\",\"\",INSCRIPCIÓN!E92)","v":""},{"$f":"IF(INSCRIPCIÓN!F92=\"\",\"\",INSCRIPCIÓN!F92)","v":""},{"$f":"IF(INSCRIPCIÓN!G92=\"\",\"\",INSCRIPCIÓN!G92)","v":""},null,null,null,null,null,null,0,0,0,0,0,0,0,0,0,0,0,0,0,3,0,5,0,85,99999999999999,0,1,0,0,0,0,0,0,0,6,0,0,0,0,0,0,0,0,0,0,0,0,11,0,0,0,0,0,0,0,0,0,0,0,10,0,0,0,0,0,0,0,0,0,0,9,0,0,0,0,0,0,0,0,0,8,0,0,0,0,0,0,0,0,0,1,0,1,9999,0,0,"",""]
[null,{"$f":"INSCRIPCIÓN!B93","v":""},{"$f":"IF(INSCRIPCIÓN!D93=\"\",\"\",INSCRIPCIÓN!D93)","v":""},{"$f":"IF(INSCRIPCIÓN!C93=\"\",\"\",INSCRIPCIÓN!C93)","v":""},{"$f":"IF(INSCRIPCIÓN!E93=\"\",\"\",INSCRIPCIÓN!E93)","v":""},{"$f":"IF(INSCRIPCIÓN!F93=\"\",\"\",INSCRIPCIÓN!F93)","v":""},{"$f":"IF(INSCRIPCIÓN!G93=\"\",\"\",INSCRIPCIÓN!G93)","v":""},null,null,null,null,null,null,0,0,0,0,0,0,0,0,0,0,0,0,0,3,0,5,0,86,99999999999999,0,1,0,0,0,0,0,0,0,6,0,0,0,0,0,0,0,0,0,0,0,0,11,0,0,0,0,0,0,0,0,0,0,0,10,0,0,0,0,0,0,0,0,0,0,9,0,0,0,0,0,0,0,0,0,8,0,0,0,0,0,0,0,0,0,1,0,1,9999,0,0,"",""]
[null,{"$f":"INSCRIPCIÓN!B94","v":""},{"$f":"IF(INSCRIPCIÓN!D94=\"\",\"\",INSCRIPCIÓN!D94)","v":""},{"$f":"IF(INSCRIPCIÓN!C94=\"\",\"\",INSCRIPCIÓN!C94)","v":""},{"$f":"IF(INSCRIPCIÓN!E94=\"\",\"\",INSCRIPCIÓN!E94)","v":""},{"$f":"IF(INSCRIPCIÓN!F94=\"\",\"\",INSCRIPCIÓN!F94)","v":""},{"$f":"IF(INSCRIPCIÓN!G94=\"\",\"\",INSCRIPCIÓN!G94)","v":""},null,null,null,null,null,null,0,0,0,0,0,0,0,0,0,0,0,0,0,3,0,5,0,87,99999999999999,0,1,0,0,0,0,0,0,0,6,0,0,0,0,0,0,0,0,0,0,0,0,11,0,0,0,0,0,0,0,0,0,0,0,10,0,0,0,0,0,0,0,0,0,0,9,0,0,0,0,0,0,0,0,0,8,0,0,0,0,0,0,0,0,0,1,0,1,9999,0,0,"",""]
[null,{"$f":"INSCRIPCIÓN!B95","v":""},{"$f":"IF(INSCRIPCIÓN!D95=\"\",\"\",INSCRIPCIÓN!D95)","v":""},{"$f":"IF(INSCRIPCIÓN!C95=\"\",\"\",INSCRIPCIÓN!C95)","v":""},{"$f":"IF(INSCRIPCIÓN!E95=\"\",\"\",INSCRIPCIÓN!E95)","v":""},{"$f":"IF(INSCRIPCIÓN!F95=\"\",\"\",INSCRIPCIÓN!F95)","v":""},{"$f":"IF(INSCRIPCIÓN!G95=\"\",\"\",INSCRIPCIÓN!G95)","v":""},null,null,null,null,null,null,0,0,0,0,0,0,0,0,0,0,0,0,0,3,0,5,0,88,99999999999999,0,1,0,0,0,0,0,0,0,6,0,0,0,0,0,0,0,0,0,0,0,0,11,0,0,0,0,0,0,0,0,0,0,0,10,0,0,0,0,0,0,0,0,0,0,9,0,0,0,0,0,0,0,0,0,8,0,0,0,0,0,0,0,0,0,1,0,1,9999,0,0,"",""]
[null,{"$f":"INSCRIPCIÓN!B96","v":""},{"$f":"IF(INSCRIPCIÓN!D96=\"\",\"\",INSCRIPCIÓN!D96)","v":""},{"$f":"IF(INSCRIPCIÓN!C96=\"\",\"\",INSCRIPCIÓN!C96)","v":""},{"$f":"IF(INSCRIPCIÓN!E96=\"\",\"\",INSCRIPCIÓN!E96)","v":""},{"$f":"IF(INSCRIPCIÓN!F96=\"\",\"\",INSCRIPCIÓN!F96)","v":""},{"$f":"IF(INSCRIPCIÓN!G96=\"\",\"\",INSCRIPCIÓN!G96)","v":""},null,null,null,null,null,null,0,0,0,0,0,0,0,0,0,0,0,0,0,3,0,5,0,89,99999999999999,0,1,0,0,0,0,0,0,0,6,0,0,0,0,0,0,0,0,0,0,0,0,11,0,0,0,0,0,0,0,0,0,0,0,10,0,0,0,0,0,0,0,0,0,0,9,0,0,0,0,0,0,0,0,0,8,0,0,0,0,0,0,0,0,0,1,0,1,9999,0,0,"",""]
[null,{"$f":"INSCRIPCIÓN!B97","v":""},{"$f":"IF(INSCRIPCIÓN!D97=\"\",\"\",INSCRIPCIÓN!D97)","v":""},{"$f":"IF(INSCRIPCIÓN!C97=\"\",\"\",INSCRIPCIÓN!C97)","v":""},{"$f":"IF(INSCRIPCIÓN!E97=\"\",\"\",INSCRIPCIÓN!E97)","v":""},{"$f":"IF(INSCRIPCIÓN!F97=\"\",\"\",INSCRIPCIÓN!F97)","v":""},{"$f":"IF(INSCRIPCIÓN!G97=\"\",\"\",INSCRIPCIÓN!G97)","v":""},null,null,null,null,null,null,0,0,0,0,0,0,0,0,0,0,0,0,0,3,0,5,0,90,99999999999999,0,1,0,0,0,0,0,0,0,6,0,0,0,0,0,0,0,0,0,0,0,0,11,0,0,0,0,0,0,0,0,0,0,0,10,0,0,0,0,0,0,0,0,0,0,9,0,0,0,0,0,0,0,0,0,8,0,0,0,0,0,0,0,0,0,1,0,1,9999,0,0,"",""]
[null,{"$f":"INSCRIPCIÓN!B98","v":""},{"$f":"IF(INSCRIPCIÓN!D98=\"\",\"\",INSCRIPCIÓN!D98)","v":""},{"$f":"IF(INSCRIPCIÓN!C98=\"\",\"\",INSCRIPCIÓN!C98)","v":""},{"$f":"IF(INSCRIPCIÓN!E98=\"\",\"\",INSCRIPCIÓN!E98)","v":""},{"$f":"IF(INSCRIPCIÓN!F98=\"\",\"\",INSCRIPCIÓN!F98)","v":""},{"$f":"IF(INSCRIPCIÓN!G98=\"\",\"\",INSCRIPCIÓN!G98)","v":""},null,null,null,null,null,null,0,0,0,0,0,0,0,0,0,0,0,0,0,3,0,5,0,91,99999999999999,0,1,0,0,0,0,0,0,0,6,0,0,0,0,0,0,0,0,0,0,0,0,11,0,0,0,0,0,0,0,0,0,0,0,10,0,0,0,0,0,0,0,0,0,0,9,0,0,0,0,0,0,0,0,0,8,0,0,0,0,0,0,0,0,0,1,0,1,9999,0,0,"",""]
[null,{"$f":"INSCRIPCIÓN!B99","v":""},{"$f":"IF(INSCRIPCIÓN!D99=\"\",\"\",INSCRIPCIÓN!D99)","v":""},{"$f":"IF(INSCRIPCIÓN!C99=\"\",\"\",INSCRIPCIÓN!C99)","v":""},{"$f":"IF(INSCRIPCIÓN!E99=\"\",\"\",INSCRIPCIÓN!E99)","v":""},{"$f":"IF(INSCRIPCIÓN!F99=\"\",\"\",INSCRIPCIÓN!F99)","v":""},{"$f":"IF(INSCRIPCIÓN!G99=\"\",\"\",INSCRIPCIÓN!G99)","v":""},null,null,null,null,null,null,0,0,0,0,0,0,0,0,0,0,0,0,0,3,0,5,0,92,99999999999999,0,1,0,0,0,0,0,0,0,6,0,0,0,0,0,0,0,0,0,0,0,0,11,0,0,0,0,0,0,0,0,0,0,0,10,0,0,0,0,0,0,0,0,0,0,9,0,0,0,0,0,0,0,0,0,8,0,0,0,0,0,0,0,0,0,1,0,1,9999,0,0,"",""]
[null,{"$f":"INSCRIPCIÓN!B100","v":""},{"$f":"IF(INSCRIPCIÓN!D100=\"\",\"\",INSCRIPCIÓN!D100)","v":""},{"$f":"IF(INSCRIPCIÓN!C100=\"\",\"\",INSCRIPCIÓN!C100)","v":""},{"$f":"IF(INSCRIPCIÓN!E100=\"\",\"\",INSCRIPCIÓN!E100)","v":""},{"$f":"IF(INSCRIPCIÓN!F100=\"\",\"\",INSCRIPCIÓN!F100)","v":""},{"$f":"IF(INSCRIPCIÓN!G100=\"\",\"\",INSCRIPCIÓN!G100)","v":""},null,null,null,null,null,null,0,0,0,0,0,0,0,0,0,0,0,0,0,3,0,5,0,93,99999999999999,0,1,0,0,0,0,0,0,0,6,0,0,0,0,0,0,0,0,0,0,0,0,11,0,0,0,0,0,0,0,0,0,0,0,10,0,0,0,0,0,0,0,0,0,0,9,0,0,0,0,0,0,0,0,0,8,0,0,0,0,0,0,0,0,0,1,0,1,9999,0,0,"",""]
[null,{"$f":"INSCRIPCIÓN!B101","v":""},{"$f":"IF(INSCRIPCIÓN!D101=\"\",\"\",INSCRIPCIÓN!D101)","v":""},{"$f":"IF(INSCRIPCIÓN!C101=\"\",\"\",INSCRIPCIÓN!C101)","v":""},{"$f":"IF(INSCRIPCIÓN!E101=\"\",\"\",INSCRIPCIÓN!E101)","v":""},{"$f":"IF(INSCRIPCIÓN!F101=\"\",\"\",INSCRIPCIÓN!F101)","v":""},{"$f":"IF(INSCRIPCIÓN!G101=\"\",\"\",INSCRIPCIÓN!G101)","v":""},null,null,null,null,null,null,0,0,0,0,0,0,0,0,0,0,0,0,0,3,0,5,0,94,99999999999999,0,1,0,0,0,0,0,0,0,6,0,0,0,0,0,0,0,0,0,0,0,0,11,0,0,0,0,0,0,0,0,0,0,0,10,0,0,0,0,0,0,0,0,0,0,9,0,0,0,0,0,0,0,0,0,8,0,0,0,0,0,0,0,0,0,1,0,1,9999,0,0,"",""]
[null,{"$f":"INSCRIPCIÓN!B102","v":""},{"$f":"IF(INSCRIPCIÓN!D102=\"\",\"\",INSCRIPCIÓN!D102)","v":""},{"$f":"IF(INSCRIPCIÓN!C102=\"\",\"\",INSCRIPCIÓN!C102)","v":""},{"$f":"IF(INSCRIPCIÓN!E102=\"\",\"\",INSCRIPCIÓN!E102)","v":""},{"$f":"IF(INSCRIPCIÓN!F102=\"\",\"\",INSCRIPCIÓN!F102)","v":""},{"$f":"IF(INSCRIPCIÓN!G102=\"\",\"\",INSCRIPCIÓN!G102)","v":""},null,null,null,null,null,null,0,0,0,0,0,0,0,0,0,0,0,0,0,3,0,5,0,95,99999999999999,0,1,0,0,0,0,0,0,0,6,0,0,0,0,0,0,0,0,0,0,0,0,11,0,0,0,0,0,0,0,0,0,0,0,10,0,0,0,0,0,0,0,0,0,0,9,0,0,0,0,0,0,0,0,0,8,0,0,0,0,0,0,0,0,0,1,0,1,9999,0,0,"",""]
[null,{"$f":"INSCRIPCIÓN!B103","v":""},{"$f":"IF(INSCRIPCIÓN!D103=\"\",\"\",INSCRIPCIÓN!D103)","v":""},{"$f":"IF(INSCRIPCIÓN!C103=\"\",\"\",INSCRIPCIÓN!C103)","v":""},{"$f":"IF(INSCRIPCIÓN!E103=\"\",\"\",INSCRIPCIÓN!E103)","v":""},{"$f":"IF(INSCRIPCIÓN!F103=\"\",\"\",INSCRIPCIÓN!F103)","v":""},{"$f":"IF(INSCRIPCIÓN!G103=\"\",\"\",INSCRIPCIÓN!G103)","v":""},null,null,null,null,null,null,0,0,0,0,0,0,0,0,0,0,0,0,0,3,0,5,0,96,99999999999999,0,1,0,0,0,0,0,0,0,6,0,0,0,0,0,0,0,0,0,0,0,0,11,0,0,0,0,0,0,0,0,0,0,0,10,0,0,0,0,0,0,0,0,0,0,9,0,0,0,0,0,0,0,0,0,8,0,0,0,0,0,0,0,0,0,1,0,1,9999,0,0,"",""]
[null,{"$f":"INSCRIPCIÓN!B104","v":""},{"$f":"IF(INSCRIPCIÓN!D104=\"\",\"\",INSCRIPCIÓN!D104)","v":""},{"$f":"IF(INSCRIPCIÓN!C104=\"\",\"\",INSCRIPCIÓN!C104)","v":""},{"$f":"IF(INSCRIPCIÓN!E104=\"\",\"\",INSCRIPCIÓN!E104)","v":""},{"$f":"IF(INSCRIPCIÓN!F104=\"\",\"\",INSCRIPCIÓN!F104)","v":""},{"$f":"IF(INSCRIPCIÓN!G104=\"\",\"\",INSCRIPCIÓN!G104)","v":""},null,null,null,null,null,null,0,0,0,0,0,0,0,0,0,0,0,0,0,{"$f":"COUNTIF(N100:P100,Z100)","v":3},0,{"$f":"COUNTIF(Q100:U100,AB100)","v":5},0,97,{"$f":"IF(CX100=1,IF(CY100=1,IF(AH100>8,99990000000000+AH100,Z100*10^10+AB100*10^6+AD100*10^2+AE100),IF(MAX($B$4:$B$102)<9,Z100*10^10+AB100*10^6+AD100*10^2+AE100,99999999000000)),99999999999999)","v":99999999999999},0,{"$f":"IF(AG100<100,IF(MAX($B$4:$B$102)<9,VLOOKUP(AG100,TRESPRIMERAS,3),VLOOKUP(AG100,TRESPRIMERAS,3)+10),VLOOKUP(AG100,TRESPRIMERAS,3))","v":1},0,0,0,0,0,0,{"$f":"MAX(AI100:AN100)","v":0},{"$f":"COUNTIF(AI100:AN100,AO100)","v":6},0,0,0,0,0,0,0,0,0,0,0,{"$f":"MAX(AQ100:BA100)","v":0},{"$f":"COUNTIF(AQ100:BA100,BB100)","v":11},0,0,0,0,0,0,0,0,0,0,{"$f":"MAX(BD100:BM100)","v":0},{"$f":"COUNTIF(BD100:BM100,BN100)","v":10},0,0,0,0,0,0,0,0,0,{"$f":"MAX(BP100:BX100)","v":0},{"$f":"COUNTIF(BP100:BX100,BY100)","v":9},0,0,0,0,0,0,0,0,{"$f":"MAX(CA100:CH100)","v":0},{"$f":"COUNTIF(CA100:CH100,CI100)","v":8},0,0,0,0,0,0,0,{"$f":"MAX(CK100:CQ100)","v":0},0,{"$f":"VLOOKUP(CS100,PRIMERAS,3)","v":1},0,{"$f":"VLOOKUP(CU100,SEGUNDAS,3)","v":1},{"$f":"IF(CX100=1,CT100*10^2+CV100,9999)","v":9999},0,0,"",""]
[null,{"$f":"INSCRIPCIÓN!B105","v":""},{"$f":"IF(INSCRIPCIÓN!D105=\"\",\"\",INSCRIPCIÓN!D105)","v":""},{"$f":"IF(INSCRIPCIÓN!C105=\"\",\"\",INSCRIPCIÓN!C105)","v":""},{"$f":"IF(INSCRIPCIÓN!E105=\"\",\"\",INSCRIPCIÓN!E105)","v":""},{"$f":"IF(INSCRIPCIÓN!F105=\"\",\"\",INSCRIPCIÓN!F105)","v":""},{"$f":"IF(INSCRIPCIÓN!G105=\"\",\"\",INSCRIPCIÓN!G105)","v":""},null,null,null,null,null,null,0,0,0,0,0,0,0,0,0,0,0,0,0,3,0,5,0,98,99999999999999,0,1,0,0,0,0,0,0,0,6,0,0,0,0,0,0,0,0,0,0,0,0,11,0,0,0,0,0,0,0,0,0,0,0,10,0,0,0,0,0,0,0,0,0,0,9,0,0,0,0,0,0,0,0,0,8,0,0,0,0,0,0,0,0,0,1,0,1,9999,0,0,"",""]
[null,{"$f":"INSCRIPCIÓN!B106","v":""},{"$f":"IF(INSCRIPCIÓN!D106=\"\",\"\",INSCRIPCIÓN!D106)","v":""},{"$f":"IF(INSCRIPCIÓN!C106=\"\",\"\",INSCRIPCIÓN!C106)","v":""},{"$f":"IF(INSCRIPCIÓN!E106=\"\",\"\",INSCRIPCIÓN!E106)","v":""},{"$f":"IF(INSCRIPCIÓN!F106=\"\",\"\",INSCRIPCIÓN!F106)","v":""},{"$f":"IF(INSCRIPCIÓN!G106=\"\",\"\",INSCRIPCIÓN!G106)","v":""},null,null,null,null,null,null,0,0,0,0,0,0,0,0,0,0,0,0,0,3,0,5,0,99,99999999999999,0,1,0,0,0,0,0,0,0,6,0,0,0,0,0,0,0,0,0,0,0,0,11,0,0,0,0,0,0,0,0,0,0,0,10,0,0,0,0,0,0,0,0,0,0,9,0,0,0,0,0,0,0,0,0,8,0,0,0,0,0,0,0,0,0,1,0,1,9999,0,0,"",""]

{"sheet":"CÁLCULOS","index":2,"n_rows":412,"n_cols":103,"rows_kept":412,"cut":false,"hidden":true,"merged":[[207,100,207,102],[1,100,1,102],[104,100,104,102],[310,100,310,102]]}
[null,"TRES MEJORES MARCAS"]
[null,1,{"$f":"B2+1","v":2},3,4,5,6,7,8,9,10,11,12,13,14,15,16,{"$f":"Q2+1","v":17},{"$f":"R2+1","v":18},{"$f":"S2+1","v":19},{"$f":"T2+1","v":20},{"$f":"U2+1","v":21},{"$f":"V2+1","v":22},{"$f":"W2+1","v":23},{"$f":"X2+1","v":24},{"$f":"Y2+1","v":25},{"$f":"Z2+1","v":26},{"$f":"AA2+1","v":27},{"$f":"AB2+1","v":28},{"$f":"AC2+1","v":29},{"$f":"AD2+1","v":30},{"$f":"AE2+1","v":31},{"$f":"AF2+1","v":32},{"$f":"AG2+1","v":33},{"$f":"AH2+1","v":34},{"$f":"AI2+1","v":35},{"$f":"AJ2+1","v":36},{"$f":"AK2+1","v":37},{"$f":"AL2+1","v":38},{"$f":"AM2+1","v":39},{"$f":"AN2+1","v":40},{"$f":"AO2+1","v":41},{"$f":"AP2+1","v":42},{"$f":"AQ2+1","v":43},{"$f":"AR2+1","v":44},{"$f":"AS2+1","v":45},{"$f":"AT2+1","v":46},{"$f":"AU2+1","v":47},{"$f":"AV2+1","v":48},{"$f":"AW2+1","v":49},{"$f":"AX2+1","v":50},{"$f":"AY2+1","v":51},{"$f":"AZ2+1","v":52},{"$f":"BA2+1","v":53},{"$f":"BB2+1","v":54},{"$f":"BC2+1","v":55},{"$f":"BD2+1","v":56},{"$f":"BE2+1","v":57},{"$f":"BF2+1","v":58},{"$f":"BG2+1","v":59},{"$f":"BH2+1","v":60},{"$f":"BI2+1","v":61},{"$f":"BJ2+1","v":62},{"$f":"BK2+1","v":63},{"$f":"BL2+1","v":64},{"$f":"BM2+1","v":65},{"$f":"BN2+1","v":66},{"$f":"BO2+1","v":67},{"$f":"BP2+1","v":68},{"$f":"BQ2+1","v":69},{"$f":"BR2+1","v":70},{"$f":"BS2+1","v":71},{"$f":"BT2+1","v":72},{"$f":"BU2+1","v":73},{"$f":"BV2+1","v":74},{"$f":"BW2+1","v":75},{"$f":"BX2+1","v":76},{"$f":"BY2+1","v":77},{"$f":"BZ2+1","v":78},{"$f":"CA2+1","v":79},{"$f":"CB2+1","v":80},{"$f":"CC2+1","v":81},{"$f":"CD2+1","v":82},{"$f":"CE2+1","v":83},{"$f":"CF2+1","v":84},{"$f":"CG2+1","v":85},{"$f":"CH2+1","v":86},{"$f":"CI2+1","v":87},{"$f":"CJ2+1","v":88},{"$f":"CK2+1","v":89},{"$f":"CL2+1","v":90},{"$f":"CM2+1","v":91},{"$f":"CN2+1","v":92},{"$f":"CO2+1","v":93},{"$f":"CP2+1","v":94},{"$f":"CQ2+1","v":95},{"$f":"CR2+1","v":96},{"$f":"CS2+1","v":97},{"$f":"CT2+1","v":98},{"$f":"CU2+1","v":99},"MÓDULO CLASIFICACIÓN - Primeras"]
[1,{"$f":"'RECOGIDA DATOS'!CS4","v":0},{"$f":"IF(B3=B102,0,B3)","v":0},0,0,0,0,0,0,0,0,0,0,0,0,0,0,0,0,0,0,0,0,0,0,0,0,0,0,0,0,0,0,0,{"$f":"IF(AH3=AH102,0,AH3)","v":0},0,0,0,0,0,0,0,0,0,0,0,0,0,0,0,0,0,0,0,0,0,0,0,0,0,0,0,0,0,0,0,{"$f":"IF(BN3=BN102,0,BN3)","v":0},0,0,0,0,0,0,0,0,0,0,0,0,0,0,0,0,0,0,0,0,0,0,0,0,0,0,0,0,0,0,0,0,0,{"$f":"CV102","v":0},{"$f":"CV103","v":0},{"$f":"CX4+CY4","v":1}]
[2,{"$f":"'RECOGIDA DATOS'!CS5","v":0},{"$f":"IF(B4=B102,0,B4)","v":0},0,0,0,0,0,0,0,0,0,0,0,0,0,0,0,0,0,0,0,0,0,0,0,0,0,0,0,0,0,0,0,{"$f":"IF(AH4=AH102,0,AH4)","v":0},0,0,0,0,0,0,0,0,0,0,0,0,0,0,0,0,0,0,0,0,0,0,0,0,0,0,0,0,0,0,0,{"$f":"IF(BN4=BN102,0,BN4)","v":0},0,0,0,0,0,0,0,0,0,0,0,0,0,0,0,0,0,0,0,0,0,0,0,0,0,0,0,0,0,0,0,0,0,{"$f":"CU102","v":0},{"$f":"CU103","v":0},1]
[3,{"$f":"'RECOGIDA DATOS'!CS6","v":0},{"$f":"IF(B5=B102,0,B5)","v":0},0,0,0,0,0,0,0,0,0,0,0,0,0,0,0,0,0,0,0,0,0,0,0,0,0,0,0,0,0,0,0,{"$f":"IF(AH5=AH102,0,AH5)","v":0},0,0,0,0,0,0,0,0,0,0,0,0,0,0,0,0,0,0,0,0,0,0,0,0,0,0,0,0,0,0,0,{"$f":"IF(BN5=BN102,0,BN5)","v":0},0,0,0,0,0,0,0,0,0,0,0,0,0,0,0,0,0,0,0,0,0,0,0,0,0,0,0,0,0,0,0,0,0,{"$f":"CT102","v":0},{"$f":"CT103","v":0},1]
[4,{"$f":"'RECOGIDA DATOS'!CS7","v":0},{"$f":"IF(B6=B102,0,B6)","v":0},0,0,0,0,0,0,0,0,0,0,0,0,0,0,0,0,0,0,0,0,0,0,0,0,0,0,0,0,0,0,0,{"$f":"IF(AH6=AH102,0,AH6)","v":0},0,0,0,0,0,0,0,0,0,0,0,0,0,0,0,0,0,0,0,0,0,0,0,0,0,0,0,0,0,0,0,{"$f":"IF(BN6=BN102,0,BN6)","v":0},0,0,0,0,0,0,0,0,0,0,0,0,0,0,0,0,0,0,0,0,0,0,0,0,0,0,0,0,0,0,0,0,0,{"$f":"CS102","v":0},{"$f":"CS103","v":0},1]
[5,{"$f":"'RECOGIDA DATOS'!CS8","v":0},{"$f":"IF(B7=B102,0,B7)","v":0},0,0,0,0,0,0,0,0,0,0,0,0,0,0,0,0,0,0,0,0,0,0,0,0,0,0,0,0,0,0,0,{"$f":"IF(AH7=AH102,0,AH7)","v":0},0,0,0,0,0,0,0,0,0,0,0,0,0,0,0,0,0,0,0,0,0,0,0,0,0,0,0,0,0,0,0,{"$f":"IF(BN7=BN102,0,BN7)","v":0},0,0,0,0,0,0,0,0,0,0,0,0,0,0,0,0,0,0,0,0,0,0,0,0,0,0,0,0,0,0,0,0,0,{"$f":"CR102","v":0},{"$f":"CR103","v":0},1]
[6,{"$f":"'RECOGIDA DATOS'!CS9","v":0},{"$f":"IF(B8=B102,0,B8)","v":0},0,0,0,0,0,0,0,0,0,0,0,0,0,0,0,0,0,0,0,0,0,0,0,0,0,0,0,0,0,0,0,{"$f":"IF(AH8=AH102,0,AH8)","v":0},0,0,0,0,0,0,0,0,0,0,0,0,0,0,0,0,0,0,0,0,0,0,0,0,0,0,0,0,0,0,0,{"$f":"IF(BN8=BN102,0,BN8)","v":0},0,0,0,0,0,0,0,0,0,0,0,0,0,0,0,0,0,0,0,0,0,0,0,0,0,0,0,0,0,0,0,0,0,{"$f":"CQ102","v":0},{"$f":"CQ103","v":0},1]
[7,{"$f":"'RECOGIDA DATOS'!CS10","v":0},{"$f":"IF(B9=B102,0,B9)","v":0},0,0,0,0,0,0,0,0,0,0,0,0,0,0,0,0,0,0,0,0,0,0,0,0,0,0,0,0,0,0,0,{"$f":"IF(AH9=AH102,0,AH9)","v":0},0,0,0,0,0,0,0,0,0,0,0,0,0,0,0,0,0,0,0,0,0,0,0,0,0,0,0,0,0,0,0,{"$f":"IF(BN9=BN102,0,BN9)","v":0},0,0,0,0,0,0,0,0,0,0,0,0,0,0,0,0,0,0,0,0,0,0,0,0,0,0,0,0,0,0,0,0,0,{"$f":"CP102","v":0},{"$f":"CP103","v":0},1]
[8,{"$f":"'RECOGIDA DATOS'!CS11","v":0},{"$f":"IF(B10=B102,0,B10)","v":0},0,0,0,0,0,0,0,0,0,0,0,0,0,0,0,0,0,0,0,0,0,0,0,0,0,0,0,0,0,0,0,{"$f":"IF(AH10=AH102,0,AH10)","v":0},0,0,0,0,0,0,0,0,0,0,0,0,0,0,0,0,0,0,0,0,0,0,0,0,0,0,0,0,0,0,0,{"$f":"IF(BN10=BN102,0,BN10)","v":0},0,0,0,0,0,0,0,0,0,0,0,0,0,0,0,0,0,0,0,0,0,0,0,0,0,0,0,0,0,0,0,0,0,{"$f":"CO102","v":0},{"$f":"CO103","v":0},1]
[9,{"$f":"'RECOGIDA DATOS'!CS12","v":0},{"$f":"IF(B11=B102,0,B11)","v":0},0,0,0,0,0,0,0,0,0,0,0,0,0,0,0,0,0,0,0,0,0,0,0,0,0,0,0,0,0,0,0,{"$f":"IF(AH11=AH102,0,AH11)","v":0},0,0,0,0,0,0,0,0,0,0,0,0,0,0,0,0,0,0,0,0,0,0,0,0,0,0,0,0,0,0,0,{"$f":"IF(BN11=BN102,0,BN11)","v":0},0,0,0,0,0,0,0,0,0,0,0,0,0,0,0,0,0,0,0,0,0,0,0,0,0,0,0,0,0,0,0,0,0,{"$f":"CN102","v":0},{"$f":"CN103","v":0},1]
[10,{"$f":"'RECOGIDA DATOS'!CS13","v":0},{"$f":"IF(B12=B102,0,B12)","v":0},0,0,0,0,0,0,0,0,0,0,0,0,0,0,0,0,0,0,0,0,0,0,0,0,0,0,0,0,0,0,0,{"$f":"IF(AH12=AH102,0,AH12)","v":0},0,0,0,0,0,0,0,0,0,0,0,0,0,0,0,0,0,0,0,0,0,0,0,0,0,0,0,0,0,0,0,{"$f":"IF(BN12=BN102,0,BN12)","v":0},0,0,0,0,0,0,0,0,0,0,0,0,0,0,0,0,0,0,0,0,0,0,0,0,0,0,0,0,0,0,0,0,0,{"$f":"CM102","v":0},{"$f":"CM103","v":0},1]
[11,{"$f":"'RECOGIDA DATOS'!CS14","v":0},{"$f":"IF(B13=B102,0,B13)","v":0},0,0,0,0,0,0,0,0,0,0,0,0,0,0,0,0,0,0,0,0,0,0,0,0,0,0,0,0,0,0,0,{"$f":"IF(AH13=AH102,0,AH13)","v":0},0,0,0,0,0,0,0,0,0,0,0,0,0,0,0,0,0,0,0,0,0,0,0,0,0,0,0,0,0,0,0,{"$f":"IF(BN13=BN102,0,BN13)","v":0},0,0,0,0,0,0,0,0,0,0,0,0,0,0,0,0,0,0,0,0,0,0,0,0,0,0,0,0,0,0,0,0,0,{"$f":"CL102","v":0},{"$f":"CL103","v":0},1]
[12,{"$f":"'RECOGIDA DATOS'!CS15","v":0},{"$f":"IF(B14=B102,0,B14)","v":0},0,0,0,0,0,0,0,0,0,0,0,0,0,0,0,0,0,0,0,0,0,0,0,0,0,0,0,0,0,0,0,{"$f":"IF(AH14=AH102,0,AH14)","v":0},0,0,0,0,0,0,0,0,0,0,0,0,0,0,0,0,0,0,0,0,0,0,0,0,0,0,0,0,0,0,0,{"$f":"IF(BN14=BN102,0,BN14)","v":0},0,0,0,0,0,0,0,0,0,0,0,0,0,0,0,0,0,0,0,0,0,0,0,0,0,0,0,0,0,0,0,0,0,{"$f":"CK102","v":0},{"$f":"CK103","v":0},1]
[13,{"$f":"'RECOGIDA DATOS'!CS16","v":0},{"$f":"IF(B15=B102,0,B15)","v":0},0,0,0,0,0,0,0,0,0,0,0,0,0,0,0,0,0,0,0,0,0,0,0,0,0,0,0,0,0,0,0,{"$f":"IF(AH15=AH102,0,AH15)","v":0},0,0,0,0,0,0,0,0,0,0,0,0,0,0,0,0,0,0,0,0,0,0,0,0,0,0,0,0,0,0,0,{"$f":"IF(BN15=BN102,0,BN15)","v":0},0,0,0,0,0,0,0,0,0,0,0,0,0,0,0,0,0,0,0,0,0,0,0,0,0,0,0,0,0,0,0,0,0,{"$f":"CJ102","v":0},{"$f":"CJ103","v":0},1]
[14,{"$f":"'RECOGIDA DATOS'!CS17","v":0},{"$f":"IF(B16=B102,0,B16)","v":0},0,0,0,0,0,0,0,0,0,0,0,0,0,0,0,0,0,0,0,0,0,0,0,0,0,0,0,0,0,0,0,{"$f":"IF(AH16=AH102,0,AH16)","v":0},0,0,0,0,0,0,0,0,0,0,0,0,0,0,0,0,0,0,0,0,0,0,0,0,0,0,0,0,0,0,0,{"$f":"IF(BN16=BN102,0,BN16)","v":0},0,0,0,0,0,0,0,0,0,0,0,0,0,0,0,0,0,0,0,0,0,0,0,0,0,0,0,0,0,0,0,0,0,{"$f":"CI102","v":0},{"$f":"CI103","v":0},1]
[15,{"$f":"'RECOGIDA DATOS'!CS18","v":0},{"$f":"IF(B17=B102,0,B17)","v":0},0,0,0,0,0,0,0,0,0,0,0,0,0,0,0,0,0,0,0,0,0,0,0,0,0,0,0,0,0,0,0,{"$f":"IF(AH17=AH102,0,AH17)","v":0},0,0,0,0,0,0,0,0,0,0,0,0,0,0,0,0,0,0,0,0,0,0,0,0,0,0,0,0,0,0,0,{"$f":"IF(BN17=BN102,0,BN17)","v":0},0,0,0,0,0,0,0,0,0,0,0,0,0,0,0,0,0,0,0,0,0,0,0,0,0,0,0,0,0,0,0,0,0,{"$f":"CH102","v":0},{"$f":"CH103","v":0},1]
[16,{"$f":"'RECOGIDA DATOS'!CS19","v":0},{"$f":"IF(B18=B102,0,B18)","v":0},0,0,0,0,0,0,0,0,0,0,0,0,0,0,0,0,0,0,0,0,0,0,0,0,0,0,0,0,0,0,0,{"$f":"IF(AH18=AH102,0,AH18)","v":0},0,0,0,0,0,0,0,0,0,0,0,0,0,0,0,0,0,0,0,0,0,0,0,0,0,0,0,0,0,0,0,{"$f":"IF(BN18=BN102,0,BN18)","v":0},0,0,0,0,0,0,0,0,0,0,0,0,0,0,0,0,0,0,0,0,0,0,0,0,0,0,0,0,0,0,0,0,0,{"$f":"CG102","v":0},{"$f":"CG103","v":0},1]
[17,{"$f":"'RECOGIDA DATOS'!CS20","v":0},{"$f":"IF(B19=B102,0,B19)","v":0},0,0,0,0,0,0,0,0,0,0,0,0,0,0,0,0,0,0,0,0,0,0,0,0,0,0,0,0,0,0,0,{"$f":"IF(AH19=AH102,0,AH19)","v":0},0,0,0,0,0,0,0,0,0,0,0,0,0,0,0,0,0,0,0,0,0,0,0,0,0,0,0,0,0,0,0,{"$f":"IF(BN19=BN102,0,BN19)","v":0},0,0,0,0,0,0,0,0,0,0,0,0,0,0,0,0,0,0,0,0,0,0,0,0,0,0,0,0,0,0,0,0,0,{"$f":"CF102","v":0},{"$f":"CF103","v":0},1]
[18,{"$f":"'RECOGIDA DATOS'!CS21","v":0},{"$f":"IF(B20=B102,0,B20)","v":0},0,0,0,0,0,0,0,0,0,0,0,0,0,0,0,0,0,0,0,0,0,0,0,0,0,0,0,0,0,0,0,{"$f":"IF(AH20=AH102,0,AH20)","v":0},0,0,0,0,0,0,0,0,0,0,0,0,0,0,0,0,0,0,0,0,0,0,0,0,0,0,0,0,0,0,0,{"$f":"IF(BN20=BN102,0,BN20)","v":0},0,0,0,0,0,0,0,0,0,0,0,0,0,0,0,0,0,0,0,0,0,0,0,0,0,0,0,0,0,0,0,0,0,{"$f":"CE102","v":0},{"$f":"CE103","v":0},1]
[19,{"$f":"'RECOGIDA DATOS'!CS22","v":0},{"$f":"IF(B21=B102,0,B21)","v":0},0,0,0,0,0,0,0,0,0,0,0,0,0,0,0,0,0,0,0,0,0,0,0,0,0,0,0,0,0,0,0,{"$f":"IF(AH21=AH102,0,AH21)","v":0},0,0,0,0,0,0,0,0,0,0,0,0,0,0,0,0,0,0,0,0,0,0,0,0,0,0,0,0,0,0,0,{"$f":"IF(BN21=BN102,0,BN21)","v":0},0,0,0,0,0,0,0,0,0,0,0,0,0,0,0,0,0,0,0,0,0,0,0,0,0,0,0,0,0,0,0,0,0,{"$f":"CD102","v":0},{"$f":"CD103","v":0},1]
[20,{"$f":"'RECOGIDA DATOS'!CS23","v":0},{"$f":"IF(B22=B102,0,B22)","v":0},0,0,0,0,0,0,0,0,0,0,0,0,0,0,0,0,0,0,0,0,0,0,0,0,0,0,0,0,0,0,0,{"$f":"IF(AH22=AH102,0,AH22)","v":0},0,0,0,0,0,0,0,0,0,0,0,0,0,0,0,0,0,0,0,0,0,0,0,0,0,0,0,0,0,0,0,{"$f":"IF(BN22=BN102,0,BN22)","v":0},0,0,0,0,0,0,0,0,0,0,0,0,0,0,0,0,0,0,0,0,0,0,0,0,0,0,0,0,0,0,0,0,0,{"$f":"CC102","v":0},{"$f":"CC103","v":0},1]
[21,{"$f":"'RECOGIDA DATOS'!CS24","v":0},{"$f":"IF(B23=B102,0,B23)","v":0},0,0,0,0,0,0,0,0,0,0,0,0,0,0,0,0,0,0,0,0,0,0,0,0,0,0,0,0,0,0,0,{"$f":"IF(AH23=AH102,0,AH23)","v":0},0,0,0,0,0,0,0,0,0,0,0,0,0,0,0,0,0,0,0,0,0,0,0,0,0,0,0,0,0,0,0,{"$f":"IF(BN23=BN102,0,BN23)","v":0},0,0,0,0,0,0,0,0,0,0,0,0,0,0,0,0,0,0,0,0,0,0,0,0,0,0,0,0,0,0,0,0,0,{"$f":"CB102","v":0},{"$f":"CB103","v":0},1]
[22,{"$f":"'RECOGIDA DATOS'!CS25","v":0},{"$f":"IF(B24=B102,0,B24)","v":0},0,0,0,0,0,0,0,0,0,0,0,0,0,0,0,0,0,0,0,0,0,0,0,0,0,0,0,0,0,0,0,{"$f":"IF(AH24=AH102,0,AH24)","v":0},0,0,0,0,0,0,0,0,0,0,0,0,0,0,0,0,0,0,0,0,0,0,0,0,0,0,0,0,0,0,0,{"$f":"IF(BN24=BN102,0,BN24)","v":0},0,0,0,0,0,0,0,0,0,0,0,0,0,0,0,0,0,0,0,0,0,0,0,0,0,0,0,0,0,0,0,0,0,{"$f":"CA102","v":0},{"$f":"CA103","v":0},1]
[23,{"$f":"'RECOGIDA DATOS'!CS26","v":0},{"$f":"IF(B25=B102,0,B25)","v":0},0,0,0,0,0,0,0,0,0,0,0,0,0,0,0,0,0,0,0,0,0,0,0,0,0,0,0,0,0,0,0,{"$f":"IF(AH25=AH102,0,AH25)","v":0},0,0,0,0,0,0,0,0,0,0,0,0,0,0,0,0,0,0,0,0,0,0,0,0,0,0,0,0,0,0,0,{"$f":"IF(BN25=BN102,0,BN25)","v":0},0,0,0,0,0,0,0,0,0,0,0,0,0,0,0,0,0,0,0,0,0,0,0,0,0,0,0,0,0,0,0,0,0,{"$f":"BZ102","v":0},{"$f":"BZ103","v":0},1]
[24,{"$f":"'RECOGIDA DATOS'!CS27","v":0},{"$f":"IF(B26=B102,0,B26)","v":0},0,0,0,0,0,0,0,0,0,0,0,0,0,0,0,0,0,0,0,0,0,0,0,0,0,0,0,0,0,0,0,{"$f":"IF(AH26=AH102,0,AH26)","v":0},0,0,0,0,0,0,0,0,0,0,0,0,0,0,0,0,0,0,0,0,0,0,0,0,0,0,0,0,0,0,0,{"$f":"IF(BN26=BN102,0,BN26)","v":0},0,0,0,0,0,0,0,0,0,0,0,0,0,0,0,0,0,0,0,0,0,0,0,0,0,0,0,0,0,0,0,0,0,{"$f":"BY102","v":0},{"$f":"BY103","v":0},1]
[25,{"$f":"'RECOGIDA DATOS'!CS28","v":0},{"$f":"IF(B27=B102,0,B27)","v":0},0,0,0,0,0,0,0,0,0,0,0,0,0,0,0,0,0,0,0,0,0,0,0,0,0,0,0,0,0,0,0,{"$f":"IF(AH27=AH102,0,AH27)","v":0},0,0,0,0,0,0,0,0,0,0,0,0,0,0,0,0,0,0,0,0,0,0,0,0,0,0,0,0,0,0,0,{"$f":"IF(BN27=BN102,0,BN27)","v":0},0,0,0,0,0,0,0,0,0,0,0,0,0,0,0,0,0,0,0,0,0,0,0,0,0,0,0,0,0,0,0,0,0,{"$f":"BX102","v":0},{"$f":"BX103","v":0},1]
[26,{"$f":"'RECOGIDA DATOS'!CS29","v":0},{"$f":"IF(B28=B102,0,B28)","v":0},0,0,0,0,0,0,0,0,0,0,0,0,0,0,0,0,0,0,0,0,0,0,0,0,0,0,0,0,0,0,0,{"$f":"IF(AH28=AH102,0,AH28)","v":0},0,0,0,0,0,0,0,0,0,0,0,0,0,0,0,0,0,0,0,0,0,0,0,0,0,0,0,0,0,0,0,{"$f":"IF(BN28=BN102,0,BN28)","v":0},0,0,0,0,0,0,0,0,0,0,0,0,0,0,0,0,0,0,0,0,0,0,0,0,0,0,0,0,0,0,0,0,0,{"$f":"BW102","v":0},{"$f":"BW103","v":0},1]
[27,{"$f":"'RECOGIDA DATOS'!CS30","v":0},{"$f":"IF(B29=B102,0,B29)","v":0},0,0,0,0,0,0,0,0,0,0,0,0,0,0,0,0,0,0,0,0,0,0,0,0,0,0,0,0,0,0,0,{"$f":"IF(AH29=AH102,0,AH29)","v":0},0,0,0,0,0,0,0,0,0,0,0,0,0,0,0,0,0,0,0,0,0,0,0,0,0,0,0,0,0,0,0,{"$f":"IF(BN29=BN102,0,BN29)","v":0},0,0,0,0,0,0,0,0,0,0,0,0,0,0,0,0,0,0,0,0,0,0,0,0,0,0,0,0,0,0,0,0,0,{"$f":"BV102","v":0},{"$f":"BV103","v":0},1]
[28,{"$f":"'RECOGIDA DATOS'!CS31","v":0},{"$f":"IF(B30=B102,0,B30)","v":0},0,0,0,0,0,0,0,0,0,0,0,0,0,0,0,0,0,0,0,0,0,0,0,0,0,0,0,0,0,0,0,{"$f":"IF(AH30=AH102,0,AH30)","v":0},0,0,0,0,0,0,0,0,0,0,0,0,0,0,0,0,0,0,0,0,0,0,0,0,0,0,0,0,0,0,0,{"$f":"IF(BN30=BN102,0,BN30)","v":0},0,0,0,0,0,0,0,0,0,0,0,0,0,0,0,0,0,0,0,0,0,0,0,0,0,0,0,0,0,0,0,0,0,{"$f":"BU102","v":0},{"$f":"BU103","v":0},1]
[29,{"$f":"'RECOGIDA DATOS'!CS32","v":0},{"$f":"IF(B31=B102,0,B31)","v":0},0,0,0,0,0,0,0,0,0,0,0,0,0,0,0,0,0,0,0,0,0,0,0,0,0,0,0,0,0,0,0,{"$f":"IF(AH31=AH102,0,AH31)","v":0},0,0,0,0,0,0,0,0,0,0,0,0,0,0,0,0,0,0,0,0,0,0,0,0,0,0,0,0,0,0,0,{"$f":"IF(BN31=BN102,0,BN31)","v":0},0,0,0,0,0,0,0,0,0,0,0,0,0,0,0,0,0,0,0,0,0,0,0,0,0,0,0,0,0,0,0,0,0,{"$f":"BT102","v":0},{"$f":"BT103","v":0},1]
[30,{"$f":"'RECOGIDA DATOS'!CS33","v":0},{"$f":"IF(B32=B102,0,B32)","v":0},0,0,0,0,0,0,0,0,0,0,0,0,0,0,0,0,0,0,0,0,0,0,0,0,0,0,0,0,0,0,0,{"$f":"IF(AH32=AH102,0,AH32)","v":0},0,0,0,0,0,0,0,0,0,0,0,0,0,0,0,0,0,0,0,0,0,0,0,0,0,0,0,0,0,0,0,{"$f":"IF(BN32=BN102,0,BN32)","v":0},0,0,0,0,0,0,0,0,0,0,0,0,0,0,0,0,0,0,0,0,0,0,0,0,0,0,0,0,0,0,0,0,0,{"$f":"BS102","v":0},{"$f":"BS103","v":0},1]
[31,{"$f":"'RECOGIDA DATOS'!CS34","v":0},{"$f":"IF(B33=B102,0,B33)","v":0},0,0,0,0,0,0,0,0,0,0,0,0,0,0,0,0,0,0,0,0,0,0,0,0,0,0,0,0,0,0,0,{"$f":"IF(AH33=AH102,0,AH33)","v":0},0,0,0,0,0,0,0,0,0,0,0,0,0,0,0,0,0,0,0,0,0,0,0,0,0,0,0,0,0,0,0,{"$f":"IF(BN33=BN102,0,BN33)","v":0},0,0,0,0,0,0,0,0,0,0,0,0,0,0,0,0,0,0,0,0,0,0,0,0,0,0,0,0,0,0,0,0,0,{"$f":"BR102","v":0},{"$f":"BR103","v":0},1]
[32,{"$f":"'RECOGIDA DATOS'!CS35","v":0},{"$f":"IF(B34=B102,0,B34)","v":0},0,0,0,0,0,0,0,0,0,0,0,0,0,0,0,0,0,0,0,0,0,0,0,0,0,0,0,0,0,0,0,{"$f":"IF(AH34=AH102,0,AH34)","v":0},0,0,0,0,0,0,0,0,0,0,0,0,0,0,0,0,0,0,0,0,0,0,0,0,0,0,0,0,0,0,0,{"$f":"IF(BN34=BN102,0,BN34)","v":0},0,0,0,0,0,0,0,0,0,0,0,0,0,0,0,0,0,0,0,0,0,0,0,0,0,0,0,0,0,0,0,0,0,{"$f":"BQ102","v":0},{"$f":"BQ103","v":0},1]
[33,{"$f":"'RECOGIDA DATOS'!CS36","v":0},{"$f":"IF(B35=B102,0,B35)","v":0},0,0,0,0,0,0,0,0,0,0,0,0,0,0,0,0,0,0,0,0,0,0,0,0,0,0,0,0,0,0,0,{"$f":"IF(AH35=AH102,0,AH35)","v":0},0,0,0,0,0,0,0,0,0,0,0,0,0,0,0,0,0,0,0,0,0,0,0,0,0,0,0,0,0,0,0,{"$f":"IF(BN35=BN102,0,BN35)","v":0},0,0,0,0,0,0,0,0,0,0,0,0,0,0,0,0,0,0,0,0,0,0,0,0,0,0,0,0,0,0,0,0,0,{"$f":"BP102","v":0},{"$f":"BP103","v":0},1]
[34,{"$f":"'RECOGIDA DATOS'!CS37","v":0},{"$f":"IF(B36=B102,0,B36)","v":0},0,0,0,0,0,0,0,0,0,0,0,0,0,0,0,0,0,0,0,0,0,0,0,0,0,0,0,0,0,0,0,{"$f":"IF(AH36=AH102,0,AH36)","v":0},0,0,0,0,0,0,0,0,0,0,0,0,0,0,0,0,0,0,0,0,0,0,0,0,0,0,0,0,0,0,0,{"$f":"IF(BN36=BN102,0,BN36)","v":0},0,0,0,0,0,0,0,0,0,0,0,0,0,0,0,0,0,0,0,0,0,0,0,0,0,0,0,0,0,0,0,0,0,{"$f":"BO102","v":0},{"$f":"BO103","v":0},1]
[35,{"$f":"'RECOGIDA DATOS'!CS38","v":0},{"$f":"IF(B37=B102,0,B37)","v":0},0,0,0,0,0,0,0,0,0,0,0,0,0,0,0,0,0,0,0,0,0,0,0,0,0,0,0,0,0,0,0,{"$f":"IF(AH37=AH102,0,AH37)","v":0},0,0,0,0,0,0,0,0,0,0,0,0,0,0,0,0,0,0,0,0,0,0,0,0,0,0,0,0,0,0,0,{"$f":"IF(BN37=BN102,0,BN37)","v":0},0,0,0,0,0,0,0,0,0,0,0,0,0,0,0,0,0,0,0,0,0,0,0,0,0,0,0,0,0,0,0,0,0,{"$f":"BN102","v":0},{"$f":"BN103","v":0},1]
[36,{"$f":"'RECOGIDA DATOS'!CS39","v":0},{"$f":"IF(B38=B102,0,B38)","v":0},0,0,0,0,0,0,0,0,0,0,0,0,0,0,0,0,0,0,0,0,0,0,0,0,0,0,0,0,0,0,0,{"$f":"IF(AH38=AH102,0,AH38)","v":0},0,0,0,0,0,0,0,0,0,0,0,0,0,0,0,0,0,0,0,0,0,0,0,0,0,0,0,0,0,0,0,{"$f":"IF(BN38=BN102,0,BN38)","v":0},0,0,0,0,0,0,0,0,0,0,0,0,0,0,0,0,0,0,0,0,0,0,0,0,0,0,0,0,0,0,0,0,0,{"$f":"BM102","v":0},{"$f":"BM103","v":0},1]
[37,{"$f":"'RECOGIDA DATOS'!CS40","v":0},{"$f":"IF(B39=B102,0,B39)","v":0},0,0,0,0,0,0,0,0,0,0,0,0,0,0,0,0,0,0,0,0,0,0,0,0,0,0,0,0,0,0,0,{"$f":"IF(AH39=AH102,0,AH39)","v":0},0,0,0,0,0,0,0,0,0,0,0,0,0,0,0,0,0,0,0,0,0,0,0,0,0,0,0,0,0,0,0,{"$f":"IF(BN39=BN102,0,BN39)","v":0},0,0,0,0,0,0,0,0,0,0,0,0,0,0,0,0,0,0,0,0,0,0,0,0,0,0,0,0,0,0,0,0,0,{"$f":"BL102","v":0},{"$f":"BL103","v":0},1]
[38,{"$f":"'RECOGIDA DATOS'!CS41","v":0},{"$f":"IF(B40=B102,0,B40)","v":0},0,0,0,0,0,0,0,0,0,0,0,0,0,0,0,0,0,0,0,0,0,0,0,0,0,0,0,0,0,0,0,{"$f":"IF(AH40=AH102,0,AH40)","v":0},0,0,0,0,0,0,0,0,0,0,0,0,0,0,0,0,0,0,0,0,0,0,0,0,0,0,0,0,0,0,0,{"$f":"IF(BN40=BN102,0,BN40)","v":0},0,0,0,0,0,0,0,0,0,0,0,0,0,0,0,0,0,0,0,0,0,0,0,0,0,0,0,0,0,0,0,0,0,{"$f":"BK102","v":0},{"$f":"BK103","v":0},1]
[39,{"$f":"'RECOGIDA DATOS'!CS42","v":0},{"$f":"IF(B41=B102,0,B41)","v":0},0,0,0,0,0,0,0,0,0,0,0,0,0,0,0,0,0,0,0,0,0,0,0,0,0,0,0,0,0,0,0,{"$f":"IF(AH41=AH102,0,AH41)","v":0},0,0,0,0,0,0,0,0,0,0,0,0,0,0,0,0,0,0,0,0,0,0,0,0,0,0,0,0,0,0,0,{"$f":"IF(BN41=BN102,0,BN41)","v":0},0,0,0,0,0,0,0,0,0,0,0,0,0,0,0,0,0,0,0,0,0,0,0,0,0,0,0,0,0,0,0,0,0,{"$f":"BJ102","v":0},{"$f":"BJ103","v":0},1]
[40,{"$f":"'RECOGIDA DATOS'!CS43","v":0},{"$f":"IF(B42=B102,0,B42)","v":0},0,0,0,0,0,0,0,0,0,0,0,0,0,0,0,0,0,0,0,0,0,0,0,0,0,0,0,0,0,0,0,{"$f":"IF(AH42=AH102,0,AH42)","v":0},0,0,0,0,0,0,0,0,0,0,0,0,0,0,0,0,0,0,0,0,0,0,0,0,0,0,0,0,0,0,0,{"$f":"IF(BN42=BN102,0,BN42)","v":0},0,0,0,0,0,0,0,0,0,0,0,0,0,0,0,0,0,0,0,0,0,0,0,0,0,0,0,0,0,0,0,0,0,{"$f":"BI102","v":0},{"$f":"BI103","v":0},1]
[41,{"$f":"'RECOGIDA DATOS'!CS44","v":0},{"$f":"IF(B43=B102,0,B43)","v":0},0,0,0,0,0,0,0,0,0,0,0,0,0,0,0,0,0,0,0,0,0,0,0,0,0,0,0,0,0,0,0,{"$f":"IF(AH43=AH102,0,AH43)","v":0},0,0,0,0,0,0,0,0,0,0,0,0,0,0,0,0,0,0,0,0,0,0,0,0,0,0,0,0,0,0,0,{"$f":"IF(BN43=BN102,0,BN43)","v":0},0,0,0,0,0,0,0,0,0,0,0,0,0,0,0,0,0,0,0,0,0,0,0,0,0,0,0,0,0,0,0,0,0,{"$f":"BH102","v":0},{"$f":"BH103","v":0},1]
[42,{"$f":"'RECOGIDA DATOS'!CS45","v":0},{"$f":"IF(B44=B102,0,B44)","v":0},0,0,0,0,0,0,0,0,0,0,0,0,0,0,0,0,0,0,0,0,0,0,0,0,0,0,0,0,0,0,0,{"$f":"IF(AH44=AH102,0,AH44)","v":0},0,0,0,0,0,0,0,0,0,0,0,0,0,0,0,0,0,0,0,0,0,0,0,0,0,0,0,0,0,0,0,{"$f":"IF(BN44=BN102,0,BN44)","v":0},0,0,0,0,0,0,0,0,0,0,0,0,0,0,0,0,0,0,0,0,0,0,0,0,0,0,0,0,0,0,0,0,0,{"$f":"BG102","v":0},{"$f":"BG103","v":0},1]
[43,{"$f":"'RECOGIDA DATOS'!CS46","v":0},{"$f":"IF(B45=B102,0,B45)","v":0},0,0,0,0,0,0,0,0,0,0,0,0,0,0,0,0,0,0,0,0,0,0,0,0,0,0,0,0,0,0,0,{"$f":"IF(AH45=AH102,0,AH45)","v":0},0,0,0,0,0,0,0,0,0,0,0,0,0,0,0,0,0,0,0,0,0,0,0,0,0,0,0,0,0,0,0,{"$f":"IF(BN45=BN102,0,BN45)","v":0},0,0,0,0,0,0,0,0,0,0,0,0,0,0,0,0,0,0,0,0,0,0,0,0,0,0,0,0,0,0,0,0,0,{"$f":"BF102","v":0},{"$f":"BF103","v":0},1]
[44,{"$f":"'RECOGIDA DATOS'!CS47","v":0},{"$f":"IF(B46=B102,0,B46)","v":0},0,0,0,0,0,0,0,0,0,0,0,0,0,0,0,0,0,0,0,0,0,0,0,0,0,0,0,0,0,0,0,{"$f":"IF(AH46=AH102,0,AH46)","v":0},0,0,0,0,0,0,0,0,0,0,0,0,0,0,0,0,0,0,0,0,0,0,0,0,0,0,0,0,0,0,0,{"$f":"IF(BN46=BN102,0,BN46)","v":0},0,0,0,0,0,0,0,0,0,0,0,0,0,0,0,0,0,0,0,0,0,0,0,0,0,0,0,0,0,0,0,0,0,{"$f":"BE102","v":0},{"$f":"BE103","v":0},1]
[45,{"$f":"'RECOGIDA DATOS'!CS48","v":0},{"$f":"IF(B47=B102,0,B47)","v":0},0,0,0,0,0,0,0,0,0,0,0,0,0,0,0,0,0,0,0,0,0,0,0,0,0,0,0,0,0,0,0,{"$f":"IF(AH47=AH102,0,AH47)","v":0},0,0,0,0,0,0,0,0,0,0,0,0,0,0,0,0,0,0,0,0,0,0,0,0,0,0,0,0,0,0,0,{"$f":"IF(BN47=BN102,0,BN47)","v":0},0,0,0,0,0,0,0,0,0,0,0,0,0,0,0,0,0,0,0,0,0,0,0,0,0,0,0,0,0,0,0,0,0,{"$f":"BD102","v":0},{"$f":"BD103","v":0},1]
[46,{"$f":"'RECOGIDA DATOS'!CS49","v":0},{"$f":"IF(B48=B102,0,B48)","v":0},0,0,0,0,0,0,0,0,0,0,0,0,0,0,0,0,0,0,0,0,0,0,0,0,0,0,0,0,0,0,0,{"$f":"IF(AH48=AH102,0,AH48)","v":0},0,0,0,0,0,0,0,0,0,0,0,0,0,0,0,0,0,0,0,0,0,0,0,0,0,0,0,0,0,0,0,{"$f":"IF(BN48=BN102,0,BN48)","v":0},0,0,0,0,0,0,0,0,0,0,0,0,0,0,0,0,0,0,0,0,0,0,0,0,0,0,0,0,0,0,0,0,0,{"$f":"BC102","v":0},{"$f":"BC103","v":0},1]
[47,{"$f":"'RECOGIDA DATOS'!CS50","v":0},{"$f":"IF(B49=B102,0,B49)","v":0},0,0,0,0,0,0,0,0,0,0,0,0,0,0,0,0,0,0,0,0,0,0,0,0,0,0,0,0,0,0,0,{"$f":"IF(AH49=AH102,0,AH49)","v":0},0,0,0,0,0,0,0,0,0,0,0,0,0,0,0,0,0,0,0,0,0,0,0,0,0,0,0,0,0,0,0,{"$f":"IF(BN49=BN102,0,BN49)","v":0},0,0,0,0,0,0,0,0,0,0,0,0,0,0,0,0,0,0,0,0,0,0,0,0,0,0,0,0,0,0,0,0,0,{"$f":"BB102","v":0},{"$f":"BB103","v":0},1]
[48,{"$f":"'RECOGIDA DATOS'!CS51","v":0},{"$f":"IF(B50=B102,0,B50)","v":0},0,0,0,0,0,0,0,0,0,0,0,0,0,0,0,0,0,0,0,0,0,0,0,0,0,0,0,0,0,0,0,{"$f":"IF(AH50=AH102,0,AH50)","v":0},0,0,0,0,0,0,0,0,0,0,0,0,0,0,0,0,0,0,0,0,0,0,0,0,0,0,0,0,0,0,0,{"$f":"IF(BN50=BN102,0,BN50)","v":0},0,0,0,0,0,0,0,0,0,0,0,0,0,0,0,0,0,0,0,0,0,0,0,0,0,0,0,0,0,0,0,0,0,{"$f":"BA102","v":0},{"$f":"BA103","v":0},1]
[49,{"$f":"'RECOGIDA DATOS'!CS52","v":0},{"$f":"IF(B51=B102,0,B51)","v":0},0,0,0,0,0,0,0,0,0,0,0,0,0,0,0,0,0,0,0,0,0,0,0,0,0,0,0,0,0,0,0,{"$f":"IF(AH51=AH102,0,AH51)","v":0},0,0,0,0,0,0,0,0,0,0,0,0,0,0,0,0,0,0,0,0,0,0,0,0,0,0,0,0,0,0,0,{"$f":"IF(BN51=BN102,0,BN51)","v":0},0,0,0,0,0,0,0,0,0,0,0,0,0,0,0,0,0,0,0,0,0,0,0,0,0,0,0,0,0,0,0,0,0,{"$f":"AZ102","v":0},{"$f":"AZ103","v":0},1]
[50,{"$f":"'RECOGIDA DATOS'!CS53","v":0},{"$f":"IF(B52=B102,0,B52)","v":0},0,0,0,0,0,0,0,0,0,0,0,0,0,0,0,0,0,0,0,0,0,0,0,0,0,0,0,0,0,0,0,{"$f":"IF(AH52=AH102,0,AH52)","v":0},0,0,0,0,0,0,0,0,0,0,0,0,0,0,0,0,0,0,0,0,0,0,0,0,0,0,0,0,0,0,0,{"$f":"IF(BN52=BN102,0,BN52)","v":0},0,0,0,0,0,0,0,0,0,0,0,0,0,0,0,0,0,0,0,0,0,0,0,0,0,0,0,0,0,0,0,0,0,{"$f":"AY102","v":0},{"$f":"AY103","v":0},1]
[51,{"$f":"'RECOGIDA DATOS'!CS54","v":0},{"$f":"IF(B53=B102,0,B53)","v":0},0,0,0,0,0,0,0,0,0,0,0,0,0,0,0,0,0,0,0,0,0,0,0,0,0,0,0,0,0,0,0,{"$f":"IF(AH53=AH102,0,AH53)","v":0},0,0,0,0,0,0,0,0,0,0,0,0,0,0,0,0,0,0,0,0,0,0,0,0,0,0,0,0,0,0,0,{"$f":"IF(BN53=BN102,0,BN53)","v":0},0,0,0,0,0,0,0,0,0,0,0,0,0,0,0,0,0,0,0,0,0,0,0,0,0,0,0,0,0,0,0,0,0,{"$f":"AX102","v":0},{"$f":"AX103","v":0},1]
[52,{"$f":"'RECOGIDA DATOS'!CS55","v":0},{"$f":"IF(B54=B102,0,B54)","v":0},0,0,0,0,0,0,0,0,0,0,0,0,0,0,0,0,0,0,0,0,0,0,0,0,0,0,0,0,0,0,0,{"$f":"IF(AH54=AH102,0,AH54)","v":0},0,0,0,0,0,0,0,0,0,0,0,0,0,0,0,0,0,0,0,0,0,0,0,0,0,0,0,0,0,0,0,{"$f":"IF(BN54=BN102,0,BN54)","v":0},0,0,0,0,0,0,0,0,0,0,0,0,0,0,0,0,0,0,0,0,0,0,0,0,0,0,0,0,0,0,0,0,0,{"$f":"AW102","v":0},{"$f":"AW103","v":0},1]
[53,{"$f":"'RECOGIDA DATOS'!CS56","v":0},{"$f":"IF(B55=B102,0,B55)","v":0},0,0,0,0,0,0,0,0,0,0,0,0,0,0,0,0,0,0,0,0,0,0,0,0,0,0,0,0,0,0,0,{"$f":"IF(AH55=AH102,0,AH55)","v":0},0,0,0,0,0,0,0,0,0,0,0,0,0,0,0,0,0,0,0,0,0,0,0,0,0,0,0,0,0,0,0,{"$f":"IF(BN55=BN102,0,BN55)","v":0},0,0,0,0,0,0,0,0,0,0,0,0,0,0,0,0,0,0,0,0,0,0,0,0,0,0,0,0,0,0,0,0,0,{"$f":"AV102","v":0},{"$f":"AV103","v":0},1]
[54,{"$f":"'RECOGIDA DATOS'!CS57","v":0},{"$f":"IF(B56=B102,0,B56)","v":0},0,0,0,0,0,0,0,0,0,0,0,0,0,0,0,0,0,0,0,0,0,0,0,0,0,0,0,0,0,0,0,{"$f":"IF(AH56=AH102,0,AH56)","v":0},0,0,0,0,0,0,0,0,0,0,0,0,0,0,0,0,0,0,0,0,0,0,0,0,0,0,0,0,0,0,0,{"$f":"IF(BN56=BN102,0,BN56)","v":0},0,0,0,0,0,0,0,0,0,0,0,0,0,0,0,0,0,0,0,0,0,0,0,0,0,0,0,0,0,0,0,0,0,{"$f":"AU102","v":0},{"$f":"AU103","v":0},1]
[55,{"$f":"'RECOGIDA DATOS'!CS58","v":0},{"$f":"IF(B57=B102,0,B57)","v":0},0,0,0,0,0,0,0,0,0,0,0,0,0,0,0,0,0,0,0,0,0,0,0,0,0,0,0,0,0,0,0,{"$f":"IF(AH57=AH102,0,AH57)","v":0},0,0,0,0,0,0,0,0,0,0,0,0,0,0,0,0,0,0,0,0,0,0,0,0,0,0,0,0,0,0,0,{"$f":"IF(BN57=BN102,0,BN57)","v":0},0,0,0,0,0,0,0,0,0,0,0,0,0,0,0,0,0,0,0,0,0,0,0,0,0,0,0,0,0,0,0,0,0,{"$f":"AT102","v":0},{"$f":"AT103","v":0},1]
[56,{"$f":"'RECOGIDA DATOS'!CS59","v":0},{"$f":"IF(B58=B102,0,B58)","v":0},0,0,0,0,0,0,0,0,0,0,0,0,0,0,0,0,0,0,0,0,0,0,0,0,0,0,0,0,0,0,0,{"$f":"IF(AH58=AH102,0,AH58)","v":0},0,0,0,0,0,0,0,0,0,0,0,0,0,0,0,0,0,0,0,0,0,0,0,0,0,0,0,0,0,0,0,{"$f":"IF(BN58=BN102,0,BN58)","v":0},0,0,0,0,0,0,0,0,0,0,0,0,0,0,0,0,0,0,0,0,0,0,0,0,0,0,0,0,0,0,0,0,0,{"$f":"AS102","v":0},{"$f":"AS103","v":0},1]
[57,{"$f":"'RECOGIDA DATOS'!CS60","v":0},{"$f":"IF(B59=B102,0,B59)","v":0},0,0,0,0,0,0,0,0,0,0,0,0,0,0,0,0,0,0,0,0,0,0,0,0,0,0,0,0,0,0,0,{"$f":"IF(AH59=AH102,0,AH59)","v":0},0,0,0,0,0,0,0,0,0,0,0,0,0,0,0,0,0,0,0,0,0,0,0,0,0,0,0,0,0,0,0,{"$f":"IF(BN59=BN102,0,BN59)","v":0},0,0,0,0,0,0,0,0,0,0,0,0,0,0,0,0,0,0,0,0,0,0,0,0,0,0,0,0,0,0,0,0,0,{"$f":"AR102","v":0},{"$f":"AR103","v":0},1]
[58,{"$f":"'RECOGIDA DATOS'!CS61","v":0},{"$f":"IF(B60=B102,0,B60)","v":0},0,0,0,0,0,0,0,0,0,0,0,0,0,0,0,0,0,0,0,0,0,0,0,0,0,0,0,0,0,0,0,{"$f":"IF(AH60=AH102,0,AH60)","v":0},0,0,0,0,0,0,0,0,0,0,0,0,0,0,0,0,0,0,0,0,0,0,0,0,0,0,0,0,0,0,0,{"$f":"IF(BN60=BN102,0,BN60)","v":0},0,0,0,0,0,0,0,0,0,0,0,0,0,0,0,0,0,0,0,0,0,0,0,0,0,0,0,0,0,0,0,0,0,{"$f":"AQ102","v":0},{"$f":"AQ103","v":0},1]
[59,{"$f":"'RECOGIDA DATOS'!CS62","v":0},{"$f":"IF(B61=B102,0,B61)","v":0},0,0,0,0,0,0,0,0,0,0,0,0,0,0,0,0,0,0,0,0,0,0,0,0,0,0,0,0,0,0,0,{"$f":"IF(AH61=AH102,0,AH61)","v":0},0,0,0,0,0,0,0,0,0,0,0,0,0,0,0,0,0,0,0,0,0,0,0,0,0,0,0,0,0,0,0,{"$f":"IF(BN61=BN102,0,BN61)","v":0},0,0,0,0,0,0,0,0,0,0,0,0,0,0,0,0,0,0,0,0,0,0,0,0,0,0,0,0,0,0,0,0,0,{"$f":"AP102","v":0},{"$f":"AP103","v":0},1]
[60,{"$f":"'RECOGIDA DATOS'!CS63","v":0},{"$f":"IF(B62=B102,0,B62)","v":0},0,0,0,0,0,0,0,0,0,0,0,0,0,0,0,0,0,0,0,0,0,0,0,0,0,0,0,0,0,0,0,{"$f":"IF(AH62=AH102,0,AH62)","v":0},0,0,0,0,0,0,0,0,0,0,0,0,0,0,0,0,0,0,0,0,0,0,0,0,0,0,0,0,0,0,0,{"$f":"IF(BN62=BN102,0,BN62)","v":0},0,0,0,0,0,0,0,0,0,0,0,0,0,0,0,0,0,0,0,0,0,0,0,0,0,0,0,0,0,0,0,0,0,{"$f":"AO102","v":0},{"$f":"AO103","v":0},1]
[61,{"$f":"'RECOGIDA DATOS'!CS64","v":0},{"$f":"IF(B63=B102,0,B63)","v":0},0,0,0,0,0,0,0,0,0,0,0,0,0,0,0,0,0,0,0,0,0,0,0,0,0,0,0,0,0,0,0,{"$f":"IF(AH63=AH102,0,AH63)","v":0},0,0,0,0,0,0,0,0,0,0,0,0,0,0,0,0,0,0,0,0,0,0,0,0,0,0,0,0,0,0,0,{"$f":"IF(BN63=BN102,0,BN63)","v":0},0,0,0,0,0,0,0,0,0,0,0,0,0,0,0,0,0,0,0,0,0,0,0,0,0,0,0,0,0,0,0,0,0,{"$f":"AN102","v":0},{"$f":"AN103","v":0},1]
[62,{"$f":"'RECOGIDA DATOS'!CS65","v":0},{"$f":"IF(B64=B102,0,B64)","v":0},0,0,0,0,0,0,0,0,0,0,0,0,0,0,0,0,0,0,0,0,0,0,0,0,0,0,0,0,0,0,0,{"$f":"IF(AH64=AH102,0,AH64)","v":0},0,0,0,0,0,0,0,0,0,0,0,0,0,0,0,0,0,0,0,0,0,0,0,0,0,0,0,0,0,0,0,{"$f":"IF(BN64=BN102,0,BN64)","v":0},0,0,0,0,0,0,0,0,0,0,0,0,0,0,0,0,0,0,0,0,0,0,0,0,0,0,0,0,0,0,0,0,0,{"$f":"AM102","v":0},{"$f":"AM103","v":0},1]
[63,{"$f":"'RECOGIDA DATOS'!CS66","v":0},{"$f":"IF(B65=B102,0,B65)","v":0},0,0,0,0,0,0,0,0,0,0,0,0,0,0,0,0,0,0,0,0,0,0,0,0,0,0,0,0,0,0,0,{"$f":"IF(AH65=AH102,0,AH65)","v":0},0,0,0,0,0,0,0,0,0,0,0,0,0,0,0,0,0,0,0,0,0,0,0,0,0,0,0,0,0,0,0,{"$f":"IF(BN65=BN102,0,BN65)","v":0},0,0,0,0,0,0,0,0,0,0,0,0,0,0,0,0,0,0,0,0,0,0,0,0,0,0,0,0,0,0,0,0,0,{"$f":"AL102","v":0},{"$f":"AL103","v":0},1]
[64,{"$f":"'RECOGIDA DATOS'!CS67","v":0},{"$f":"IF(B66=B102,0,B66)","v":0},0,0,0,0,0,0,0,0,0,0,0,0,0,0,0,0,0,0,0,0,0,0,0,0,0,0,0,0,0,0,0,{"$f":"IF(AH66=AH102,0,AH66)","v":0},0,0,0,0,0,0,0,0,0,0,0,0,0,0,0,0,0,0,0,0,0,0,0,0,0,0,0,0,0,0,0,{"$f":"IF(BN66=BN102,0,BN66)","v":0},0,0,0,0,0,0,0,0,0,0,0,0,0,0,0,0,0,0,0,0,0,0,0,0,0,0,0,0,0,0,0,0,0,{"$f":"AK102","v":0},{"$f":"AK103","v":0},1]
[65,{"$f":"'RECOGIDA DATOS'!CS68","v":0},{"$f":"IF(B67=B102,0,B67)","v":0},0,0,0,0,0,0,0,0,0,0,0,0,0,0,0,0,0,0,0,0,0,0,0,0,0,0,0,0,0,0,0,{"$f":"IF(AH67=AH102,0,AH67)","v":0},0,0,0,0,0,0,0,0,0,0,0,0,0,0,0,0,0,0,0,0,0,0,0,0,0,0,0,0,0,0,0,{"$f":"IF(BN67=BN102,0,BN67)","v":0},0,0,0,0,0,0,0,0,0,0,0,0,0,0,0,0,0,0,0,0,0,0,0,0,0,0,0,0,0,0,0,0,0,{"$f":"AJ102","v":0},{"$f":"AJ103","v":0},1]
[66,{"$f":"'RECOGIDA DATOS'!CS69","v":0},{"$f":"IF(B68=B102,0,B68)","v":0},0,0,0,0,0,0,0,0,0,0,0,0,0,0,0,0,0,0,0,0,0,0,0,0,0,0,0,0,0,0,0,{"$f":"IF(AH68=AH102,0,AH68)","v":0},0,0,0,0,0,0,0,0,0,0,0,0,0,0,0,0,0,0,0,0,0,0,0,0,0,0,0,0,0,0,0,{"$f":"IF(BN68=BN102,0,BN68)","v":0},0,0,0,0,0,0,0,0,0,0,0,0,0,0,0,0,0,0,0,0,0,0,0,0,0,0,0,0,0,0,0,0,0,{"$f":"AI102","v":0},{"$f":"AI103","v":0},1]
[67,{"$f":"'RECOGIDA DATOS'!CS70","v":0},{"$f":"IF(B69=B102,0,B69)","v":0},0,0,0,0,0,0,0,0,0,0,0,0,0,0,0,0,0,0,0,0,0,0,0,0,0,0,0,0,0,0,0,{"$f":"IF(AH69=AH102,0,AH69)","v":0},0,0,0,0,0,0,0,0,0,0,0,0,0,0,0,0,0,0,0,0,0,0,0,0,0,0,0,0,0,0,0,{"$f":"IF(BN69=BN102,0,BN69)","v":0},0,0,0,0,0,0,0,0,0,0,0,0,0,0,0,0,0,0,0,0,0,0,0,0,0,0,0,0,0,0,0,0,0,{"$f":"AH102","v":0},{"$f":"AH103","v":0},1]
[68,{"$f":"'RECOGIDA DATOS'!CS71","v":0},{"$f":"IF(B70=B102,0,B70)","v":0},0,0,0,0,0,0,0,0,0,0,0,0,0,0,0,0,0,0,0,0,0,0,0,0,0,0,0,0,0,0,0,{"$f":"IF(AH70=AH102,0,AH70)","v":0},0,0,0,0,0,0,0,0,0,0,0,0,0,0,0,0,0,0,0,0,0,0,0,0,0,0,0,0,0,0,0,{"$f":"IF(BN70=BN102,0,BN70)","v":0},0,0,0,0,0,0,0,0,0,0,0,0,0,0,0,0,0,0,0,0,0,0,0,0,0,0,0,0,0,0,0,0,0,{"$f":"AG102","v":0},{"$f":"AG103","v":0},1]
[69,{"$f":"'RECOGIDA DATOS'!CS72","v":0},{"$f":"IF(B71=B102,0,B71)","v":0},0,0,0,0,0,0,0,0,0,0,0,0,0,0,0,0,0,0,0,0,0,0,0,0,0,0,0,0,0,0,0,{"$f":"IF(AH71=AH102,0,AH71)","v":0},0,0,0,0,0,0,0,0,0,0,0,0,0,0,0,0,0,0,0,0,0,0,0,0,0,0,0,0,0,0,0,{"$f":"IF(BN71=BN102,0,BN71)","v":0},0,0,0,0,0,0,0,0,0,0,0,0,0,0,0,0,0,0,0,0,0,0,0,0,0,0,0,0,0,0,0,0,0,{"$f":"AF102","v":0},{"$f":"AF103","v":0},1]
[70,{"$f":"'RECOGIDA DATOS'!CS73","v":0},{"$f":"IF(B72=B102,0,B72)","v":0},0,0,0,0,0,0,0,0,0,0,0,0,0,0,0,0,0,0,0,0,0,0,0,0,0,0,0,0,0,0,0,{"$f":"IF(AH72=AH102,0,AH72)","v":0},0,0,0,0,0,0,0,0,0,0,0,0,0,0,0,0,0,0,0,0,0,0,0,0,0,0,0,0,0,0,0,{"$f":"IF(BN72=BN102,0,BN72)","v":0},0,0,0,0,0,0,0,0,0,0,0,0,0,0,0,0,0,0,0,0,0,0,0,0,0,0,0,0,0,0,0,0,0,{"$f":"AE102","v":0},{"$f":"AE103","v":0},1]
[71,{"$f":"'RECOGIDA DATOS'!CS74","v":0},{"$f":"IF(B73=B102,0,B73)","v":0},0,0,0,0,0,0,0,0,0,0,0,0,0,0,0,0,0,0,0,0,0,0,0,0,0,0,0,0,0,0,0,{"$f":"IF(AH73=AH102,0,AH73)","v":0},0,0,0,0,0,0,0,0,0,0,0,0,0,0,0,0,0,0,0,0,0,0,0,0,0,0,0,0,0,0,0,{"$f":"IF(BN73=BN102,0,BN73)","v":0},0,0,0,0,0,0,0,0,0,0,0,0,0,0,0,0,0,0,0,0,0,0,0,0,0,0,0,0,0,0,0,0,0,{"$f":"AD102","v":0},{"$f":"AD103","v":0},1]
[72,{"$f":"'RECOGIDA DATOS'!CS75","v":0},{"$f":"IF(B74=B102,0,B74)","v":0},0,0,0,0,0,0,0,0,0,0,0,0,0,0,0,0,0,0,0,0,0,0,0,0,0,0,0,0,0,0,0,{"$f":"IF(AH74=AH102,0,AH74)","v":0},0,0,0,0,0,0,0,0,0,0,0,0,0,0,0,0,0,0,0,0,0,0,0,0,0,0,0,0,0,0,0,{"$f":"IF(BN74=BN102,0,BN74)","v":0},0,0,0,0,0,0,0,0,0,0,0,0,0,0,0,0,0,0,0,0,0,0,0,0,0,0,0,0,0,0,0,0,0,{"$f":"AC102","v":0},{"$f":"AC103","v":0},1]
[73,{"$f":"'RECOGIDA DATOS'!CS76","v":0},{"$f":"IF(B75=B102,0,B75)","v":0},0,0,0,0,0,0,0,0,0,0,0,0,0,0,0,0,0,0,0,0,0,0,0,0,0,0,0,0,0,0,0,{"$f":"IF(AH75=AH102,0,AH75)","v":0},0,0,0,0,0,0,0,0,0,0,0,0,0,0,0,0,0,0,0,0,0,0,0,0,0,0,0,0,0,0,0,{"$f":"IF(BN75=BN102,0,BN75)","v":0},0,0,0,0,0,0,0,0,0,0,0,0,0,0,0,0,0,0,0,0,0,0,0,0,0,0,0,0,0,0,0,0,0,{"$f":"AB102","v":0},{"$f":"AB103","v":0},1]
[74,{"$f":"'RECOGIDA DATOS'!CS77","v":0},{"$f":"IF(B76=B102,0,B76)","v":0},0,0,0,0,0,0,0,0,0,0,0,0,0,0,0,0,0,0,0,0,0,0,0,0,0,0,0,0,0,0,0,{"$f":"IF(AH76=AH102,0,AH76)","v":0},0,0,0,0,0,0,0,0,0,0,0,0,0,0,0,0,0,0,0,0,0,0,0,0,0,0,0,0,0,0,0,{"$f":"IF(BN76=BN102,0,BN76)","v":0},0,0,0,0,0,0,0,0,0,0,0,0,0,0,0,0,0,0,0,0,0,0,0,0,0,0,0,0,0,0,0,0,0,{"$f":"AA102","v":0},{"$f":"AA103","v":0},1]
[75,{"$f":"'RECOGIDA DATOS'!CS78","v":0},{"$f":"IF(B77=B102,0,B77)","v":0},0,0,0,0,0,0,0,0,0,0,0,0,0,0,0,0,0,0,0,0,0,0,0,0,0,0,0,0,0,0,0,{"$f":"IF(AH77=AH102,0,AH77)","v":0},0,0,0,0,0,0,0,0,0,0,0,0,0,0,0,0,0,0,0,0,0,0,0,0,0,0,0,0,0,0,0,{"$f":"IF(BN77=BN102,0,BN77)","v":0},0,0,0,0,0,0,0,0,0,0,0,0,0,0,0,0,0,0,0,0,0,0,0,0,0,0,0,0,0,0,0,0,0,{"$f":"Z102","v":0},{"$f":"Z103","v":0},1]
[76,{"$f":"'RECOGIDA DATOS'!CS79","v":0},{"$f":"IF(B78=B102,0,B78)","v":0},0,0,0,0,0,0,0,0,0,0,0,0,0,0,0,0,0,0,0,0,0,0,0,0,0,0,0,0,0,0,0,{"$f":"IF(AH78=AH102,0,AH78)","v":0},0,0,0,0,0,0,0,0,0,0,0,0,0,0,0,0,0,0,0,0,0,0,0,0,0,0,0,0,0,0,0,{"$f":"IF(BN78=BN102,0,BN78)","v":0},0,0,0,0,0,0,0,0,0,0,0,0,0,0,0,0,0,0,0,0,0,0,0,0,0,0,0,0,0,0,0,0,0,{"$f":"Y102","v":0},{"$f":"Y103","v":0},1]
[77,{"$f":"'RECOGIDA DATOS'!CS80","v":0},{"$f":"IF(B79=B102,0,B79)","v":0},0,0,0,0,0,0,0,0,0,0,0,0,0,0,0,0,0,0,0,0,0,0,0,0,0,0,0,0,0,0,0,{"$f":"IF(AH79=AH102,0,AH79)","v":0},0,0,0,0,0,0,0,0,0,0,0,0,0,0,0,0,0,0,0,0,0,0,0,0,0,0,0,0,0,0,0,{"$f":"IF(BN79=BN102,0,BN79)","v":0},0,0,0,0,0,0,0,0,0,0,0,0,0,0,0,0,0,0,0,0,0,0,0,0,0,0,0,0,0,0,0,0,0,{"$f":"X102","v":0},{"$f":"X103","v":0},1]
[78,{"$f":"'RECOGIDA DATOS'!CS81","v":0},{"$f":"IF(B80=B102,0,B80)","v":0},0,0,0,0,0,0,0,0,0,0,0,0,0,0,0,0,0,0,0,0,0,0,0,0,0,0,0,0,0,0,0,{"$f":"IF(AH80=AH102,0,AH80)","v":0},0,0,0,0,0,0,0,0,0,0,0,0,0,0,0,0,0,0,0,0,0,0,0,0,0,0,0,0,0,0,0,{"$f":"IF(BN80=BN102,0,BN80)","v":0},0,0,0,0,0,0,0,0,0,0,0,0,0,0,0,0,0,0,0,0,0,0,0,0,0,0,0,0,0,0,0,0,0,{"$f":"W102","v":0},{"$f":"W103","v":0},1]
[79,{"$f":"'RECOGIDA DATOS'!CS82","v":0},{"$f":"IF(B81=B102,0,B81)","v":0},0,0,0,0,0,0,0,0,0,0,0,0,0,0,0,0,0,0,0,0,0,0,0,0,0,0,0,0,0,0,0,{"$f":"IF(AH81=AH102,0,AH81)","v":0},0,0,0,0,0,0,0,0,0,0,0,0,0,0,0,0,0,0,0,0,0,0,0,0,0,0,0,0,0,0,0,{"$f":"IF(BN81=BN102,0,BN81)","v":0},0,0,0,0,0,0,0,0,0,0,0,0,0,0,0,0,0,0,0,0,0,0,0,0,0,0,0,0,0,0,0,0,0,{"$f":"V102","v":0},{"$f":"V103","v":0},1]
[80,{"$f":"'RECOGIDA DATOS'!CS83","v":0},{"$f":"IF(B82=B102,0,B82)","v":0},0,0,0,0,0,0,0,0,0,0,0,0,0,0,0,0,0,0,0,0,0,0,0,0,0,0,0,0,0,0,0,{"$f":"IF(AH82=AH102,0,AH82)","v":0},0,0,0,0,0,0,0,0,0,0,0,0,0,0,0,0,0,0,0,0,0,0,0,0,0,0,0,0,0,0,0,{"$f":"IF(BN82=BN102,0,BN82)","v":0},0,0,0,0,0,0,0,0,0,0,0,0,0,0,0,0,0,0,0,0,0,0,0,0,0,0,0,0,0,0,0,0,0,{"$f":"U102","v":0},{"$f":"U103","v":0},1]
[81,{"$f":"'RECOGIDA DATOS'!CS84","v":0},{"$f":"IF(B83=B102,0,B83)","v":0},0,0,0,0,0,0,0,0,0,0,0,0,0,0,0,0,0,0,0,0,0,0,0,0,0,0,0,0,0,0,0,{"$f":"IF(AH83=AH102,0,AH83)","v":0},0,0,0,0,0,0,0,0,0,0,0,0,0,0,0,0,0,0,0,0,0,0,0,0,0,0,0,0,0,0,0,{"$f":"IF(BN83=BN102,0,BN83)","v":0},0,0,0,0,0,0,0,0,0,0,0,0,0,0,0,0,0,0,0,0,0,0,0,0,0,0,0,0,0,0,0,0,0,{"$f":"T102","v":0},{"$f":"T103","v":0},1]
[82,{"$f":"'RECOGIDA DATOS'!CS85","v":0},{"$f":"IF(B84=B102,0,B84)","v":0},0,0,0,0,0,0,0,0,0,0,0,0,0,0,0,0,0,0,0,0,0,0,0,0,0,0,0,0,0,0,0,{"$f":"IF(AH84=AH102,0,AH84)","v":0},0,0,0,0,0,0,0,0,0,0,0,0,0,0,0,0,0,0,0,0,0,0,0,0,0,0,0,0,0,0,0,{"$f":"IF(BN84=BN102,0,BN84)","v":0},0,0,0,0,0,0,0,0,0,0,0,0,0,0,0,0,0,0,0,0,0,0,0,0,0,0,0,0,0,0,0,0,0,{"$f":"S102","v":0},{"$f":"S103","v":0},{"$f":"CX85+CY85","v":1}]
[83,{"$f":"'RECOGIDA DATOS'!CS86","v":0},{"$f":"IF(B85=B102,0,B85)","v":0},0,0,0,0,0,0,0,0,0,0,0,0,0,0,0,0,0,0,0,0,0,0,0,0,0,0,0,0,0,0,0,{"$f":"IF(AH85=AH102,0,AH85)","v":0},0,0,0,0,0,0,0,0,0,0,0,0,0,0,0,0,0,0,0,0,0,0,0,0,0,0,0,0,0,0,0,{"$f":"IF(BN85=BN102,0,BN85)","v":0},0,0,0,0,0,0,0,0,0,0,0,0,0,0,0,0,0,0,0,0,0,0,0,0,0,0,0,0,0,0,0,0,0,{"$f":"R102","v":0},{"$f":"R103","v":0},{"$f":"CX86+CY86","v":1}]
[84,{"$f":"'RECOGIDA DATOS'!CS87","v":0},{"$f":"IF(B86=B102,0,B86)","v":0},0,0,0,0,0,0,0,0,0,0,0,0,0,0,0,0,0,0,0,0,0,0,0,0,0,0,0,0,0,0,0,{"$f":"IF(AH86=AH102,0,AH86)","v":0},0,0,0,0,0,0,0,0,0,0,0,0,0,0,0,0,0,0,0,0,0,0,0,0,0,0,0,0,0,0,0,{"$f":"IF(BN86=BN102,0,BN86)","v":0},0,0,0,0,0,0,0,0,0,0,0,0,0,0,0,0,0,0,0,0,0,0,0,0,0,0,0,0,0,0,0,0,0,{"$f":"Q102","v":0},{"$f":"Q103","v":0},{"$f":"CX87+CY87","v":1}]
[85,{"$f":"'RECOGIDA DATOS'!CS88","v":0},{"$f":"IF(B87=B102,0,B87)","v":0},0,0,0,0,0,0,0,0,0,0,0,0,0,0,0,0,0,0,0,0,0,0,0,0,0,0,0,0,0,0,0,{"$f":"IF(AH87=AH102,0,AH87)","v":0},0,0,0,0,0,0,0,0,0,0,0,0,0,0,0,0,0,0,0,0,0,0,0,0,0,0,0,0,0,0,0,{"$f":"IF(BN87=BN102,0,BN87)","v":0},0,0,0,0,0,0,0,0,0,0,0,0,0,0,0,0,0,0,0,0,0,0,0,0,0,0,0,0,0,0,0,0,0,{"$f":"P102","v":0},{"$f":"P103","v":0},{"$f":"CX88+CY88","v":1}]
[86,{"$f":"'RECOGIDA DATOS'!CS89","v":0},{"$f":"IF(B88=B102,0,B88)","v":0},0,0,0,0,0,0,0,0,0,0,0,0,0,0,0,0,0,0,0,0,0,0,0,0,0,0,0,0,0,0,0,{"$f":"IF(AH88=AH102,0,AH88)","v":0},0,0,0,0,0,0,0,0,0,0,0,0,0,0,0,0,0,0,0,0,0,0,0,0,0,0,0,0,0,0,0,{"$f":"IF(BN88=BN102,0,BN88)","v":0},0,0,0,0,0,0,0,0,0,0,0,0,0,0,0,0,0,0,0,0,0,0,0,0,0,0,0,0,0,0,0,0,0,{"$f":"O102","v":0},{"$f":"O103","v":0},{"$f":"CX89+CY89","v":1}]
[87,{"$f":"'RECOGIDA DATOS'!CS90","v":0},{"$f":"IF(B89=B102,0,B89)","v":0},0,0,0,0,0,0,0,0,0,0,0,0,0,0,0,0,0,0,0,0,0,0,0,0,0,0,0,0,0,0,0,{"$f":"IF(AH89=AH102,0,AH89)","v":0},0,0,0,0,0,0,0,0,0,0,0,0,0,0,0,0,0,0,0,0,0,0,0,0,0,0,0,0,0,0,0,{"$f":"IF(BN89=BN102,0,BN89)","v":0},0,0,0,0,0,0,0,0,0,0,0,0,0,0,0,0,0,0,0,0,0,0,0,0,0,0,0,0,0,0,0,0,0,{"$f":"N102","v":0},{"$f":"N103","v":0},{"$f":"CX90+CY90","v":1}]
[88,{"$f":"'RECOGIDA DATOS'!CS91","v":0},{"$f":"IF(B90=B102,0,B90)","v":0},0,0,0,0,0,0,0,0,0,0,0,0,0,0,0,0,0,0,0,0,0,0,0,0,0,0,0,0,0,0,0,{"$f":"IF(AH90=AH102,0,AH90)","v":0},0,0,0,0,0,0,0,0,0,0,0,0,0,0,0,0,0,0,0,0,0,0,0,0,0,0,0,0,0,0,0,{"$f":"IF(BN90=BN102,0,BN90)","v":0},0,0,0,0,0,0,0,0,0,0,0,0,0,0,0,0,0,0,0,0,0,0,0,0,0,0,0,0,0,0,0,0,0,{"$f":"M102","v":0},{"$f":"M103","v":0},{"$f":"CX91+CY91","v":1}]
[89,{"$f":"'RECOGIDA DATOS'!CS92","v":0},{"$f":"IF(B91=B102,0,B91)","v":0},0,0,0,0,0,0,0,0,0,0,0,0,0,0,0,0,0,0,0,0,0,0,0,0,0,0,0,0,0,0,0,{"$f":"IF(AH91=AH102,0,AH91)","v":0},0,0,0,0,0,0,0,0,0,0,0,0,0,0,0,0,0,0,0,0,0,0,0,0,0,0,0,0,0,0,0,{"$f":"IF(BN91=BN102,0,BN91)","v":0},0,0,0,0,0,0,0,0,0,0,0,0,0,0,0,0,0,0,0,0,0,0,0,0,0,0,0,0,0,0,0,0,0,{"$f":"L102","v":0},{"$f":"L103","v":0},{"$f":"CX92+CY92","v":1}]
[90,{"$f":"'RECOGIDA DATOS'!CS93","v":0},{"$f":"IF(B92=B102,0,B92)","v":0},0,0,0,0,0,0,0,0,0,0,0,0,0,0,0,0,0,0,0,0,0,0,0,0,0,0,0,0,0,0,0,{"$f":"IF(AH92=AH102,0,AH92)","v":0},0,0,0,0,0,0,0,0,0,0,0,0,0,0,0,0,0,0,0,0,0,0,0,0,0,0,0,0,0,0,0,{"$f":"IF(BN92=BN102,0,BN92)","v":0},0,0,0,0,0,0,0,0,0,0,0,0,0,0,0,0,0,0,0,0,0,0,0,0,0,0,0,0,0,0,0,0,0,{"$f":"K102","v":0},{"$f":"K103","v":0},{"$f":"CX93+CY93","v":1}]
[91,{"$f":"'RECOGIDA DATOS'!CS94","v":0},{"$f":"IF(B93=B102,0,B93)","v":0},0,0,0,0,0,0,0,0,0,0,0,0,0,0,0,0,0,0,0,0,0,0,0,0,0,0,0,0,0,0,0,{"$f":"IF(AH93=AH102,0,AH93)","v":0},0,0,0,0,0,0,0,0,0,0,0,0,0,0,0,0,0,0,0,0,0,0,0,0,0,0,0,0,0,0,0,{"$f":"IF(BN93=BN102,0,BN93)","v":0},0,0,0,0,0,0,0,0,0,0,0,0,0,0,0,0,0,0,0,0,0,0,0,0,0,0,0,0,0,0,0,0,0,{"$f":"J102","v":0},{"$f":"J103","v":0},{"$f":"CX94+CY94","v":1}]
[92,{"$f":"'RECOGIDA DATOS'!CS95","v":0},{"$f":"IF(B94=B102,0,B94)","v":0},0,0,0,0,0,0,0,0,0,0,0,0,0,0,0,0,0,0,0,0,0,0,0,0,0,0,0,0,0,0,0,{"$f":"IF(AH94=AH102,0,AH94)","v":0},0,0,0,0,0,0,0,0,0,0,0,0,0,0,0,0,0,0,0,0,0,0,0,0,0,0,0,0,0,0,0,{"$f":"IF(BN94=BN102,0,BN94)","v":0},0,0,0,0,0,0,0,0,0,0,0,0,0,0,0,0,0,0,0,0,0,0,0,0,0,0,0,0,0,0,0,0,0,{"$f":"I102","v":0},{"$f":"I103","v":0},{"$f":"CX95+CY95","v":1}]
[93,{"$f":"'RECOGIDA DATOS'!CS96","v":0},{"$f":"IF(B95=B102,0,B95)","v":0},0,0,0,0,0,0,0,0,0,0,0,0,0,0,0,0,0,0,0,0,0,0,0,0,0,0,0,0,0,0,0,{"$f":"IF(AH95=AH102,0,AH95)","v":0},0,0,0,0,0,0,0,0,0,0,0,0,0,0,0,0,0,0,0,0,0,0,0,0,0,0,0,0,0,0,0,{"$f":"IF(BN95=BN102,0,BN95)","v":0},0,0,0,0,0,0,0,0,0,0,0,0,0,0,0,0,0,0,0,0,0,0,0,0,0,0,0,0,0,0,0,0,0,{"$f":"H102","v":0},{"$f":"H103","v":0},{"$f":"CX96+CY96","v":1}]
[94,{"$f":"'RECOGIDA DATOS'!CS97","v":0},{"$f":"IF(B96=B102,0,B96)","v":0},0,0,0,0,0,0,0,0,0,0,0,0,0,0,0,0,0,0,0,0,0,0,0,0,0,0,0,0,0,0,0,{"$f":"IF(AH96=AH102,0,AH96)","v":0},0,0,0,0,0,0,0,0,0,0,0,0,0,0,0,0,0,0,0,0,0,0,0,0,0,0,0,0,0,0,0,{"$f":"IF(BN96=BN102,0,BN96)","v":0},0,0,0,0,0,0,0,0,0,0,0,0,0,0,0,0,0,0,0,0,0,0,0,0,0,0,0,0,0,0,0,0,0,{"$f":"G102","v":0},{"$f":"G103","v":0},{"$f":"CX97+CY97","v":1}]
[95,{"$f":"'RECOGIDA DATOS'!CS98","v":0},{"$f":"IF(B97=B102,0,B97)","v":0},0,0,0,0,0,0,0,0,0,0,0,0,0,0,0,0,0,0,0,0,0,0,0,0,0,0,0,0,0,0,0,{"$f":"IF(AH97=AH102,0,AH97)","v":0},0,0,0,0,0,0,0,0,0,0,0,0,0,0,0,0,0,0,0,0,0,0,0,0,0,0,0,0,0,0,0,{"$f":"IF(BN97=BN102,0,BN97)","v":0},0,0,0,0,0,0,0,0,0,0,0,0,0,0,0,0,0,0,0,0,0,0,0,0,0,0,0,0,0,0,0,0,0,{"$f":"F102","v":0},{"$f":"F103","v":0},{"$f":"CX98+CY98","v":1}]
[96,{"$f":"'RECOGIDA DATOS'!CS99","v":0},{"$f":"IF(B98=B102,0,B98)","v":0},0,0,0,0,0,0,0,0,0,0,0,0,0,0,0,0,0,0,0,0,0,0,0,0,0,0,0,0,0,0,0,{"$f":"IF(AH98=AH102,0,AH98)","v":0},0,0,0,0,0,0,0,0,0,0,0,0,0,0,0,0,0,0,0,0,0,0,0,0,0,0,0,0,0,0,0,{"$f":"IF(BN98=BN102,0,BN98)","v":0},0,0,0,0,0,0,0,0,0,0,0,0,0,0,0,0,0,0,0,0,0,0,0,0,0,0,0,0,0,0,0,0,0,{"$f":"E102","v":0},{"$f":"E103","v":0},{"$f":"CX99+CY99","v":1}]
[97,{"$f":"'RECOGIDA DATOS'!CS100","v":0},{"$f":"IF(B99=B102,0,B99)","v":0},0,0,0,0,0,0,0,0,0,0,0,0,0,0,0,0,0,0,0,0,0,0,0,0,0,0,0,0,0,0,0,{"$f":"IF(AH99=AH102,0,AH99)","v":0},0,0,0,0,0,0,0,0,0,0,0,0,0,0,0,0,0,0,0,0,0,0,0,0,0,0,0,0,0,0,0,{"$f":"IF(BN99=BN102,0,BN99)","v":0},0,0,0,0,0,0,0,0,0,0,0,0,0,0,0,0,0,0,0,0,0,0,0,0,0,0,0,0,0,0,0,0,0,{"$f":"D102","v":0},{"$f":"D103","v":0},1]
[98,{"$f":"'RECOGIDA DATOS'!CS101","v":0},{"$f":"IF(B100=B102,0,B100)","v":0},0,0,0,0,0,0,0,0,0,0,0,0,0,0,0,0,0,0,0,0,0,0,0,0,0,0,0,0,0,0,0,{"$f":"IF(AH100=AH102,0,AH100)","v":0},0,0,0,0,0,0,0,0,0,0,0,0,0,0,0,0,0,0,0,0,0,0,0,0,0,0,0,0,0,0,0,{"$f":"IF(BN100=BN102,0,BN100)","v":0},0,0,0,0,0,0,0,0,0,0,0,0,0,0,0,0,0,0,0,0,0,0,0,0,0,0,0,0,0,0,0,0,0,{"$f":"C102","v":0},{"$f":"C103","v":0},1]
[99,{"$f":"'RECOGIDA DATOS'!CS102","v":0},{"$f":"IF(B101=B102,0,B101)","v":0},0,0,0,0,0,0,0,0,0,0,0,0,0,0,0,0,0,0,0,0,0,0,0,0,0,0,0,0,0,0,0,{"$f":"IF(AH101=AH102,0,AH101)","v":0},0,0,0,0,0,0,0,0,0,0,0,0,0,0,0,0,0,0,0,0,0,0,0,0,0,0,0,0,0,0,0,{"$f":"IF(BN101=BN102,0,BN101)","v":0},0,0,0,0,0,0,0,0,0,0,0,0,0,0,0,0,0,0,0,0,0,0,0,0,0,0,0,0,0,0,0,0,0,{"$f":"B102","v":0},{"$f":"B103","v":0},1]
[null,{"$f":"MAX(B3:B101)","v":0},{"$f":"MAX(C3:C101)","v":0},0,0,0,0,0,0,0,0,0,0,0,0,0,0,0,0,0,0,0,0,0,0,0,0,0,0,0,0,0,0,0,0,0,0,0,0,0,0,0,0,0,0,0,0,0,0,0,0,0,0,0,0,0,0,0,0,0,0,0,0,0,0,0,{"$f":"MAX(BO3:BO101)","v":0},0,0,0,0,0,0,0,0,0,0,0,0,0,0,0,0,0,0,0,0,0,0,0,0,0,0,0,0,0,0,0,0,0]
[null,{"$f":"IF(B102=0,0,COUNTIF(B3:B101,B102))","v":0},{"$f":"IF(C102=0,0,COUNTIF(C3:C101,C102))","v":0},0,0,0,0,0,0,0,0,0,0,0,0,0,0,0,0,0,0,0,0,0,0,0,0,0,0,0,0,0,0,0,0,0,0,0,0,0,0,0,0,0,0,0,0,0,0,0,0,0,0,0,0,0,0,0,0,0,0,0,0,0,0,0,{"$f":"IF(BO102=0,0,COUNTIF(BO3:BO101,BO102))","v":0},0,0,0,0,0,0,0,0,0,0,0,0,0,0,0,0,0,0,0,0,0,0,0,0,0,0,0,0,0,0,0,0,0]
[null,"TRES PEORES MARCAS"]
[null,1,{"$f":"B105+1","v":2},{"$f":"C105+1","v":3},{"$f":"D105+1","v":4},{"$f":"E105+1","v":5},{"$f":"F105+1","v":6},{"$f":"G105+1","v":7},{"$f":"H105+1","v":8},{"$f":"I105+1","v":9},{"$f":"J105+1","v":10},{"$f":"K105+1","v":11},{"$f":"L105+1","v":12},{"$f":"M105+1","v":13},{"$f":"N105+1","v":14},{"$f":"O105+1","v":15},{"$f":"P105+1","v":16},{"$f":"Q105+1","v":17},{"$f":"R105+1","v":18},{"$f":"S105+1","v":19},{"$f":"T105+1","v":20},{"$f":"U105+1","v":21},{"$f":"V105+1","v":22},{"$f":"W105+1","v":23},{"$f":"X105+1","v":24},{"$f":"Y105+1","v":25},{"$f":"Z105+1","v":26},{"$f":"AA105+1","v":27},{"$f":"AB105+1","v":28},{"$f":"AC105+1","v":29},{"$f":"AD105+1","v":30},{"$f":"AE105+1","v":31},{"$f":"AF105+1","v":32},{"$f":"AG105+1","v":33},{"$f":"AH105+1","v":34},{"$f":"AI105+1","v":35},{"$f":"AJ105+1","v":36},{"$f":"AK105+1","v":37},{"$f":"AL105+1","v":38},{"$f":"AM105+1","v":39},{"$f":"AN105+1","v":40},{"$f":"AO105+1","v":41},{"$f":"AP105+1","v":42},{"$f":"AQ105+1","v":43},{"$f":"AR105+1","v":44},{"$f":"AS105+1","v":45},{"$f":"AT105+1","v":46},{"$f":"AU105+1","v":47},{"$f":"AV105+1","v":48},{"$f":"AW105+1","v":49},{"$f":"AX105+1","v":50},{"$f":"AY105+1","v":51},{"$f":"AZ105+1","v":52},{"$f":"BA105+1","v":53},{"$f":"BB105+1","v":54},{"$f":"BC105+1","v":55},{"$f":"BD105+1","v":56},{"$f":"BE105+1","v":57},{"$f":"BF105+1","v":58},{"$f":"BG105+1","v":59},{"$f":"BH105+1","v":60},{"$f":"BI105+1","v":61},{"$f":"BJ105+1","v":62},{"$f":"BK105+1","v":63},{"$f":"BL105+1","v":64},{"$f":"BM105+1","v":65},{"$f":"BN105+1","v":66},{"$f":"BO105+1","v":67},{"$f":"BP105+1","v":68},{"$f":"BQ105+1","v":69},{"$f":"BR105+1","v":70},{"$f":"BS105+1","v":71},{"$f":"BT105+1","v":72},{"$f":"BU105+1","v":73},{"$f":"BV105+1","v":74},{"$f":"BW105+1","v":75},{"$f":"BX105+1","v":76},{"$f":"BY105+1","v":77},{"$f":"BZ105+1","v":78},{"$f":"CA105+1","v":79},{"$f":"CB105+1","v":80},{"$f":"CC105+1","v":81},{"$f":"CD105+1","v":82},{"$f":"CE105+1","v":83},{"$f":"CF105+1","v":84},{"$f":"CG105+1","v":85},{"$f":"CH105+1","v":86},{"$f":"CI105+1","v":87},{"$f":"CJ105+1","v":88},{"$f":"CK105+1","v":89},{"$f":"CL105+1","v":90},{"$f":"CM105+1","v":91},{"$f":"CN105+1","v":92},{"$f":"CO105+1","v":93},{"$f":"CP105+1","v":94},{"$f":"CQ105+1","v":95},{"$f":"CR105+1","v":96},{"$f":"CS105+1","v":97},{"$f":"CT105+1","v":98},{"$f":"CU105+1","v":99},"MÓDULO CLASIFICACIÓN - Segundas"]
[1,{"$f":"'RECOGIDA DATOS'!CU4","v":0},{"$f":"IF(B106=B205,0,B106)","v":0},0,0,0,0,0,0,0,0,0,0,0,0,0,0,0,0,0,0,0,0,0,0,0,0,0,0,0,0,0,0,0,{"$f":"IF(AH106=AH205,0,AH106)","v":0},0,0,0,0,0,0,0,0,0,0,0,0,0,0,0,0,0,0,0,0,0,0,0,0,0,0,0,0,0,0,0,{"$f":"IF(BN106=BN205,0,BN106)","v":0},0,0,0,0,0,0,0,0,0,0,0,0,0,0,0,0,0,0,0,0,0,0,0,0,0,0,0,0,0,0,0,0,0,{"$f":"CV$205","v":0},{"$f":"CV$206","v":0},{"$f":"CX107+CY107","v":1}]
[2,{"$f":"'RECOGIDA DATOS'!CU5","v":0},{"$f":"IF(B107=B205,0,B107)","v":0},0,0,0,0,0,0,0,0,0,0,0,0,0,0,0,0,0,0,0,0,0,0,0,0,0,0,0,0,0,0,0,{"$f":"IF(AH107=AH205,0,AH107)","v":0},0,0,0,0,0,0,0,0,0,0,0,0,0,0,0,0,0,0,0,0,0,0,0,0,0,0,0,0,0,0,0,{"$f":"IF(BN107=BN205,0,BN107)","v":0},0,0,0,0,0,0,0,0,0,0,0,0,0,0,0,0,0,0,0,0,0,0,0,0,0,0,0,0,0,0,0,0,0,{"$f":"CU$205","v":0},{"$f":"CU$206","v":0},1]
[3,{"$f":"'RECOGIDA DATOS'!CU6","v":0},{"$f":"IF(B108=B205,0,B108)","v":0},0,0,0,0,0,0,0,0,0,0,0,0,0,0,0,0,0,0,0,0,0,0,0,0,0,0,0,0,0,0,0,{"$f":"IF(AH108=AH205,0,AH108)","v":0},0,0,0,0,0,0,0,0,0,0,0,0,0,0,0,0,0,0,0,0,0,0,0,0,0,0,0,0,0,0,0,{"$f":"IF(BN108=BN205,0,BN108)","v":0},0,0,0,0,0,0,0,0,0,0,0,0,0,0,0,0,0,0,0,0,0,0,0,0,0,0,0,0,0,0,0,0,0,{"$f":"CT$205","v":0},{"$f":"CT$206","v":0},1]
[4,{"$f":"'RECOGIDA DATOS'!CU7","v":0},{"$f":"IF(B109=B205,0,B109)","v":0},0,0,0,0,0,0,0,0,0,0,0,0,0,0,0,0,0,0,0,0,0,0,0,0,0,0,0,0,0,0,0,{"$f":"IF(AH109=AH205,0,AH109)","v":0},0,0,0,0,0,0,0,0,0,0,0,0,0,0,0,0,0,0,0,0,0,0,0,0,0,0,0,0,0,0,0,{"$f":"IF(BN109=BN205,0,BN109)","v":0},0,0,0,0,0,0,0,0,0,0,0,0,0,0,0,0,0,0,0,0,0,0,0,0,0,0,0,0,0,0,0,0,0,{"$f":"CS$205","v":0},{"$f":"CS$206","v":0},1]
[5,{"$f":"'RECOGIDA DATOS'!CU8","v":0},{"$f":"IF(B110=B205,0,B110)","v":0},0,0,0,0,0,0,0,0,0,0,0,0,0,0,0,0,0,0,0,0,0,0,0,0,0,0,0,0,0,0,0,{"$f":"IF(AH110=AH205,0,AH110)","v":0},0,0,0,0,0,0,0,0,0,0,0,0,0,0,0,0,0,0,0,0,0,0,0,0,0,0,0,0,0,0,0,{"$f":"IF(BN110=BN205,0,BN110)","v":0},0,0,0,0,0,0,0,0,0,0,0,0,0,0,0,0,0,0,0,0,0,0,0,0,0,0,0,0,0,0,0,0,0,{"$f":"CR$205","v":0},{"$f":"CR$206","v":0},1]
[6,{"$f":"'RECOGIDA DATOS'!CU9","v":0},{"$f":"IF(B111=B205,0,B111)","v":0},0,0,0,0,0,0,0,0,0,0,0,0,0,0,0,0,0,0,0,0,0,0,0,0,0,0,0,0,0,0,0,{"$f":"IF(AH111=AH205,0,AH111)","v":0},0,0,0,0,0,0,0,0,0,0,0,0,0,0,0,0,0,0,0,0,0,0,0,0,0,0,0,0,0,0,0,{"$f":"IF(BN111=BN205,0,BN111)","v":0},0,0,0,0,0,0,0,0,0,0,0,0,0,0,0,0,0,0,0,0,0,0,0,0,0,0,0,0,0,0,0,0,0,{"$f":"CQ$205","v":0},{"$f":"CQ$206","v":0},1]
[7,{"$f":"'RECOGIDA DATOS'!CU10","v":0},{"$f":"IF(B112=B205,0,B112)","v":0},0,0,0,0,0,0,0,0,0,0,0,0,0,0,0,0,0,0,0,0,0,0,0,0,0,0,0,0,0,0,0,{"$f":"IF(AH112=AH205,0,AH112)","v":0},0,0,0,0,0,0,0,0,0,0,0,0,0,0,0,0,0,0,0,0,0,0,0,0,0,0,0,0,0,0,0,{"$f":"IF(BN112=BN205,0,BN112)","v":0},0,0,0,0,0,0,0,0,0,0,0,0,0,0,0,0,0,0,0,0,0,0,0,0,0,0,0,0,0,0,0,0,0,{"$f":"CP$205","v":0},{"$f":"CP$206","v":0},1]
[8,{"$f":"'RECOGIDA DATOS'!CU11","v":0},{"$f":"IF(B113=B205,0,B113)","v":0},0,0,0,0,0,0,0,0,0,0,0,0,0,0,0,0,0,0,0,0,0,0,0,0,0,0,0,0,0,0,0,{"$f":"IF(AH113=AH205,0,AH113)","v":0},0,0,0,0,0,0,0,0,0,0,0,0,0,0,0,0,0,0,0,0,0,0,0,0,0,0,0,0,0,0,0,{"$f":"IF(BN113=BN205,0,BN113)","v":0},0,0,0,0,0,0,0,0,0,0,0,0,0,0,0,0,0,0,0,0,0,0,0,0,0,0,0,0,0,0,0,0,0,{"$f":"CO$205","v":0},{"$f":"CO$206","v":0},1]
[9,{"$f":"'RECOGIDA DATOS'!CU12","v":0},{"$f":"IF(B114=B205,0,B114)","v":0},0,0,0,0,0,0,0,0,0,0,0,0,0,0,0,0,0,0,0,0,0,0,0,0,0,0,0,0,0,0,0,{"$f":"IF(AH114=AH205,0,AH114)","v":0},0,0,0,0,0,0,0,0,0,0,0,0,0,0,0,0,0,0,0,0,0,0,0,0,0,0,0,0,0,0,0,{"$f":"IF(BN114=BN205,0,BN114)","v":0},0,0,0,0,0,0,0,0,0,0,0,0,0,0,0,0,0,0,0,0,0,0,0,0,0,0,0,0,0,0,0,0,0,{"$f":"CN$205","v":0},{"$f":"CN$206","v":0},1]
[10,{"$f":"'RECOGIDA DATOS'!CU13","v":0},{"$f":"IF(B115=B205,0,B115)","v":0},0,0,0,0,0,0,0,0,0,0,0,0,0,0,0,0,0,0,0,0,0,0,0,0,0,0,0,0,0,0,0,{"$f":"IF(AH115=AH205,0,AH115)","v":0},0,0,0,0,0,0,0,0,0,0,0,0,0,0,0,0,0,0,0,0,0,0,0,0,0,0,0,0,0,0,0,{"$f":"IF(BN115=BN205,0,BN115)","v":0},0,0,0,0,0,0,0,0,0,0,0,0,0,0,0,0,0,0,0,0,0,0,0,0,0,0,0,0,0,0,0,0,0,{"$f":"CM$205","v":0},{"$f":"CM$206","v":0},1]
[11,{"$f":"'RECOGIDA DATOS'!CU14","v":0},{"$f":"IF(B116=B205,0,B116)","v":0},0,0,0,0,0,0,0,0,0,0,0,0,0,0,0,0,0,0,0,0,0,0,0,0,0,0,0,0,0,0,0,{"$f":"IF(AH116=AH205,0,AH116)","v":0},0,0,0,0,0,0,0,0,0,0,0,0,0,0,0,0,0,0,0,0,0,0,0,0,0,0,0,0,0,0,0,{"$f":"IF(BN116=BN205,0,BN116)","v":0},0,0,0,0,0,0,0,0,0,0,0,0,0,0,0,0,0,0,0,0,0,0,0,0,0,0,0,0,0,0,0,0,0,{"$f":"CL$205","v":0},{"$f":"CL$206","v":0},1]
[12,{"$f":"'RECOGIDA DATOS'!CU15","v":0},{"$f":"IF(B117=B205,0,B117)","v":0},0,0,0,0,0,0,0,0,0,0,0,0,0,0,0,0,0,0,0,0,0,0,0,0,0,0,0,0,0,0,0,{"$f":"IF(AH117=AH205,0,AH117)","v":0},0,0,0,0,0,0,0,0,0,0,0,0,0,0,0,0,0,0,0,0,0,0,0,0,0,0,0,0,0,0,0,{"$f":"IF(BN117=BN205,0,BN117)","v":0},0,0,0,0,0,0,0,0,0,0,0,0,0,0,0,0,0,0,0,0,0,0,0,0,0,0,0,0,0,0,0,0,0,{"$f":"CK$205","v":0},{"$f":"CK$206","v":0},1]
[13,{"$f":"'RECOGIDA DATOS'!CU16","v":0},{"$f":"IF(B118=B205,0,B118)","v":0},0,0,0,0,0,0,0,0,0,0,0,0,0,0,0,0,0,0,0,0,0,0,0,0,0,0,0,0,0,0,0,{"$f":"IF(AH118=AH205,0,AH118)","v":0},0,0,0,0,0,0,0,0,0,0,0,0,0,0,0,0,0,0,0,0,0,0,0,0,0,0,0,0,0,0,0,{"$f":"IF(BN118=BN205,0,BN118)","v":0},0,0,0,0,0,0,0,0,0,0,0,0,0,0,0,0,0,0,0,0,0,0,0,0,0,0,0,0,0,0,0,0,0,{"$f":"CJ$205","v":0},{"$f":"CJ$206","v":0},1]
[14,{"$f":"'RECOGIDA DATOS'!CU17","v":0},{"$f":"IF(B119=B205,0,B119)","v":0},0,0,0,0,0,0,0,0,0,0,0,0,0,0,0,0,0,0,0,0,0,0,0,0,0,0,0,0,0,0,0,{"$f":"IF(AH119=AH205,0,AH119)","v":0},0,0,0,0,0,0,0,0,0,0,0,0,0,0,0,0,0,0,0,0,0,0,0,0,0,0,0,0,0,0,0,{"$f":"IF(BN119=BN205,0,BN119)","v":0},0,0,0,0,0,0,0,0,0,0,0,0,0,0,0,0,0,0,0,0,0,0,0,0,0,0,0,0,0,0,0,0,0,{"$f":"CI$205","v":0},{"$f":"CI$206","v":0},1]
[15,{"$f":"'RECOGIDA DATOS'!CU18","v":0},{"$f":"IF(B120=B205,0,B120)","v":0},0,0,0,0,0,0,0,0,0,0,0,0,0,0,0,0,0,0,0,0,0,0,0,0,0,0,0,0,0,0,0,{"$f":"IF(AH120=AH205,0,AH120)","v":0},0,0,0,0,0,0,0,0,0,0,0,0,0,0,0,0,0,0,0,0,0,0,0,0,0,0,0,0,0,0,0,{"$f":"IF(BN120=BN205,0,BN120)","v":0},0,0,0,0,0,0,0,0,0,0,0,0,0,0,0,0,0,0,0,0,0,0,0,0,0,0,0,0,0,0,0,0,0,{"$f":"CH$205","v":0},{"$f":"CH$206","v":0},1]
[16,{"$f":"'RECOGIDA DATOS'!CU19","v":0},{"$f":"IF(B121=B205,0,B121)","v":0},0,0,0,0,0,0,0,0,0,0,0,0,0,0,0,0,0,0,0,0,0,0,0,0,0,0,0,0,0,0,0,{"$f":"IF(AH121=AH205,0,AH121)","v":0},0,0,0,0,0,0,0,0,0,0,0,0,0,0,0,0,0,0,0,0,0,0,0,0,0,0,0,0,0,0,0,{"$f":"IF(BN121=BN205,0,BN121)","v":0},0,0,0,0,0,0,0,0,0,0,0,0,0,0,0,0,0,0,0,0,0,0,0,0,0,0,0,0,0,0,0,0,0,{"$f":"CG$205","v":0},{"$f":"CG$206","v":0},1]
[17,{"$f":"'RECOGIDA DATOS'!CU20","v":0},{"$f":"IF(B122=B205,0,B122)","v":0},0,0,0,0,0,0,0,0,0,0,0,0,0,0,0,0,0,0,0,0,0,0,0,0,0,0,0,0,0,0,0,{"$f":"IF(AH122=AH205,0,AH122)","v":0},0,0,0,0,0,0,0,0,0,0,0,0,0,0,0,0,0,0,0,0,0,0,0,0,0,0,0,0,0,0,0,{"$f":"IF(BN122=BN205,0,BN122)","v":0},0,0,0,0,0,0,0,0,0,0,0,0,0,0,0,0,0,0,0,0,0,0,0,0,0,0,0,0,0,0,0,0,0,{"$f":"CF$205","v":0},{"$f":"CF$206","v":0},1]
[18,{"$f":"'RECOGIDA DATOS'!CU21","v":0},{"$f":"IF(B123=B205,0,B123)","v":0},0,0,0,0,0,0,0,0,0,0,0,0,0,0,0,0,0,0,0,0,0,0,0,0,0,0,0,0,0,0,0,{"$f":"IF(AH123=AH205,0,AH123)","v":0},0,0,0,0,0,0,0,0,0,0,0,0,0,0,0,0,0,0,0,0,0,0,0,0,0,0,0,0,0,0,0,{"$f":"IF(BN123=BN205,0,BN123)","v":0},0,0,0,0,0,0,0,0,0,0,0,0,0,0,0,0,0,0,0,0,0,0,0,0,0,0,0,0,0,0,0,0,0,{"$f":"CE$205","v":0},{"$f":"CE$206","v":0},1]
[19,{"$f":"'RECOGIDA DATOS'!CU22","v":0},{"$f":"IF(B124=B205,0,B124)","v":0},0,0,0,0,0,0,0,0,0,0,0,0,0,0,0,0,0,0,0,0,0,0,0,0,0,0,0,0,0,0,0,{"$f":"IF(AH124=AH205,0,AH124)","v":0},0,0,0,0,0,0,0,0,0,0,0,0,0,0,0,0,0,0,0,0,0,0,0,0,0,0,0,0,0,0,0,{"$f":"IF(BN124=BN205,0,BN124)","v":0},0,0,0,0,0,0,0,0,0,0,0,0,0,0,0,0,0,0,0,0,0,0,0,0,0,0,0,0,0,0,0,0,0,{"$f":"CD$205","v":0},{"$f":"CD$206","v":0},1]
[20,{"$f":"'RECOGIDA DATOS'!CU23","v":0},{"$f":"IF(B125=B205,0,B125)","v":0},0,0,0,0,0,0,0,0,0,0,0,0,0,0,0,0,0,0,0,0,0,0,0,0,0,0,0,0,0,0,0,{"$f":"IF(AH125=AH205,0,AH125)","v":0},0,0,0,0,0,0,0,0,0,0,0,0,0,0,0,0,0,0,0,0,0,0,0,0,0,0,0,0,0,0,0,{"$f":"IF(BN125=BN205,0,BN125)","v":0},0,0,0,0,0,0,0,0,0,0,0,0,0,0,0,0,0,0,0,0,0,0,0,0,0,0,0,0,0,0,0,0,0,{"$f":"CC$205","v":0},{"$f":"CC$206","v":0},1]
[21,{"$f":"'RECOGIDA DATOS'!CU24","v":0},{"$f":"IF(B126=B205,0,B126)","v":0},0,0,0,0,0,0,0,0,0,0,0,0,0,0,0,0,0,0,0,0,0,0,0,0,0,0,0,0,0,0,0,{"$f":"IF(AH126=AH205,0,AH126)","v":0},0,0,0,0,0,0,0,0,0,0,0,0,0,0,0,0,0,0,0,0,0,0,0,0,0,0,0,0,0,0,0,{"$f":"IF(BN126=BN205,0,BN126)","v":0},0,0,0,0,0,0,0,0,0,0,0,0,0,0,0,0,0,0,0,0,0,0,0,0,0,0,0,0,0,0,0,0,0,{"$f":"CB$205","v":0},{"$f":"CB$206","v":0},1]
[22,{"$f":"'RECOGIDA DATOS'!CU25","v":0},{"$f":"IF(B127=B205,0,B127)","v":0},0,0,0,0,0,0,0,0,0,0,0,0,0,0,0,0,0,0,0,0,0,0,0,0,0,0,0,0,0,0,0,{"$f":"IF(AH127=AH205,0,AH127)","v":0},0,0,0,0,0,0,0,0,0,0,0,0,0,0,0,0,0,0,0,0,0,0,0,0,0,0,0,0,0,0,0,{"$f":"IF(BN127=BN205,0,BN127)","v":0},0,0,0,0,0,0,0,0,0,0,0,0,0,0,0,0,0,0,0,0,0,0,0,0,0,0,0,0,0,0,0,0,0,{"$f":"CA$205","v":0},{"$f":"CA$206","v":0},1]
[23,{"$f":"'RECOGIDA DATOS'!CU26","v":0},{"$f":"IF(B128=B205,0,B128)","v":0},0,0,0,0,0,0,0,0,0,0,0,0,0,0,0,0,0,0,0,0,0,0,0,0,0,0,0,0,0,0,0,{"$f":"IF(AH128=AH205,0,AH128)","v":0},0,0,0,0,0,0,0,0,0,0,0,0,0,0,0,0,0,0,0,0,0,0,0,0,0,0,0,0,0,0,0,{"$f":"IF(BN128=BN205,0,BN128)","v":0},0,0,0,0,0,0,0,0,0,0,0,0,0,0,0,0,0,0,0,0,0,0,0,0,0,0,0,0,0,0,0,0,0,{"$f":"BZ$205","v":0},{"$f":"BZ$206","v":0},1]
[24,{"$f":"'RECOGIDA DATOS'!CU27","v":0},{"$f":"IF(B129=B205,0,B129)","v":0},0,0,0,0,0,0,0,0,0,0,0,0,0,0,0,0,0,0,0,0,0,0,0,0,0,0,0,0,0,0,0,{"$f":"IF(AH129=AH205,0,AH129)","v":0},0,0,0,0,0,0,0,0,0,0,0,0,0,0,0,0,0,0,0,0,0,0,0,0,0,0,0,0,0,0,0,{"$f":"IF(BN129=BN205,0,BN129)","v":0},0,0,0,0,0,0,0,0,0,0,0,0,0,0,0,0,0,0,0,0,0,0,0,0,0,0,0,0,0,0,0,0,0,{"$f":"BY$205","v":0},{"$f":"BY$206","v":0},1]
[25,{"$f":"'RECOGIDA DATOS'!CU28","v":0},{"$f":"IF(B130=B205,0,B130)","v":0},0,0,0,0,0,0,0,0,0,0,0,0,0,0,0,0,0,0,0,0,0,0,0,0,0,0,0,0,0,0,0,{"$f":"IF(AH130=AH205,0,AH130)","v":0},0,0,0,0,0,0,0,0,0,0,0,0,0,0,0,0,0,0,0,0,0,0,0,0,0,0,0,0,0,0,0,{"$f":"IF(BN130=BN205,0,BN130)","v":0},0,0,0,0,0,0,0,0,0,0,0,0,0,0,0,0,0,0,0,0,0,0,0,0,0,0,0,0,0,0,0,0,0,{"$f":"BX$205","v":0},{"$f":"BX$206","v":0},1]
[26,{"$f":"'RECOGIDA DATOS'!CU29","v":0},{"$f":"IF(B131=B205,0,B131)","v":0},0,0,0,0,0,0,0,0,0,0,0,0,0,0,0,0,0,0,0,0,0,0,0,0,0,0,0,0,0,0,0,{"$f":"IF(AH131=AH205,0,AH131)","v":0},0,0,0,0,0,0,0,0,0,0,0,0,0,0,0,0,0,0,0,0,0,0,0,0,0,0,0,0,0,0,0,{"$f":"IF(BN131=BN205,0,BN131)","v":0},0,0,0,0,0,0,0,0,0,0,0,0,0,0,0,0,0,0,0,0,0,0,0,0,0,0,0,0,0,0,0,0,0,{"$f":"BW$205","v":0},{"$f":"BW$206","v":0},1]
[27,{"$f":"'RECOGIDA DATOS'!CU30","v":0},{"$f":"IF(B132=B205,0,B132)","v":0},0,0,0,0,0,0,0,0,0,0,0,0,0,0,0,0,0,0,0,0,0,0,0,0,0,0,0,0,0,0,0,{"$f":"IF(AH132=AH205,0,AH132)","v":0},0,0,0,0,0,0,0,0,0,0,0,0,0,0,0,0,0,0,0,0,0,0,0,0,0,0,0,0,0,0,0,{"$f":"IF(BN132=BN205,0,BN132)","v":0},0,0,0,0,0,0,0,0,0,0,0,0,0,0,0,0,0,0,0,0,0,0,0,0,0,0,0,0,0,0,0,0,0,{"$f":"BV$205","v":0},{"$f":"BV$206","v":0},1]
[28,{"$f":"'RECOGIDA DATOS'!CU31","v":0},{"$f":"IF(B133=B205,0,B133)","v":0},0,0,0,0,0,0,0,0,0,0,0,0,0,0,0,0,0,0,0,0,0,0,0,0,0,0,0,0,0,0,0,{"$f":"IF(AH133=AH205,0,AH133)","v":0},0,0,0,0,0,0,0,0,0,0,0,0,0,0,0,0,0,0,0,0,0,0,0,0,0,0,0,0,0,0,0,{"$f":"IF(BN133=BN205,0,BN133)","v":0},0,0,0,0,0,0,0,0,0,0,0,0,0,0,0,0,0,0,0,0,0,0,0,0,0,0,0,0,0,0,0,0,0,{"$f":"BU$205","v":0},{"$f":"BU$206","v":0},1]
[29,{"$f":"'RECOGIDA DATOS'!CU32","v":0},{"$f":"IF(B134=B205,0,B134)","v":0},0,0,0,0,0,0,0,0,0,0,0,0,0,0,0,0,0,0,0,0,0,0,0,0,0,0,0,0,0,0,0,{"$f":"IF(AH134=AH205,0,AH134)","v":0},0,0,0,0,0,0,0,0,0,0,0,0,0,0,0,0,0,0,0,0,0,0,0,0,0,0,0,0,0,0,0,{"$f":"IF(BN134=BN205,0,BN134)","v":0},0,0,0,0,0,0,0,0,0,0,0,0,0,0,0,0,0,0,0,0,0,0,0,0,0,0,0,0,0,0,0,0,0,{"$f":"BT$205","v":0},{"$f":"BT$206","v":0},1]
[30,{"$f":"'RECOGIDA DATOS'!CU33","v":0},{"$f":"IF(B135=B205,0,B135)","v":0},0,0,0,0,0,0,0,0,0,0,0,0,0,0,0,0,0,0,0,0,0,0,0,0,0,0,0,0,0,0,0,{"$f":"IF(AH135=AH205,0,AH135)","v":0},0,0,0,0,0,0,0,0,0,0,0,0,0,0,0,0,0,0,0,0,0,0,0,0,0,0,0,0,0,0,0,{"$f":"IF(BN135=BN205,0,BN135)","v":0},0,0,0,0,0,0,0,0,0,0,0,0,0,0,0,0,0,0,0,0,0,0,0,0,0,0,0,0,0,0,0,0,0,{"$f":"BS$205","v":0},{"$f":"BS$206","v":0},1]
[31,{"$f":"'RECOGIDA DATOS'!CU34","v":0},{"$f":"IF(B136=B205,0,B136)","v":0},0,0,0,0,0,0,0,0,0,0,0,0,0,0,0,0,0,0,0,0,0,0,0,0,0,0,0,0,0,0,0,{"$f":"IF(AH136=AH205,0,AH136)","v":0},0,0,0,0,0,0,0,0,0,0,0,0,0,0,0,0,0,0,0,0,0,0,0,0,0,0,0,0,0,0,0,{"$f":"IF(BN136=BN205,0,BN136)","v":0},0,0,0,0,0,0,0,0,0,0,0,0,0,0,0,0,0,0,0,0,0,0,0,0,0,0,0,0,0,0,0,0,0,{"$f":"BR$205","v":0},{"$f":"BR$206","v":0},1]
[32,{"$f":"'RECOGIDA DATOS'!CU35","v":0},{"$f":"IF(B137=B205,0,B137)","v":0},0,0,0,0,0,0,0,0,0,0,0,0,0,0,0,0,0,0,0,0,0,0,0,0,0,0,0,0,0,0,0,{"$f":"IF(AH137=AH205,0,AH137)","v":0},0,0,0,0,0,0,0,0,0,0,0,0,0,0,0,0,0,0,0,0,0,0,0,0,0,0,0,0,0,0,0,{"$f":"IF(BN137=BN205,0,BN137)","v":0},0,0,0,0,0,0,0,0,0,0,0,0,0,0,0,0,0,0,0,0,0,0,0,0,0,0,0,0,0,0,0,0,0,{"$f":"BQ$205","v":0},{"$f":"BQ$206","v":0},1]
[33,{"$f":"'RECOGIDA DATOS'!CU36","v":0},{"$f":"IF(B138=B205,0,B138)","v":0},0,0,0,0,0,0,0,0,0,0,0,0,0,0,0,0,0,0,0,0,0,0,0,0,0,0,0,0,0,0,0,{"$f":"IF(AH138=AH205,0,AH138)","v":0},0,0,0,0,0,0,0,0,0,0,0,0,0,0,0,0,0,0,0,0,0,0,0,0,0,0,0,0,0,0,0,{"$f":"IF(BN138=BN205,0,BN138)","v":0},0,0,0,0,0,0,0,0,0,0,0,0,0,0,0,0,0,0,0,0,0,0,0,0,0,0,0,0,0,0,0,0,0,{"$f":"BP$205","v":0},{"$f":"BP$206","v":0},1]
[34,{"$f":"'RECOGIDA DATOS'!CU37","v":0},{"$f":"IF(B139=B205,0,B139)","v":0},0,0,0,0,0,0,0,0,0,0,0,0,0,0,0,0,0,0,0,0,0,0,0,0,0,0,0,0,0,0,0,{"$f":"IF(AH139=AH205,0,AH139)","v":0},0,0,0,0,0,0,0,0,0,0,0,0,0,0,0,0,0,0,0,0,0,0,0,0,0,0,0,0,0,0,0,{"$f":"IF(BN139=BN205,0,BN139)","v":0},0,0,0,0,0,0,0,0,0,0,0,0,0,0,0,0,0,0,0,0,0,0,0,0,0,0,0,0,0,0,0,0,0,{"$f":"BO$205","v":0},{"$f":"BO$206","v":0},1]
[35,{"$f":"'RECOGIDA DATOS'!CU38","v":0},{"$f":"IF(B140=B205,0,B140)","v":0},0,0,0,0,0,0,0,0,0,0,0,0,0,0,0,0,0,0,0,0,0,0,0,0,0,0,0,0,0,0,0,{"$f":"IF(AH140=AH205,0,AH140)","v":0},0,0,0,0,0,0,0,0,0,0,0,0,0,0,0,0,0,0,0,0,0,0,0,0,0,0,0,0,0,0,0,{"$f":"IF(BN140=BN205,0,BN140)","v":0},0,0,0,0,0,0,0,0,0,0,0,0,0,0,0,0,0,0,0,0,0,0,0,0,0,0,0,0,0,0,0,0,0,{"$f":"BN$205","v":0},{"$f":"BN$206","v":0},1]
[36,{"$f":"'RECOGIDA DATOS'!CU39","v":0},{"$f":"IF(B141=B205,0,B141)","v":0},0,0,0,0,0,0,0,0,0,0,0,0,0,0,0,0,0,0,0,0,0,0,0,0,0,0,0,0,0,0,0,{"$f":"IF(AH141=AH205,0,AH141)","v":0},0,0,0,0,0,0,0,0,0,0,0,0,0,0,0,0,0,0,0,0,0,0,0,0,0,0,0,0,0,0,0,{"$f":"IF(BN141=BN205,0,BN141)","v":0},0,0,0,0,0,0,0,0,0,0,0,0,0,0,0,0,0,0,0,0,0,0,0,0,0,0,0,0,0,0,0,0,0,{"$f":"BM$205","v":0},{"$f":"BM$206","v":0},1]
[37,{"$f":"'RECOGIDA DATOS'!CU40","v":0},{"$f":"IF(B142=B205,0,B142)","v":0},0,0,0,0,0,0,0,0,0,0,0,0,0,0,0,0,0,0,0,0,0,0,0,0,0,0,0,0,0,0,0,{"$f":"IF(AH142=AH205,0,AH142)","v":0},0,0,0,0,0,0,0,0,0,0,0,0,0,0,0,0,0,0,0,0,0,0,0,0,0,0,0,0,0,0,0,{"$f":"IF(BN142=BN205,0,BN142)","v":0},0,0,0,0,0,0,0,0,0,0,0,0,0,0,0,0,0,0,0,0,0,0,0,0,0,0,0,0,0,0,0,0,0,{"$f":"BL$205","v":0},{"$f":"BL$206","v":0},1]
[38,{"$f":"'RECOGIDA DATOS'!CU41","v":0},{"$f":"IF(B143=B205,0,B143)","v":0},0,0,0,0,0,0,0,0,0,0,0,0,0,0,0,0,0,0,0,0,0,0,0,0,0,0,0,0,0,0,0,{"$f":"IF(AH143=AH205,0,AH143)","v":0},0,0,0,0,0,0,0,0,0,0,0,0,0,0,0,0,0,0,0,0,0,0,0,0,0,0,0,0,0,0,0,{"$f":"IF(BN143=BN205,0,BN143)","v":0},0,0,0,0,0,0,0,0,0,0,0,0,0,0,0,0,0,0,0,0,0,0,0,0,0,0,0,0,0,0,0,0,0,{"$f":"BK$205","v":0},{"$f":"BK$206","v":0},1]
[39,{"$f":"'RECOGIDA DATOS'!CU42","v":0},{"$f":"IF(B144=B205,0,B144)","v":0},0,0,0,0,0,0,0,0,0,0,0,0,0,0,0,0,0,0,0,0,0,0,0,0,0,0,0,0,0,0,0,{"$f":"IF(AH144=AH205,0,AH144)","v":0},0,0,0,0,0,0,0,0,0,0,0,0,0,0,0,0,0,0,0,0,0,0,0,0,0,0,0,0,0,0,0,{"$f":"IF(BN144=BN205,0,BN144)","v":0},0,0,0,0,0,0,0,0,0,0,0,0,0,0,0,0,0,0,0,0,0,0,0,0,0,0,0,0,0,0,0,0,0,{"$f":"BJ$205","v":0},{"$f":"BJ$206","v":0},1]
[40,{"$f":"'RECOGIDA DATOS'!CU43","v":0},{"$f":"IF(B145=B205,0,B145)","v":0},0,0,0,0,0,0,0,0,0,0,0,0,0,0,0,0,0,0,0,0,0,0,0,0,0,0,0,0,0,0,0,{"$f":"IF(AH145=AH205,0,AH145)","v":0},0,0,0,0,0,0,0,0,0,0,0,0,0,0,0,0,0,0,0,0,0,0,0,0,0,0,0,0,0,0,0,{"$f":"IF(BN145=BN205,0,BN145)","v":0},0,0,0,0,0,0,0,0,0,0,0,0,0,0,0,0,0,0,0,0,0,0,0,0,0,0,0,0,0,0,0,0,0,{"$f":"BI$205","v":0},{"$f":"BI$206","v":0},1]
[41,{"$f":"'RECOGIDA DATOS'!CU44","v":0},{"$f":"IF(B146=B205,0,B146)","v":0},0,0,0,0,0,0,0,0,0,0,0,0,0,0,0,0,0,0,0,0,0,0,0,0,0,0,0,0,0,0,0,{"$f":"IF(AH146=AH205,0,AH146)","v":0},0,0,0,0,0,0,0,0,0,0,0,0,0,0,0,0,0,0,0,0,0,0,0,0,0,0,0,0,0,0,0,{"$f":"IF(BN146=BN205,0,BN146)","v":0},0,0,0,0,0,0,0,0,0,0,0,0,0,0,0,0,0,0,0,0,0,0,0,0,0,0,0,0,0,0,0,0,0,{"$f":"BH$205","v":0},{"$f":"BH$206","v":0},1]
[42,{"$f":"'RECOGIDA DATOS'!CU45","v":0},{"$f":"IF(B147=B205,0,B147)","v":0},0,0,0,0,0,0,0,0,0,0,0,0,0,0,0,0,0,0,0,0,0,0,0,0,0,0,0,0,0,0,0,{"$f":"IF(AH147=AH205,0,AH147)","v":0},0,0,0,0,0,0,0,0,0,0,0,0,0,0,0,0,0,0,0,0,0,0,0,0,0,0,0,0,0,0,0,{"$f":"IF(BN147=BN205,0,BN147)","v":0},0,0,0,0,0,0,0,0,0,0,0,0,0,0,0,0,0,0,0,0,0,0,0,0,0,0,0,0,0,0,0,0,0,{"$f":"BG$205","v":0},{"$f":"BG$206","v":0},1]
[43,{"$f":"'RECOGIDA DATOS'!CU46","v":0},{"$f":"IF(B148=B205,0,B148)","v":0},0,0,0,0,0,0,0,0,0,0,0,0,0,0,0,0,0,0,0,0,0,0,0,0,0,0,0,0,0,0,0,{"$f":"IF(AH148=AH205,0,AH148)","v":0},0,0,0,0,0,0,0,0,0,0,0,0,0,0,0,0,0,0,0,0,0,0,0,0,0,0,0,0,0,0,0,{"$f":"IF(BN148=BN205,0,BN148)","v":0},0,0,0,0,0,0,0,0,0,0,0,0,0,0,0,0,0,0,0,0,0,0,0,0,0,0,0,0,0,0,0,0,0,{"$f":"BF$205","v":0},{"$f":"BF$206","v":0},1]
[44,{"$f":"'RECOGIDA DATOS'!CU47","v":0},{"$f":"IF(B149=B205,0,B149)","v":0},0,0,0,0,0,0,0,0,0,0,0,0,0,0,0,0,0,0,0,0,0,0,0,0,0,0,0,0,0,0,0,{"$f":"IF(AH149=AH205,0,AH149)","v":0},0,0,0,0,0,0,0,0,0,0,0,0,0,0,0,0,0,0,0,0,0,0,0,0,0,0,0,0,0,0,0,{"$f":"IF(BN149=BN205,0,BN149)","v":0},0,0,0,0,0,0,0,0,0,0,0,0,0,0,0,0,0,0,0,0,0,0,0,0,0,0,0,0,0,0,0,0,0,{"$f":"BE$205","v":0},{"$f":"BE$206","v":0},1]
[45,{"$f":"'RECOGIDA DATOS'!CU48","v":0},{"$f":"IF(B150=B205,0,B150)","v":0},0,0,0,0,0,0,0,0,0,0,0,0,0,0,0,0,0,0,0,0,0,0,0,0,0,0,0,0,0,0,0,{"$f":"IF(AH150=AH205,0,AH150)","v":0},0,0,0,0,0,0,0,0,0,0,0,0,0,0,0,0,0,0,0,0,0,0,0,0,0,0,0,0,0,0,0,{"$f":"IF(BN150=BN205,0,BN150)","v":0},0,0,0,0,0,0,0,0,0,0,0,0,0,0,0,0,0,0,0,0,0,0,0,0,0,0,0,0,0,0,0,0,0,{"$f":"BD$205","v":0},{"$f":"BD$206","v":0},1]
[46,{"$f":"'RECOGIDA DATOS'!CU49","v":0},{"$f":"IF(B151=B205,0,B151)","v":0},0,0,0,0,0,0,0,0,0,0,0,0,0,0,0,0,0,0,0,0,0,0,0,0,0,0,0,0,0,0,0,{"$f":"IF(AH151=AH205,0,AH151)","v":0},0,0,0,0,0,0,0,0,0,0,0,0,0,0,0,0,0,0,0,0,0,0,0,0,0,0,0,0,0,0,0,{"$f":"IF(BN151=BN205,0,BN151)","v":0},0,0,0,0,0,0,0,0,0,0,0,0,0,0,0,0,0,0,0,0,0,0,0,0,0,0,0,0,0,0,0,0,0,{"$f":"BC$205","v":0},{"$f":"BC$206","v":0},1]
[47,{"$f":"'RECOGIDA DATOS'!CU50","v":0},{"$f":"IF(B152=B205,0,B152)","v":0},0,0,0,0,0,0,0,0,0,0,0,0,0,0,0,0,0,0,0,0,0,0,0,0,0,0,0,0,0,0,0,{"$f":"IF(AH152=AH205,0,AH152)","v":0},0,0,0,0,0,0,0,0,0,0,0,0,0,0,0,0,0,0,0,0,0,0,0,0,0,0,0,0,0,0,0,{"$f":"IF(BN152=BN205,0,BN152)","v":0},0,0,0,0,0,0,0,0,0,0,0,0,0,0,0,0,0,0,0,0,0,0,0,0,0,0,0,0,0,0,0,0,0,{"$f":"BB$205","v":0},{"$f":"BB$206","v":0},1]
[48,{"$f":"'RECOGIDA DATOS'!CU51","v":0},{"$f":"IF(B153=B205,0,B153)","v":0},0,0,0,0,0,0,0,0,0,0,0,0,0,0,0,0,0,0,0,0,0,0,0,0,0,0,0,0,0,0,0,{"$f":"IF(AH153=AH205,0,AH153)","v":0},0,0,0,0,0,0,0,0,0,0,0,0,0,0,0,0,0,0,0,0,0,0,0,0,0,0,0,0,0,0,0,{"$f":"IF(BN153=BN205,0,BN153)","v":0},0,0,0,0,0,0,0,0,0,0,0,0,0,0,0,0,0,0,0,0,0,0,0,0,0,0,0,0,0,0,0,0,0,{"$f":"BA$205","v":0},{"$f":"BA$206","v":0},1]
[49,{"$f":"'RECOGIDA DATOS'!CU52","v":0},{"$f":"IF(B154=B205,0,B154)","v":0},0,0,0,0,0,0,0,0,0,0,0,0,0,0,0,0,0,0,0,0,0,0,0,0,0,0,0,0,0,0,0,{"$f":"IF(AH154=AH205,0,AH154)","v":0},0,0,0,0,0,0,0,0,0,0,0,0,0,0,0,0,0,0,0,0,0,0,0,0,0,0,0,0,0,0,0,{"$f":"IF(BN154=BN205,0,BN154)","v":0},0,0,0,0,0,0,0,0,0,0,0,0,0,0,0,0,0,0,0,0,0,0,0,0,0,0,0,0,0,0,0,0,0,{"$f":"AZ$205","v":0},{"$f":"AZ$206","v":0},1]
[50,{"$f":"'RECOGIDA DATOS'!CU53","v":0},{"$f":"IF(B155=B205,0,B155)","v":0},0,0,0,0,0,0,0,0,0,0,0,0,0,0,0,0,0,0,0,0,0,0,0,0,0,0,0,0,0,0,0,{"$f":"IF(AH155=AH205,0,AH155)","v":0},0,0,0,0,0,0,0,0,0,0,0,0,0,0,0,0,0,0,0,0,0,0,0,0,0,0,0,0,0,0,0,{"$f":"IF(BN155=BN205,0,BN155)","v":0},0,0,0,0,0,0,0,0,0,0,0,0,0,0,0,0,0,0,0,0,0,0,0,0,0,0,0,0,0,0,0,0,0,{"$f":"AY$205","v":0},{"$f":"AY$206","v":0},1]
[51,{"$f":"'RECOGIDA DATOS'!CU54","v":0},{"$f":"IF(B156=B205,0,B156)","v":0},0,0,0,0,0,0,0,0,0,0,0,0,0,0,0,0,0,0,0,0,0,0,0,0,0,0,0,0,0,0,0,{"$f":"IF(AH156=AH205,0,AH156)","v":0},0,0,0,0,0,0,0,0,0,0,0,0,0,0,0,0,0,0,0,0,0,0,0,0,0,0,0,0,0,0,0,{"$f":"IF(BN156=BN205,0,BN156)","v":0},0,0,0,0,0,0,0,0,0,0,0,0,0,0,0,0,0,0,0,0,0,0,0,0,0,0,0,0,0,0,0,0,0,{"$f":"AX$205","v":0},{"$f":"AX$206","v":0},1]
[52,{"$f":"'RECOGIDA DATOS'!CU55","v":0},{"$f":"IF(B157=B205,0,B157)","v":0},0,0,0,0,0,0,0,0,0,0,0,0,0,0,0,0,0,0,0,0,0,0,0,0,0,0,0,0,0,0,0,{"$f":"IF(AH157=AH205,0,AH157)","v":0},0,0,0,0,0,0,0,0,0,0,0,0,0,0,0,0,0,0,0,0,0,0,0,0,0,0,0,0,0,0,0,{"$f":"IF(BN157=BN205,0,BN157)","v":0},0,0,0,0,0,0,0,0,0,0,0,0,0,0,0,0,0,0,0,0,0,0,0,0,0,0,0,0,0,0,0,0,0,{"$f":"AW$205","v":0},{"$f":"AW$206","v":0},1]
[53,{"$f":"'RECOGIDA DATOS'!CU56","v":0},{"$f":"IF(B158=B205,0,B158)","v":0},0,0,0,0,0,0,0,0,0,0,0,0,0,0,0,0,0,0,0,0,0,0,0,0,0,0,0,0,0,0,0,{"$f":"IF(AH158=AH205,0,AH158)","v":0},0,0,0,0,0,0,0,0,0,0,0,0,0,0,0,0,0,0,0,0,0,0,0,0,0,0,0,0,0,0,0,{"$f":"IF(BN158=BN205,0,BN158)","v":0},0,0,0,0,0,0,0,0,0,0,0,0,0,0,0,0,0,0,0,0,0,0,0,0,0,0,0,0,0,0,0,0,0,{"$f":"AV$205","v":0},{"$f":"AV$206","v":0},1]
[54,{"$f":"'RECOGIDA DATOS'!CU57","v":0},{"$f":"IF(B159=B205,0,B159)","v":0},0,0,0,0,0,0,0,0,0,0,0,0,0,0,0,0,0,0,0,0,0,0,0,0,0,0,0,0,0,0,0,{"$f":"IF(AH159=AH205,0,AH159)","v":0},0,0,0,0,0,0,0,0,0,0,0,0,0,0,0,0,0,0,0,0,0,0,0,0,0,0,0,0,0,0,0,{"$f":"IF(BN159=BN205,0,BN159)","v":0},0,0,0,0,0,0,0,0,0,0,0,0,0,0,0,0,0,0,0,0,0,0,0,0,0,0,0,0,0,0,0,0,0,{"$f":"AU$205","v":0},{"$f":"AU$206","v":0},1]
[55,{"$f":"'RECOGIDA DATOS'!CU58","v":0},{"$f":"IF(B160=B205,0,B160)","v":0},0,0,0,0,0,0,0,0,0,0,0,0,0,0,0,0,0,0,0,0,0,0,0,0,0,0,0,0,0,0,0,{"$f":"IF(AH160=AH205,0,AH160)","v":0},0,0,0,0,0,0,0,0,0,0,0,0,0,0,0,0,0,0,0,0,0,0,0,0,0,0,0,0,0,0,0,{"$f":"IF(BN160=BN205,0,BN160)","v":0},0,0,0,0,0,0,0,0,0,0,0,0,0,0,0,0,0,0,0,0,0,0,0,0,0,0,0,0,0,0,0,0,0,{"$f":"AT$205","v":0},{"$f":"AT$206","v":0},1]
[56,{"$f":"'RECOGIDA DATOS'!CU59","v":0},{"$f":"IF(B161=B205,0,B161)","v":0},0,0,0,0,0,0,0,0,0,0,0,0,0,0,0,0,0,0,0,0,0,0,0,0,0,0,0,0,0,0,0,{"$f":"IF(AH161=AH205,0,AH161)","v":0},0,0,0,0,0,0,0,0,0,0,0,0,0,0,0,0,0,0,0,0,0,0,0,0,0,0,0,0,0,0,0,{"$f":"IF(BN161=BN205,0,BN161)","v":0},0,0,0,0,0,0,0,0,0,0,0,0,0,0,0,0,0,0,0,0,0,0,0,0,0,0,0,0,0,0,0,0,0,{"$f":"AS$205","v":0},{"$f":"AS$206","v":0},1]
[57,{"$f":"'RECOGIDA DATOS'!CU60","v":0},{"$f":"IF(B162=B205,0,B162)","v":0},0,0,0,0,0,0,0,0,0,0,0,0,0,0,0,0,0,0,0,0,0,0,0,0,0,0,0,0,0,0,0,{"$f":"IF(AH162=AH205,0,AH162)","v":0},0,0,0,0,0,0,0,0,0,0,0,0,0,0,0,0,0,0,0,0,0,0,0,0,0,0,0,0,0,0,0,{"$f":"IF(BN162=BN205,0,BN162)","v":0},0,0,0,0,0,0,0,0,0,0,0,0,0,0,0,0,0,0,0,0,0,0,0,0,0,0,0,0,0,0,0,0,0,{"$f":"AR$205","v":0},{"$f":"AR$206","v":0},1]
[58,{"$f":"'RECOGIDA DATOS'!CU61","v":0},{"$f":"IF(B163=B205,0,B163)","v":0},0,0,0,0,0,0,0,0,0,0,0,0,0,0,0,0,0,0,0,0,0,0,0,0,0,0,0,0,0,0,0,{"$f":"IF(AH163=AH205,0,AH163)","v":0},0,0,0,0,0,0,0,0,0,0,0,0,0,0,0,0,0,0,0,0,0,0,0,0,0,0,0,0,0,0,0,{"$f":"IF(BN163=BN205,0,BN163)","v":0},0,0,0,0,0,0,0,0,0,0,0,0,0,0,0,0,0,0,0,0,0,0,0,0,0,0,0,0,0,0,0,0,0,{"$f":"AQ$205","v":0},{"$f":"AQ$206","v":0},1]
[59,{"$f":"'RECOGIDA DATOS'!CU62","v":0},{"$f":"IF(B164=B205,0,B164)","v":0},0,0,0,0,0,0,0,0,0,0,0,0,0,0,0,0,0,0,0,0,0,0,0,0,0,0,0,0,0,0,0,{"$f":"IF(AH164=AH205,0,AH164)","v":0},0,0,0,0,0,0,0,0,0,0,0,0,0,0,0,0,0,0,0,0,0,0,0,0,0,0,0,0,0,0,0,{"$f":"IF(BN164=BN205,0,BN164)","v":0},0,0,0,0,0,0,0,0,0,0,0,0,0,0,0,0,0,0,0,0,0,0,0,0,0,0,0,0,0,0,0,0,0,{"$f":"AP$205","v":0},{"$f":"AP$206","v":0},1]
[60,{"$f":"'RECOGIDA DATOS'!CU63","v":0},{"$f":"IF(B165=B205,0,B165)","v":0},0,0,0,0,0,0,0,0,0,0,0,0,0,0,0,0,0,0,0,0,0,0,0,0,0,0,0,0,0,0,0,{"$f":"IF(AH165=AH205,0,AH165)","v":0},0,0,0,0,0,0,0,0,0,0,0,0,0,0,0,0,0,0,0,0,0,0,0,0,0,0,0,0,0,0,0,{"$f":"IF(BN165=BN205,0,BN165)","v":0},0,0,0,0,0,0,0,0,0,0,0,0,0,0,0,0,0,0,0,0,0,0,0,0,0,0,0,0,0,0,0,0,0,{"$f":"AO$205","v":0},{"$f":"AO$206","v":0},1]
[61,{"$f":"'RECOGIDA DATOS'!CU64","v":0},{"$f":"IF(B166=B205,0,B166)","v":0},0,0,0,0,0,0,0,0,0,0,0,0,0,0,0,0,0,0,0,0,0,0,0,0,0,0,0,0,0,0,0,{"$f":"IF(AH166=AH205,0,AH166)","v":0},0,0,0,0,0,0,0,0,0,0,0,0,0,0,0,0,0,0,0,0,0,0,0,0,0,0,0,0,0,0,0,{"$f":"IF(BN166=BN205,0,BN166)","v":0},0,0,0,0,0,0,0,0,0,0,0,0,0,0,0,0,0,0,0,0,0,0,0,0,0,0,0,0,0,0,0,0,0,{"$f":"AN$205","v":0},{"$f":"AN$206","v":0},1]
[62,{"$f":"'RECOGIDA DATOS'!CU65","v":0},{"$f":"IF(B167=B205,0,B167)","v":0},0,0,0,0,0,0,0,0,0,0,0,0,0,0,0,0,0,0,0,0,0,0,0,0,0,0,0,0,0,0,0,{"$f":"IF(AH167=AH205,0,AH167)","v":0},0,0,0,0,0,0,0,0,0,0,0,0,0,0,0,0,0,0,0,0,0,0,0,0,0,0,0,0,0,0,0,{"$f":"IF(BN167=BN205,0,BN167)","v":0},0,0,0,0,0,0,0,0,0,0,0,0,0,0,0,0,0,0,0,0,0,0,0,0,0,0,0,0,0,0,0,0,0,{"$f":"AM$205","v":0},{"$f":"AM$206","v":0},1]
[63,{"$f":"'RECOGIDA DATOS'!CU66","v":0},{"$f":"IF(B168=B205,0,B168)","v":0},0,0,0,0,0,0,0,0,0,0,0,0,0,0,0,0,0,0,0,0,0,0,0,0,0,0,0,0,0,0,0,{"$f":"IF(AH168=AH205,0,AH168)","v":0},0,0,0,0,0,0,0,0,0,0,0,0,0,0,0,0,0,0,0,0,0,0,0,0,0,0,0,0,0,0,0,{"$f":"IF(BN168=BN205,0,BN168)","v":0},0,0,0,0,0,0,0,0,0,0,0,0,0,0,0,0,0,0,0,0,0,0,0,0,0,0,0,0,0,0,0,0,0,{"$f":"AL$205","v":0},{"$f":"AL$206","v":0},1]
[64,{"$f":"'RECOGIDA DATOS'!CU67","v":0},{"$f":"IF(B169=B205,0,B169)","v":0},0,0,0,0,0,0,0,0,0,0,0,0,0,0,0,0,0,0,0,0,0,0,0,0,0,0,0,0,0,0,0,{"$f":"IF(AH169=AH205,0,AH169)","v":0},0,0,0,0,0,0,0,0,0,0,0,0,0,0,0,0,0,0,0,0,0,0,0,0,0,0,0,0,0,0,0,{"$f":"IF(BN169=BN205,0,BN169)","v":0},0,0,0,0,0,0,0,0,0,0,0,0,0,0,0,0,0,0,0,0,0,0,0,0,0,0,0,0,0,0,0,0,0,{"$f":"AK$205","v":0},{"$f":"AK$206","v":0},1]
[65,{"$f":"'RECOGIDA DATOS'!CU68","v":0},{"$f":"IF(B170=B205,0,B170)","v":0},0,0,0,0,0,0,0,0,0,0,0,0,0,0,0,0,0,0,0,0,0,0,0,0,0,0,0,0,0,0,0,{"$f":"IF(AH170=AH205,0,AH170)","v":0},0,0,0,0,0,0,0,0,0,0,0,0,0,0,0,0,0,0,0,0,0,0,0,0,0,0,0,0,0,0,0,{"$f":"IF(BN170=BN205,0,BN170)","v":0},0,0,0,0,0,0,0,0,0,0,0,0,0,0,0,0,0,0,0,0,0,0,0,0,0,0,0,0,0,0,0,0,0,{"$f":"AJ$205","v":0},{"$f":"AJ$206","v":0},1]
[66,{"$f":"'RECOGIDA DATOS'!CU69","v":0},{"$f":"IF(B171=B205,0,B171)","v":0},0,0,0,0,0,0,0,0,0,0,0,0,0,0,0,0,0,0,0,0,0,0,0,0,0,0,0,0,0,0,0,{"$f":"IF(AH171=AH205,0,AH171)","v":0},0,0,0,0,0,0,0,0,0,0,0,0,0,0,0,0,0,0,0,0,0,0,0,0,0,0,0,0,0,0,0,{"$f":"IF(BN171=BN205,0,BN171)","v":0},0,0,0,0,0,0,0,0,0,0,0,0,0,0,0,0,0,0,0,0,0,0,0,0,0,0,0,0,0,0,0,0,0,{"$f":"AI$205","v":0},{"$f":"AI$206","v":0},1]
[67,{"$f":"'RECOGIDA DATOS'!CU70","v":0},{"$f":"IF(B172=B205,0,B172)","v":0},0,0,0,0,0,0,0,0,0,0,0,0,0,0,0,0,0,0,0,0,0,0,0,0,0,0,0,0,0,0,0,{"$f":"IF(AH172=AH205,0,AH172)","v":0},0,0,0,0,0,0,0,0,0,0,0,0,0,0,0,0,0,0,0,0,0,0,0,0,0,0,0,0,0,0,0,{"$f":"IF(BN172=BN205,0,BN172)","v":0},0,0,0,0,0,0,0,0,0,0,0,0,0,0,0,0,0,0,0,0,0,0,0,0,0,0,0,0,0,0,0,0,0,{"$f":"AH$205","v":0},{"$f":"AH$206","v":0},1]
[68,{"$f":"'RECOGIDA DATOS'!CU71","v":0},{"$f":"IF(B173=B205,0,B173)","v":0},0,0,0,0,0,0,0,0,0,0,0,0,0,0,0,0,0,0,0,0,0,0,0,0,0,0,0,0,0,0,0,{"$f":"IF(AH173=AH205,0,AH173)","v":0},0,0,0,0,0,0,0,0,0,0,0,0,0,0,0,0,0,0,0,0,0,0,0,0,0,0,0,0,0,0,0,{"$f":"IF(BN173=BN205,0,BN173)","v":0},0,0,0,0,0,0,0,0,0,0,0,0,0,0,0,0,0,0,0,0,0,0,0,0,0,0,0,0,0,0,0,0,0,{"$f":"AG$205","v":0},{"$f":"AG$206","v":0},1]
[69,{"$f":"'RECOGIDA DATOS'!CU72","v":0},{"$f":"IF(B174=B205,0,B174)","v":0},0,0,0,0,0,0,0,0,0,0,0,0,0,0,0,0,0,0,0,0,0,0,0,0,0,0,0,0,0,0,0,{"$f":"IF(AH174=AH205,0,AH174)","v":0},0,0,0,0,0,0,0,0,0,0,0,0,0,0,0,0,0,0,0,0,0,0,0,0,0,0,0,0,0,0,0,{"$f":"IF(BN174=BN205,0,BN174)","v":0},0,0,0,0,0,0,0,0,0,0,0,0,0,0,0,0,0,0,0,0,0,0,0,0,0,0,0,0,0,0,0,0,0,{"$f":"AF$205","v":0},{"$f":"AF$206","v":0},1]
[70,{"$f":"'RECOGIDA DATOS'!CU73","v":0},{"$f":"IF(B175=B205,0,B175)","v":0},0,0,0,0,0,0,0,0,0,0,0,0,0,0,0,0,0,0,0,0,0,0,0,0,0,0,0,0,0,0,0,{"$f":"IF(AH175=AH205,0,AH175)","v":0},0,0,0,0,0,0,0,0,0,0,0,0,0,0,0,0,0,0,0,0,0,0,0,0,0,0,0,0,0,0,0,{"$f":"IF(BN175=BN205,0,BN175)","v":0},0,0,0,0,0,0,0,0,0,0,0,0,0,0,0,0,0,0,0,0,0,0,0,0,0,0,0,0,0,0,0,0,0,{"$f":"AE$205","v":0},{"$f":"AE$206","v":0},1]
[71,{"$f":"'RECOGIDA DATOS'!CU74","v":0},{"$f":"IF(B176=B205,0,B176)","v":0},0,0,0,0,0,0,0,0,0,0,0,0,0,0,0,0,0,0,0,0,0,0,0,0,0,0,0,0,0,0,0,{"$f":"IF(AH176=AH205,0,AH176)","v":0},0,0,0,0,0,0,0,0,0,0,0,0,0,0,0,0,0,0,0,0,0,0,0,0,0,0,0,0,0,0,0,{"$f":"IF(BN176=BN205,0,BN176)","v":0},0,0,0,0,0,0,0,0,0,0,0,0,0,0,0,0,0,0,0,0,0,0,0,0,0,0,0,0,0,0,0,0,0,{"$f":"AD$205","v":0},{"$f":"AD$206","v":0},1]
[72,{"$f":"'RECOGIDA DATOS'!CU75","v":0},{"$f":"IF(B177=B205,0,B177)","v":0},0,0,0,0,0,0,0,0,0,0,0,0,0,0,0,0,0,0,0,0,0,0,0,0,0,0,0,0,0,0,0,{"$f":"IF(AH177=AH205,0,AH177)","v":0},0,0,0,0,0,0,0,0,0,0,0,0,0,0,0,0,0,0,0,0,0,0,0,0,0,0,0,0,0,0,0,{"$f":"IF(BN177=BN205,0,BN177)","v":0},0,0,0,0,0,0,0,0,0,0,0,0,0,0,0,0,0,0,0,0,0,0,0,0,0,0,0,0,0,0,0,0,0,{"$f":"AC$205","v":0},{"$f":"AC$206","v":0},1]
[73,{"$f":"'RECOGIDA DATOS'!CU76","v":0},{"$f":"IF(B178=B205,0,B178)","v":0},0,0,0,0,0,0,0,0,0,0,0,0,0,0,0,0,0,0,0,0,0,0,0,0,0,0,0,0,0,0,0,{"$f":"IF(AH178=AH205,0,AH178)","v":0},0,0,0,0,0,0,0,0,0,0,0,0,0,0,0,0,0,0,0,0,0,0,0,0,0,0,0,0,0,0,0,{"$f":"IF(BN178=BN205,0,BN178)","v":0},0,0,0,0,0,0,0,0,0,0,0,0,0,0,0,0,0,0,0,0,0,0,0,0,0,0,0,0,0,0,0,0,0,{"$f":"AB$205","v":0},{"$f":"AB$206","v":0},1]
[74,{"$f":"'RECOGIDA DATOS'!CU77","v":0},{"$f":"IF(B179=B205,0,B179)","v":0},0,0,0,0,0,0,0,0,0,0,0,0,0,0,0,0,0,0,0,0,0,0,0,0,0,0,0,0,0,0,0,{"$f":"IF(AH179=AH205,0,AH179)","v":0},0,0,0,0,0,0,0,0,0,0,0,0,0,0,0,0,0,0,0,0,0,0,0,0,0,0,0,0,0,0,0,{"$f":"IF(BN179=BN205,0,BN179)","v":0},0,0,0,0,0,0,0,0,0,0,0,0,0,0,0,0,0,0,0,0,0,0,0,0,0,0,0,0,0,0,0,0,0,{"$f":"AA$205","v":0},{"$f":"AA$206","v":0},1]
[75,{"$f":"'RECOGIDA DATOS'!CU78","v":0},{"$f":"IF(B180=B205,0,B180)","v":0},0,0,0,0,0,0,0,0,0,0,0,0,0,0,0,0,0,0,0,0,0,0,0,0,0,0,0,0,0,0,0,{"$f":"IF(AH180=AH205,0,AH180)","v":0},0,0,0,0,0,0,0,0,0,0,0,0,0,0,0,0,0,0,0,0,0,0,0,0,0,0,0,0,0,0,0,{"$f":"IF(BN180=BN205,0,BN180)","v":0},0,0,0,0,0,0,0,0,0,0,0,0,0,0,0,0,0,0,0,0,0,0,0,0,0,0,0,0,0,0,0,0,0,{"$f":"Z$205","v":0},{"$f":"Z$206","v":0},1]
[76,{"$f":"'RECOGIDA DATOS'!CU79","v":0},{"$f":"IF(B181=B205,0,B181)","v":0},0,0,0,0,0,0,0,0,0,0,0,0,0,0,0,0,0,0,0,0,0,0,0,0,0,0,0,0,0,0,0,{"$f":"IF(AH181=AH205,0,AH181)","v":0},0,0,0,0,0,0,0,0,0,0,0,0,0,0,0,0,0,0,0,0,0,0,0,0,0,0,0,0,0,0,0,{"$f":"IF(BN181=BN205,0,BN181)","v":0},0,0,0,0,0,0,0,0,0,0,0,0,0,0,0,0,0,0,0,0,0,0,0,0,0,0,0,0,0,0,0,0,0,{"$f":"Y$205","v":0},{"$f":"Y$206","v":0},1]
[77,{"$f":"'RECOGIDA DATOS'!CU80","v":0},{"$f":"IF(B182=B205,0,B182)","v":0},0,0,0,0,0,0,0,0,0,0,0,0,0,0,0,0,0,0,0,0,0,0,0,0,0,0,0,0,0,0,0,{"$f":"IF(AH182=AH205,0,AH182)","v":0},0,0,0,0,0,0,0,0,0,0,0,0,0,0,0,0,0,0,0,0,0,0,0,0,0,0,0,0,0,0,0,{"$f":"IF(BN182=BN205,0,BN182)","v":0},0,0,0,0,0,0,0,0,0,0,0,0,0,0,0,0,0,0,0,0,0,0,0,0,0,0,0,0,0,0,0,0,0,{"$f":"X$205","v":0},{"$f":"X$206","v":0},1]
[78,{"$f":"'RECOGIDA DATOS'!CU81","v":0},{"$f":"IF(B183=B205,0,B183)","v":0},0,0,0,0,0,0,0,0,0,0,0,0,0,0,0,0,0,0,0,0,0,0,0,0,0,0,0,0,0,0,0,{"$f":"IF(AH183=AH205,0,AH183)","v":0},0,0,0,0,0,0,0,0,0,0,0,0,0,0,0,0,0,0,0,0,0,0,0,0,0,0,0,0,0,0,0,{"$f":"IF(BN183=BN205,0,BN183)","v":0},0,0,0,0,0,0,0,0,0,0,0,0,0,0,0,0,0,0,0,0,0,0,0,0,0,0,0,0,0,0,0,0,0,{"$f":"W$205","v":0},{"$f":"W$206","v":0},1]
[79,{"$f":"'RECOGIDA DATOS'!CU82","v":0},{"$f":"IF(B184=B205,0,B184)","v":0},0,0,0,0,0,0,0,0,0,0,0,0,0,0,0,0,0,0,0,0,0,0,0,0,0,0,0,0,0,0,0,{"$f":"IF(AH184=AH205,0,AH184)","v":0},0,0,0,0,0,0,0,0,0,0,0,0,0,0,0,0,0,0,0,0,0,0,0,0,0,0,0,0,0,0,0,{"$f":"IF(BN184=BN205,0,BN184)","v":0},0,0,0,0,0,0,0,0,0,0,0,0,0,0,0,0,0,0,0,0,0,0,0,0,0,0,0,0,0,0,0,0,0,{"$f":"V$205","v":0},{"$f":"V$206","v":0},1]
[80,{"$f":"'RECOGIDA DATOS'!CU83","v":0},{"$f":"IF(B185=B205,0,B185)","v":0},0,0,0,0,0,0,0,0,0,0,0,0,0,0,0,0,0,0,0,0,0,0,0,0,0,0,0,0,0,0,0,{"$f":"IF(AH185=AH205,0,AH185)","v":0},0,0,0,0,0,0,0,0,0,0,0,0,0,0,0,0,0,0,0,0,0,0,0,0,0,0,0,0,0,0,0,{"$f":"IF(BN185=BN205,0,BN185)","v":0},0,0,0,0,0,0,0,0,0,0,0,0,0,0,0,0,0,0,0,0,0,0,0,0,0,0,0,0,0,0,0,0,0,{"$f":"U$205","v":0},{"$f":"U$206","v":0},1]
[81,{"$f":"'RECOGIDA DATOS'!CU84","v":0},{"$f":"IF(B186=B205,0,B186)","v":0},0,0,0,0,0,0,0,0,0,0,0,0,0,0,0,0,0,0,0,0,0,0,0,0,0,0,0,0,0,0,0,{"$f":"IF(AH186=AH205,0,AH186)","v":0},0,0,0,0,0,0,0,0,0,0,0,0,0,0,0,0,0,0,0,0,0,0,0,0,0,0,0,0,0,0,0,{"$f":"IF(BN186=BN205,0,BN186)","v":0},0,0,0,0,0,0,0,0,0,0,0,0,0,0,0,0,0,0,0,0,0,0,0,0,0,0,0,0,0,0,0,0,0,{"$f":"T$205","v":0},{"$f":"T$206","v":0},1]
[82,{"$f":"'RECOGIDA DATOS'!CU85","v":0},{"$f":"IF(B187=B205,0,B187)","v":0},0,0,0,0,0,0,0,0,0,0,0,0,0,0,0,0,0,0,0,0,0,0,0,0,0,0,0,0,0,0,0,{"$f":"IF(AH187=AH205,0,AH187)","v":0},0,0,0,0,0,0,0,0,0,0,0,0,0,0,0,0,0,0,0,0,0,0,0,0,0,0,0,0,0,0,0,{"$f":"IF(BN187=BN205,0,BN187)","v":0},0,0,0,0,0,0,0,0,0,0,0,0,0,0,0,0,0,0,0,0,0,0,0,0,0,0,0,0,0,0,0,0,0,{"$f":"S$205","v":0},{"$f":"S$206","v":0},{"$f":"CX188+CY188","v":1}]
[83,{"$f":"'RECOGIDA DATOS'!CU86","v":0},{"$f":"IF(B188=B205,0,B188)","v":0},0,0,0,0,0,0,0,0,0,0,0,0,0,0,0,0,0,0,0,0,0,0,0,0,0,0,0,0,0,0,0,{"$f":"IF(AH188=AH205,0,AH188)","v":0},0,0,0,0,0,0,0,0,0,0,0,0,0,0,0,0,0,0,0,0,0,0,0,0,0,0,0,0,0,0,0,{"$f":"IF(BN188=BN205,0,BN188)","v":0},0,0,0,0,0,0,0,0,0,0,0,0,0,0,0,0,0,0,0,0,0,0,0,0,0,0,0,0,0,0,0,0,0,{"$f":"R$205","v":0},{"$f":"R$206","v":0},1]
[84,{"$f":"'RECOGIDA DATOS'!CU87","v":0},{"$f":"IF(B189=B205,0,B189)","v":0},0,0,0,0,0,0,0,0,0,0,0,0,0,0,0,0,0,0,0,0,0,0,0,0,0,0,0,0,0,0,0,{"$f":"IF(AH189=AH205,0,AH189)","v":0},0,0,0,0,0,0,0,0,0,0,0,0,0,0,0,0,0,0,0,0,0,0,0,0,0,0,0,0,0,0,0,{"$f":"IF(BN189=BN205,0,BN189)","v":0},0,0,0,0,0,0,0,0,0,0,0,0,0,0,0,0,0,0,0,0,0,0,0,0,0,0,0,0,0,0,0,0,0,{"$f":"Q205","v":0},{"$f":"Q206","v":0},1]
[85,{"$f":"'RECOGIDA DATOS'!CU88","v":0},{"$f":"IF(B190=B205,0,B190)","v":0},0,0,0,0,0,0,0,0,0,0,0,0,0,0,0,0,0,0,0,0,0,0,0,0,0,0,0,0,0,0,0,{"$f":"IF(AH190=AH205,0,AH190)","v":0},0,0,0,0,0,0,0,0,0,0,0,0,0,0,0,0,0,0,0,0,0,0,0,0,0,0,0,0,0,0,0,{"$f":"IF(BN190=BN205,0,BN190)","v":0},0,0,0,0,0,0,0,0,0,0,0,0,0,0,0,0,0,0,0,0,0,0,0,0,0,0,0,0,0,0,0,0,0,{"$f":"P205","v":0},{"$f":"P206","v":0},1]
[86,{"$f":"'RECOGIDA DATOS'!CU89","v":0},{"$f":"IF(B191=B205,0,B191)","v":0},0,0,0,0,0,0,0,0,0,0,0,0,0,0,0,0,0,0,0,0,0,0,0,0,0,0,0,0,0,0,0,{"$f":"IF(AH191=AH205,0,AH191)","v":0},0,0,0,0,0,0,0,0,0,0,0,0,0,0,0,0,0,0,0,0,0,0,0,0,0,0,0,0,0,0,0,{"$f":"IF(BN191=BN205,0,BN191)","v":0},0,0,0,0,0,0,0,0,0,0,0,0,0,0,0,0,0,0,0,0,0,0,0,0,0,0,0,0,0,0,0,0,0,{"$f":"O205","v":0},{"$f":"O206","v":0},1]
[87,{"$f":"'RECOGIDA DATOS'!CU90","v":0},{"$f":"IF(B192=B205,0,B192)","v":0},0,0,0,0,0,0,0,0,0,0,0,0,0,0,0,0,0,0,0,0,0,0,0,0,0,0,0,0,0,0,0,{"$f":"IF(AH192=AH205,0,AH192)","v":0},0,0,0,0,0,0,0,0,0,0,0,0,0,0,0,0,0,0,0,0,0,0,0,0,0,0,0,0,0,0,0,{"$f":"IF(BN192=BN205,0,BN192)","v":0},0,0,0,0,0,0,0,0,0,0,0,0,0,0,0,0,0,0,0,0,0,0,0,0,0,0,0,0,0,0,0,0,0,{"$f":"N205","v":0},{"$f":"N206","v":0},1]
[88,{"$f":"'RECOGIDA DATOS'!CU91","v":0},{"$f":"IF(B193=B205,0,B193)","v":0},0,0,0,0,0,0,0,0,0,0,0,0,0,0,0,0,0,0,0,0,0,0,0,0,0,0,0,0,0,0,0,{"$f":"IF(AH193=AH205,0,AH193)","v":0},0,0,0,0,0,0,0,0,0,0,0,0,0,0,0,0,0,0,0,0,0,0,0,0,0,0,0,0,0,0,0,{"$f":"IF(BN193=BN205,0,BN193)","v":0},0,0,0,0,0,0,0,0,0,0,0,0,0,0,0,0,0,0,0,0,0,0,0,0,0,0,0,0,0,0,0,0,0,{"$f":"M205","v":0},{"$f":"M206","v":0},1]
[89,{"$f":"'RECOGIDA DATOS'!CU92","v":0},{"$f":"IF(B194=B205,0,B194)","v":0},0,0,0,0,0,0,0,0,0,0,0,0,0,0,0,0,0,0,0,0,0,0,0,0,0,0,0,0,0,0,0,{"$f":"IF(AH194=AH205,0,AH194)","v":0},0,0,0,0,0,0,0,0,0,0,0,0,0,0,0,0,0,0,0,0,0,0,0,0,0,0,0,0,0,0,0,{"$f":"IF(BN194=BN205,0,BN194)","v":0},0,0,0,0,0,0,0,0,0,0,0,0,0,0,0,0,0,0,0,0,0,0,0,0,0,0,0,0,0,0,0,0,0,{"$f":"L205","v":0},{"$f":"L206","v":0},1]
[90,{"$f":"'RECOGIDA DATOS'!CU93","v":0},{"$f":"IF(B195=B205,0,B195)","v":0},0,0,0,0,0,0,0,0,0,0,0,0,0,0,0,0,0,0,0,0,0,0,0,0,0,0,0,0,0,0,0,{"$f":"IF(AH195=AH205,0,AH195)","v":0},0,0,0,0,0,0,0,0,0,0,0,0,0,0,0,0,0,0,0,0,0,0,0,0,0,0,0,0,0,0,0,{"$f":"IF(BN195=BN205,0,BN195)","v":0},0,0,0,0,0,0,0,0,0,0,0,0,0,0,0,0,0,0,0,0,0,0,0,0,0,0,0,0,0,0,0,0,0,{"$f":"K205","v":0},{"$f":"K206","v":0},1]
[91,{"$f":"'RECOGIDA DATOS'!CU94","v":0},{"$f":"IF(B196=B205,0,B196)","v":0},0,0,0,0,0,0,0,0,0,0,0,0,0,0,0,0,0,0,0,0,0,0,0,0,0,0,0,0,0,0,0,{"$f":"IF(AH196=AH205,0,AH196)","v":0},0,0,0,0,0,0,0,0,0,0,0,0,0,0,0,0,0,0,0,0,0,0,0,0,0,0,0,0,0,0,0,{"$f":"IF(BN196=BN205,0,BN196)","v":0},0,0,0,0,0,0,0,0,0,0,0,0,0,0,0,0,0,0,0,0,0,0,0,0,0,0,0,0,0,0,0,0,0,{"$f":"J205","v":0},{"$f":"J206","v":0},1]
[92,{"$f":"'RECOGIDA DATOS'!CU95","v":0},{"$f":"IF(B197=B205,0,B197)","v":0},0,0,0,0,0,0,0,0,0,0,0,0,0,0,0,0,0,0,0,0,0,0,0,0,0,0,0,0,0,0,0,{"$f":"IF(AH197=AH205,0,AH197)","v":0},0,0,0,0,0,0,0,0,0,0,0,0,0,0,0,0,0,0,0,0,0,0,0,0,0,0,0,0,0,0,0,{"$f":"IF(BN197=BN205,0,BN197)","v":0},0,0,0,0,0,0,0,0,0,0,0,0,0,0,0,0,0,0,0,0,0,0,0,0,0,0,0,0,0,0,0,0,0,{"$f":"I205","v":0},{"$f":"I206","v":0},1]
[93,{"$f":"'RECOGIDA DATOS'!CU96","v":0},{"$f":"IF(B198=B205,0,B198)","v":0},0,0,0,0,0,0,0,0,0,0,0,0,0,0,0,0,0,0,0,0,0,0,0,0,0,0,0,0,0,0,0,{"$f":"IF(AH198=AH205,0,AH198)","v":0},0,0,0,0,0,0,0,0,0,0,0,0,0,0,0,0,0,0,0,0,0,0,0,0,0,0,0,0,0,0,0,{"$f":"IF(BN198=BN205,0,BN198)","v":0},0,0,0,0,0,0,0,0,0,0,0,0,0,0,0,0,0,0,0,0,0,0,0,0,0,0,0,0,0,0,0,0,0,{"$f":"H205","v":0},{"$f":"H206","v":0},1]
[94,{"$f":"'RECOGIDA DATOS'!CU97","v":0},{"$f":"IF(B199=B205,0,B199)","v":0},0,0,0,0,0,0,0,0,0,0,0,0,0,0,0,0,0,0,0,0,0,0,0,0,0,0,0,0,0,0,0,{"$f":"IF(AH199=AH205,0,AH199)","v":0},0,0,0,0,0,0,0,0,0,0,0,0,0,0,0,0,0,0,0,0,0,0,0,0,0,0,0,0,0,0,0,{"$f":"IF(BN199=BN205,0,BN199)","v":0},0,0,0,0,0,0,0,0,0,0,0,0,0,0,0,0,0,0,0,0,0,0,0,0,0,0,0,0,0,0,0,0,0,{"$f":"G205","v":0},{"$f":"G206","v":0},1]
[95,{"$f":"'RECOGIDA DATOS'!CU98","v":0},{"$f":"IF(B200=B205,0,B200)","v":0},0,0,0,0,0,0,0,0,0,0,0,0,0,0,0,0,0,0,0,0,0,0,0,0,0,0,0,0,0,0,0,{"$f":"IF(AH200=AH205,0,AH200)","v":0},0,0,0,0,0,0,0,0,0,0,0,0,0,0,0,0,0,0,0,0,0,0,0,0,0,0,0,0,0,0,0,{"$f":"IF(BN200=BN205,0,BN200)","v":0},0,0,0,0,0,0,0,0,0,0,0,0,0,0,0,0,0,0,0,0,0,0,0,0,0,0,0,0,0,0,0,0,0,{"$f":"F205","v":0},{"$f":"F206","v":0},1]
[96,{"$f":"'RECOGIDA DATOS'!CU99","v":0},{"$f":"IF(B201=B205,0,B201)","v":0},0,0,0,0,0,0,0,0,0,0,0,0,0,0,0,0,0,0,0,0,0,0,0,0,0,0,0,0,0,0,0,{"$f":"IF(AH201=AH205,0,AH201)","v":0},0,0,0,0,0,0,0,0,0,0,0,0,0,0,0,0,0,0,0,0,0,0,0,0,0,0,0,0,0,0,0,{"$f":"IF(BN201=BN205,0,BN201)","v":0},0,0,0,0,0,0,0,0,0,0,0,0,0,0,0,0,0,0,0,0,0,0,0,0,0,0,0,0,0,0,0,0,0,{"$f":"E205","v":0},{"$f":"E206","v":0},1]
[97,{"$f":"'RECOGIDA DATOS'!CU100","v":0},{"$f":"IF(B202=B205,0,B202)","v":0},0,0,0,0,0,0,0,0,0,0,0,0,0,0,0,0,0,0,0,0,0,0,0,0,0,0,0,0,0,0,0,{"$f":"IF(AH202=AH205,0,AH202)","v":0},0,0,0,0,0,0,0,0,0,0,0,0,0,0,0,0,0,0,0,0,0,0,0,0,0,0,0,0,0,0,0,{"$f":"IF(BN202=BN205,0,BN202)","v":0},0,0,0,0,0,0,0,0,0,0,0,0,0,0,0,0,0,0,0,0,0,0,0,0,0,0,0,0,0,0,0,0,0,{"$f":"D205","v":0},{"$f":"D206","v":0},1]
[98,{"$f":"'RECOGIDA DATOS'!CU101","v":0},{"$f":"IF(B203=B205,0,B203)","v":0},0,0,0,0,0,0,0,0,0,0,0,0,0,0,0,0,0,0,0,0,0,0,0,0,0,0,0,0,0,0,0,{"$f":"IF(AH203=AH205,0,AH203)","v":0},0,0,0,0,0,0,0,0,0,0,0,0,0,0,0,0,0,0,0,0,0,0,0,0,0,0,0,0,0,0,0,{"$f":"IF(BN203=BN205,0,BN203)","v":0},0,0,0,0,0,0,0,0,0,0,0,0,0,0,0,0,0,0,0,0,0,0,0,0,0,0,0,0,0,0,0,0,0,{"$f":"C205","v":0},{"$f":"C206","v":0},1]
[99,{"$f":"'RECOGIDA DATOS'!CU102","v":0},{"$f":"IF(B204=B205,0,B204)","v":0},0,0,0,0,0,0,0,0,0,0,0,0,0,0,0,0,0,0,0,0,0,0,0,0,0,0,0,0,0,0,0,{"$f":"IF(AH204=AH205,0,AH204)","v":0},0,0,0,0,0,0,0,0,0,0,0,0,0,0,0,0,0,0,0,0,0,0,0,0,0,0,0,0,0,0,0,{"$f":"IF(BN204=BN205,0,BN204)","v":0},0,0,0,0,0,0,0,0,0,0,0,0,0,0,0,0,0,0,0,0,0,0,0,0,0,0,0,0,0,0,0,0,0,{"$f":"B205","v":0},{"$f":"B206","v":0},1]
[null,{"$f":"MAX(B106:B204)","v":0},{"$f":"MAX(C106:C204)","v":0},{"$f":"MAX(D106:D204)","v":0},{"$f":"MAX(E106:E204)","v":0},{"$f":"MAX(F106:F204)","v":0},{"$f":"MAX(G106:G204)","v":0},{"$f":"MAX(H106:H204)","v":0},{"$f":"MAX(I106:I204)","v":0},{"$f":"MAX(J106:J204)","v":0},{"$f":"MAX(K106:K204)","v":0},{"$f":"MAX(L106:L204)","v":0},{"$f":"MAX(M106:M204)","v":0},{"$f":"MAX(N106:N204)","v":0},{"$f":"MAX(O106:O204)","v":0},{"$f":"MAX(P106:P204)","v":0},{"$f":"MAX(Q106:Q204)","v":0},{"$f":"MAX(R106:R204)","v":0},{"$f":"MAX(S106:S204)","v":0},{"$f":"MAX(T106:T204)","v":0},{"$f":"MAX(U106:U204)","v":0},{"$f":"MAX(V106:V204)","v":0},{"$f":"MAX(W106:W204)","v":0},{"$f":"MAX(X106:X204)","v":0},{"$f":"MAX(Y106:Y204)","v":0},{"$f":"MAX(Z106:Z204)","v":0},{"$f":"MAX(AA106:AA204)","v":0},{"$f":"MAX(AB106:AB204)","v":0},{"$f":"MAX(AC106:AC204)","v":0},{"$f":"MAX(AD106:AD204)","v":0},{"$f":"MAX(AE106:AE204)","v":0},{"$f":"MAX(AF106:AF204)","v":0},{"$f":"MAX(AG106:AG204)","v":0},{"$f":"MAX(AH106:AH204)","v":0},{"$f":"MAX(AI106:AI204)","v":0},{"$f":"MAX(AJ106:AJ204)","v":0},{"$f":"MAX(AK106:AK204)","v":0},{"$f":"MAX(AL106:AL204)","v":0},{"$f":"MAX(AM106:AM204)","v":0},{"$f":"MAX(AN106:AN204)","v":0},{"$f":"MAX(AO106:AO204)","v":0},{"$f":"MAX(AP106:AP204)","v":0},{"$f":"MAX(AQ106:AQ204)","v":0},{"$f":"MAX(AR106:AR204)","v":0},{"$f":"MAX(AS106:AS204)","v":0},{"$f":"MAX(AT106:AT204)","v":0},{"$f":"MAX(AU106:AU204)","v":0},{"$f":"MAX(AV106:AV204)","v":0},{"$f":"MAX(AW106:AW204)","v":0},{"$f":"MAX(AX106:AX204)","v":0},{"$f":"MAX(AY106:AY204)","v":0},{"$f":"MAX(AZ106:AZ204)","v":0},{"$f":"MAX(BA106:BA204)","v":0},{"$f":"MAX(BB106:BB204)","v":0},{"$f":"MAX(BC106:BC204)","v":0},{"$f":"MAX(BD106:BD204)","v":0},{"$f":"MAX(BE106:BE204)","v":0},{"$f":"MAX(BF106:BF204)","v":0},{"$f":"MAX(BG106:BG204)","v":0},{"$f":"MAX(BH106:BH204)","v":0},{"$f":"MAX(BI106:BI204)","v":0},{"$f":"MAX(BJ106:BJ204)","v":0},{"$f":"MAX(BK106:BK204)","v":0},{"$f":"MAX(BL106:BL204)","v":0},{"$f":"MAX(BM106:BM204)","v":0},{"$f":"MAX(BN106:BN204)","v":0},{"$f":"MAX(BO106:BO204)","v":0},{"$f":"MAX(BP106:BP204)","v":0},{"$f":"MAX(BQ106:BQ204)","v":0},{"$f":"MAX(BR106:BR204)","v":0},{"$f":"MAX(BS106:BS204)","v":0},{"$f":"MAX(BT106:BT204)","v":0},{"$f":"MAX(BU106:BU204)","v":0},{"$f":"MAX(BV106:BV204)","v":0},{"$f":"MAX(BW106:BW204)","v":0},{"$f":"MAX(BX106:BX204)","v":0},{"$f":"MAX(BY106:BY204)","v":0},{"$f":"MAX(BZ106:BZ204)","v":0},{"$f":"MAX(CA106:CA204)","v":0},{"$f":"MAX(CB106:CB204)","v":0},{"$f":"MAX(CC106:CC204)","v":0},{"$f":"MAX(CD106:CD204)","v":0},{"$f":"MAX(CE106:CE204)","v":0},{"$f":"MAX(CF106:CF204)","v":0},{"$f":"MAX(CG106:CG204)","v":0},{"$f":"MAX(CH106:CH204)","v":0},{"$f":"MAX(CI106:CI204)","v":0},{"$f":"MAX(CJ106:CJ204)","v":0},{"$f":"MAX(CK106:CK204)","v":0},{"$f":"MAX(CL106:CL204)","v":0},{"$f":"MAX(CM106:CM204)","v":0},{"$f":"MAX(CN106:CN204)","v":0},{"$f":"MAX(CO106:CO204)","v":0},{"$f":"MAX(CP106:CP204)","v":0},{"$f":"MAX(CQ106:CQ204)","v":0},{"$f":"MAX(CR106:CR204)","v":0},{"$f":"MAX(CS106:CS204)","v":0},{"$f":"MAX(CT106:CT204)","v":0},{"$f":"MAX(CU106:CU204)","v":0},{"$f":"MAX(CV106:CV204)","v":0}]
[null,{"$f":"IF(B205=0,0,COUNTIF(B106:B204,B205))","v":0},{"$f":"IF(C205=0,0,COUNTIF(C106:C204,C205))","v":0},0,0,0,0,0,0,0,0,0,0,0,0,0,0,0,0,0,0,0,0,0,0,0,0,0,0,0,0,0,0,0,0,0,0,0,0,0,0,0,0,0,0,0,0,0,0,0,0,0,0,0,0,0,0,0,0,0,0,0,0,0,0,0,{"$f":"IF(BO205=0,0,COUNTIF(BO106:BO204,BO205))","v":0},0,0,0,0,0,0,0,0,0,0,0,0,0,0,0,0,0,0,0,0,0,0,0,0,0,0,0,0,0,0,0,0,0]
[null,"MÓDULO CLASIFICA"]
[null,1,{"$f":"B208+1","v":2},{"$f":"C208+1","v":3},4,5,6,7,8,9,10,11,12,13,14,15,16,17,18,19,20,21,22,23,24,25,26,27,28,29,30,31,32,33,34,35,36,37,38,39,40,41,42,43,44,45,46,47,48,49,50,51,52,53,54,55,56,57,58,59,60,61,62,63,64,65,66,{"$f":"BO208+1","v":67},68,69,70,71,72,73,74,75,76,77,78,79,80,81,82,83,84,85,86,87,88,89,90,91,92,93,94,95,96,97,98,99,"MÓDULO CLASIFICACIÓN"]
[1,{"$f":"'RECOGIDA DATOS'!CW4","v":9999},{"$f":"IF(B209=B308,0,B209)","v":0},0,0,0,0,0,0,0,0,0,0,0,0,0,0,{"$f":"IF(Q209=Q308,0,Q209)","v":0},0,0,0,0,0,0,0,0,0,0,0,0,0,0,0,0,0,0,0,0,0,0,0,0,0,0,0,0,0,0,0,0,0,0,0,0,0,0,0,0,0,0,0,0,0,0,0,0,0,0,0,0,0,0,0,0,0,0,0,0,0,0,0,{"$f":"IF(CC209=CC308,0,CC209)","v":0},0,0,0,0,0,0,0,0,0,0,0,0,0,0,0,0,0,0,{"$f":"CV308","v":0},{"$f":"CV309","v":0},{"$f":"CY210-CX209","v":1}]
[2,{"$f":"'RECOGIDA DATOS'!CW5","v":9999},{"$f":"IF(B210=B308,0,B210)","v":0},0,0,0,0,0,0,0,0,0,0,0,0,0,0,{"$f":"IF(Q210=Q308,0,Q210)","v":0},0,0,0,0,0,0,0,0,0,0,0,0,0,0,0,0,0,0,0,0,0,0,0,0,0,0,0,0,0,0,0,0,0,0,0,0,0,0,0,0,0,0,0,0,0,0,0,0,0,0,0,0,0,0,0,0,0,0,0,0,0,0,0,{"$f":"IF(CC210=CC308,0,CC210)","v":0},0,0,0,0,0,0,0,0,0,0,0,0,0,0,0,0,0,0,{"$f":"CU308","v":0},{"$f":"CU309","v":0},1]
[3,{"$f":"'RECOGIDA DATOS'!CW6","v":9999},{"$f":"IF(B211=B308,0,B211)","v":0},0,0,0,0,0,0,0,0,0,0,0,0,0,0,{"$f":"IF(Q211=Q308,0,Q211)","v":0},0,0,0,0,0,0,0,0,0,0,0,0,0,0,0,0,0,0,0,0,0,0,0,0,0,0,0,0,0,0,0,0,0,0,0,0,0,0,0,0,0,0,0,0,0,0,0,0,0,0,0,0,0,0,0,0,0,0,0,0,0,0,0,{"$f":"IF(CC211=CC308,0,CC211)","v":0},0,0,0,0,0,0,0,0,0,0,0,0,0,0,0,0,0,0,{"$f":"CT308","v":0},{"$f":"CT309","v":0},1]
[4,{"$f":"'RECOGIDA DATOS'!CW7","v":9999},{"$f":"IF(B212=B308,0,B212)","v":0},0,0,0,0,0,0,0,0,0,0,0,0,0,0,{"$f":"IF(Q212=Q308,0,Q212)","v":0},0,0,0,0,0,0,0,0,0,0,0,0,0,0,0,0,0,0,0,0,0,0,0,0,0,0,0,0,0,0,0,0,0,0,0,0,0,0,0,0,0,0,0,0,0,0,0,0,0,0,0,0,0,0,0,0,0,0,0,0,0,0,0,{"$f":"IF(CC212=CC308,0,CC212)","v":0},0,0,0,0,0,0,0,0,0,0,0,0,0,0,0,0,0,0,{"$f":"CS308","v":0},{"$f":"CS309","v":0},1]
[5,{"$f":"'RECOGIDA DATOS'!CW8","v":9999},{"$f":"IF(B213=B308,0,B213)","v":0},0,0,0,0,0,0,0,0,0,0,0,0,0,0,{"$f":"IF(Q213=Q308,0,Q213)","v":0},0,0,0,0,0,0,0,0,0,0,0,0,0,0,0,0,0,0,0,0,0,0,0,0,0,0,0,0,0,0,0,0,0,0,0,0,0,0,0,0,0,0,0,0,0,0,0,0,0,0,0,0,0,0,0,0,0,0,0,0,0,0,0,{"$f":"IF(CC213=CC308,0,CC213)","v":0},0,0,0,0,0,0,0,0,0,0,0,0,0,0,0,0,0,0,{"$f":"CR308","v":0},{"$f":"CR309","v":0},1]
[6,{"$f":"'RECOGIDA DATOS'!CW9","v":9999},{"$f":"IF(B214=B308,0,B214)","v":0},0,0,0,0,0,0,0,0,0,0,0,0,0,0,{"$f":"IF(Q214=Q308,0,Q214)","v":0},0,0,0,0,0,0,0,0,0,0,0,0,0,0,0,0,0,0,0,0,0,0,0,0,0,0,0,0,0,0,0,0,0,0,0,0,0,0,0,0,0,0,0,0,0,0,0,0,0,0,0,0,0,0,0,0,0,0,0,0,0,0,0,{"$f":"IF(CC214=CC308,0,CC214)","v":0},0,0,0,0,0,0,0,0,0,0,0,0,0,0,0,0,0,0,{"$f":"CQ308","v":0},{"$f":"CQ309","v":0},1]
[7,{"$f":"'RECOGIDA DATOS'!CW10","v":9999},{"$f":"IF(B215=B308,0,B215)","v":0},0,0,0,0,0,0,0,0,0,0,0,0,0,0,{"$f":"IF(Q215=Q308,0,Q215)","v":0},0,0,0,0,0,0,0,0,0,0,0,0,0,0,0,0,0,0,0,0,0,0,0,0,0,0,0,0,0,0,0,0,0,0,0,0,0,0,0,0,0,0,0,0,0,0,0,0,0,0,0,0,0,0,0,0,0,0,0,0,0,0,0,{"$f":"IF(CC215=CC308,0,CC215)","v":0},0,0,0,0,0,0,0,0,0,0,0,0,0,0,0,0,0,0,{"$f":"CP308","v":0},{"$f":"CP309","v":0},1]
[8,{"$f":"'RECOGIDA DATOS'!CW11","v":9999},{"$f":"IF(B216=B308,0,B216)","v":0},0,0,0,0,0,0,0,0,0,0,0,0,0,0,{"$f":"IF(Q216=Q308,0,Q216)","v":0},0,0,0,0,0,0,0,0,0,0,0,0,0,0,0,0,0,0,0,0,0,0,0,0,0,0,0,0,0,0,0,0,0,0,0,0,0,0,0,0,0,0,0,0,0,0,0,0,0,0,0,0,0,0,0,0,0,0,0,0,0,0,0,{"$f":"IF(CC216=CC308,0,CC216)","v":0},0,0,0,0,0,0,0,0,0,0,0,0,0,0,0,0,0,0,{"$f":"CO308","v":0},{"$f":"CO309","v":0},1]
[9,{"$f":"'RECOGIDA DATOS'!CW12","v":9999},{"$f":"IF(B217=B308,0,B217)","v":0},0,0,0,0,0,0,0,0,0,0,0,0,0,0,{"$f":"IF(Q217=Q308,0,Q217)","v":0},0,0,0,0,0,0,0,0,0,0,0,0,0,0,0,0,0,0,0,0,0,0,0,0,0,0,0,0,0,0,0,0,0,0,0,0,0,0,0,0,0,0,0,0,0,0,0,0,0,0,0,0,0,0,0,0,0,0,0,0,0,0,0,{"$f":"IF(CC217=CC308,0,CC217)","v":0},0,0,0,0,0,0,0,0,0,0,0,0,0,0,0,0,0,0,{"$f":"CN308","v":0},{"$f":"CN309","v":0},1]
[10,{"$f":"'RECOGIDA DATOS'!CW13","v":9999},{"$f":"IF(B218=B308,0,B218)","v":0},0,0,0,0,0,0,0,0,0,0,0,0,0,0,{"$f":"IF(Q218=Q308,0,Q218)","v":0},0,0,0,0,0,0,0,0,0,0,0,0,0,0,0,0,0,0,0,0,0,0,0,0,0,0,0,0,0,0,0,0,0,0,0,0,0,0,0,0,0,0,0,0,0,0,0,0,0,0,0,0,0,0,0,0,0,0,0,0,0,0,0,{"$f":"IF(CC218=CC308,0,CC218)","v":0},0,0,0,0,0,0,0,0,0,0,0,0,0,0,0,0,0,0,{"$f":"CM308","v":0},{"$f":"CM309","v":0},1]
[11,{"$f":"'RECOGIDA DATOS'!CW14","v":9999},{"$f":"IF(B219=B308,0,B219)","v":0},0,0,0,0,0,0,0,0,0,0,0,0,0,0,{"$f":"IF(Q219=Q308,0,Q219)","v":0},0,0,0,0,0,0,0,0,0,0,0,0,0,0,0,0,0,0,0,0,0,0,0,0,0,0,0,0,0,0,0,0,0,0,0,0,0,0,0,0,0,0,0,0,0,0,0,0,0,0,0,0,0,0,0,0,0,0,0,0,0,0,0,{"$f":"IF(CC219=CC308,0,CC219)","v":0},0,0,0,0,0,0,0,0,0,0,0,0,0,0,0,0,0,0,{"$f":"CL308","v":0},{"$f":"CL309","v":0},1]
[12,{"$f":"'RECOGIDA DATOS'!CW15","v":9999},{"$f":"IF(B220=B308,0,B220)","v":0},0,0,0,0,0,0,0,0,0,0,0,0,0,0,{"$f":"IF(Q220=Q308,0,Q220)","v":0},0,0,0,0,0,0,0,0,0,0,0,0,0,0,0,0,0,0,0,0,0,0,0,0,0,0,0,0,0,0,0,0,0,0,0,0,0,0,0,0,0,0,0,0,0,0,0,0,0,0,0,0,0,0,0,0,0,0,0,0,0,0,0,{"$f":"IF(CC220=CC308,0,CC220)","v":0},0,0,0,0,0,0,0,0,0,0,0,0,0,0,0,0,0,0,{"$f":"CK308","v":0},{"$f":"CK309","v":0},1]
[13,{"$f":"'RECOGIDA DATOS'!CW16","v":9999},{"$f":"IF(B221=B308,0,B221)","v":0},0,0,0,0,0,0,0,0,0,0,0,0,0,0,{"$f":"IF(Q221=Q308,0,Q221)","v":0},0,0,0,0,0,0,0,0,0,0,0,0,0,0,0,0,0,0,0,0,0,0,0,0,0,0,0,0,0,0,0,0,0,0,0,0,0,0,0,0,0,0,0,0,0,0,0,0,0,0,0,0,0,0,0,0,0,0,0,0,0,0,0,{"$f":"IF(CC221=CC308,0,CC221)","v":0},0,0,0,0,0,0,0,0,0,0,0,0,0,0,0,0,0,0,{"$f":"CJ308","v":0},{"$f":"CJ309","v":0},1]
[14,{"$f":"'RECOGIDA DATOS'!CW17","v":9999},{"$f":"IF(B222=B308,0,B222)","v":0},0,0,0,0,0,0,0,0,0,0,0,0,0,0,{"$f":"IF(Q222=Q308,0,Q222)","v":0},0,0,0,0,0,0,0,0,0,0,0,0,0,0,0,0,0,0,0,0,0,0,0,0,0,0,0,0,0,0,0,0,0,0,0,0,0,0,0,0,0,0,0,0,0,0,0,0,0,0,0,0,0,0,0,0,0,0,0,0,0,0,0,{"$f":"IF(CC222=CC308,0,CC222)","v":0},0,0,0,0,0,0,0,0,0,0,0,0,0,0,0,0,0,0,{"$f":"CI308","v":0},{"$f":"CI309","v":0},1]
[15,{"$f":"'RECOGIDA DATOS'!CW18","v":9999},{"$f":"IF(B223=B308,0,B223)","v":0},0,0,0,0,0,0,0,0,0,0,0,0,0,0,{"$f":"IF(Q223=Q308,0,Q223)","v":0},0,0,0,0,0,0,0,0,0,0,0,0,0,0,0,0,0,0,0,0,0,0,0,0,0,0,0,0,0,0,0,0,0,0,0,0,0,0,0,0,0,0,0,0,0,0,0,0,0,0,0,0,0,0,0,0,0,0,0,0,0,0,0,{"$f":"IF(CC223=CC308,0,CC223)","v":0},0,0,0,0,0,0,0,0,0,0,0,0,0,0,0,0,0,0,{"$f":"CH308","v":0},{"$f":"CH309","v":0},1]
[16,{"$f":"'RECOGIDA DATOS'!CW19","v":9999},{"$f":"IF(B224=B308,0,B224)","v":0},0,0,0,0,0,0,0,0,0,0,0,0,0,0,{"$f":"IF(Q224=Q308,0,Q224)","v":0},0,0,0,0,0,0,0,0,0,0,0,0,0,0,0,0,0,0,0,0,0,0,0,0,0,0,0,0,0,0,0,0,0,0,0,0,0,0,0,0,0,0,0,0,0,0,0,0,0,0,0,0,0,0,0,0,0,0,0,0,0,0,0,{"$f":"IF(CC224=CC308,0,CC224)","v":0},0,0,0,0,0,0,0,0,0,0,0,0,0,0,0,0,0,0,{"$f":"CG308","v":0},{"$f":"CG309","v":0},1]
[17,{"$f":"'RECOGIDA DATOS'!CW20","v":9999},{"$f":"IF(B225=B308,0,B225)","v":0},0,0,0,0,0,0,0,0,0,0,0,0,0,0,{"$f":"IF(Q225=Q308,0,Q225)","v":0},0,0,0,0,0,0,0,0,0,0,0,0,0,0,0,0,0,0,0,0,0,0,0,0,0,0,0,0,0,0,0,0,0,0,0,0,0,0,0,0,0,0,0,0,0,0,0,0,0,0,0,0,0,0,0,0,0,0,0,0,0,0,0,{"$f":"IF(CC225=CC308,0,CC225)","v":0},0,0,0,0,0,0,0,0,0,0,0,0,0,0,0,0,0,0,{"$f":"CF308","v":0},{"$f":"CF309","v":0},1]
[18,{"$f":"'RECOGIDA DATOS'!CW21","v":9999},{"$f":"IF(B226=B308,0,B226)","v":0},0,0,0,0,0,0,0,0,0,0,0,0,0,0,{"$f":"IF(Q226=Q308,0,Q226)","v":0},0,0,0,0,0,0,0,0,0,0,0,0,0,0,0,0,0,0,0,0,0,0,0,0,0,0,0,0,0,0,0,0,0,0,0,0,0,0,0,0,0,0,0,0,0,0,0,0,0,0,0,0,0,0,0,0,0,0,0,0,0,0,0,{"$f":"IF(CC226=CC308,0,CC226)","v":0},0,0,0,0,0,0,0,0,0,0,0,0,0,0,0,0,0,0,{"$f":"CE308","v":0},{"$f":"CE309","v":0},1]
[19,{"$f":"'RECOGIDA DATOS'!CW22","v":9999},{"$f":"IF(B227=B308,0,B227)","v":0},0,0,0,0,0,0,0,0,0,0,0,0,0,0,{"$f":"IF(Q227=Q308,0,Q227)","v":0},0,0,0,0,0,0,0,0,0,0,0,0,0,0,0,0,0,0,0,0,0,0,0,0,0,0,0,0,0,0,0,0,0,0,0,0,0,0,0,0,0,0,0,0,0,0,0,0,0,0,0,0,0,0,0,0,0,0,0,0,0,0,0,{"$f":"IF(CC227=CC308,0,CC227)","v":0},0,0,0,0,0,0,0,0,0,0,0,0,0,0,0,0,0,0,{"$f":"CD308","v":0},{"$f":"CD309","v":0},1]
[20,{"$f":"'RECOGIDA DATOS'!CW23","v":9999},{"$f":"IF(B228=B308,0,B228)","v":0},0,0,0,0,0,0,0,0,0,0,0,0,0,0,{"$f":"IF(Q228=Q308,0,Q228)","v":0},0,0,0,0,0,0,0,0,0,0,0,0,0,0,0,0,0,0,0,0,0,0,0,0,0,0,0,0,0,0,0,0,0,0,0,0,0,0,0,0,0,0,0,0,0,0,0,0,0,0,0,0,0,0,0,0,0,0,0,0,0,0,0,{"$f":"IF(CC228=CC308,0,CC228)","v":0},0,0,0,0,0,0,0,0,0,0,0,0,0,0,0,0,0,0,{"$f":"CC308","v":0},{"$f":"CC309","v":0},1]
[21,{"$f":"'RECOGIDA DATOS'!CW24","v":9999},{"$f":"IF(B229=B308,0,B229)","v":0},0,0,0,0,0,0,0,0,0,0,0,0,0,0,{"$f":"IF(Q229=Q308,0,Q229)","v":0},0,0,0,0,0,0,0,0,0,0,0,0,0,0,0,0,0,0,0,0,0,0,0,0,0,0,0,0,0,0,0,0,0,0,0,0,0,0,0,0,0,0,0,0,0,0,0,0,0,0,0,0,0,0,0,0,0,0,0,0,0,0,0,{"$f":"IF(CC229=CC308,0,CC229)","v":0},0,0,0,0,0,0,0,0,0,0,0,0,0,0,0,0,0,0,{"$f":"CB308","v":0},{"$f":"CB309","v":0},1]
[22,{"$f":"'RECOGIDA DATOS'!CW25","v":9999},{"$f":"IF(B230=B308,0,B230)","v":0},0,0,0,0,0,0,0,0,0,0,0,0,0,0,{"$f":"IF(Q230=Q308,0,Q230)","v":0},0,0,0,0,0,0,0,0,0,0,0,0,0,0,0,0,0,0,0,0,0,0,0,0,0,0,0,0,0,0,0,0,0,0,0,0,0,0,0,0,0,0,0,0,0,0,0,0,0,0,0,0,0,0,0,0,0,0,0,0,0,0,0,{"$f":"IF(CC230=CC308,0,CC230)","v":0},0,0,0,0,0,0,0,0,0,0,0,0,0,0,0,0,0,0,{"$f":"CA308","v":0},{"$f":"CA309","v":0},1]
[23,{"$f":"'RECOGIDA DATOS'!CW26","v":9999},{"$f":"IF(B231=B308,0,B231)","v":0},0,0,0,0,0,0,0,0,0,0,0,0,0,0,{"$f":"IF(Q231=Q308,0,Q231)","v":0},0,0,0,0,0,0,0,0,0,0,0,0,0,0,0,0,0,0,0,0,0,0,0,0,0,0,0,0,0,0,0,0,0,0,0,0,0,0,0,0,0,0,0,0,0,0,0,0,0,0,0,0,0,0,0,0,0,0,0,0,0,0,0,{"$f":"IF(CC231=CC308,0,CC231)","v":0},0,0,0,0,0,0,0,0,0,0,0,0,0,0,0,0,0,0,{"$f":"BZ308","v":0},{"$f":"BZ309","v":0},1]
[24,{"$f":"'RECOGIDA DATOS'!CW27","v":9999},{"$f":"IF(B232=B308,0,B232)","v":0},0,0,0,0,0,0,0,0,0,0,0,0,0,0,{"$f":"IF(Q232=Q308,0,Q232)","v":0},0,0,0,0,0,0,0,0,0,0,0,0,0,0,0,0,0,0,0,0,0,0,0,0,0,0,0,0,0,0,0,0,0,0,0,0,0,0,0,0,0,0,0,0,0,0,0,0,0,0,0,0,0,0,0,0,0,0,0,0,0,0,0,{"$f":"IF(CC232=CC308,0,CC232)","v":0},0,0,0,0,0,0,0,0,0,0,0,0,0,0,0,0,0,0,{"$f":"BY308","v":0},{"$f":"BY309","v":0},1]
[25,{"$f":"'RECOGIDA DATOS'!CW28","v":9999},{"$f":"IF(B233=B308,0,B233)","v":0},0,0,0,0,0,0,0,0,0,0,0,0,0,0,{"$f":"IF(Q233=Q308,0,Q233)","v":0},0,0,0,0,0,0,0,0,0,0,0,0,0,0,0,0,0,0,0,0,0,0,0,0,0,0,0,0,0,0,0,0,0,0,0,0,0,0,0,0,0,0,0,0,0,0,0,0,0,0,0,0,0,0,0,0,0,0,0,0,0,0,0,{"$f":"IF(CC233=CC308,0,CC233)","v":0},0,0,0,0,0,0,0,0,0,0,0,0,0,0,0,0,0,0,{"$f":"BX308","v":0},{"$f":"BX309","v":0},1]
[26,{"$f":"'RECOGIDA DATOS'!CW29","v":9999},{"$f":"IF(B234=B308,0,B234)","v":0},0,0,0,0,0,0,0,0,0,0,0,0,0,0,{"$f":"IF(Q234=Q308,0,Q234)","v":0},0,0,0,0,0,0,0,0,0,0,0,0,0,0,0,0,0,0,0,0,0,0,0,0,0,0,0,0,0,0,0,0,0,0,0,0,0,0,0,0,0,0,0,0,0,0,0,0,0,0,0,0,0,0,0,0,0,0,0,0,0,0,0,{"$f":"IF(CC234=CC308,0,CC234)","v":0},0,0,0,0,0,0,0,0,0,0,0,0,0,0,0,0,0,0,{"$f":"BW308","v":0},{"$f":"BW309","v":0},1]
[27,{"$f":"'RECOGIDA DATOS'!CW30","v":9999},{"$f":"IF(B235=B308,0,B235)","v":0},0,0,0,0,0,0,0,0,0,0,0,0,0,0,{"$f":"IF(Q235=Q308,0,Q235)","v":0},0,0,0,0,0,0,0,0,0,0,0,0,0,0,0,0,0,0,0,0,0,0,0,0,0,0,0,0,0,0,0,0,0,0,0,0,0,0,0,0,0,0,0,0,0,0,0,0,0,0,0,0,0,0,0,0,0,0,0,0,0,0,0,{"$f":"IF(CC235=CC308,0,CC235)","v":0},0,0,0,0,0,0,0,0,0,0,0,0,0,0,0,0,0,0,{"$f":"BV308","v":0},{"$f":"BV309","v":0},1]
[28,{"$f":"'RECOGIDA DATOS'!CW31","v":9999},{"$f":"IF(B236=B308,0,B236)","v":0},0,0,0,0,0,0,0,0,0,0,0,0,0,0,{"$f":"IF(Q236=Q308,0,Q236)","v":0},0,0,0,0,0,0,0,0,0,0,0,0,0,0,0,0,0,0,0,0,0,0,0,0,0,0,0,0,0,0,0,0,0,0,0,0,0,0,0,0,0,0,0,0,0,0,0,0,0,0,0,0,0,0,0,0,0,0,0,0,0,0,0,{"$f":"IF(CC236=CC308,0,CC236)","v":0},0,0,0,0,0,0,0,0,0,0,0,0,0,0,0,0,0,0,{"$f":"BU308","v":0},{"$f":"BU309","v":0},1]
[29,{"$f":"'RECOGIDA DATOS'!CW32","v":9999},{"$f":"IF(B237=B308,0,B237)","v":0},0,0,0,0,0,0,0,0,0,0,0,0,0,0,{"$f":"IF(Q237=Q308,0,Q237)","v":0},0,0,0,0,0,0,0,0,0,0,0,0,0,0,0,0,0,0,0,0,0,0,0,0,0,0,0,0,0,0,0,0,0,0,0,0,0,0,0,0,0,0,0,0,0,0,0,0,0,0,0,0,0,0,0,0,0,0,0,0,0,0,0,{"$f":"IF(CC237=CC308,0,CC237)","v":0},0,0,0,0,0,0,0,0,0,0,0,0,0,0,0,0,0,0,{"$f":"BT308","v":0},{"$f":"BT309","v":0},1]
[30,{"$f":"'RECOGIDA DATOS'!CW33","v":9999},{"$f":"IF(B238=B308,0,B238)","v":0},0,0,0,0,0,0,0,0,0,0,0,0,0,0,{"$f":"IF(Q238=Q308,0,Q238)","v":0},0,0,0,0,0,0,0,0,0,0,0,0,0,0,0,0,0,0,0,0,0,0,0,0,0,0,0,0,0,0,0,0,0,0,0,0,0,0,0,0,0,0,0,0,0,0,0,0,0,0,0,0,0,0,0,0,0,0,0,0,0,0,0,{"$f":"IF(CC238=CC308,0,CC238)","v":0},0,0,0,0,0,0,0,0,0,0,0,0,0,0,0,0,0,0,{"$f":"BS308","v":0},{"$f":"BS309","v":0},1]
[31,{"$f":"'RECOGIDA DATOS'!CW34","v":9999},{"$f":"IF(B239=B308,0,B239)","v":0},0,0,0,0,0,0,0,0,0,0,0,0,0,0,{"$f":"IF(Q239=Q308,0,Q239)","v":0},0,0,0,0,0,0,0,0,0,0,0,0,0,0,0,0,0,0,0,0,0,0,0,0,0,0,0,0,0,0,0,0,0,0,0,0,0,0,0,0,0,0,0,0,0,0,0,0,0,0,0,0,0,0,0,0,0,0,0,0,0,0,0,{"$f":"IF(CC239=CC308,0,CC239)","v":0},0,0,0,0,0,0,0,0,0,0,0,0,0,0,0,0,0,0,{"$f":"BR308","v":0},{"$f":"BR309","v":0},1]
[32,{"$f":"'RECOGIDA DATOS'!CW35","v":9999},{"$f":"IF(B240=B308,0,B240)","v":0},0,0,0,0,0,0,0,0,0,0,0,0,0,0,{"$f":"IF(Q240=Q308,0,Q240)","v":0},0,0,0,0,0,0,0,0,0,0,0,0,0,0,0,0,0,0,0,0,0,0,0,0,0,0,0,0,0,0,0,0,0,0,0,0,0,0,0,0,0,0,0,0,0,0,0,0,0,0,0,0,0,0,0,0,0,0,0,0,0,0,0,{"$f":"IF(CC240=CC308,0,CC240)","v":0},0,0,0,0,0,0,0,0,0,0,0,0,0,0,0,0,0,0,{"$f":"BQ308","v":0},{"$f":"BQ309","v":0},1]
[33,{"$f":"'RECOGIDA DATOS'!CW36","v":9999},{"$f":"IF(B241=B308,0,B241)","v":0},0,0,0,0,0,0,0,0,0,0,0,0,0,0,{"$f":"IF(Q241=Q308,0,Q241)","v":0},0,0,0,0,0,0,0,0,0,0,0,0,0,0,0,0,0,0,0,0,0,0,0,0,0,0,0,0,0,0,0,0,0,0,0,0,0,0,0,0,0,0,0,0,0,0,0,0,0,0,0,0,0,0,0,0,0,0,0,0,0,0,0,{"$f":"IF(CC241=CC308,0,CC241)","v":0},0,0,0,0,0,0,0,0,0,0,0,0,0,0,0,0,0,0,{"$f":"BP308","v":0},{"$f":"BP309","v":0},{"$f":"CY242-CX241","v":1}]
[34,{"$f":"'RECOGIDA DATOS'!CW37","v":9999},{"$f":"IF(B242=B308,0,B242)","v":0},0,0,0,0,0,0,0,0,0,0,0,0,0,0,{"$f":"IF(Q242=Q308,0,Q242)","v":0},0,0,0,0,0,0,0,0,0,0,0,0,0,0,0,0,0,0,0,0,0,0,0,0,0,0,0,0,0,0,0,0,0,0,0,0,0,0,0,0,0,0,0,0,0,0,0,0,0,0,0,0,0,0,0,0,0,0,0,0,0,0,0,{"$f":"IF(CC242=CC308,0,CC242)","v":0},0,0,0,0,0,0,0,0,0,0,0,0,0,0,0,0,0,0,{"$f":"BO308","v":0},{"$f":"BO309","v":0},1]
[35,{"$f":"'RECOGIDA DATOS'!CW38","v":9999},{"$f":"IF(B243=B308,0,B243)","v":0},0,0,0,0,0,0,0,0,0,0,0,0,0,0,{"$f":"IF(Q243=Q308,0,Q243)","v":0},0,0,0,0,0,0,0,0,0,0,0,0,0,0,0,0,0,0,0,0,0,0,0,0,0,0,0,0,0,0,0,0,0,0,0,0,0,0,0,0,0,0,0,0,0,0,0,0,0,0,0,0,0,0,0,0,0,0,0,0,0,0,0,{"$f":"IF(CC243=CC308,0,CC243)","v":0},0,0,0,0,0,0,0,0,0,0,0,0,0,0,0,0,0,0,{"$f":"BN308","v":0},{"$f":"BN309","v":0},1]
[36,{"$f":"'RECOGIDA DATOS'!CW39","v":9999},{"$f":"IF(B244=B308,0,B244)","v":0},0,0,0,0,0,0,0,0,0,0,0,0,0,0,{"$f":"IF(Q244=Q308,0,Q244)","v":0},0,0,0,0,0,0,0,0,0,0,0,0,0,0,0,0,0,0,0,0,0,0,0,0,0,0,0,0,0,0,0,0,0,0,0,0,0,0,0,0,0,0,0,0,0,0,0,0,0,0,0,0,0,0,0,0,0,0,0,0,0,0,0,{"$f":"IF(CC244=CC308,0,CC244)","v":0},0,0,0,0,0,0,0,0,0,0,0,0,0,0,0,0,0,0,{"$f":"BM308","v":0},{"$f":"BM309","v":0},1]
[37,{"$f":"'RECOGIDA DATOS'!CW40","v":9999},{"$f":"IF(B245=B308,0,B245)","v":0},0,0,0,0,0,0,0,0,0,0,0,0,0,0,{"$f":"IF(Q245=Q308,0,Q245)","v":0},0,0,0,0,0,0,0,0,0,0,0,0,0,0,0,0,0,0,0,0,0,0,0,0,0,0,0,0,0,0,0,0,0,0,0,0,0,0,0,0,0,0,0,0,0,0,0,0,0,0,0,0,0,0,0,0,0,0,0,0,0,0,0,{"$f":"IF(CC245=CC308,0,CC245)","v":0},0,0,0,0,0,0,0,0,0,0,0,0,0,0,0,0,0,0,{"$f":"BL308","v":0},{"$f":"BL309","v":0},1]
[38,{"$f":"'RECOGIDA DATOS'!CW41","v":9999},{"$f":"IF(B246=B308,0,B246)","v":0},0,0,0,0,0,0,0,0,0,0,0,0,0,0,{"$f":"IF(Q246=Q308,0,Q246)","v":0},0,0,0,0,0,0,0,0,0,0,0,0,0,0,0,0,0,0,0,0,0,0,0,0,0,0,0,0,0,0,0,0,0,0,0,0,0,0,0,0,0,0,0,0,0,0,0,0,0,0,0,0,0,0,0,0,0,0,0,0,0,0,0,{"$f":"IF(CC246=CC308,0,CC246)","v":0},0,0,0,0,0,0,0,0,0,0,0,0,0,0,0,0,0,0,{"$f":"BK308","v":0},{"$f":"BK309","v":0},1]
[39,{"$f":"'RECOGIDA DATOS'!CW42","v":9999},{"$f":"IF(B247=B308,0,B247)","v":0},0,0,0,0,0,0,0,0,0,0,0,0,0,0,{"$f":"IF(Q247=Q308,0,Q247)","v":0},0,0,0,0,0,0,0,0,0,0,0,0,0,0,0,0,0,0,0,0,0,0,0,0,0,0,0,0,0,0,0,0,0,0,0,0,0,0,0,0,0,0,0,0,0,0,0,0,0,0,0,0,0,0,0,0,0,0,0,0,0,0,0,{"$f":"IF(CC247=CC308,0,CC247)","v":0},0,0,0,0,0,0,0,0,0,0,0,0,0,0,0,0,0,0,{"$f":"BJ308","v":0},{"$f":"BJ309","v":0},1]
[40,{"$f":"'RECOGIDA DATOS'!CW43","v":9999},{"$f":"IF(B248=B308,0,B248)","v":0},0,0,0,0,0,0,0,0,0,0,0,0,0,0,{"$f":"IF(Q248=Q308,0,Q248)","v":0},0,0,0,0,0,0,0,0,0,0,0,0,0,0,0,0,0,0,0,0,0,0,0,0,0,0,0,0,0,0,0,0,0,0,0,0,0,0,0,0,0,0,0,0,0,0,0,0,0,0,0,0,0,0,0,0,0,0,0,0,0,0,0,{"$f":"IF(CC248=CC308,0,CC248)","v":0},0,0,0,0,0,0,0,0,0,0,0,0,0,0,0,0,0,0,{"$f":"BI308","v":0},{"$f":"BI309","v":0},1]
[41,{"$f":"'RECOGIDA DATOS'!CW44","v":9999},{"$f":"IF(B249=B308,0,B249)","v":0},0,0,0,0,0,0,0,0,0,0,0,0,0,0,{"$f":"IF(Q249=Q308,0,Q249)","v":0},0,0,0,0,0,0,0,0,0,0,0,0,0,0,0,0,0,0,0,0,0,0,0,0,0,0,0,0,0,0,0,0,0,0,0,0,0,0,0,0,0,0,0,0,0,0,0,0,0,0,0,0,0,0,0,0,0,0,0,0,0,0,0,{"$f":"IF(CC249=CC308,0,CC249)","v":0},0,0,0,0,0,0,0,0,0,0,0,0,0,0,0,0,0,0,{"$f":"BH308","v":0},{"$f":"BH309","v":0},1]
[42,{"$f":"'RECOGIDA DATOS'!CW45","v":9999},{"$f":"IF(B250=B308,0,B250)","v":0},0,0,0,0,0,0,0,0,0,0,0,0,0,0,{"$f":"IF(Q250=Q308,0,Q250)","v":0},0,0,0,0,0,0,0,0,0,0,0,0,0,0,0,0,0,0,0,0,0,0,0,0,0,0,0,0,0,0,0,0,0,0,0,0,0,0,0,0,0,0,0,0,0,0,0,0,0,0,0,0,0,0,0,0,0,0,0,0,0,0,0,{"$f":"IF(CC250=CC308,0,CC250)","v":0},0,0,0,0,0,0,0,0,0,0,0,0,0,0,0,0,0,0,{"$f":"BG308","v":0},{"$f":"BG309","v":0},1]
[43,{"$f":"'RECOGIDA DATOS'!CW46","v":9999},{"$f":"IF(B251=B308,0,B251)","v":0},0,0,0,0,0,0,0,0,0,0,0,0,0,0,{"$f":"IF(Q251=Q308,0,Q251)","v":0},0,0,0,0,0,0,0,0,0,0,0,0,0,0,0,0,0,0,0,0,0,0,0,0,0,0,0,0,0,0,0,0,0,0,0,0,0,0,0,0,0,0,0,0,0,0,0,0,0,0,0,0,0,0,0,0,0,0,0,0,0,0,0,{"$f":"IF(CC251=CC308,0,CC251)","v":0},0,0,0,0,0,0,0,0,0,0,0,0,0,0,0,0,0,0,{"$f":"BF308","v":0},{"$f":"BF309","v":0},1]
[44,{"$f":"'RECOGIDA DATOS'!CW47","v":9999},{"$f":"IF(B252=B308,0,B252)","v":0},0,0,0,0,0,0,0,0,0,0,0,0,0,0,{"$f":"IF(Q252=Q308,0,Q252)","v":0},0,0,0,0,0,0,0,0,0,0,0,0,0,0,0,0,0,0,0,0,0,0,0,0,0,0,0,0,0,0,0,0,0,0,0,0,0,0,0,0,0,0,0,0,0,0,0,0,0,0,0,0,0,0,0,0,0,0,0,0,0,0,0,{"$f":"IF(CC252=CC308,0,CC252)","v":0},0,0,0,0,0,0,0,0,0,0,0,0,0,0,0,0,0,0,{"$f":"BE308","v":0},{"$f":"BE309","v":0},1]
[45,{"$f":"'RECOGIDA DATOS'!CW48","v":9999},{"$f":"IF(B253=B308,0,B253)","v":0},0,0,0,0,0,0,0,0,0,0,0,0,0,0,{"$f":"IF(Q253=Q308,0,Q253)","v":0},0,0,0,0,0,0,0,0,0,0,0,0,0,0,0,0,0,0,0,0,0,0,0,0,0,0,0,0,0,0,0,0,0,0,0,0,0,0,0,0,0,0,0,0,0,0,0,0,0,0,0,0,0,0,0,0,0,0,0,0,0,0,0,{"$f":"IF(CC253=CC308,0,CC253)","v":0},0,0,0,0,0,0,0,0,0,0,0,0,0,0,0,0,0,0,{"$f":"BD308","v":0},{"$f":"BD309","v":0},1]
[46,{"$f":"'RECOGIDA DATOS'!CW49","v":9999},{"$f":"IF(B254=B308,0,B254)","v":0},0,0,0,0,0,0,0,0,0,0,0,0,0,0,{"$f":"IF(Q254=Q308,0,Q254)","v":0},0,0,0,0,0,0,0,0,0,0,0,0,0,0,0,0,0,0,0,0,0,0,0,0,0,0,0,0,0,0,0,0,0,0,0,0,0,0,0,0,0,0,0,0,0,0,0,0,0,0,0,0,0,0,0,0,0,0,0,0,0,0,0,{"$f":"IF(CC254=CC308,0,CC254)","v":0},0,0,0,0,0,0,0,0,0,0,0,0,0,0,0,0,0,0,{"$f":"BC308","v":0},{"$f":"BC309","v":0},1]
[47,{"$f":"'RECOGIDA DATOS'!CW50","v":9999},{"$f":"IF(B255=B308,0,B255)","v":0},0,0,0,0,0,0,0,0,0,0,0,0,0,0,{"$f":"IF(Q255=Q308,0,Q255)","v":0},0,0,0,0,0,0,0,0,0,0,0,0,0,0,0,0,0,0,0,0,0,0,0,0,0,0,0,0,0,0,0,0,0,0,0,0,0,0,0,0,0,0,0,0,0,0,0,0,0,0,0,0,0,0,0,0,0,0,0,0,0,0,0,{"$f":"IF(CC255=CC308,0,CC255)","v":0},0,0,0,0,0,0,0,0,0,0,0,0,0,0,0,0,0,0,{"$f":"BB308","v":0},{"$f":"BB309","v":0},1]
[48,{"$f":"'RECOGIDA DATOS'!CW51","v":9999},{"$f":"IF(B256=B308,0,B256)","v":0},0,0,0,0,0,0,0,0,0,0,0,0,0,0,{"$f":"IF(Q256=Q308,0,Q256)","v":0},0,0,0,0,0,0,0,0,0,0,0,0,0,0,0,0,0,0,0,0,0,0,0,0,0,0,0,0,0,0,0,0,0,0,0,0,0,0,0,0,0,0,0,0,0,0,0,0,0,0,0,0,0,0,0,0,0,0,0,0,0,0,0,{"$f":"IF(CC256=CC308,0,CC256)","v":0},0,0,0,0,0,0,0,0,0,0,0,0,0,0,0,0,0,0,{"$f":"BA308","v":0},{"$f":"BA309","v":0},1]
[49,{"$f":"'RECOGIDA DATOS'!CW52","v":9999},{"$f":"IF(B257=B308,0,B257)","v":0},0,0,0,0,0,0,0,0,0,0,0,0,0,0,{"$f":"IF(Q257=Q308,0,Q257)","v":0},0,0,0,0,0,0,0,0,0,0,0,0,0,0,0,0,0,0,0,0,0,0,0,0,0,0,0,0,0,0,0,0,0,0,0,0,0,0,0,0,0,0,0,0,0,0,0,0,0,0,0,0,0,0,0,0,0,0,0,0,0,0,0,{"$f":"IF(CC257=CC308,0,CC257)","v":0},0,0,0,0,0,0,0,0,0,0,0,0,0,0,0,0,0,0,{"$f":"AZ308","v":0},{"$f":"AZ309","v":0},1]
[50,{"$f":"'RECOGIDA DATOS'!CW53","v":9999},{"$f":"IF(B258=B308,0,B258)","v":0},0,0,0,0,0,0,0,0,0,0,0,0,0,0,{"$f":"IF(Q258=Q308,0,Q258)","v":0},0,0,0,0,0,0,0,0,0,0,0,0,0,0,0,0,0,0,0,0,0,0,0,0,0,0,0,0,0,0,0,0,0,0,0,0,0,0,0,0,0,0,0,0,0,0,0,0,0,0,0,0,0,0,0,0,0,0,0,0,0,0,0,{"$f":"IF(CC258=CC308,0,CC258)","v":0},0,0,0,0,0,0,0,0,0,0,0,0,0,0,0,0,0,0,{"$f":"AY308","v":0},{"$f":"AY309","v":0},1]
[51,{"$f":"'RECOGIDA DATOS'!CW54","v":9999},{"$f":"IF(B259=B308,0,B259)","v":0},0,0,0,0,0,0,0,0,0,0,0,0,0,0,{"$f":"IF(Q259=Q308,0,Q259)","v":0},0,0,0,0,0,0,0,0,0,0,0,0,0,0,0,0,0,0,0,0,0,0,0,0,0,0,0,0,0,0,0,0,0,0,0,0,0,0,0,0,0,0,0,0,0,0,0,0,0,0,0,0,0,0,0,0,0,0,0,0,0,0,0,{"$f":"IF(CC259=CC308,0,CC259)","v":0},0,0,0,0,0,0,0,0,0,0,0,0,0,0,0,0,0,0,{"$f":"AX308","v":0},{"$f":"AX309","v":0},1]
[52,{"$f":"'RECOGIDA DATOS'!CW55","v":9999},{"$f":"IF(B260=B308,0,B260)","v":0},0,0,0,0,0,0,0,0,0,0,0,0,0,0,{"$f":"IF(Q260=Q308,0,Q260)","v":0},0,0,0,0,0,0,0,0,0,0,0,0,0,0,0,0,0,0,0,0,0,0,0,0,0,0,0,0,0,0,0,0,0,0,0,0,0,0,0,0,0,0,0,0,0,0,0,0,0,0,0,0,0,0,0,0,0,0,0,0,0,0,0,{"$f":"IF(CC260=CC308,0,CC260)","v":0},0,0,0,0,0,0,0,0,0,0,0,0,0,0,0,0,0,0,{"$f":"AW308","v":0},{"$f":"AW309","v":0},1]
[53,{"$f":"'RECOGIDA DATOS'!CW56","v":9999},{"$f":"IF(B261=B308,0,B261)","v":0},0,0,0,0,0,0,0,0,0,0,0,0,0,0,{"$f":"IF(Q261=Q308,0,Q261)","v":0},0,0,0,0,0,0,0,0,0,0,0,0,0,0,0,0,0,0,0,0,0,0,0,0,0,0,0,0,0,0,0,0,0,0,0,0,0,0,0,0,0,0,0,0,0,0,0,0,0,0,0,0,0,0,0,0,0,0,0,0,0,0,0,{"$f":"IF(CC261=CC308,0,CC261)","v":0},0,0,0,0,0,0,0,0,0,0,0,0,0,0,0,0,0,0,{"$f":"AV308","v":0},{"$f":"AV309","v":0},1]
[54,{"$f":"'RECOGIDA DATOS'!CW57","v":9999},{"$f":"IF(B262=B308,0,B262)","v":0},0,0,0,0,0,0,0,0,0,0,0,0,0,0,{"$f":"IF(Q262=Q308,0,Q262)","v":0},0,0,0,0,0,0,0,0,0,0,0,0,0,0,0,0,0,0,0,0,0,0,0,0,0,0,0,0,0,0,0,0,0,0,0,0,0,0,0,0,0,0,0,0,0,0,0,0,0,0,0,0,0,0,0,0,0,0,0,0,0,0,0,{"$f":"IF(CC262=CC308,0,CC262)","v":0},0,0,0,0,0,0,0,0,0,0,0,0,0,0,0,0,0,0,{"$f":"AU308","v":0},{"$f":"AU309","v":0},1]
[55,{"$f":"'RECOGIDA DATOS'!CW58","v":9999},{"$f":"IF(B263=B308,0,B263)","v":0},0,0,0,0,0,0,0,0,0,0,0,0,0,0,{"$f":"IF(Q263=Q308,0,Q263)","v":0},0,0,0,0,0,0,0,0,0,0,0,0,0,0,0,0,0,0,0,0,0,0,0,0,0,0,0,0,0,0,0,0,0,0,0,0,0,0,0,0,0,0,0,0,0,0,0,0,0,0,0,0,0,0,0,0,0,0,0,0,0,0,0,{"$f":"IF(CC263=CC308,0,CC263)","v":0},0,0,0,0,0,0,0,0,0,0,0,0,0,0,0,0,0,0,{"$f":"AT308","v":0},{"$f":"AT309","v":0},1]
[56,{"$f":"'RECOGIDA DATOS'!CW59","v":9999},{"$f":"IF(B264=B308,0,B264)","v":0},0,0,0,0,0,0,0,0,0,0,0,0,0,0,{"$f":"IF(Q264=Q308,0,Q264)","v":0},0,0,0,0,0,0,0,0,0,0,0,0,0,0,0,0,0,0,0,0,0,0,0,0,0,0,0,0,0,0,0,0,0,0,0,0,0,0,0,0,0,0,0,0,0,0,0,0,0,0,0,0,0,0,0,0,0,0,0,0,0,0,0,{"$f":"IF(CC264=CC308,0,CC264)","v":0},0,0,0,0,0,0,0,0,0,0,0,0,0,0,0,0,0,0,{"$f":"AS308","v":0},{"$f":"AS309","v":0},1]
[57,{"$f":"'RECOGIDA DATOS'!CW60","v":9999},{"$f":"IF(B265=B308,0,B265)","v":0},0,0,0,0,0,0,0,0,0,0,0,0,0,0,{"$f":"IF(Q265=Q308,0,Q265)","v":0},0,0,0,0,0,0,0,0,0,0,0,0,0,0,0,0,0,0,0,0,0,0,0,0,0,0,0,0,0,0,0,0,0,0,0,0,0,0,0,0,0,0,0,0,0,0,0,0,0,0,0,0,0,0,0,0,0,0,0,0,0,0,0,{"$f":"IF(CC265=CC308,0,CC265)","v":0},0,0,0,0,0,0,0,0,0,0,0,0,0,0,0,0,0,0,{"$f":"AR308","v":0},{"$f":"AR309","v":0},1]
[58,{"$f":"'RECOGIDA DATOS'!CW61","v":9999},{"$f":"IF(B266=B308,0,B266)","v":0},0,0,0,0,0,0,0,0,0,0,0,0,0,0,{"$f":"IF(Q266=Q308,0,Q266)","v":0},0,0,0,0,0,0,0,0,0,0,0,0,0,0,0,0,0,0,0,0,0,0,0,0,0,0,0,0,0,0,0,0,0,0,0,0,0,0,0,0,0,0,0,0,0,0,0,0,0,0,0,0,0,0,0,0,0,0,0,0,0,0,0,{"$f":"IF(CC266=CC308,0,CC266)","v":0},0,0,0,0,0,0,0,0,0,0,0,0,0,0,0,0,0,0,{"$f":"AQ308","v":0},{"$f":"AQ309","v":0},1]
[59,{"$f":"'RECOGIDA DATOS'!CW62","v":9999},{"$f":"IF(B267=B308,0,B267)","v":0},0,0,0,0,0,0,0,0,0,0,0,0,0,0,{"$f":"IF(Q267=Q308,0,Q267)","v":0},0,0,0,0,0,0,0,0,0,0,0,0,0,0,0,0,0,0,0,0,0,0,0,0,0,0,0,0,0,0,0,0,0,0,0,0,0,0,0,0,0,0,0,0,0,0,0,0,0,0,0,0,0,0,0,0,0,0,0,0,0,0,0,{"$f":"IF(CC267=CC308,0,CC267)","v":0},0,0,0,0,0,0,0,0,0,0,0,0,0,0,0,0,0,0,{"$f":"AP308","v":0},{"$f":"AP309","v":0},1]
[60,{"$f":"'RECOGIDA DATOS'!CW63","v":9999},{"$f":"IF(B268=B308,0,B268)","v":0},0,0,0,0,0,0,0,0,0,0,0,0,0,0,{"$f":"IF(Q268=Q308,0,Q268)","v":0},0,0,0,0,0,0,0,0,0,0,0,0,0,0,0,0,0,0,0,0,0,0,0,0,0,0,0,0,0,0,0,0,0,0,0,0,0,0,0,0,0,0,0,0,0,0,0,0,0,0,0,0,0,0,0,0,0,0,0,0,0,0,0,{"$f":"IF(CC268=CC308,0,CC268)","v":0},0,0,0,0,0,0,0,0,0,0,0,0,0,0,0,0,0,0,{"$f":"AO308","v":0},{"$f":"AO309","v":0},1]
[61,{"$f":"'RECOGIDA DATOS'!CW64","v":9999},{"$f":"IF(B269=B308,0,B269)","v":0},0,0,0,0,0,0,0,0,0,0,0,0,0,0,{"$f":"IF(Q269=Q308,0,Q269)","v":0},0,0,0,0,0,0,0,0,0,0,0,0,0,0,0,0,0,0,0,0,0,0,0,0,0,0,0,0,0,0,0,0,0,0,0,0,0,0,0,0,0,0,0,0,0,0,0,0,0,0,0,0,0,0,0,0,0,0,0,0,0,0,0,{"$f":"IF(CC269=CC308,0,CC269)","v":0},0,0,0,0,0,0,0,0,0,0,0,0,0,0,0,0,0,0,{"$f":"AN308","v":0},{"$f":"AN309","v":0},1]
[62,{"$f":"'RECOGIDA DATOS'!CW65","v":9999},{"$f":"IF(B270=B308,0,B270)","v":0},0,0,0,0,0,0,0,0,0,0,0,0,0,0,{"$f":"IF(Q270=Q308,0,Q270)","v":0},0,0,0,0,0,0,0,0,0,0,0,0,0,0,0,0,0,0,0,0,0,0,0,0,0,0,0,0,0,0,0,0,0,0,0,0,0,0,0,0,0,0,0,0,0,0,0,0,0,0,0,0,0,0,0,0,0,0,0,0,0,0,0,{"$f":"IF(CC270=CC308,0,CC270)","v":0},0,0,0,0,0,0,0,0,0,0,0,0,0,0,0,0,0,0,{"$f":"AM308","v":0},{"$f":"AM309","v":0},1]
[63,{"$f":"'RECOGIDA DATOS'!CW66","v":9999},{"$f":"IF(B271=B308,0,B271)","v":0},0,0,0,0,0,0,0,0,0,0,0,0,0,0,{"$f":"IF(Q271=Q308,0,Q271)","v":0},0,0,0,0,0,0,0,0,0,0,0,0,0,0,0,0,0,0,0,0,0,0,0,0,0,0,0,0,0,0,0,0,0,0,0,0,0,0,0,0,0,0,0,0,0,0,0,0,0,0,0,0,0,0,0,0,0,0,0,0,0,0,0,{"$f":"IF(CC271=CC308,0,CC271)","v":0},0,0,0,0,0,0,0,0,0,0,0,0,0,0,0,0,0,0,{"$f":"AL308","v":0},{"$f":"AL309","v":0},1]
[64,{"$f":"'RECOGIDA DATOS'!CW67","v":9999},{"$f":"IF(B272=B308,0,B272)","v":0},0,0,0,0,0,0,0,0,0,0,0,0,0,0,{"$f":"IF(Q272=Q308,0,Q272)","v":0},0,0,0,0,0,0,0,0,0,0,0,0,0,0,0,0,0,0,0,0,0,0,0,0,0,0,0,0,0,0,0,0,0,0,0,0,0,0,0,0,0,0,0,0,0,0,0,0,0,0,0,0,0,0,0,0,0,0,0,0,0,0,0,{"$f":"IF(CC272=CC308,0,CC272)","v":0},0,0,0,0,0,0,0,0,0,0,0,0,0,0,0,0,0,0,{"$f":"AK308","v":0},{"$f":"AK309","v":0},1]
[65,{"$f":"'RECOGIDA DATOS'!CW68","v":9999},{"$f":"IF(B273=B308,0,B273)","v":0},0,0,0,0,0,0,0,0,0,0,0,0,0,0,{"$f":"IF(Q273=Q308,0,Q273)","v":0},0,0,0,0,0,0,0,0,0,0,0,0,0,0,0,0,0,0,0,0,0,0,0,0,0,0,0,0,0,0,0,0,0,0,0,0,0,0,0,0,0,0,0,0,0,0,0,0,0,0,0,0,0,0,0,0,0,0,0,0,0,0,0,{"$f":"IF(CC273=CC308,0,CC273)","v":0},0,0,0,0,0,0,0,0,0,0,0,0,0,0,0,0,0,0,{"$f":"AJ308","v":0},{"$f":"AJ309","v":0},{"$f":"CY274-CX273","v":1}]
[66,{"$f":"'RECOGIDA DATOS'!CW69","v":9999},{"$f":"IF(B274=B308,0,B274)","v":0},0,0,0,0,0,0,0,0,0,0,0,0,0,0,{"$f":"IF(Q274=Q308,0,Q274)","v":0},0,0,0,0,0,0,0,0,0,0,0,0,0,0,0,0,0,0,0,0,0,0,0,0,0,0,0,0,0,0,0,0,0,0,0,0,0,0,0,0,0,0,0,0,0,0,0,0,0,0,0,0,0,0,0,0,0,0,0,0,0,0,0,{"$f":"IF(CC274=CC308,0,CC274)","v":0},0,0,0,0,0,0,0,0,0,0,0,0,0,0,0,0,0,0,{"$f":"AI308","v":0},{"$f":"AI309","v":0},1]
[67,{"$f":"'RECOGIDA DATOS'!CW70","v":9999},{"$f":"IF(B275=B308,0,B275)","v":0},0,0,0,0,0,0,0,0,0,0,0,0,0,0,{"$f":"IF(Q275=Q308,0,Q275)","v":0},0,0,0,0,0,0,0,0,0,0,0,0,0,0,0,0,0,0,0,0,0,0,0,0,0,0,0,0,0,0,0,0,0,0,0,0,0,0,0,0,0,0,0,0,0,0,0,0,0,0,0,0,0,0,0,0,0,0,0,0,0,0,0,{"$f":"IF(CC275=CC308,0,CC275)","v":0},0,0,0,0,0,0,0,0,0,0,0,0,0,0,0,0,0,0,{"$f":"AH308","v":0},{"$f":"AH309","v":0},1]
[68,{"$f":"'RECOGIDA DATOS'!CW71","v":9999},{"$f":"IF(B276=B308,0,B276)","v":0},0,0,0,0,0,0,0,0,0,0,0,0,0,0,{"$f":"IF(Q276=Q308,0,Q276)","v":0},0,0,0,0,0,0,0,0,0,0,0,0,0,0,0,0,0,0,0,0,0,0,0,0,0,0,0,0,0,0,0,0,0,0,0,0,0,0,0,0,0,0,0,0,0,0,0,0,0,0,0,0,0,0,0,0,0,0,0,0,0,0,0,{"$f":"IF(CC276=CC308,0,CC276)","v":0},0,0,0,0,0,0,0,0,0,0,0,0,0,0,0,0,0,0,{"$f":"AG308","v":0},{"$f":"AG309","v":0},1]
[69,{"$f":"'RECOGIDA DATOS'!CW72","v":9999},{"$f":"IF(B277=B308,0,B277)","v":0},0,0,0,0,0,0,0,0,0,0,0,0,0,0,{"$f":"IF(Q277=Q308,0,Q277)","v":0},0,0,0,0,0,0,0,0,0,0,0,0,0,0,0,0,0,0,0,0,0,0,0,0,0,0,0,0,0,0,0,0,0,0,0,0,0,0,0,0,0,0,0,0,0,0,0,0,0,0,0,0,0,0,0,0,0,0,0,0,0,0,0,{"$f":"IF(CC277=CC308,0,CC277)","v":0},0,0,0,0,0,0,0,0,0,0,0,0,0,0,0,0,0,0,{"$f":"AF308","v":0},{"$f":"AF309","v":0},1]
[70,{"$f":"'RECOGIDA DATOS'!CW73","v":9999},{"$f":"IF(B278=B308,0,B278)","v":0},0,0,0,0,0,0,0,0,0,0,0,0,0,0,{"$f":"IF(Q278=Q308,0,Q278)","v":0},0,0,0,0,0,0,0,0,0,0,0,0,0,0,0,0,0,0,0,0,0,0,0,0,0,0,0,0,0,0,0,0,0,0,0,0,0,0,0,0,0,0,0,0,0,0,0,0,0,0,0,0,0,0,0,0,0,0,0,0,0,0,0,{"$f":"IF(CC278=CC308,0,CC278)","v":0},0,0,0,0,0,0,0,0,0,0,0,0,0,0,0,0,0,0,{"$f":"AE308","v":0},{"$f":"AE309","v":0},1]
[71,{"$f":"'RECOGIDA DATOS'!CW74","v":9999},{"$f":"IF(B279=B308,0,B279)","v":0},0,0,0,0,0,0,0,0,0,0,0,0,0,0,{"$f":"IF(Q279=Q308,0,Q279)","v":0},0,0,0,0,0,0,0,0,0,0,0,0,0,0,0,0,0,0,0,0,0,0,0,0,0,0,0,0,0,0,0,0,0,0,0,0,0,0,0,0,0,0,0,0,0,0,0,0,0,0,0,0,0,0,0,0,0,0,0,0,0,0,0,{"$f":"IF(CC279=CC308,0,CC279)","v":0},0,0,0,0,0,0,0,0,0,0,0,0,0,0,0,0,0,0,{"$f":"AD308","v":0},{"$f":"AD309","v":0},1]
[72,{"$f":"'RECOGIDA DATOS'!CW75","v":9999},{"$f":"IF(B280=B308,0,B280)","v":0},0,0,0,0,0,0,0,0,0,0,0,0,0,0,{"$f":"IF(Q280=Q308,0,Q280)","v":0},0,0,0,0,0,0,0,0,0,0,0,0,0,0,0,0,0,0,0,0,0,0,0,0,0,0,0,0,0,0,0,0,0,0,0,0,0,0,0,0,0,0,0,0,0,0,0,0,0,0,0,0,0,0,0,0,0,0,0,0,0,0,0,{"$f":"IF(CC280=CC308,0,CC280)","v":0},0,0,0,0,0,0,0,0,0,0,0,0,0,0,0,0,0,0,{"$f":"AC308","v":0},{"$f":"AC309","v":0},1]
[73,{"$f":"'RECOGIDA DATOS'!CW76","v":9999},{"$f":"IF(B281=B308,0,B281)","v":0},0,0,0,0,0,0,0,0,0,0,0,0,0,0,{"$f":"IF(Q281=Q308,0,Q281)","v":0},0,0,0,0,0,0,0,0,0,0,0,0,0,0,0,0,0,0,0,0,0,0,0,0,0,0,0,0,0,0,0,0,0,0,0,0,0,0,0,0,0,0,0,0,0,0,0,0,0,0,0,0,0,0,0,0,0,0,0,0,0,0,0,{"$f":"IF(CC281=CC308,0,CC281)","v":0},0,0,0,0,0,0,0,0,0,0,0,0,0,0,0,0,0,0,{"$f":"AB308","v":0},{"$f":"AB309","v":0},1]
[74,{"$f":"'RECOGIDA DATOS'!CW77","v":9999},{"$f":"IF(B282=B308,0,B282)","v":0},0,0,0,0,0,0,0,0,0,0,0,0,0,0,{"$f":"IF(Q282=Q308,0,Q282)","v":0},0,0,0,0,0,0,0,0,0,0,0,0,0,0,0,0,0,0,0,0,0,0,0,0,0,0,0,0,0,0,0,0,0,0,0,0,0,0,0,0,0,0,0,0,0,0,0,0,0,0,0,0,0,0,0,0,0,0,0,0,0,0,0,{"$f":"IF(CC282=CC308,0,CC282)","v":0},0,0,0,0,0,0,0,0,0,0,0,0,0,0,0,0,0,0,{"$f":"AA308","v":0},{"$f":"AA309","v":0},1]
[75,{"$f":"'RECOGIDA DATOS'!CW78","v":9999},{"$f":"IF(B283=B308,0,B283)","v":0},0,0,0,0,0,0,0,0,0,0,0,0,0,0,{"$f":"IF(Q283=Q308,0,Q283)","v":0},0,0,0,0,0,0,0,0,0,0,0,0,0,0,0,0,0,0,0,0,0,0,0,0,0,0,0,0,0,0,0,0,0,0,0,0,0,0,0,0,0,0,0,0,0,0,0,0,0,0,0,0,0,0,0,0,0,0,0,0,0,0,0,{"$f":"IF(CC283=CC308,0,CC283)","v":0},0,0,0,0,0,0,0,0,0,0,0,0,0,0,0,0,0,0,{"$f":"Z308","v":0},{"$f":"Z309","v":0},1]
[76,{"$f":"'RECOGIDA DATOS'!CW79","v":9999},{"$f":"IF(B284=B308,0,B284)","v":0},0,0,0,0,0,0,0,0,0,0,0,0,0,0,{"$f":"IF(Q284=Q308,0,Q284)","v":0},0,0,0,0,0,0,0,0,0,0,0,0,0,0,0,0,0,0,0,0,0,0,0,0,0,0,0,0,0,0,0,0,0,0,0,0,0,0,0,0,0,0,0,0,0,0,0,0,0,0,0,0,0,0,0,0,0,0,0,0,0,0,0,{"$f":"IF(CC284=CC308,0,CC284)","v":0},0,0,0,0,0,0,0,0,0,0,0,0,0,0,0,0,0,0,{"$f":"Y308","v":0},{"$f":"Y309","v":0},1]
[77,{"$f":"'RECOGIDA DATOS'!CW80","v":9999},{"$f":"IF(B285=B308,0,B285)","v":0},0,0,0,0,0,0,0,0,0,0,0,0,0,0,{"$f":"IF(Q285=Q308,0,Q285)","v":0},0,0,0,0,0,0,0,0,0,0,0,0,0,0,0,0,0,0,0,0,0,0,0,0,0,0,0,0,0,0,0,0,0,0,0,0,0,0,0,0,0,0,0,0,0,0,0,0,0,0,0,0,0,0,0,0,0,0,0,0,0,0,0,{"$f":"IF(CC285=CC308,0,CC285)","v":0},0,0,0,0,0,0,0,0,0,0,0,0,0,0,0,0,0,0,{"$f":"X308","v":0},{"$f":"X309","v":0},1]
[78,{"$f":"'RECOGIDA DATOS'!CW81","v":9999},{"$f":"IF(B286=B308,0,B286)","v":0},0,0,0,0,0,0,0,0,0,0,0,0,0,0,{"$f":"IF(Q286=Q308,0,Q286)","v":0},0,0,0,0,0,0,0,0,0,0,0,0,0,0,0,0,0,0,0,0,0,0,0,0,0,0,0,0,0,0,0,0,0,0,0,0,0,0,0,0,0,0,0,0,0,0,0,0,0,0,0,0,0,0,0,0,0,0,0,0,0,0,0,{"$f":"IF(CC286=CC308,0,CC286)","v":0},0,0,0,0,0,0,0,0,0,0,0,0,0,0,0,0,0,0,{"$f":"W308","v":0},{"$f":"W309","v":0},1]
[79,{"$f":"'RECOGIDA DATOS'!CW82","v":9999},{"$f":"IF(B287=B308,0,B287)","v":0},0,0,0,0,0,0,0,0,0,0,0,0,0,0,{"$f":"IF(Q287=Q308,0,Q287)","v":0},0,0,0,0,0,0,0,0,0,0,0,0,0,0,0,0,0,0,0,0,0,0,0,0,0,0,0,0,0,0,0,0,0,0,0,0,0,0,0,0,0,0,0,0,0,0,0,0,0,0,0,0,0,0,0,0,0,0,0,0,0,0,0,{"$f":"IF(CC287=CC308,0,CC287)","v":0},0,0,0,0,0,0,0,0,0,0,0,0,0,0,0,0,0,0,{"$f":"V308","v":0},{"$f":"V309","v":0},1]
[80,{"$f":"'RECOGIDA DATOS'!CW83","v":9999},{"$f":"IF(B288=B308,0,B288)","v":0},0,0,0,0,0,0,0,0,0,0,0,0,0,0,{"$f":"IF(Q288=Q308,0,Q288)","v":0},0,0,0,0,0,0,0,0,0,0,0,0,0,0,0,0,0,0,0,0,0,0,0,0,0,0,0,0,0,0,0,0,0,0,0,0,0,0,0,0,0,0,0,0,0,0,0,0,0,0,0,0,0,0,0,0,0,0,0,0,0,0,0,{"$f":"IF(CC288=CC308,0,CC288)","v":0},0,0,0,0,0,0,0,0,0,0,0,0,0,0,0,0,0,0,{"$f":"U308","v":0},{"$f":"U309","v":0},1]
[81,{"$f":"'RECOGIDA DATOS'!CW84","v":9999},{"$f":"IF(B289=B308,0,B289)","v":0},0,0,0,0,0,0,0,0,0,0,0,0,0,0,{"$f":"IF(Q289=Q308,0,Q289)","v":0},0,0,0,0,0,0,0,0,0,0,0,0,0,0,0,0,0,0,0,0,0,0,0,0,0,0,0,0,0,0,0,0,0,0,0,0,0,0,0,0,0,0,0,0,0,0,0,0,0,0,0,0,0,0,0,0,0,0,0,0,0,0,0,{"$f":"IF(CC289=CC308,0,CC289)","v":0},0,0,0,0,0,0,0,0,0,0,0,0,0,0,0,0,0,0,{"$f":"T308","v":0},{"$f":"T309","v":0},1]
[82,{"$f":"'RECOGIDA DATOS'!CW85","v":9999},{"$f":"IF(B290=B308,0,B290)","v":0},0,0,0,0,0,0,0,0,0,0,0,0,0,0,{"$f":"IF(Q290=Q308,0,Q290)","v":0},0,0,0,0,0,0,0,0,0,0,0,0,0,0,0,0,0,0,0,0,0,0,0,0,0,0,0,0,0,0,0,0,0,0,0,0,0,0,0,0,0,0,0,0,0,0,0,0,0,0,0,0,0,0,0,0,0,0,0,0,0,0,0,{"$f":"IF(CC290=CC308,0,CC290)","v":0},0,0,0,0,0,0,0,0,0,0,0,0,0,0,0,0,0,0,{"$f":"S308","v":0},{"$f":"S309","v":0},1]
[83,{"$f":"'RECOGIDA DATOS'!CW86","v":9999},{"$f":"IF(B291=B308,0,B291)","v":0},0,0,0,0,0,0,0,0,0,0,0,0,0,0,{"$f":"IF(Q291=Q308,0,Q291)","v":0},0,0,0,0,0,0,0,0,0,0,0,0,0,0,0,0,0,0,0,0,0,0,0,0,0,0,0,0,0,0,0,0,0,0,0,0,0,0,0,0,0,0,0,0,0,0,0,0,0,0,0,0,0,0,0,0,0,0,0,0,0,0,0,{"$f":"IF(CC291=CC308,0,CC291)","v":0},0,0,0,0,0,0,0,0,0,0,0,0,0,0,0,0,0,0,{"$f":"R308","v":0},{"$f":"R309","v":0},1]
[84,{"$f":"'RECOGIDA DATOS'!CW87","v":9999},{"$f":"IF(B292=B308,0,B292)","v":0},0,0,0,0,0,0,0,0,0,0,0,0,0,0,{"$f":"IF(Q292=Q308,0,Q292)","v":0},0,0,0,0,0,0,0,0,0,0,0,0,0,0,0,0,0,0,0,0,0,0,0,0,0,0,0,0,0,0,0,0,0,0,0,0,0,0,0,0,0,0,0,0,0,0,0,0,0,0,0,0,0,0,0,0,0,0,0,0,0,0,0,{"$f":"IF(CC292=CC308,0,CC292)","v":0},0,0,0,0,0,0,0,0,0,0,0,0,0,0,0,0,0,0,{"$f":"Q308","v":0},{"$f":"Q309","v":0},1]
[85,{"$f":"'RECOGIDA DATOS'!CW88","v":9999},{"$f":"IF(B293=B308,0,B293)","v":0},0,0,0,0,0,0,0,0,0,0,0,0,0,0,{"$f":"IF(Q293=Q308,0,Q293)","v":0},0,0,0,0,0,0,0,0,0,0,0,0,0,0,0,0,0,0,0,0,0,0,0,0,0,0,0,0,0,0,0,0,0,0,0,0,0,0,0,0,0,0,0,0,0,0,0,0,0,0,0,0,0,0,0,0,0,0,0,0,0,0,0,{"$f":"IF(CC293=CC308,0,CC293)","v":0},0,0,0,0,0,0,0,0,0,0,0,0,0,0,0,0,0,0,{"$f":"P308","v":0},{"$f":"P309","v":0},1]
[86,{"$f":"'RECOGIDA DATOS'!CW89","v":9999},{"$f":"IF(B294=B308,0,B294)","v":0},0,0,0,0,0,0,0,0,0,0,0,0,0,0,{"$f":"IF(Q294=Q308,0,Q294)","v":0},0,0,0,0,0,0,0,0,0,0,0,0,0,0,0,0,0,0,0,0,0,0,0,0,0,0,0,0,0,0,0,0,0,0,0,0,0,0,0,0,0,0,0,0,0,0,0,0,0,0,0,0,0,0,0,0,0,0,0,0,0,0,0,{"$f":"IF(CC294=CC308,0,CC294)","v":0},0,0,0,0,0,0,0,0,0,0,0,0,0,0,0,0,0,0,{"$f":"O308","v":0},{"$f":"O309","v":0},1]
[87,{"$f":"'RECOGIDA DATOS'!CW90","v":9999},{"$f":"IF(B295=B308,0,B295)","v":0},0,0,0,0,0,0,0,0,0,0,0,0,0,0,{"$f":"IF(Q295=Q308,0,Q295)","v":0},0,0,0,0,0,0,0,0,0,0,0,0,0,0,0,0,0,0,0,0,0,0,0,0,0,0,0,0,0,0,0,0,0,0,0,0,0,0,0,0,0,0,0,0,0,0,0,0,0,0,0,0,0,0,0,0,0,0,0,0,0,0,0,{"$f":"IF(CC295=CC308,0,CC295)","v":0},0,0,0,0,0,0,0,0,0,0,0,0,0,0,0,0,0,0,{"$f":"N308","v":0},{"$f":"N309","v":0},1]
[88,{"$f":"'RECOGIDA DATOS'!CW91","v":9999},{"$f":"IF(B296=B308,0,B296)","v":0},0,0,0,0,0,0,0,0,0,0,0,0,0,0,{"$f":"IF(Q296=Q308,0,Q296)","v":0},0,0,0,0,0,0,0,0,0,0,0,0,0,0,0,0,0,0,0,0,0,0,0,0,0,0,0,0,0,0,0,0,0,0,0,0,0,0,0,0,0,0,0,0,0,0,0,0,0,0,0,0,0,0,0,0,0,0,0,0,0,0,0,{"$f":"IF(CC296=CC308,0,CC296)","v":0},0,0,0,0,0,0,0,0,0,0,0,0,0,0,0,0,0,0,{"$f":"M308","v":0},{"$f":"M309","v":0},1]
[89,{"$f":"'RECOGIDA DATOS'!CW92","v":9999},{"$f":"IF(B297=B308,0,B297)","v":0},0,0,0,0,0,0,0,0,0,0,0,0,0,0,{"$f":"IF(Q297=Q308,0,Q297)","v":0},0,0,0,0,0,0,0,0,0,0,0,0,0,0,0,0,0,0,0,0,0,0,0,0,0,0,0,0,0,0,0,0,0,0,0,0,0,0,0,0,0,0,0,0,0,0,0,0,0,0,0,0,0,0,0,0,0,0,0,0,0,0,0,{"$f":"IF(CC297=CC308,0,CC297)","v":0},0,0,0,0,0,0,0,0,0,0,0,0,0,0,0,0,0,0,{"$f":"L308","v":0},{"$f":"L309","v":0},1]
[90,{"$f":"'RECOGIDA DATOS'!CW93","v":9999},{"$f":"IF(B298=B308,0,B298)","v":0},0,0,0,0,0,0,0,0,0,0,0,0,0,0,{"$f":"IF(Q298=Q308,0,Q298)","v":0},0,0,0,0,0,0,0,0,0,0,0,0,0,0,0,0,0,0,0,0,0,0,0,0,0,0,0,0,0,0,0,0,0,0,0,0,0,0,0,0,0,0,0,0,0,0,0,0,0,0,0,0,0,0,0,0,0,0,0,0,0,0,0,{"$f":"IF(CC298=CC308,0,CC298)","v":0},0,0,0,0,0,0,0,0,0,0,0,0,0,0,0,0,0,0,{"$f":"K308","v":0},{"$f":"K309","v":0},1]
[91,{"$f":"'RECOGIDA DATOS'!CW94","v":9999},{"$f":"IF(B299=B308,0,B299)","v":0},0,0,0,0,0,0,0,0,0,0,0,0,0,0,{"$f":"IF(Q299=Q308,0,Q299)","v":0},0,0,0,0,0,0,0,0,0,0,0,0,0,0,0,0,0,0,0,0,0,0,0,0,0,0,0,0,0,0,0,0,0,0,0,0,0,0,0,0,0,0,0,0,0,0,0,0,0,0,0,0,0,0,0,0,0,0,0,0,0,0,0,{"$f":"IF(CC299=CC308,0,CC299)","v":0},0,0,0,0,0,0,0,0,0,0,0,0,0,0,0,0,0,0,{"$f":"J308","v":0},{"$f":"J309","v":0},1]
[92,{"$f":"'RECOGIDA DATOS'!CW95","v":9999},{"$f":"IF(B300=B308,0,B300)","v":0},0,0,0,0,0,0,0,0,0,0,0,0,0,0,{"$f":"IF(Q300=Q308,0,Q300)","v":0},0,0,0,0,0,0,0,0,0,0,0,0,0,0,0,0,0,0,0,0,0,0,0,0,0,0,0,0,0,0,0,0,0,0,0,0,0,0,0,0,0,0,0,0,0,0,0,0,0,0,0,0,0,0,0,0,0,0,0,0,0,0,0,{"$f":"IF(CC300=CC308,0,CC300)","v":0},0,0,0,0,0,0,0,0,0,0,0,0,0,0,0,0,0,0,{"$f":"I308","v":0},{"$f":"I309","v":0},1]
[93,{"$f":"'RECOGIDA DATOS'!CW96","v":9999},{"$f":"IF(B301=B308,0,B301)","v":0},0,0,0,0,0,0,0,0,0,0,0,0,0,0,{"$f":"IF(Q301=Q308,0,Q301)","v":0},0,0,0,0,0,0,0,0,0,0,0,0,0,0,0,0,0,0,0,0,0,0,0,0,0,0,0,0,0,0,0,0,0,0,0,0,0,0,0,0,0,0,0,0,0,0,0,0,0,0,0,0,0,0,0,0,0,0,0,0,0,0,0,{"$f":"IF(CC301=CC308,0,CC301)","v":0},0,0,0,0,0,0,0,0,0,0,0,0,0,0,0,0,0,0,{"$f":"H308","v":0},{"$f":"H309","v":0},1]
[94,{"$f":"'RECOGIDA DATOS'!CW97","v":9999},{"$f":"IF(B302=B308,0,B302)","v":0},0,0,0,0,0,0,0,0,0,0,0,0,0,0,{"$f":"IF(Q302=Q308,0,Q302)","v":0},0,0,0,0,0,0,0,0,0,0,0,0,0,0,0,0,0,0,0,0,0,0,0,0,0,0,0,0,0,0,0,0,0,0,0,0,0,0,0,0,0,0,0,0,0,0,0,0,0,0,0,0,0,0,0,0,0,0,0,0,0,0,0,{"$f":"IF(CC302=CC308,0,CC302)","v":0},0,0,0,0,0,0,0,0,0,0,0,0,0,0,0,0,0,0,{"$f":"G308","v":0},{"$f":"G309","v":0},1]
[95,{"$f":"'RECOGIDA DATOS'!CW98","v":9999},{"$f":"IF(B303=B308,0,B303)","v":0},0,0,0,0,0,0,0,0,0,0,0,0,0,0,{"$f":"IF(Q303=Q308,0,Q303)","v":0},0,0,0,0,0,0,0,0,0,0,0,0,0,0,0,0,0,0,0,0,0,0,0,0,0,0,0,0,0,0,0,0,0,0,0,0,0,0,0,0,0,0,0,0,0,0,0,0,0,0,0,0,0,0,0,0,0,0,0,0,0,0,0,{"$f":"IF(CC303=CC308,0,CC303)","v":0},0,0,0,0,0,0,0,0,0,0,0,0,0,0,0,0,0,0,{"$f":"F308","v":0},{"$f":"F309","v":0},1]
[96,{"$f":"'RECOGIDA DATOS'!CW99","v":9999},{"$f":"IF(B304=B308,0,B304)","v":0},0,0,0,0,0,0,0,0,0,0,0,0,0,0,{"$f":"IF(Q304=Q308,0,Q304)","v":0},0,0,0,0,0,0,0,0,0,0,0,0,0,0,0,0,0,0,0,0,0,0,0,0,0,0,0,0,0,0,0,0,0,0,0,0,0,0,0,0,0,0,0,0,0,0,0,0,0,0,0,0,0,0,0,0,0,0,0,0,0,0,0,{"$f":"IF(CC304=CC308,0,CC304)","v":0},0,0,0,0,0,0,0,0,0,0,0,0,0,0,0,0,0,0,{"$f":"E308","v":0},{"$f":"E309","v":0},1]
[97,{"$f":"'RECOGIDA DATOS'!CW100","v":9999},{"$f":"IF(B305=B308,0,B305)","v":0},0,0,0,0,0,0,0,0,0,0,0,0,0,0,{"$f":"IF(Q305=Q308,0,Q305)","v":0},0,0,0,0,0,0,0,0,0,0,0,0,0,0,0,0,0,0,0,0,0,0,0,0,0,0,0,0,0,0,0,0,0,0,0,0,0,0,0,0,0,0,0,0,0,0,0,0,0,0,0,0,0,0,0,0,0,0,0,0,0,0,0,{"$f":"IF(CC305=CC308,0,CC305)","v":0},0,0,0,0,0,0,0,0,0,0,0,0,0,0,0,0,0,0,{"$f":"D308","v":0},{"$f":"D309","v":0},{"$f":"CY306-CX305","v":1}]
[98,{"$f":"'RECOGIDA DATOS'!CW101","v":9999},{"$f":"IF(B306=B308,0,B306)","v":0},0,0,0,0,0,0,0,0,0,0,0,0,0,0,{"$f":"IF(Q306=Q308,0,Q306)","v":0},0,0,0,0,0,0,0,0,0,0,0,0,0,0,0,0,0,0,0,0,0,0,0,0,0,0,0,0,0,0,0,0,0,0,0,0,0,0,0,0,0,0,0,0,0,0,0,0,0,0,0,0,0,0,0,0,0,0,0,0,0,0,0,{"$f":"IF(CC306=CC308,0,CC306)","v":0},0,0,0,0,0,0,0,0,0,0,0,0,0,0,0,0,0,0,{"$f":"C308","v":0},{"$f":"C309","v":0},1]
[99,{"$f":"'RECOGIDA DATOS'!CW102","v":9999},{"$f":"IF(B307=B308,0,B307)","v":0},0,0,0,0,0,0,0,0,0,0,0,0,0,0,{"$f":"IF(Q307=Q308,0,Q307)","v":0},0,0,0,0,0,0,0,0,0,0,0,0,0,0,0,0,0,0,0,0,0,0,0,0,0,0,0,0,0,0,0,0,0,0,0,0,0,0,0,0,0,0,0,0,0,0,0,0,0,0,0,0,0,0,0,0,0,0,0,0,0,0,0,{"$f":"IF(CC307=CC308,0,CC307)","v":0},0,0,0,0,0,0,0,0,0,0,0,0,0,0,0,0,0,0,{"$f":"B308","v":9999},{"$f":"B309","v":99},{"$f":"MAX(A209:A307)+1-CX307","v":1}]
[null,{"$f":"MAX(B209:B307)","v":9999},{"$f":"MAX(C209:C307)","v":0},0,0,0,0,0,0,0,0,0,0,0,0,0,0,{"$f":"MAX(R209:R307)","v":0},{"$f":"MAX(S209:S307)","v":0},{"$f":"MAX(T209:T307)","v":0},{"$f":"MAX(U209:U307)","v":0},{"$f":"MAX(V209:V307)","v":0},{"$f":"MAX(W209:W307)","v":0},{"$f":"MAX(X209:X307)","v":0},{"$f":"MAX(Y209:Y307)","v":0},{"$f":"MAX(Z209:Z307)","v":0},{"$f":"MAX(AA209:AA307)","v":0},{"$f":"MAX(AB209:AB307)","v":0},{"$f":"MAX(AC209:AC307)","v":0},{"$f":"MAX(AD209:AD307)","v":0},{"$f":"MAX(AE209:AE307)","v":0},{"$f":"MAX(AF209:AF307)","v":0},{"$f":"MAX(AG209:AG307)","v":0},{"$f":"MAX(AH209:AH307)","v":0},{"$f":"MAX(AI209:AI307)","v":0},{"$f":"MAX(AJ209:AJ307)","v":0},{"$f":"MAX(AK209:AK307)","v":0},{"$f":"MAX(AL209:AL307)","v":0},{"$f":"MAX(AM209:AM307)","v":0},{"$f":"MAX(AN209:AN307)","v":0},{"$f":"MAX(AO209:AO307)","v":0},{"$f":"MAX(AP209:AP307)","v":0},{"$f":"MAX(AQ209:AQ307)","v":0},{"$f":"MAX(AR209:AR307)","v":0},{"$f":"MAX(AS209:AS307)","v":0},{"$f":"MAX(AT209:AT307)","v":0},{"$f":"MAX(AU209:AU307)","v":0},{"$f":"MAX(AV209:AV307)","v":0},{"$f":"MAX(AW209:AW307)","v":0},{"$f":"MAX(AX209:AX307)","v":0},{"$f":"MAX(AY209:AY307)","v":0},{"$f":"MAX(AZ209:AZ307)","v":0},{"$f":"MAX(BA209:BA307)","v":0},{"$f":"MAX(BB209:BB307)","v":0},{"$f":"MAX(BC209:BC307)","v":0},{"$f":"MAX(BD209:BD307)","v":0},{"$f":"MAX(BE209:BE307)","v":0},{"$f":"MAX(BF209:BF307)","v":0},{"$f":"MAX(BG209:BG307)","v":0},{"$f":"MAX(BH209:BH307)","v":0},{"$f":"MAX(BI209:BI307)","v":0},{"$f":"MAX(BJ209:BJ307)","v":0},{"$f":"MAX(BK209:BK307)","v":0},{"$f":"MAX(BL209:BL307)","v":0},{"$f":"MAX(BM209:BM307)","v":0},{"$f":"MAX(BN209:BN307)","v":0},{"$f":"MAX(BO209:BO307)","v":0},{"$f":"MAX(BP209:BP307)","v":0},{"$f":"MAX(BQ209:BQ307)","v":0},{"$f":"MAX(BR209:BR307)","v":0},{"$f":"MAX(BS209:BS307)","v":0},{"$f":"MAX(BT209:BT307)","v":0},{"$f":"MAX(BU209:BU307)","v":0},{"$f":"MAX(BV209:BV307)","v":0},{"$f":"MAX(BW209:BW307)","v":0},{"$f":"MAX(BX209:BX307)","v":0},{"$f":"MAX(BY209:BY307)","v":0},{"$f":"MAX(BZ209:BZ307)","v":0},{"$f":"MAX(CA209:CA307)","v":0},{"$f":"MAX(CB209:CB307)","v":0},{"$f":"MAX(CC209:CC307)","v":0},{"$f":"MAX(CD209:CD307)","v":0},{"$f":"MAX(CE209:CE307)","v":0},{"$f":"MAX(CF209:CF307)","v":0},{"$f":"MAX(CG209:CG307)","v":0},{"$f":"MAX(CH209:CH307)","v":0},{"$f":"MAX(CI209:CI307)","v":0},{"$f":"MAX(CJ209:CJ307)","v":0},{"$f":"MAX(CK209:CK307)","v":0},{"$f":"MAX(CL209:CL307)","v":0},{"$f":"MAX(CM209:CM307)","v":0},{"$f":"MAX(CN209:CN307)","v":0},{"$f":"MAX(CO209:CO307)","v":0},{"$f":"MAX(CP209:CP307)","v":0},{"$f":"MAX(CQ209:CQ307)","v":0},{"$f":"MAX(CR209:CR307)","v":0},{"$f":"MAX(CS209:CS307)","v":0},{"$f":"MAX(CT209:CT307)","v":0},{"$f":"MAX(CU209:CU307)","v":0},{"$f":"MAX(CV209:CV307)","v":0}]
[null,{"$f":"IF(B308=0,0,COUNTIF(B209:B307,B308))","v":99},{"$f":"IF(C308=0,0,COUNTIF(C209:C307,C308))","v":0},0,0,0,0,0,0,0,0,0,0,0,0,0,0,{"$f":"IF(R308=0,0,COUNTIF(R209:R307,R308))","v":0},{"$f":"IF(S308=0,0,COUNTIF(S209:S307,S308))","v":0},{"$f":"IF(T308=0,0,COUNTIF(T209:T307,T308))","v":0},{"$f":"IF(U308=0,0,COUNTIF(U209:U307,U308))","v":0},{"$f":"IF(V308=0,0,COUNTIF(V209:V307,V308))","v":0},{"$f":"IF(W308=0,0,COUNTIF(W209:W307,W308))","v":0},{"$f":"IF(X308=0,0,COUNTIF(X209:X307,X308))","v":0},{"$f":"IF(Y308=0,0,COUNTIF(Y209:Y307,Y308))","v":0},{"$f":"IF(Z308=0,0,COUNTIF(Z209:Z307,Z308))","v":0},{"$f":"IF(AA308=0,0,COUNTIF(AA209:AA307,AA308))","v":0},{"$f":"IF(AB308=0,0,COUNTIF(AB209:AB307,AB308))","v":0},{"$f":"IF(AC308=0,0,COUNTIF(AC209:AC307,AC308))","v":0},{"$f":"IF(AD308=0,0,COUNTIF(AD209:AD307,AD308))","v":0},{"$f":"IF(AE308=0,0,COUNTIF(AE209:AE307,AE308))","v":0},{"$f":"IF(AF308=0,0,COUNTIF(AF209:AF307,AF308))","v":0},{"$f":"IF(AG308=0,0,COUNTIF(AG209:AG307,AG308))","v":0},{"$f":"IF(AH308=0,0,COUNTIF(AH209:AH307,AH308))","v":0},{"$f":"IF(AI308=0,0,COUNTIF(AI209:AI307,AI308))","v":0},{"$f":"IF(AJ308=0,0,COUNTIF(AJ209:AJ307,AJ308))","v":0},{"$f":"IF(AK308=0,0,COUNTIF(AK209:AK307,AK308))","v":0},{"$f":"IF(AL308=0,0,COUNTIF(AL209:AL307,AL308))","v":0},{"$f":"IF(AM308=0,0,COUNTIF(AM209:AM307,AM308))","v":0},{"$f":"IF(AN308=0,0,COUNTIF(AN209:AN307,AN308))","v":0},{"$f":"IF(AO308=0,0,COUNTIF(AO209:AO307,AO308))","v":0},{"$f":"IF(AP308=0,0,COUNTIF(AP209:AP307,AP308))","v":0},{"$f":"IF(AQ308=0,0,COUNTIF(AQ209:AQ307,AQ308))","v":0},{"$f":"IF(AR308=0,0,COUNTIF(AR209:AR307,AR308))","v":0},{"$f":"IF(AS308=0,0,COUNTIF(AS209:AS307,AS308))","v":0},{"$f":"IF(AT308=0,0,COUNTIF(AT209:AT307,AT308))","v":0},{"$f":"IF(AU308=0,0,COUNTIF(AU209:AU307,AU308))","v":0},{"$f":"IF(AV308=0,0,COUNTIF(AV209:AV307,AV308))","v":0},{"$f":"IF(AW308=0,0,COUNTIF(AW209:AW307,AW308))","v":0},{"$f":"IF(AX308=0,0,COUNTIF(AX209:AX307,AX308))","v":0},{"$f":"IF(AY308=0,0,COUNTIF(AY209:AY307,AY308))","v":0},{"$f":"IF(AZ308=0,0,COUNTIF(AZ209:AZ307,AZ308))","v":0},{"$f":"IF(BA308=0,0,COUNTIF(BA209:BA307,BA308))","v":0},{"$f":"IF(BB308=0,0,COUNTIF(BB209:BB307,BB308))","v":0},{"$f":"IF(BC308=0,0,COUNTIF(BC209:BC307,BC308))","v":0},{"$f":"IF(BD308=0,0,COUNTIF(BD209:BD307,BD308))","v":0},{"$f":"IF(BE308=0,0,COUNTIF(BE209:BE307,BE308))","v":0},{"$f":"IF(BF308=0,0,COUNTIF(BF209:BF307,BF308))","v":0},{"$f":"IF(BG308=0,0,COUNTIF(BG209:BG307,BG308))","v":0},{"$f":"IF(BH308=0,0,COUNTIF(BH209:BH307,BH308))","v":0},{"$f":"IF(BI308=0,0,COUNTIF(BI209:BI307,BI308))","v":0},{"$f":"IF(BJ308=0,0,COUNTIF(BJ209:BJ307,BJ308))","v":0},{"$f":"IF(BK308=0,0,COUNTIF(BK209:BK307,BK308))","v":0},{"$f":"IF(BL308=0,0,COUNTIF(BL209:BL307,BL308))","v":0},{"$f":"IF(BM308=0,0,COUNTIF(BM209:BM307,BM308))","v":0},{"$f":"IF(BN308=0,0,COUNTIF(BN209:BN307,BN308))","v":0},{"$f":"IF(BO308=0,0,COUNTIF(BO209:BO307,BO308))","v":0},{"$f":"IF(BP308=0,0,COUNTIF(BP209:BP307,BP308))","v":0},{"$f":"IF(BQ308=0,0,COUNTIF(BQ209:BQ307,BQ308))","v":0},{"$f":"IF(BR308=0,0,COUNTIF(BR209:BR307,BR308))","v":0},{"$f":"IF(BS308=0,0,COUNTIF(BS209:BS307,BS308))","v":0},{"$f":"IF(BT308=0,0,COUNTIF(BT209:BT307,BT308))","v":0},{"$f":"IF(BU308=0,0,COUNTIF(BU209:BU307,BU308))","v":0},{"$f":"IF(BV308=0,0,COUNTIF(BV209:BV307,BV308))","v":0},{"$f":"IF(BW308=0,0,COUNTIF(BW209:BW307,BW308))","v":0},{"$f":"IF(BX308=0,0,COUNTIF(BX209:BX307,BX308))","v":0},{"$f":"IF(BY308=0,0,COUNTIF(BY209:BY307,BY308))","v":0},{"$f":"IF(BZ308=0,0,COUNTIF(BZ209:BZ307,BZ308))","v":0},{"$f":"IF(CA308=0,0,COUNTIF(CA209:CA307,CA308))","v":0},{"$f":"IF(CB308=0,0,COUNTIF(CB209:CB307,CB308))","v":0},{"$f":"IF(CC308=0,0,COUNTIF(CC209:CC307,CC308))","v":0},{"$f":"IF(CD308=0,0,COUNTIF(CD209:CD307,CD308))","v":0},{"$f":"IF(CE308=0,0,COUNTIF(CE209:CE307,CE308))","v":0},{"$f":"IF(CF308=0,0,COUNTIF(CF209:CF307,CF308))","v":0},{"$f":"IF(CG308=0,0,COUNTIF(CG209:CG307,CG308))","v":0},{"$f":"IF(CH308=0,0,COUNTIF(CH209:CH307,CH308))","v":0},{"$f":"IF(CI308=0,0,COUNTIF(CI209:CI307,CI308))","v":0},{"$f":"IF(CJ308=0,0,COUNTIF(CJ209:CJ307,CJ308))","v":0},{"$f":"IF(CK308=0,0,COUNTIF(CK209:CK307,CK308))","v":0},{"$f":"IF(CL308=0,0,COUNTIF(CL209:CL307,CL308))","v":0},{"$f":"IF(CM308=0,0,COUNTIF(CM209:CM307,CM308))","v":0},{"$f":"IF(CN308=0,0,COUNTIF(CN209:CN307,CN308))","v":0},{"$f":"IF(CO308=0,0,COUNTIF(CO209:CO307,CO308))","v":0},{"$f":"IF(CP308=0,0,COUNTIF(CP209:CP307,CP308))","v":0},{"$f":"IF(CQ308=0,0,COUNTIF(CQ209:CQ307,CQ308))","v":0},{"$f":"IF(CR308=0,0,COUNTIF(CR209:CR307,CR308))","v":0},{"$f":"IF(CS308=0,0,COUNTIF(CS209:CS307,CS308))","v":0},{"$f":"IF(CT308=0,0,COUNTIF(CT209:CT307,CT308))","v":0},{"$f":"IF(CU308=0,0,COUNTIF(CU209:CU307,CU308))","v":0},{"$f":"IF(CV308=0,0,COUNTIF(CV209:CV307,CV308))","v":0}]
[null,"TRES PRIMEROS INTENTOS"]
[null,1,{"$f":"B311+1","v":2},{"$f":"C311+1","v":3},{"$f":"D311+1","v":4},{"$f":"E311+1","v":5},{"$f":"F311+1","v":6},{"$f":"G311+1","v":7},{"$f":"H311+1","v":8},{"$f":"I311+1","v":9},{"$f":"J311+1","v":10},{"$f":"K311+1","v":11},{"$f":"L311+1","v":12},{"$f":"M311+1","v":13},{"$f":"N311+1","v":14},{"$f":"O311+1","v":15},{"$f":"P311+1","v":16},{"$f":"Q311+1","v":17},{"$f":"R311+1","v":18},{"$f":"S311+1","v":19},{"$f":"T311+1","v":20},{"$f":"U311+1","v":21},{"$f":"V311+1","v":22},{"$f":"W311+1","v":23},{"$f":"X311+1","v":24},{"$f":"Y311+1","v":25},{"$f":"Z311+1","v":26},{"$f":"AA311+1","v":27},{"$f":"AB311+1","v":28},{"$f":"AC311+1","v":29},{"$f":"AD311+1","v":30},{"$f":"AE311+1","v":31},{"$f":"AF311+1","v":32},{"$f":"AG311+1","v":33},{"$f":"AH311+1","v":34},{"$f":"AI311+1","v":35},{"$f":"AJ311+1","v":36},{"$f":"AK311+1","v":37},{"$f":"AL311+1","v":38},{"$f":"AM311+1","v":39},{"$f":"AN311+1","v":40},{"$f":"AO311+1","v":41},{"$f":"AP311+1","v":42},{"$f":"AQ311+1","v":43},{"$f":"AR311+1","v":44},{"$f":"AS311+1","v":45},{"$f":"AT311+1","v":46},{"$f":"AU311+1","v":47},{"$f":"AV311+1","v":48},{"$f":"AW311+1","v":49},{"$f":"AX311+1","v":50},{"$f":"AY311+1","v":51},{"$f":"AZ311+1","v":52},{"$f":"BA311+1","v":53},{"$f":"BB311+1","v":54},{"$f":"BC311+1","v":55},{"$f":"BD311+1","v":56},{"$f":"BE311+1","v":57},{"$f":"BF311+1","v":58},{"$f":"BG311+1","v":59},{"$f":"BH311+1","v":60},{"$f":"BI311+1","v":61},{"$f":"BJ311+1","v":62},{"$f":"BK311+1","v":63},{"$f":"BL311+1","v":64},{"$f":"BM311+1","v":65},{"$f":"BN311+1","v":66},{"$f":"BO311+1","v":67},{"$f":"BP311+1","v":68},{"$f":"BQ311+1","v":69},{"$f":"BR311+1","v":70},{"$f":"BS311+1","v":71},{"$f":"BT311+1","v":72},{"$f":"BU311+1","v":73},{"$f":"BV311+1","v":74},{"$f":"BW311+1","v":75},{"$f":"BX311+1","v":76},{"$f":"BY311+1","v":77},{"$f":"BZ311+1","v":78},{"$f":"CA311+1","v":79},{"$f":"CB311+1","v":80},{"$f":"CC311+1","v":81},{"$f":"CD311+1","v":82},{"$f":"CE311+1","v":83},{"$f":"CF311+1","v":84},{"$f":"CG311+1","v":85},{"$f":"CH311+1","v":86},{"$f":"CI311+1","v":87},{"$f":"CJ311+1","v":88},{"$f":"CK311+1","v":89},{"$f":"CL311+1","v":90},{"$f":"CM311+1","v":91},{"$f":"CN311+1","v":92},{"$f":"CO311+1","v":93},{"$f":"CP311+1","v":94},{"$f":"CQ311+1","v":95},{"$f":"CR311+1","v":96},{"$f":"CS311+1","v":97},{"$f":"CT311+1","v":98},{"$f":"CU311+1","v":99},"MÓDULO CLASIFICACIÓN - Tres Primeras"]
[1,{"$f":"'RECOGIDA DATOS'!AG4","v":0},{"$f":"IF(B312=B411,0,B312)","v":0},{"$f":"IF(C312=C411,0,C312)","v":0},{"$f":"IF(D312=D411,0,D312)","v":0},{"$f":"IF(E312=E411,0,E312)","v":0},{"$f":"IF(F312=F411,0,F312)","v":0},{"$f":"IF(G312=G411,0,G312)","v":0},{"$f":"IF(H312=H411,0,H312)","v":0},{"$f":"IF(I312=I411,0,I312)","v":0},{"$f":"IF(J312=J411,0,J312)","v":0},{"$f":"IF(K312=K411,0,K312)","v":0},{"$f":"IF(L312=L411,0,L312)","v":0},{"$f":"IF(M312=M411,0,M312)","v":0},{"$f":"IF(N312=N411,0,N312)","v":0},{"$f":"IF(O312=O411,0,O312)","v":0},{"$f":"IF(P312=P411,0,P312)","v":0},{"$f":"IF(Q312=Q411,0,Q312)","v":0},{"$f":"IF(R312=R411,0,R312)","v":0},{"$f":"IF(S312=S411,0,S312)","v":0},{"$f":"IF(T312=T411,0,T312)","v":0},{"$f":"IF(U312=U411,0,U312)","v":0},{"$f":"IF(V312=V411,0,V312)","v":0},{"$f":"IF(W312=W411,0,W312)","v":0},{"$f":"IF(X312=X411,0,X312)","v":0},{"$f":"IF(Y312=Y411,0,Y312)","v":0},{"$f":"IF(Z312=Z411,0,Z312)","v":0},{"$f":"IF(AA312=AA411,0,AA312)","v":0},{"$f":"IF(AB312=AB411,0,AB312)","v":0},{"$f":"IF(AC312=AC411,0,AC312)","v":0},{"$f":"IF(AD312=AD411,0,AD312)","v":0},{"$f":"IF(AE312=AE411,0,AE312)","v":0},{"$f":"IF(AF312=AF411,0,AF312)","v":0},{"$f":"IF(AG312=AG411,0,AG312)","v":0},{"$f":"IF(AH312=AH411,0,AH312)","v":0},{"$f":"IF(AI312=AI411,0,AI312)","v":0},{"$f":"IF(AJ312=AJ411,0,AJ312)","v":0},{"$f":"IF(AK312=AK411,0,AK312)","v":0},{"$f":"IF(AL312=AL411,0,AL312)","v":0},{"$f":"IF(AM312=AM411,0,AM312)","v":0},{"$f":"IF(AN312=AN411,0,AN312)","v":0},{"$f":"IF(AO312=AO411,0,AO312)","v":0},{"$f":"IF(AP312=AP411,0,AP312)","v":0},{"$f":"IF(AQ312=AQ411,0,AQ312)","v":0},{"$f":"IF(AR312=AR411,0,AR312)","v":0},{"$f":"IF(AS312=AS411,0,AS312)","v":0},{"$f":"IF(AT312=AT411,0,AT312)","v":0},{"$f":"IF(AU312=AU411,0,AU312)","v":0},{"$f":"IF(AV312=AV411,0,AV312)","v":0},{"$f":"IF(AW312=AW411,0,AW312)","v":0},{"$f":"IF(AX312=AX411,0,AX312)","v":0},{"$f":"IF(AY312=AY411,0,AY312)","v":0},{"$f":"IF(AZ312=AZ411,0,AZ312)","v":0},{"$f":"IF(BA312=BA411,0,BA312)","v":0},{"$f":"IF(BB312=BB411,0,BB312)","v":0},{"$f":"IF(BC312=BC411,0,BC312)","v":0},{"$f":"IF(BD312=BD411,0,BD312)","v":0},{"$f":"IF(BE312=BE411,0,BE312)","v":0},{"$f":"IF(BF312=BF411,0,BF312)","v":0},{"$f":"IF(BG312=BG411,0,BG312)","v":0},{"$f":"IF(BH312=BH411,0,BH312)","v":0},{"$f":"IF(BI312=BI411,0,BI312)","v":0},{"$f":"IF(BJ312=BJ411,0,BJ312)","v":0},{"$f":"IF(BK312=BK411,0,BK312)","v":0},{"$f":"IF(BL312=BL411,0,BL312)","v":0},{"$f":"IF(BM312=BM411,0,BM312)","v":0},{"$f":"IF(BN312=BN411,0,BN312)","v":0},{"$f":"IF(BO312=BO411,0,BO312)","v":0},{"$f":"IF(BP312=BP411,0,BP312)","v":0},{"$f":"IF(BQ312=BQ411,0,BQ312)","v":0},{"$f":"IF(BR312=BR411,0,BR312)","v":0},{"$f":"IF(BS312=BS411,0,BS312)","v":0},{"$f":"IF(BT312=BT411,0,BT312)","v":0},{"$f":"IF(BU312=BU411,0,BU312)","v":0},{"$f":"IF(BV312=BV411,0,BV312)","v":0},{"$f":"IF(BW312=BW411,0,BW312)","v":0},{"$f":"IF(BX312=BX411,0,BX312)","v":0},{"$f":"IF(BY312=BY411,0,BY312)","v":0},{"$f":"IF(BZ312=BZ411,0,BZ312)","v":0},{"$f":"IF(CA312=CA411,0,CA312)","v":0},{"$f":"IF(CB312=CB411,0,CB312)","v":0},{"$f":"IF(CC312=CC411,0,CC312)","v":0},{"$f":"IF(CD312=CD411,0,CD312)","v":0},{"$f":"IF(CE312=CE411,0,CE312)","v":0},{"$f":"IF(CF312=CF411,0,CF312)","v":0},{"$f":"IF(CG312=CG411,0,CG312)","v":0},{"$f":"IF(CH312=CH411,0,CH312)","v":0},{"$f":"IF(CI312=CI411,0,CI312)","v":0},{"$f":"IF(CJ312=CJ411,0,CJ312)","v":0},{"$f":"IF(CK312=CK411,0,CK312)","v":0},{"$f":"IF(CL312=CL411,0,CL312)","v":0},{"$f":"IF(CM312=CM411,0,CM312)","v":0},{"$f":"IF(CN312=CN411,0,CN312)","v":0},{"$f":"IF(CO312=CO411,0,CO312)","v":0},{"$f":"IF(CP312=CP411,0,CP312)","v":0},{"$f":"IF(CQ312=CQ411,0,CQ312)","v":0},{"$f":"IF(CR312=CR411,0,CR312)","v":0},{"$f":"IF(CS312=CS411,0,CS312)","v":0},{"$f":"IF(CT312=CT411,0,CT312)","v":0},{"$f":"IF(CU312=CU411,0,CU312)","v":0},{"$f":"CV411","v":0},{"$f":"CV412","v":0},{"$f":"CX313+CY313","v":1}]
[2,{"$f":"'RECOGIDA DATOS'!AG5","v":0},{"$f":"IF(B313=B411,0,B313)","v":0},{"$f":"IF(C313=C411,0,C313)","v":0},{"$f":"IF(D313=D411,0,D313)","v":0},{"$f":"IF(E313=E411,0,E313)","v":0},{"$f":"IF(F313=F411,0,F313)","v":0},{"$f":"IF(G313=G411,0,G313)","v":0},{"$f":"IF(H313=H411,0,H313)","v":0},{"$f":"IF(I313=I411,0,I313)","v":0},{"$f":"IF(J313=J411,0,J313)","v":0},{"$f":"IF(K313=K411,0,K313)","v":0},{"$f":"IF(L313=L411,0,L313)","v":0},{"$f":"IF(M313=M411,0,M313)","v":0},{"$f":"IF(N313=N411,0,N313)","v":0},{"$f":"IF(O313=O411,0,O313)","v":0},{"$f":"IF(P313=P411,0,P313)","v":0},{"$f":"IF(Q313=Q411,0,Q313)","v":0},{"$f":"IF(R313=R411,0,R313)","v":0},{"$f":"IF(S313=S411,0,S313)","v":0},{"$f":"IF(T313=T411,0,T313)","v":0},{"$f":"IF(U313=U411,0,U313)","v":0},{"$f":"IF(V313=V411,0,V313)","v":0},{"$f":"IF(W313=W411,0,W313)","v":0},{"$f":"IF(X313=X411,0,X313)","v":0},{"$f":"IF(Y313=Y411,0,Y313)","v":0},{"$f":"IF(Z313=Z411,0,Z313)","v":0},{"$f":"IF(AA313=AA411,0,AA313)","v":0},{"$f":"IF(AB313=AB411,0,AB313)","v":0},{"$f":"IF(AC313=AC411,0,AC313)","v":0},{"$f":"IF(AD313=AD411,0,AD313)","v":0},{"$f":"IF(AE313=AE411,0,AE313)","v":0},{"$f":"IF(AF313=AF411,0,AF313)","v":0},{"$f":"IF(AG313=AG411,0,AG313)","v":0},{"$f":"IF(AH313=AH411,0,AH313)","v":0},{"$f":"IF(AI313=AI411,0,AI313)","v":0},{"$f":"IF(AJ313=AJ411,0,AJ313)","v":0},{"$f":"IF(AK313=AK411,0,AK313)","v":0},{"$f":"IF(AL313=AL411,0,AL313)","v":0},{"$f":"IF(AM313=AM411,0,AM313)","v":0},{"$f":"IF(AN313=AN411,0,AN313)","v":0},{"$f":"IF(AO313=AO411,0,AO313)","v":0},{"$f":"IF(AP313=AP411,0,AP313)","v":0},{"$f":"IF(AQ313=AQ411,0,AQ313)","v":0},{"$f":"IF(AR313=AR411,0,AR313)","v":0},{"$f":"IF(AS313=AS411,0,AS313)","v":0},{"$f":"IF(AT313=AT411,0,AT313)","v":0},{"$f":"IF(AU313=AU411,0,AU313)","v":0},{"$f":"IF(AV313=AV411,0,AV313)","v":0},{"$f":"IF(AW313=AW411,0,AW313)","v":0},{"$f":"IF(AX313=AX411,0,AX313)","v":0},{"$f":"IF(AY313=AY411,0,AY313)","v":0},{"$f":"IF(AZ313=AZ411,0,AZ313)","v":0},{"$f":"IF(BA313=BA411,0,BA313)","v":0},{"$f":"IF(BB313=BB411,0,BB313)","v":0},{"$f":"IF(BC313=BC411,0,BC313)","v":0},{"$f":"IF(BD313=BD411,0,BD313)","v":0},{"$f":"IF(BE313=BE411,0,BE313)","v":0},{"$f":"IF(BF313=BF411,0,BF313)","v":0},{"$f":"IF(BG313=BG411,0,BG313)","v":0},{"$f":"IF(BH313=BH411,0,BH313)","v":0},{"$f":"IF(BI313=BI411,0,BI313)","v":0},{"$f":"IF(BJ313=BJ411,0,BJ313)","v":0},{"$f":"IF(BK313=BK411,0,BK313)","v":0},{"$f":"IF(BL313=BL411,0,BL313)","v":0},{"$f":"IF(BM313=BM411,0,BM313)","v":0},{"$f":"IF(BN313=BN411,0,BN313)","v":0},{"$f":"IF(BO313=BO411,0,BO313)","v":0},{"$f":"IF(BP313=BP411,0,BP313)","v":0},{"$f":"IF(BQ313=BQ411,0,BQ313)","v":0},{"$f":"IF(BR313=BR411,0,BR313)","v":0},{"$f":"IF(BS313=BS411,0,BS313)","v":0},{"$f":"IF(BT313=BT411,0,BT313)","v":0},{"$f":"IF(BU313=BU411,0,BU313)","v":0},{"$f":"IF(BV313=BV411,0,BV313)","v":0},{"$f":"IF(BW313=BW411,0,BW313)","v":0},{"$f":"IF(BX313=BX411,0,BX313)","v":0},{"$f":"IF(BY313=BY411,0,BY313)","v":0},{"$f":"IF(BZ313=BZ411,0,BZ313)","v":0},{"$f":"IF(CA313=CA411,0,CA313)","v":0},{"$f":"IF(CB313=CB411,0,CB313)","v":0},{"$f":"IF(CC313=CC411,0,CC313)","v":0},{"$f":"IF(CD313=CD411,0,CD313)","v":0},{"$f":"IF(CE313=CE411,0,CE313)","v":0},{"$f":"IF(CF313=CF411,0,CF313)","v":0},{"$f":"IF(CG313=CG411,0,CG313)","v":0},{"$f":"IF(CH313=CH411,0,CH313)","v":0},{"$f":"IF(CI313=CI411,0,CI313)","v":0},{"$f":"IF(CJ313=CJ411,0,CJ313)","v":0},{"$f":"IF(CK313=CK411,0,CK313)","v":0},{"$f":"IF(CL313=CL411,0,CL313)","v":0},{"$f":"IF(CM313=CM411,0,CM313)","v":0},{"$f":"IF(CN313=CN411,0,CN313)","v":0},{"$f":"IF(CO313=CO411,0,CO313)","v":0},{"$f":"IF(CP313=CP411,0,CP313)","v":0},{"$f":"IF(CQ313=CQ411,0,CQ313)","v":0},{"$f":"IF(CR313=CR411,0,CR313)","v":0},{"$f":"IF(CS313=CS411,0,CS313)","v":0},{"$f":"IF(CT313=CT411,0,CT313)","v":0},{"$f":"IF(CU313=CU411,0,CU313)","v":0},{"$f":"CU411","v":0},{"$f":"CU412","v":0},1]
[3,{"$f":"'RECOGIDA DATOS'!AG6","v":0},{"$f":"IF(B314=B411,0,B314)","v":0},{"$f":"IF(C314=C411,0,C314)","v":0},{"$f":"IF(D314=D411,0,D314)","v":0},{"$f":"IF(E314=E411,0,E314)","v":0},{"$f":"IF(F314=F411,0,F314)","v":0},{"$f":"IF(G314=G411,0,G314)","v":0},{"$f":"IF(H314=H411,0,H314)","v":0},{"$f":"IF(I314=I411,0,I314)","v":0},{"$f":"IF(J314=J411,0,J314)","v":0},{"$f":"IF(K314=K411,0,K314)","v":0},{"$f":"IF(L314=L411,0,L314)","v":0},{"$f":"IF(M314=M411,0,M314)","v":0},{"$f":"IF(N314=N411,0,N314)","v":0},{"$f":"IF(O314=O411,0,O314)","v":0},{"$f":"IF(P314=P411,0,P314)","v":0},{"$f":"IF(Q314=Q411,0,Q314)","v":0},{"$f":"IF(R314=R411,0,R314)","v":0},{"$f":"IF(S314=S411,0,S314)","v":0},{"$f":"IF(T314=T411,0,T314)","v":0},{"$f":"IF(U314=U411,0,U314)","v":0},{"$f":"IF(V314=V411,0,V314)","v":0},{"$f":"IF(W314=W411,0,W314)","v":0},{"$f":"IF(X314=X411,0,X314)","v":0},{"$f":"IF(Y314=Y411,0,Y314)","v":0},{"$f":"IF(Z314=Z411,0,Z314)","v":0},{"$f":"IF(AA314=AA411,0,AA314)","v":0},{"$f":"IF(AB314=AB411,0,AB314)","v":0},{"$f":"IF(AC314=AC411,0,AC314)","v":0},{"$f":"IF(AD314=AD411,0,AD314)","v":0},{"$f":"IF(AE314=AE411,0,AE314)","v":0},{"$f":"IF(AF314=AF411,0,AF314)","v":0},{"$f":"IF(AG314=AG411,0,AG314)","v":0},{"$f":"IF(AH314=AH411,0,AH314)","v":0},{"$f":"IF(AI314=AI411,0,AI314)","v":0},{"$f":"IF(AJ314=AJ411,0,AJ314)","v":0},{"$f":"IF(AK314=AK411,0,AK314)","v":0},{"$f":"IF(AL314=AL411,0,AL314)","v":0},{"$f":"IF(AM314=AM411,0,AM314)","v":0},{"$f":"IF(AN314=AN411,0,AN314)","v":0},{"$f":"IF(AO314=AO411,0,AO314)","v":0},{"$f":"IF(AP314=AP411,0,AP314)","v":0},{"$f":"IF(AQ314=AQ411,0,AQ314)","v":0},{"$f":"IF(AR314=AR411,0,AR314)","v":0},{"$f":"IF(AS314=AS411,0,AS314)","v":0},{"$f":"IF(AT314=AT411,0,AT314)","v":0},{"$f":"IF(AU314=AU411,0,AU314)","v":0},{"$f":"IF(AV314=AV411,0,AV314)","v":0},{"$f":"IF(AW314=AW411,0,AW314)","v":0},{"$f":"IF(AX314=AX411,0,AX314)","v":0},{"$f":"IF(AY314=AY411,0,AY314)","v":0},{"$f":"IF(AZ314=AZ411,0,AZ314)","v":0},{"$f":"IF(BA314=BA411,0,BA314)","v":0},{"$f":"IF(BB314=BB411,0,BB314)","v":0},{"$f":"IF(BC314=BC411,0,BC314)","v":0},{"$f":"IF(BD314=BD411,0,BD314)","v":0},{"$f":"IF(BE314=BE411,0,BE314)","v":0},{"$f":"IF(BF314=BF411,0,BF314)","v":0},{"$f":"IF(BG314=BG411,0,BG314)","v":0},{"$f":"IF(BH314=BH411,0,BH314)","v":0},{"$f":"IF(BI314=BI411,0,BI314)","v":0},{"$f":"IF(BJ314=BJ411,0,BJ314)","v":0},{"$f":"IF(BK314=BK411,0,BK314)","v":0},{"$f":"IF(BL314=BL411,0,BL314)","v":0},{"$f":"IF(BM314=BM411,0,BM314)","v":0},{"$f":"IF(BN314=BN411,0,BN314)","v":0},{"$f":"IF(BO314=BO411,0,BO314)","v":0},{"$f":"IF(BP314=BP411,0,BP314)","v":0},{"$f":"IF(BQ314=BQ411,0,BQ314)","v":0},{"$f":"IF(BR314=BR411,0,BR314)","v":0},{"$f":"IF(BS314=BS411,0,BS314)","v":0},{"$f":"IF(BT314=BT411,0,BT314)","v":0},{"$f":"IF(BU314=BU411,0,BU314)","v":0},{"$f":"IF(BV314=BV411,0,BV314)","v":0},{"$f":"IF(BW314=BW411,0,BW314)","v":0},{"$f":"IF(BX314=BX411,0,BX314)","v":0},{"$f":"IF(BY314=BY411,0,BY314)","v":0},{"$f":"IF(BZ314=BZ411,0,BZ314)","v":0},{"$f":"IF(CA314=CA411,0,CA314)","v":0},{"$f":"IF(CB314=CB411,0,CB314)","v":0},{"$f":"IF(CC314=CC411,0,CC314)","v":0},{"$f":"IF(CD314=CD411,0,CD314)","v":0},{"$f":"IF(CE314=CE411,0,CE314)","v":0},{"$f":"IF(CF314=CF411,0,CF314)","v":0},{"$f":"IF(CG314=CG411,0,CG314)","v":0},{"$f":"IF(CH314=CH411,0,CH314)","v":0},{"$f":"IF(CI314=CI411,0,CI314)","v":0},{"$f":"IF(CJ314=CJ411,0,CJ314)","v":0},{"$f":"IF(CK314=CK411,0,CK314)","v":0},{"$f":"IF(CL314=CL411,0,CL314)","v":0},{"$f":"IF(CM314=CM411,0,CM314)","v":0},{"$f":"IF(CN314=CN411,0,CN314)","v":0},{"$f":"IF(CO314=CO411,0,CO314)","v":0},{"$f":"IF(CP314=CP411,0,CP314)","v":0},{"$f":"IF(CQ314=CQ411,0,CQ314)","v":0},{"$f":"IF(CR314=CR411,0,CR314)","v":0},{"$f":"IF(CS314=CS411,0,CS314)","v":0},{"$f":"IF(CT314=CT411,0,CT314)","v":0},{"$f":"IF(CU314=CU411,0,CU314)","v":0},{"$f":"CT411","v":0},{"$f":"CT412","v":0},1]
[4,{"$f":"'RECOGIDA DATOS'!AG7","v":0},{"$f":"IF(B315=B411,0,B315)","v":0},{"$f":"IF(C315=C411,0,C315)","v":0},{"$f":"IF(D315=D411,0,D315)","v":0},{"$f":"IF(E315=E411,0,E315)","v":0},{"$f":"IF(F315=F411,0,F315)","v":0},{"$f":"IF(G315=G411,0,G315)","v":0},{"$f":"IF(H315=H411,0,H315)","v":0},{"$f":"IF(I315=I411,0,I315)","v":0},{"$f":"IF(J315=J411,0,J315)","v":0},{"$f":"IF(K315=K411,0,K315)","v":0},{"$f":"IF(L315=L411,0,L315)","v":0},{"$f":"IF(M315=M411,0,M315)","v":0},{"$f":"IF(N315=N411,0,N315)","v":0},{"$f":"IF(O315=O411,0,O315)","v":0},{"$f":"IF(P315=P411,0,P315)","v":0},{"$f":"IF(Q315=Q411,0,Q315)","v":0},{"$f":"IF(R315=R411,0,R315)","v":0},{"$f":"IF(S315=S411,0,S315)","v":0},{"$f":"IF(T315=T411,0,T315)","v":0},{"$f":"IF(U315=U411,0,U315)","v":0},{"$f":"IF(V315=V411,0,V315)","v":0},{"$f":"IF(W315=W411,0,W315)","v":0},{"$f":"IF(X315=X411,0,X315)","v":0},{"$f":"IF(Y315=Y411,0,Y315)","v":0},{"$f":"IF(Z315=Z411,0,Z315)","v":0},{"$f":"IF(AA315=AA411,0,AA315)","v":0},{"$f":"IF(AB315=AB411,0,AB315)","v":0},{"$f":"IF(AC315=AC411,0,AC315)","v":0},{"$f":"IF(AD315=AD411,0,AD315)","v":0},{"$f":"IF(AE315=AE411,0,AE315)","v":0},{"$f":"IF(AF315=AF411,0,AF315)","v":0},{"$f":"IF(AG315=AG411,0,AG315)","v":0},{"$f":"IF(AH315=AH411,0,AH315)","v":0},{"$f":"IF(AI315=AI411,0,AI315)","v":0},{"$f":"IF(AJ315=AJ411,0,AJ315)","v":0},{"$f":"IF(AK315=AK411,0,AK315)","v":0},{"$f":"IF(AL315=AL411,0,AL315)","v":0},{"$f":"IF(AM315=AM411,0,AM315)","v":0},{"$f":"IF(AN315=AN411,0,AN315)","v":0},{"$f":"IF(AO315=AO411,0,AO315)","v":0},{"$f":"IF(AP315=AP411,0,AP315)","v":0},{"$f":"IF(AQ315=AQ411,0,AQ315)","v":0},{"$f":"IF(AR315=AR411,0,AR315)","v":0},{"$f":"IF(AS315=AS411,0,AS315)","v":0},{"$f":"IF(AT315=AT411,0,AT315)","v":0},{"$f":"IF(AU315=AU411,0,AU315)","v":0},{"$f":"IF(AV315=AV411,0,AV315)","v":0},{"$f":"IF(AW315=AW411,0,AW315)","v":0},{"$f":"IF(AX315=AX411,0,AX315)","v":0},{"$f":"IF(AY315=AY411,0,AY315)","v":0},{"$f":"IF(AZ315=AZ411,0,AZ315)","v":0},{"$f":"IF(BA315=BA411,0,BA315)","v":0},{"$f":"IF(BB315=BB411,0,BB315)","v":0},{"$f":"IF(BC315=BC411,0,BC315)","v":0},{"$f":"IF(BD315=BD411,0,BD315)","v":0},{"$f":"IF(BE315=BE411,0,BE315)","v":0},{"$f":"IF(BF315=BF411,0,BF315)","v":0},{"$f":"IF(BG315=BG411,0,BG315)","v":0},{"$f":"IF(BH315=BH411,0,BH315)","v":0},{"$f":"IF(BI315=BI411,0,BI315)","v":0},{"$f":"IF(BJ315=BJ411,0,BJ315)","v":0},{"$f":"IF(BK315=BK411,0,BK315)","v":0},{"$f":"IF(BL315=BL411,0,BL315)","v":0},{"$f":"IF(BM315=BM411,0,BM315)","v":0},{"$f":"IF(BN315=BN411,0,BN315)","v":0},{"$f":"IF(BO315=BO411,0,BO315)","v":0},{"$f":"IF(BP315=BP411,0,BP315)","v":0},{"$f":"IF(BQ315=BQ411,0,BQ315)","v":0},{"$f":"IF(BR315=BR411,0,BR315)","v":0},{"$f":"IF(BS315=BS411,0,BS315)","v":0},{"$f":"IF(BT315=BT411,0,BT315)","v":0},{"$f":"IF(BU315=BU411,0,BU315)","v":0},{"$f":"IF(BV315=BV411,0,BV315)","v":0},{"$f":"IF(BW315=BW411,0,BW315)","v":0},{"$f":"IF(BX315=BX411,0,BX315)","v":0},{"$f":"IF(BY315=BY411,0,BY315)","v":0},{"$f":"IF(BZ315=BZ411,0,BZ315)","v":0},{"$f":"IF(CA315=CA411,0,CA315)","v":0},{"$f":"IF(CB315=CB411,0,CB315)","v":0},{"$f":"IF(CC315=CC411,0,CC315)","v":0},{"$f":"IF(CD315=CD411,0,CD315)","v":0},{"$f":"IF(CE315=CE411,0,CE315)","v":0},{"$f":"IF(CF315=CF411,0,CF315)","v":0},{"$f":"IF(CG315=CG411,0,CG315)","v":0},{"$f":"IF(CH315=CH411,0,CH315)","v":0},{"$f":"IF(CI315=CI411,0,CI315)","v":0},{"$f":"IF(CJ315=CJ411,0,CJ315)","v":0},{"$f":"IF(CK315=CK411,0,CK315)","v":0},{"$f":"IF(CL315=CL411,0,CL315)","v":0},{"$f":"IF(CM315=CM411,0,CM315)","v":0},{"$f":"IF(CN315=CN411,0,CN315)","v":0},{"$f":"IF(CO315=CO411,0,CO315)","v":0},{"$f":"IF(CP315=CP411,0,CP315)","v":0},{"$f":"IF(CQ315=CQ411,0,CQ315)","v":0},{"$f":"IF(CR315=CR411,0,CR315)","v":0},{"$f":"IF(CS315=CS411,0,CS315)","v":0},{"$f":"IF(CT315=CT411,0,CT315)","v":0},{"$f":"IF(CU315=CU411,0,CU315)","v":0},{"$f":"CS411","v":0},{"$f":"CS412","v":0},1]
[5,{"$f":"'RECOGIDA DATOS'!AG8","v":0},{"$f":"IF(B316=B411,0,B316)","v":0},{"$f":"IF(C316=C411,0,C316)","v":0},{"$f":"IF(D316=D411,0,D316)","v":0},{"$f":"IF(E316=E411,0,E316)","v":0},{"$f":"IF(F316=F411,0,F316)","v":0},{"$f":"IF(G316=G411,0,G316)","v":0},{"$f":"IF(H316=H411,0,H316)","v":0},{"$f":"IF(I316=I411,0,I316)","v":0},{"$f":"IF(J316=J411,0,J316)","v":0},{"$f":"IF(K316=K411,0,K316)","v":0},{"$f":"IF(L316=L411,0,L316)","v":0},{"$f":"IF(M316=M411,0,M316)","v":0},{"$f":"IF(N316=N411,0,N316)","v":0},{"$f":"IF(O316=O411,0,O316)","v":0},{"$f":"IF(P316=P411,0,P316)","v":0},{"$f":"IF(Q316=Q411,0,Q316)","v":0},{"$f":"IF(R316=R411,0,R316)","v":0},{"$f":"IF(S316=S411,0,S316)","v":0},{"$f":"IF(T316=T411,0,T316)","v":0},{"$f":"IF(U316=U411,0,U316)","v":0},{"$f":"IF(V316=V411,0,V316)","v":0},{"$f":"IF(W316=W411,0,W316)","v":0},{"$f":"IF(X316=X411,0,X316)","v":0},{"$f":"IF(Y316=Y411,0,Y316)","v":0},{"$f":"IF(Z316=Z411,0,Z316)","v":0},{"$f":"IF(AA316=AA411,0,AA316)","v":0},{"$f":"IF(AB316=AB411,0,AB316)","v":0},{"$f":"IF(AC316=AC411,0,AC316)","v":0},{"$f":"IF(AD316=AD411,0,AD316)","v":0},{"$f":"IF(AE316=AE411,0,AE316)","v":0},{"$f":"IF(AF316=AF411,0,AF316)","v":0},{"$f":"IF(AG316=AG411,0,AG316)","v":0},{"$f":"IF(AH316=AH411,0,AH316)","v":0},{"$f":"IF(AI316=AI411,0,AI316)","v":0},{"$f":"IF(AJ316=AJ411,0,AJ316)","v":0},{"$f":"IF(AK316=AK411,0,AK316)","v":0},{"$f":"IF(AL316=AL411,0,AL316)","v":0},{"$f":"IF(AM316=AM411,0,AM316)","v":0},{"$f":"IF(AN316=AN411,0,AN316)","v":0},{"$f":"IF(AO316=AO411,0,AO316)","v":0},{"$f":"IF(AP316=AP411,0,AP316)","v":0},{"$f":"IF(AQ316=AQ411,0,AQ316)","v":0},{"$f":"IF(AR316=AR411,0,AR316)","v":0},{"$f":"IF(AS316=AS411,0,AS316)","v":0},{"$f":"IF(AT316=AT411,0,AT316)","v":0},{"$f":"IF(AU316=AU411,0,AU316)","v":0},{"$f":"IF(AV316=AV411,0,AV316)","v":0},{"$f":"IF(AW316=AW411,0,AW316)","v":0},{"$f":"IF(AX316=AX411,0,AX316)","v":0},{"$f":"IF(AY316=AY411,0,AY316)","v":0},{"$f":"IF(AZ316=AZ411,0,AZ316)","v":0},{"$f":"IF(BA316=BA411,0,BA316)","v":0},{"$f":"IF(BB316=BB411,0,BB316)","v":0},{"$f":"IF(BC316=BC411,0,BC316)","v":0},{"$f":"IF(BD316=BD411,0,BD316)","v":0},{"$f":"IF(BE316=BE411,0,BE316)","v":0},{"$f":"IF(BF316=BF411,0,BF316)","v":0},{"$f":"IF(BG316=BG411,0,BG316)","v":0},{"$f":"IF(BH316=BH411,0,BH316)","v":0},{"$f":"IF(BI316=BI411,0,BI316)","v":0},{"$f":"IF(BJ316=BJ411,0,BJ316)","v":0},{"$f":"IF(BK316=BK411,0,BK316)","v":0},{"$f":"IF(BL316=BL411,0,BL316)","v":0},{"$f":"IF(BM316=BM411,0,BM316)","v":0},{"$f":"IF(BN316=BN411,0,BN316)","v":0},{"$f":"IF(BO316=BO411,0,BO316)","v":0},{"$f":"IF(BP316=BP411,0,BP316)","v":0},{"$f":"IF(BQ316=BQ411,0,BQ316)","v":0},{"$f":"IF(BR316=BR411,0,BR316)","v":0},{"$f":"IF(BS316=BS411,0,BS316)","v":0},{"$f":"IF(BT316=BT411,0,BT316)","v":0},{"$f":"IF(BU316=BU411,0,BU316)","v":0},{"$f":"IF(BV316=BV411,0,BV316)","v":0},{"$f":"IF(BW316=BW411,0,BW316)","v":0},{"$f":"IF(BX316=BX411,0,BX316)","v":0},{"$f":"IF(BY316=BY411,0,BY316)","v":0},{"$f":"IF(BZ316=BZ411,0,BZ316)","v":0},{"$f":"IF(CA316=CA411,0,CA316)","v":0},{"$f":"IF(CB316=CB411,0,CB316)","v":0},{"$f":"IF(CC316=CC411,0,CC316)","v":0},{"$f":"IF(CD316=CD411,0,CD316)","v":0},{"$f":"IF(CE316=CE411,0,CE316)","v":0},{"$f":"IF(CF316=CF411,0,CF316)","v":0},{"$f":"IF(CG316=CG411,0,CG316)","v":0},{"$f":"IF(CH316=CH411,0,CH316)","v":0},{"$f":"IF(CI316=CI411,0,CI316)","v":0},{"$f":"IF(CJ316=CJ411,0,CJ316)","v":0},{"$f":"IF(CK316=CK411,0,CK316)","v":0},{"$f":"IF(CL316=CL411,0,CL316)","v":0},{"$f":"IF(CM316=CM411,0,CM316)","v":0},{"$f":"IF(CN316=CN411,0,CN316)","v":0},{"$f":"IF(CO316=CO411,0,CO316)","v":0},{"$f":"IF(CP316=CP411,0,CP316)","v":0},{"$f":"IF(CQ316=CQ411,0,CQ316)","v":0},{"$f":"IF(CR316=CR411,0,CR316)","v":0},{"$f":"IF(CS316=CS411,0,CS316)","v":0},{"$f":"IF(CT316=CT411,0,CT316)","v":0},{"$f":"IF(CU316=CU411,0,CU316)","v":0},{"$f":"CR411","v":0},{"$f":"CR412","v":0},1]
[6,{"$f":"'RECOGIDA DATOS'!AG9","v":0},{"$f":"IF(B317=B411,0,B317)","v":0},{"$f":"IF(C317=C411,0,C317)","v":0},{"$f":"IF(D317=D411,0,D317)","v":0},{"$f":"IF(E317=E411,0,E317)","v":0},{"$f":"IF(F317=F411,0,F317)","v":0},{"$f":"IF(G317=G411,0,G317)","v":0},{"$f":"IF(H317=H411,0,H317)","v":0},{"$f":"IF(I317=I411,0,I317)","v":0},{"$f":"IF(J317=J411,0,J317)","v":0},{"$f":"IF(K317=K411,0,K317)","v":0},{"$f":"IF(L317=L411,0,L317)","v":0},{"$f":"IF(M317=M411,0,M317)","v":0},{"$f":"IF(N317=N411,0,N317)","v":0},{"$f":"IF(O317=O411,0,O317)","v":0},{"$f":"IF(P317=P411,0,P317)","v":0},{"$f":"IF(Q317=Q411,0,Q317)","v":0},{"$f":"IF(R317=R411,0,R317)","v":0},{"$f":"IF(S317=S411,0,S317)","v":0},{"$f":"IF(T317=T411,0,T317)","v":0},{"$f":"IF(U317=U411,0,U317)","v":0},{"$f":"IF(V317=V411,0,V317)","v":0},{"$f":"IF(W317=W411,0,W317)","v":0},{"$f":"IF(X317=X411,0,X317)","v":0},{"$f":"IF(Y317=Y411,0,Y317)","v":0},{"$f":"IF(Z317=Z411,0,Z317)","v":0},{"$f":"IF(AA317=AA411,0,AA317)","v":0},{"$f":"IF(AB317=AB411,0,AB317)","v":0},{"$f":"IF(AC317=AC411,0,AC317)","v":0},{"$f":"IF(AD317=AD411,0,AD317)","v":0},{"$f":"IF(AE317=AE411,0,AE317)","v":0},{"$f":"IF(AF317=AF411,0,AF317)","v":0},{"$f":"IF(AG317=AG411,0,AG317)","v":0},{"$f":"IF(AH317=AH411,0,AH317)","v":0},{"$f":"IF(AI317=AI411,0,AI317)","v":0},{"$f":"IF(AJ317=AJ411,0,AJ317)","v":0},{"$f":"IF(AK317=AK411,0,AK317)","v":0},{"$f":"IF(AL317=AL411,0,AL317)","v":0},{"$f":"IF(AM317=AM411,0,AM317)","v":0},{"$f":"IF(AN317=AN411,0,AN317)","v":0},{"$f":"IF(AO317=AO411,0,AO317)","v":0},{"$f":"IF(AP317=AP411,0,AP317)","v":0},{"$f":"IF(AQ317=AQ411,0,AQ317)","v":0},{"$f":"IF(AR317=AR411,0,AR317)","v":0},{"$f":"IF(AS317=AS411,0,AS317)","v":0},{"$f":"IF(AT317=AT411,0,AT317)","v":0},{"$f":"IF(AU317=AU411,0,AU317)","v":0},{"$f":"IF(AV317=AV411,0,AV317)","v":0},{"$f":"IF(AW317=AW411,0,AW317)","v":0},{"$f":"IF(AX317=AX411,0,AX317)","v":0},{"$f":"IF(AY317=AY411,0,AY317)","v":0},{"$f":"IF(AZ317=AZ411,0,AZ317)","v":0},{"$f":"IF(BA317=BA411,0,BA317)","v":0},{"$f":"IF(BB317=BB411,0,BB317)","v":0},{"$f":"IF(BC317=BC411,0,BC317)","v":0},{"$f":"IF(BD317=BD411,0,BD317)","v":0},{"$f":"IF(BE317=BE411,0,BE317)","v":0},{"$f":"IF(BF317=BF411,0,BF317)","v":0},{"$f":"IF(BG317=BG411,0,BG317)","v":0},{"$f":"IF(BH317=BH411,0,BH317)","v":0},{"$f":"IF(BI317=BI411,0,BI317)","v":0},{"$f":"IF(BJ317=BJ411,0,BJ317)","v":0},{"$f":"IF(BK317=BK411,0,BK317)","v":0},{"$f":"IF(BL317=BL411,0,BL317)","v":0},{"$f":"IF(BM317=BM411,0,BM317)","v":0},{"$f":"IF(BN317=BN411,0,BN317)","v":0},{"$f":"IF(BO317=BO411,0,BO317)","v":0},{"$f":"IF(BP317=BP411,0,BP317)","v":0},{"$f":"IF(BQ317=BQ411,0,BQ317)","v":0},{"$f":"IF(BR317=BR411,0,BR317)","v":0},{"$f":"IF(BS317=BS411,0,BS317)","v":0},{"$f":"IF(BT317=BT411,0,BT317)","v":0},{"$f":"IF(BU317=BU411,0,BU317)","v":0},{"$f":"IF(BV317=BV411,0,BV317)","v":0},{"$f":"IF(BW317=BW411,0,BW317)","v":0},{"$f":"IF(BX317=BX411,0,BX317)","v":0},{"$f":"IF(BY317=BY411,0,BY317)","v":0},{"$f":"IF(BZ317=BZ411,0,BZ317)","v":0},{"$f":"IF(CA317=CA411,0,CA317)","v":0},{"$f":"IF(CB317=CB411,0,CB317)","v":0},{"$f":"IF(CC317=CC411,0,CC317)","v":0},{"$f":"IF(CD317=CD411,0,CD317)","v":0},{"$f":"IF(CE317=CE411,0,CE317)","v":0},{"$f":"IF(CF317=CF411,0,CF317)","v":0},{"$f":"IF(CG317=CG411,0,CG317)","v":0},{"$f":"IF(CH317=CH411,0,CH317)","v":0},{"$f":"IF(CI317=CI411,0,CI317)","v":0},{"$f":"IF(CJ317=CJ411,0,CJ317)","v":0},{"$f":"IF(CK317=CK411,0,CK317)","v":0},{"$f":"IF(CL317=CL411,0,CL317)","v":0},{"$f":"IF(CM317=CM411,0,CM317)","v":0},{"$f":"IF(CN317=CN411,0,CN317)","v":0},{"$f":"IF(CO317=CO411,0,CO317)","v":0},{"$f":"IF(CP317=CP411,0,CP317)","v":0},{"$f":"IF(CQ317=CQ411,0,CQ317)","v":0},{"$f":"IF(CR317=CR411,0,CR317)","v":0},{"$f":"IF(CS317=CS411,0,CS317)","v":0},{"$f":"IF(CT317=CT411,0,CT317)","v":0},{"$f":"IF(CU317=CU411,0,CU317)","v":0},{"$f":"CQ411","v":0},{"$f":"CQ412","v":0},1]
[7,{"$f":"'RECOGIDA DATOS'!AG10","v":0},{"$f":"IF(B318=B411,0,B318)","v":0},{"$f":"IF(C318=C411,0,C318)","v":0},{"$f":"IF(D318=D411,0,D318)","v":0},{"$f":"IF(E318=E411,0,E318)","v":0},{"$f":"IF(F318=F411,0,F318)","v":0},{"$f":"IF(G318=G411,0,G318)","v":0},{"$f":"IF(H318=H411,0,H318)","v":0},{"$f":"IF(I318=I411,0,I318)","v":0},{"$f":"IF(J318=J411,0,J318)","v":0},{"$f":"IF(K318=K411,0,K318)","v":0},{"$f":"IF(L318=L411,0,L318)","v":0},{"$f":"IF(M318=M411,0,M318)","v":0},{"$f":"IF(N318=N411,0,N318)","v":0},{"$f":"IF(O318=O411,0,O318)","v":0},{"$f":"IF(P318=P411,0,P318)","v":0},{"$f":"IF(Q318=Q411,0,Q318)","v":0},{"$f":"IF(R318=R411,0,R318)","v":0},{"$f":"IF(S318=S411,0,S318)","v":0},{"$f":"IF(T318=T411,0,T318)","v":0},{"$f":"IF(U318=U411,0,U318)","v":0},{"$f":"IF(V318=V411,0,V318)","v":0},{"$f":"IF(W318=W411,0,W318)","v":0},{"$f":"IF(X318=X411,0,X318)","v":0},{"$f":"IF(Y318=Y411,0,Y318)","v":0},{"$f":"IF(Z318=Z411,0,Z318)","v":0},{"$f":"IF(AA318=AA411,0,AA318)","v":0},{"$f":"IF(AB318=AB411,0,AB318)","v":0},{"$f":"IF(AC318=AC411,0,AC318)","v":0},{"$f":"IF(AD318=AD411,0,AD318)","v":0},{"$f":"IF(AE318=AE411,0,AE318)","v":0},{"$f":"IF(AF318=AF411,0,AF318)","v":0},{"$f":"IF(AG318=AG411,0,AG318)","v":0},{"$f":"IF(AH318=AH411,0,AH318)","v":0},{"$f":"IF(AI318=AI411,0,AI318)","v":0},{"$f":"IF(AJ318=AJ411,0,AJ318)","v":0},{"$f":"IF(AK318=AK411,0,AK318)","v":0},{"$f":"IF(AL318=AL411,0,AL318)","v":0},{"$f":"IF(AM318=AM411,0,AM318)","v":0},{"$f":"IF(AN318=AN411,0,AN318)","v":0},{"$f":"IF(AO318=AO411,0,AO318)","v":0},{"$f":"IF(AP318=AP411,0,AP318)","v":0},{"$f":"IF(AQ318=AQ411,0,AQ318)","v":0},{"$f":"IF(AR318=AR411,0,AR318)","v":0},{"$f":"IF(AS318=AS411,0,AS318)","v":0},{"$f":"IF(AT318=AT411,0,AT318)","v":0},{"$f":"IF(AU318=AU411,0,AU318)","v":0},{"$f":"IF(AV318=AV411,0,AV318)","v":0},{"$f":"IF(AW318=AW411,0,AW318)","v":0},{"$f":"IF(AX318=AX411,0,AX318)","v":0},{"$f":"IF(AY318=AY411,0,AY318)","v":0},{"$f":"IF(AZ318=AZ411,0,AZ318)","v":0},{"$f":"IF(BA318=BA411,0,BA318)","v":0},{"$f":"IF(BB318=BB411,0,BB318)","v":0},{"$f":"IF(BC318=BC411,0,BC318)","v":0},{"$f":"IF(BD318=BD411,0,BD318)","v":0},{"$f":"IF(BE318=BE411,0,BE318)","v":0},{"$f":"IF(BF318=BF411,0,BF318)","v":0},{"$f":"IF(BG318=BG411,0,BG318)","v":0},{"$f":"IF(BH318=BH411,0,BH318)","v":0},{"$f":"IF(BI318=BI411,0,BI318)","v":0},{"$f":"IF(BJ318=BJ411,0,BJ318)","v":0},{"$f":"IF(BK318=BK411,0,BK318)","v":0},{"$f":"IF(BL318=BL411,0,BL318)","v":0},{"$f":"IF(BM318=BM411,0,BM318)","v":0},{"$f":"IF(BN318=BN411,0,BN318)","v":0},{"$f":"IF(BO318=BO411,0,BO318)","v":0},{"$f":"IF(BP318=BP411,0,BP318)","v":0},{"$f":"IF(BQ318=BQ411,0,BQ318)","v":0},{"$f":"IF(BR318=BR411,0,BR318)","v":0},{"$f":"IF(BS318=BS411,0,BS318)","v":0},{"$f":"IF(BT318=BT411,0,BT318)","v":0},{"$f":"IF(BU318=BU411,0,BU318)","v":0},{"$f":"IF(BV318=BV411,0,BV318)","v":0},{"$f":"IF(BW318=BW411,0,BW318)","v":0},{"$f":"IF(BX318=BX411,0,BX318)","v":0},{"$f":"IF(BY318=BY411,0,BY318)","v":0},{"$f":"IF(BZ318=BZ411,0,BZ318)","v":0},{"$f":"IF(CA318=CA411,0,CA318)","v":0},{"$f":"IF(CB318=CB411,0,CB318)","v":0},{"$f":"IF(CC318=CC411,0,CC318)","v":0},{"$f":"IF(CD318=CD411,0,CD318)","v":0},{"$f":"IF(CE318=CE411,0,CE318)","v":0},{"$f":"IF(CF318=CF411,0,CF318)","v":0},{"$f":"IF(CG318=CG411,0,CG318)","v":0},{"$f":"IF(CH318=CH411,0,CH318)","v":0},{"$f":"IF(CI318=CI411,0,CI318)","v":0},{"$f":"IF(CJ318=CJ411,0,CJ318)","v":0},{"$f":"IF(CK318=CK411,0,CK318)","v":0},{"$f":"IF(CL318=CL411,0,CL318)","v":0},{"$f":"IF(CM318=CM411,0,CM318)","v":0},{"$f":"IF(CN318=CN411,0,CN318)","v":0},{"$f":"IF(CO318=CO411,0,CO318)","v":0},{"$f":"IF(CP318=CP411,0,CP318)","v":0},{"$f":"IF(CQ318=CQ411,0,CQ318)","v":0},{"$f":"IF(CR318=CR411,0,CR318)","v":0},{"$f":"IF(CS318=CS411,0,CS318)","v":0},{"$f":"IF(CT318=CT411,0,CT318)","v":0},{"$f":"IF(CU318=CU411,0,CU318)","v":0},{"$f":"CP411","v":0},{"$f":"CP412","v":0},1]
[8,{"$f":"'RECOGIDA DATOS'!AG11","v":0},{"$f":"IF(B319=B411,0,B319)","v":0},{"$f":"IF(C319=C411,0,C319)","v":0},{"$f":"IF(D319=D411,0,D319)","v":0},{"$f":"IF(E319=E411,0,E319)","v":0},{"$f":"IF(F319=F411,0,F319)","v":0},{"$f":"IF(G319=G411,0,G319)","v":0},{"$f":"IF(H319=H411,0,H319)","v":0},{"$f":"IF(I319=I411,0,I319)","v":0},{"$f":"IF(J319=J411,0,J319)","v":0},{"$f":"IF(K319=K411,0,K319)","v":0},{"$f":"IF(L319=L411,0,L319)","v":0},{"$f":"IF(M319=M411,0,M319)","v":0},{"$f":"IF(N319=N411,0,N319)","v":0},{"$f":"IF(O319=O411,0,O319)","v":0},{"$f":"IF(P319=P411,0,P319)","v":0},{"$f":"IF(Q319=Q411,0,Q319)","v":0},{"$f":"IF(R319=R411,0,R319)","v":0},{"$f":"IF(S319=S411,0,S319)","v":0},{"$f":"IF(T319=T411,0,T319)","v":0},{"$f":"IF(U319=U411,0,U319)","v":0},{"$f":"IF(V319=V411,0,V319)","v":0},{"$f":"IF(W319=W411,0,W319)","v":0},{"$f":"IF(X319=X411,0,X319)","v":0},{"$f":"IF(Y319=Y411,0,Y319)","v":0},{"$f":"IF(Z319=Z411,0,Z319)","v":0},{"$f":"IF(AA319=AA411,0,AA319)","v":0},{"$f":"IF(AB319=AB411,0,AB319)","v":0},{"$f":"IF(AC319=AC411,0,AC319)","v":0},{"$f":"IF(AD319=AD411,0,AD319)","v":0},{"$f":"IF(AE319=AE411,0,AE319)","v":0},{"$f":"IF(AF319=AF411,0,AF319)","v":0},{"$f":"IF(AG319=AG411,0,AG319)","v":0},{"$f":"IF(AH319=AH411,0,AH319)","v":0},{"$f":"IF(AI319=AI411,0,AI319)","v":0},{"$f":"IF(AJ319=AJ411,0,AJ319)","v":0},{"$f":"IF(AK319=AK411,0,AK319)","v":0},{"$f":"IF(AL319=AL411,0,AL319)","v":0},{"$f":"IF(AM319=AM411,0,AM319)","v":0},{"$f":"IF(AN319=AN411,0,AN319)","v":0},{"$f":"IF(AO319=AO411,0,AO319)","v":0},{"$f":"IF(AP319=AP411,0,AP319)","v":0},{"$f":"IF(AQ319=AQ411,0,AQ319)","v":0},{"$f":"IF(AR319=AR411,0,AR319)","v":0},{"$f":"IF(AS319=AS411,0,AS319)","v":0},{"$f":"IF(AT319=AT411,0,AT319)","v":0},{"$f":"IF(AU319=AU411,0,AU319)","v":0},{"$f":"IF(AV319=AV411,0,AV319)","v":0},{"$f":"IF(AW319=AW411,0,AW319)","v":0},{"$f":"IF(AX319=AX411,0,AX319)","v":0},{"$f":"IF(AY319=AY411,0,AY319)","v":0},{"$f":"IF(AZ319=AZ411,0,AZ319)","v":0},{"$f":"IF(BA319=BA411,0,BA319)","v":0},{"$f":"IF(BB319=BB411,0,BB319)","v":0},{"$f":"IF(BC319=BC411,0,BC319)","v":0},{"$f":"IF(BD319=BD411,0,BD319)","v":0},{"$f":"IF(BE319=BE411,0,BE319)","v":0},{"$f":"IF(BF319=BF411,0,BF319)","v":0},{"$f":"IF(BG319=BG411,0,BG319)","v":0},{"$f":"IF(BH319=BH411,0,BH319)","v":0},{"$f":"IF(BI319=BI411,0,BI319)","v":0},{"$f":"IF(BJ319=BJ411,0,BJ319)","v":0},{"$f":"IF(BK319=BK411,0,BK319)","v":0},{"$f":"IF(BL319=BL411,0,BL319)","v":0},{"$f":"IF(BM319=BM411,0,BM319)","v":0},{"$f":"IF(BN319=BN411,0,BN319)","v":0},{"$f":"IF(BO319=BO411,0,BO319)","v":0},{"$f":"IF(BP319=BP411,0,BP319)","v":0},{"$f":"IF(BQ319=BQ411,0,BQ319)","v":0},{"$f":"IF(BR319=BR411,0,BR319)","v":0},{"$f":"IF(BS319=BS411,0,BS319)","v":0},{"$f":"IF(BT319=BT411,0,BT319)","v":0},{"$f":"IF(BU319=BU411,0,BU319)","v":0},{"$f":"IF(BV319=BV411,0,BV319)","v":0},{"$f":"IF(BW319=BW411,0,BW319)","v":0},{"$f":"IF(BX319=BX411,0,BX319)","v":0},{"$f":"IF(BY319=BY411,0,BY319)","v":0},{"$f":"IF(BZ319=BZ411,0,BZ319)","v":0},{"$f":"IF(CA319=CA411,0,CA319)","v":0},{"$f":"IF(CB319=CB411,0,CB319)","v":0},{"$f":"IF(CC319=CC411,0,CC319)","v":0},{"$f":"IF(CD319=CD411,0,CD319)","v":0},{"$f":"IF(CE319=CE411,0,CE319)","v":0},{"$f":"IF(CF319=CF411,0,CF319)","v":0},{"$f":"IF(CG319=CG411,0,CG319)","v":0},{"$f":"IF(CH319=CH411,0,CH319)","v":0},{"$f":"IF(CI319=CI411,0,CI319)","v":0},{"$f":"IF(CJ319=CJ411,0,CJ319)","v":0},{"$f":"IF(CK319=CK411,0,CK319)","v":0},{"$f":"IF(CL319=CL411,0,CL319)","v":0},{"$f":"IF(CM319=CM411,0,CM319)","v":0},{"$f":"IF(CN319=CN411,0,CN319)","v":0},{"$f":"IF(CO319=CO411,0,CO319)","v":0},{"$f":"IF(CP319=CP411,0,CP319)","v":0},{"$f":"IF(CQ319=CQ411,0,CQ319)","v":0},{"$f":"IF(CR319=CR411,0,CR319)","v":0},{"$f":"IF(CS319=CS411,0,CS319)","v":0},{"$f":"IF(CT319=CT411,0,CT319)","v":0},{"$f":"IF(CU319=CU411,0,CU319)","v":0},{"$f":"CO411","v":0},{"$f":"CO412","v":0},1]
[9,{"$f":"'RECOGIDA DATOS'!AG12","v":0},{"$f":"IF(B320=B411,0,B320)","v":0},{"$f":"IF(C320=C411,0,C320)","v":0},{"$f":"IF(D320=D411,0,D320)","v":0},{"$f":"IF(E320=E411,0,E320)","v":0},{"$f":"IF(F320=F411,0,F320)","v":0},{"$f":"IF(G320=G411,0,G320)","v":0},{"$f":"IF(H320=H411,0,H320)","v":0},{"$f":"IF(I320=I411,0,I320)","v":0},{"$f":"IF(J320=J411,0,J320)","v":0},{"$f":"IF(K320=K411,0,K320)","v":0},{"$f":"IF(L320=L411,0,L320)","v":0},{"$f":"IF(M320=M411,0,M320)","v":0},{"$f":"IF(N320=N411,0,N320)","v":0},{"$f":"IF(O320=O411,0,O320)","v":0},{"$f":"IF(P320=P411,0,P320)","v":0},{"$f":"IF(Q320=Q411,0,Q320)","v":0},{"$f":"IF(R320=R411,0,R320)","v":0},{"$f":"IF(S320=S411,0,S320)","v":0},{"$f":"IF(T320=T411,0,T320)","v":0},{"$f":"IF(U320=U411,0,U320)","v":0},{"$f":"IF(V320=V411,0,V320)","v":0},{"$f":"IF(W320=W411,0,W320)","v":0},{"$f":"IF(X320=X411,0,X320)","v":0},{"$f":"IF(Y320=Y411,0,Y320)","v":0},{"$f":"IF(Z320=Z411,0,Z320)","v":0},{"$f":"IF(AA320=AA411,0,AA320)","v":0},{"$f":"IF(AB320=AB411,0,AB320)","v":0},{"$f":"IF(AC320=AC411,0,AC320)","v":0},{"$f":"IF(AD320=AD411,0,AD320)","v":0},{"$f":"IF(AE320=AE411,0,AE320)","v":0},{"$f":"IF(AF320=AF411,0,AF320)","v":0},{"$f":"IF(AG320=AG411,0,AG320)","v":0},{"$f":"IF(AH320=AH411,0,AH320)","v":0},{"$f":"IF(AI320=AI411,0,AI320)","v":0},{"$f":"IF(AJ320=AJ411,0,AJ320)","v":0},{"$f":"IF(AK320=AK411,0,AK320)","v":0},{"$f":"IF(AL320=AL411,0,AL320)","v":0},{"$f":"IF(AM320=AM411,0,AM320)","v":0},{"$f":"IF(AN320=AN411,0,AN320)","v":0},{"$f":"IF(AO320=AO411,0,AO320)","v":0},{"$f":"IF(AP320=AP411,0,AP320)","v":0},{"$f":"IF(AQ320=AQ411,0,AQ320)","v":0},{"$f":"IF(AR320=AR411,0,AR320)","v":0},{"$f":"IF(AS320=AS411,0,AS320)","v":0},{"$f":"IF(AT320=AT411,0,AT320)","v":0},{"$f":"IF(AU320=AU411,0,AU320)","v":0},{"$f":"IF(AV320=AV411,0,AV320)","v":0},{"$f":"IF(AW320=AW411,0,AW320)","v":0},{"$f":"IF(AX320=AX411,0,AX320)","v":0},{"$f":"IF(AY320=AY411,0,AY320)","v":0},{"$f":"IF(AZ320=AZ411,0,AZ320)","v":0},{"$f":"IF(BA320=BA411,0,BA320)","v":0},{"$f":"IF(BB320=BB411,0,BB320)","v":0},{"$f":"IF(BC320=BC411,0,BC320)","v":0},{"$f":"IF(BD320=BD411,0,BD320)","v":0},{"$f":"IF(BE320=BE411,0,BE320)","v":0},{"$f":"IF(BF320=BF411,0,BF320)","v":0},{"$f":"IF(BG320=BG411,0,BG320)","v":0},{"$f":"IF(BH320=BH411,0,BH320)","v":0},{"$f":"IF(BI320=BI411,0,BI320)","v":0},{"$f":"IF(BJ320=BJ411,0,BJ320)","v":0},{"$f":"IF(BK320=BK411,0,BK320)","v":0},{"$f":"IF(BL320=BL411,0,BL320)","v":0},{"$f":"IF(BM320=BM411,0,BM320)","v":0},{"$f":"IF(BN320=BN411,0,BN320)","v":0},{"$f":"IF(BO320=BO411,0,BO320)","v":0},{"$f":"IF(BP320=BP411,0,BP320)","v":0},{"$f":"IF(BQ320=BQ411,0,BQ320)","v":0},{"$f":"IF(BR320=BR411,0,BR320)","v":0},{"$f":"IF(BS320=BS411,0,BS320)","v":0},{"$f":"IF(BT320=BT411,0,BT320)","v":0},{"$f":"IF(BU320=BU411,0,BU320)","v":0},{"$f":"IF(BV320=BV411,0,BV320)","v":0},{"$f":"IF(BW320=BW411,0,BW320)","v":0},{"$f":"IF(BX320=BX411,0,BX320)","v":0},{"$f":"IF(BY320=BY411,0,BY320)","v":0},{"$f":"IF(BZ320=BZ411,0,BZ320)","v":0},{"$f":"IF(CA320=CA411,0,CA320)","v":0},{"$f":"IF(CB320=CB411,0,CB320)","v":0},{"$f":"IF(CC320=CC411,0,CC320)","v":0},{"$f":"IF(CD320=CD411,0,CD320)","v":0},{"$f":"IF(CE320=CE411,0,CE320)","v":0},{"$f":"IF(CF320=CF411,0,CF320)","v":0},{"$f":"IF(CG320=CG411,0,CG320)","v":0},{"$f":"IF(CH320=CH411,0,CH320)","v":0},{"$f":"IF(CI320=CI411,0,CI320)","v":0},{"$f":"IF(CJ320=CJ411,0,CJ320)","v":0},{"$f":"IF(CK320=CK411,0,CK320)","v":0},{"$f":"IF(CL320=CL411,0,CL320)","v":0},{"$f":"IF(CM320=CM411,0,CM320)","v":0},{"$f":"IF(CN320=CN411,0,CN320)","v":0},{"$f":"IF(CO320=CO411,0,CO320)","v":0},{"$f":"IF(CP320=CP411,0,CP320)","v":0},{"$f":"IF(CQ320=CQ411,0,CQ320)","v":0},{"$f":"IF(CR320=CR411,0,CR320)","v":0},{"$f":"IF(CS320=CS411,0,CS320)","v":0},{"$f":"IF(CT320=CT411,0,CT320)","v":0},{"$f":"IF(CU320=CU411,0,CU320)","v":0},{"$f":"CN411","v":0},{"$f":"CN412","v":0},1]
[10,{"$f":"'RECOGIDA DATOS'!AG13","v":0},{"$f":"IF(B321=B411,0,B321)","v":0},{"$f":"IF(C321=C411,0,C321)","v":0},{"$f":"IF(D321=D411,0,D321)","v":0},{"$f":"IF(E321=E411,0,E321)","v":0},{"$f":"IF(F321=F411,0,F321)","v":0},{"$f":"IF(G321=G411,0,G321)","v":0},{"$f":"IF(H321=H411,0,H321)","v":0},{"$f":"IF(I321=I411,0,I321)","v":0},{"$f":"IF(J321=J411,0,J321)","v":0},{"$f":"IF(K321=K411,0,K321)","v":0},{"$f":"IF(L321=L411,0,L321)","v":0},{"$f":"IF(M321=M411,0,M321)","v":0},{"$f":"IF(N321=N411,0,N321)","v":0},{"$f":"IF(O321=O411,0,O321)","v":0},{"$f":"IF(P321=P411,0,P321)","v":0},{"$f":"IF(Q321=Q411,0,Q321)","v":0},{"$f":"IF(R321=R411,0,R321)","v":0},{"$f":"IF(S321=S411,0,S321)","v":0},{"$f":"IF(T321=T411,0,T321)","v":0},{"$f":"IF(U321=U411,0,U321)","v":0},{"$f":"IF(V321=V411,0,V321)","v":0},{"$f":"IF(W321=W411,0,W321)","v":0},{"$f":"IF(X321=X411,0,X321)","v":0},{"$f":"IF(Y321=Y411,0,Y321)","v":0},{"$f":"IF(Z321=Z411,0,Z321)","v":0},{"$f":"IF(AA321=AA411,0,AA321)","v":0},{"$f":"IF(AB321=AB411,0,AB321)","v":0},{"$f":"IF(AC321=AC411,0,AC321)","v":0},{"$f":"IF(AD321=AD411,0,AD321)","v":0},{"$f":"IF(AE321=AE411,0,AE321)","v":0},{"$f":"IF(AF321=AF411,0,AF321)","v":0},{"$f":"IF(AG321=AG411,0,AG321)","v":0},{"$f":"IF(AH321=AH411,0,AH321)","v":0},{"$f":"IF(AI321=AI411,0,AI321)","v":0},{"$f":"IF(AJ321=AJ411,0,AJ321)","v":0},{"$f":"IF(AK321=AK411,0,AK321)","v":0},{"$f":"IF(AL321=AL411,0,AL321)","v":0},{"$f":"IF(AM321=AM411,0,AM321)","v":0},{"$f":"IF(AN321=AN411,0,AN321)","v":0},{"$f":"IF(AO321=AO411,0,AO321)","v":0},{"$f":"IF(AP321=AP411,0,AP321)","v":0},{"$f":"IF(AQ321=AQ411,0,AQ321)","v":0},{"$f":"IF(AR321=AR411,0,AR321)","v":0},{"$f":"IF(AS321=AS411,0,AS321)","v":0},{"$f":"IF(AT321=AT411,0,AT321)","v":0},{"$f":"IF(AU321=AU411,0,AU321)","v":0},{"$f":"IF(AV321=AV411,0,AV321)","v":0},{"$f":"IF(AW321=AW411,0,AW321)","v":0},{"$f":"IF(AX321=AX411,0,AX321)","v":0},{"$f":"IF(AY321=AY411,0,AY321)","v":0},{"$f":"IF(AZ321=AZ411,0,AZ321)","v":0},{"$f":"IF(BA321=BA411,0,BA321)","v":0},{"$f":"IF(BB321=BB411,0,BB321)","v":0},{"$f":"IF(BC321=BC411,0,BC321)","v":0},{"$f":"IF(BD321=BD411,0,BD321)","v":0},{"$f":"IF(BE321=BE411,0,BE321)","v":0},{"$f":"IF(BF321=BF411,0,BF321)","v":0},{"$f":"IF(BG321=BG411,0,BG321)","v":0},{"$f":"IF(BH321=BH411,0,BH321)","v":0},{"$f":"IF(BI321=BI411,0,BI321)","v":0},{"$f":"IF(BJ321=BJ411,0,BJ321)","v":0},{"$f":"IF(BK321=BK411,0,BK321)","v":0},{"$f":"IF(BL321=BL411,0,BL321)","v":0},{"$f":"IF(BM321=BM411,0,BM321)","v":0},{"$f":"IF(BN321=BN411,0,BN321)","v":0},{"$f":"IF(BO321=BO411,0,BO321)","v":0},{"$f":"IF(BP321=BP411,0,BP321)","v":0},{"$f":"IF(BQ321=BQ411,0,BQ321)","v":0},{"$f":"IF(BR321=BR411,0,BR321)","v":0},{"$f":"IF(BS321=BS411,0,BS321)","v":0},{"$f":"IF(BT321=BT411,0,BT321)","v":0},{"$f":"IF(BU321=BU411,0,BU321)","v":0},{"$f":"IF(BV321=BV411,0,BV321)","v":0},{"$f":"IF(BW321=BW411,0,BW321)","v":0},{"$f":"IF(BX321=BX411,0,BX321)","v":0},{"$f":"IF(BY321=BY411,0,BY321)","v":0},{"$f":"IF(BZ321=BZ411,0,BZ321)","v":0},{"$f":"IF(CA321=CA411,0,CA321)","v":0},{"$f":"IF(CB321=CB411,0,CB321)","v":0},{"$f":"IF(CC321=CC411,0,CC321)","v":0},{"$f":"IF(CD321=CD411,0,CD321)","v":0},{"$f":"IF(CE321=CE411,0,CE321)","v":0},{"$f":"IF(CF321=CF411,0,CF321)","v":0},{"$f":"IF(CG321=CG411,0,CG321)","v":0},{"$f":"IF(CH321=CH411,0,CH321)","v":0},{"$f":"IF(CI321=CI411,0,CI321)","v":0},{"$f":"IF(CJ321=CJ411,0,CJ321)","v":0},{"$f":"IF(CK321=CK411,0,CK321)","v":0},{"$f":"IF(CL321=CL411,0,CL321)","v":0},{"$f":"IF(CM321=CM411,0,CM321)","v":0},{"$f":"IF(CN321=CN411,0,CN321)","v":0},{"$f":"IF(CO321=CO411,0,CO321)","v":0},{"$f":"IF(CP321=CP411,0,CP321)","v":0},{"$f":"IF(CQ321=CQ411,0,CQ321)","v":0},{"$f":"IF(CR321=CR411,0,CR321)","v":0},{"$f":"IF(CS321=CS411,0,CS321)","v":0},{"$f":"IF(CT321=CT411,0,CT321)","v":0},{"$f":"IF(CU321=CU411,0,CU321)","v":0},{"$f":"CM411","v":0},{"$f":"CM412","v":0},1]
[11,{"$f":"'RECOGIDA DATOS'!AG14","v":0},{"$f":"IF(B322=B411,0,B322)","v":0},{"$f":"IF(C322=C411,0,C322)","v":0},{"$f":"IF(D322=D411,0,D322)","v":0},{"$f":"IF(E322=E411,0,E322)","v":0},{"$f":"IF(F322=F411,0,F322)","v":0},{"$f":"IF(G322=G411,0,G322)","v":0},{"$f":"IF(H322=H411,0,H322)","v":0},{"$f":"IF(I322=I411,0,I322)","v":0},{"$f":"IF(J322=J411,0,J322)","v":0},{"$f":"IF(K322=K411,0,K322)","v":0},{"$f":"IF(L322=L411,0,L322)","v":0},{"$f":"IF(M322=M411,0,M322)","v":0},{"$f":"IF(N322=N411,0,N322)","v":0},{"$f":"IF(O322=O411,0,O322)","v":0},{"$f":"IF(P322=P411,0,P322)","v":0},{"$f":"IF(Q322=Q411,0,Q322)","v":0},{"$f":"IF(R322=R411,0,R322)","v":0},{"$f":"IF(S322=S411,0,S322)","v":0},{"$f":"IF(T322=T411,0,T322)","v":0},{"$f":"IF(U322=U411,0,U322)","v":0},{"$f":"IF(V322=V411,0,V322)","v":0},{"$f":"IF(W322=W411,0,W322)","v":0},{"$f":"IF(X322=X411,0,X322)","v":0},{"$f":"IF(Y322=Y411,0,Y322)","v":0},{"$f":"IF(Z322=Z411,0,Z322)","v":0},{"$f":"IF(AA322=AA411,0,AA322)","v":0},{"$f":"IF(AB322=AB411,0,AB322)","v":0},{"$f":"IF(AC322=AC411,0,AC322)","v":0},{"$f":"IF(AD322=AD411,0,AD322)","v":0},{"$f":"IF(AE322=AE411,0,AE322)","v":0},{"$f":"IF(AF322=AF411,0,AF322)","v":0},{"$f":"IF(AG322=AG411,0,AG322)","v":0},{"$f":"IF(AH322=AH411,0,AH322)","v":0},{"$f":"IF(AI322=AI411,0,AI322)","v":0},{"$f":"IF(AJ322=AJ411,0,AJ322)","v":0},{"$f":"IF(AK322=AK411,0,AK322)","v":0},{"$f":"IF(AL322=AL411,0,AL322)","v":0},{"$f":"IF(AM322=AM411,0,AM322)","v":0},{"$f":"IF(AN322=AN411,0,AN322)","v":0},{"$f":"IF(AO322=AO411,0,AO322)","v":0},{"$f":"IF(AP322=AP411,0,AP322)","v":0},{"$f":"IF(AQ322=AQ411,0,AQ322)","v":0},{"$f":"IF(AR322=AR411,0,AR322)","v":0},{"$f":"IF(AS322=AS411,0,AS322)","v":0},{"$f":"IF(AT322=AT411,0,AT322)","v":0},{"$f":"IF(AU322=AU411,0,AU322)","v":0},{"$f":"IF(AV322=AV411,0,AV322)","v":0},{"$f":"IF(AW322=AW411,0,AW322)","v":0},{"$f":"IF(AX322=AX411,0,AX322)","v":0},{"$f":"IF(AY322=AY411,0,AY322)","v":0},{"$f":"IF(AZ322=AZ411,0,AZ322)","v":0},{"$f":"IF(BA322=BA411,0,BA322)","v":0},{"$f":"IF(BB322=BB411,0,BB322)","v":0},{"$f":"IF(BC322=BC411,0,BC322)","v":0},{"$f":"IF(BD322=BD411,0,BD322)","v":0},{"$f":"IF(BE322=BE411,0,BE322)","v":0},{"$f":"IF(BF322=BF411,0,BF322)","v":0},{"$f":"IF(BG322=BG411,0,BG322)","v":0},{"$f":"IF(BH322=BH411,0,BH322)","v":0},{"$f":"IF(BI322=BI411,0,BI322)","v":0},{"$f":"IF(BJ322=BJ411,0,BJ322)","v":0},{"$f":"IF(BK322=BK411,0,BK322)","v":0},{"$f":"IF(BL322=BL411,0,BL322)","v":0},{"$f":"IF(BM322=BM411,0,BM322)","v":0},{"$f":"IF(BN322=BN411,0,BN322)","v":0},{"$f":"IF(BO322=BO411,0,BO322)","v":0},{"$f":"IF(BP322=BP411,0,BP322)","v":0},{"$f":"IF(BQ322=BQ411,0,BQ322)","v":0},{"$f":"IF(BR322=BR411,0,BR322)","v":0},{"$f":"IF(BS322=BS411,0,BS322)","v":0},{"$f":"IF(BT322=BT411,0,BT322)","v":0},{"$f":"IF(BU322=BU411,0,BU322)","v":0},{"$f":"IF(BV322=BV411,0,BV322)","v":0},{"$f":"IF(BW322=BW411,0,BW322)","v":0},{"$f":"IF(BX322=BX411,0,BX322)","v":0},{"$f":"IF(BY322=BY411,0,BY322)","v":0},{"$f":"IF(BZ322=BZ411,0,BZ322)","v":0},{"$f":"IF(CA322=CA411,0,CA322)","v":0},{"$f":"IF(CB322=CB411,0,CB322)","v":0},{"$f":"IF(CC322=CC411,0,CC322)","v":0},{"$f":"IF(CD322=CD411,0,CD322)","v":0},{"$f":"IF(CE322=CE411,0,CE322)","v":0},{"$f":"IF(CF322=CF411,0,CF322)","v":0},{"$f":"IF(CG322=CG411,0,CG322)","v":0},{"$f":"IF(CH322=CH411,0,CH322)","v":0},{"$f":"IF(CI322=CI411,0,CI322)","v":0},{"$f":"IF(CJ322=CJ411,0,CJ322)","v":0},{"$f":"IF(CK322=CK411,0,CK322)","v":0},{"$f":"IF(CL322=CL411,0,CL322)","v":0},{"$f":"IF(CM322=CM411,0,CM322)","v":0},{"$f":"IF(CN322=CN411,0,CN322)","v":0},{"$f":"IF(CO322=CO411,0,CO322)","v":0},{"$f":"IF(CP322=CP411,0,CP322)","v":0},{"$f":"IF(CQ322=CQ411,0,CQ322)","v":0},{"$f":"IF(CR322=CR411,0,CR322)","v":0},{"$f":"IF(CS322=CS411,0,CS322)","v":0},{"$f":"IF(CT322=CT411,0,CT322)","v":0},{"$f":"IF(CU322=CU411,0,CU322)","v":0},{"$f":"CL411","v":0},{"$f":"CL412","v":0},1]
[12,{"$f":"'RECOGIDA DATOS'!AG15","v":0},{"$f":"IF(B323=B411,0,B323)","v":0},{"$f":"IF(C323=C411,0,C323)","v":0},{"$f":"IF(D323=D411,0,D323)","v":0},{"$f":"IF(E323=E411,0,E323)","v":0},{"$f":"IF(F323=F411,0,F323)","v":0},{"$f":"IF(G323=G411,0,G323)","v":0},{"$f":"IF(H323=H411,0,H323)","v":0},{"$f":"IF(I323=I411,0,I323)","v":0},{"$f":"IF(J323=J411,0,J323)","v":0},{"$f":"IF(K323=K411,0,K323)","v":0},{"$f":"IF(L323=L411,0,L323)","v":0},{"$f":"IF(M323=M411,0,M323)","v":0},{"$f":"IF(N323=N411,0,N323)","v":0},{"$f":"IF(O323=O411,0,O323)","v":0},{"$f":"IF(P323=P411,0,P323)","v":0},{"$f":"IF(Q323=Q411,0,Q323)","v":0},{"$f":"IF(R323=R411,0,R323)","v":0},{"$f":"IF(S323=S411,0,S323)","v":0},{"$f":"IF(T323=T411,0,T323)","v":0},{"$f":"IF(U323=U411,0,U323)","v":0},{"$f":"IF(V323=V411,0,V323)","v":0},{"$f":"IF(W323=W411,0,W323)","v":0},{"$f":"IF(X323=X411,0,X323)","v":0},{"$f":"IF(Y323=Y411,0,Y323)","v":0},{"$f":"IF(Z323=Z411,0,Z323)","v":0},{"$f":"IF(AA323=AA411,0,AA323)","v":0},{"$f":"IF(AB323=AB411,0,AB323)","v":0},{"$f":"IF(AC323=AC411,0,AC323)","v":0},{"$f":"IF(AD323=AD411,0,AD323)","v":0},{"$f":"IF(AE323=AE411,0,AE323)","v":0},{"$f":"IF(AF323=AF411,0,AF323)","v":0},{"$f":"IF(AG323=AG411,0,AG323)","v":0},{"$f":"IF(AH323=AH411,0,AH323)","v":0},{"$f":"IF(AI323=AI411,0,AI323)","v":0},{"$f":"IF(AJ323=AJ411,0,AJ323)","v":0},{"$f":"IF(AK323=AK411,0,AK323)","v":0},{"$f":"IF(AL323=AL411,0,AL323)","v":0},{"$f":"IF(AM323=AM411,0,AM323)","v":0},{"$f":"IF(AN323=AN411,0,AN323)","v":0},{"$f":"IF(AO323=AO411,0,AO323)","v":0},{"$f":"IF(AP323=AP411,0,AP323)","v":0},{"$f":"IF(AQ323=AQ411,0,AQ323)","v":0},{"$f":"IF(AR323=AR411,0,AR323)","v":0},{"$f":"IF(AS323=AS411,0,AS323)","v":0},{"$f":"IF(AT323=AT411,0,AT323)","v":0},{"$f":"IF(AU323=AU411,0,AU323)","v":0},{"$f":"IF(AV323=AV411,0,AV323)","v":0},{"$f":"IF(AW323=AW411,0,AW323)","v":0},{"$f":"IF(AX323=AX411,0,AX323)","v":0},{"$f":"IF(AY323=AY411,0,AY323)","v":0},{"$f":"IF(AZ323=AZ411,0,AZ323)","v":0},{"$f":"IF(BA323=BA411,0,BA323)","v":0},{"$f":"IF(BB323=BB411,0,BB323)","v":0},{"$f":"IF(BC323=BC411,0,BC323)","v":0},{"$f":"IF(BD323=BD411,0,BD323)","v":0},{"$f":"IF(BE323=BE411,0,BE323)","v":0},{"$f":"IF(BF323=BF411,0,BF323)","v":0},{"$f":"IF(BG323=BG411,0,BG323)","v":0},{"$f":"IF(BH323=BH411,0,BH323)","v":0},{"$f":"IF(BI323=BI411,0,BI323)","v":0},{"$f":"IF(BJ323=BJ411,0,BJ323)","v":0},{"$f":"IF(BK323=BK411,0,BK323)","v":0},{"$f":"IF(BL323=BL411,0,BL323)","v":0},{"$f":"IF(BM323=BM411,0,BM323)","v":0},{"$f":"IF(BN323=BN411,0,BN323)","v":0},{"$f":"IF(BO323=BO411,0,BO323)","v":0},{"$f":"IF(BP323=BP411,0,BP323)","v":0},{"$f":"IF(BQ323=BQ411,0,BQ323)","v":0},{"$f":"IF(BR323=BR411,0,BR323)","v":0},{"$f":"IF(BS323=BS411,0,BS323)","v":0},{"$f":"IF(BT323=BT411,0,BT323)","v":0},{"$f":"IF(BU323=BU411,0,BU323)","v":0},{"$f":"IF(BV323=BV411,0,BV323)","v":0},{"$f":"IF(BW323=BW411,0,BW323)","v":0},{"$f":"IF(BX323=BX411,0,BX323)","v":0},{"$f":"IF(BY323=BY411,0,BY323)","v":0},{"$f":"IF(BZ323=BZ411,0,BZ323)","v":0},{"$f":"IF(CA323=CA411,0,CA323)","v":0},{"$f":"IF(CB323=CB411,0,CB323)","v":0},{"$f":"IF(CC323=CC411,0,CC323)","v":0},{"$f":"IF(CD323=CD411,0,CD323)","v":0},{"$f":"IF(CE323=CE411,0,CE323)","v":0},{"$f":"IF(CF323=CF411,0,CF323)","v":0},{"$f":"IF(CG323=CG411,0,CG323)","v":0},{"$f":"IF(CH323=CH411,0,CH323)","v":0},{"$f":"IF(CI323=CI411,0,CI323)","v":0},{"$f":"IF(CJ323=CJ411,0,CJ323)","v":0},{"$f":"IF(CK323=CK411,0,CK323)","v":0},{"$f":"IF(CL323=CL411,0,CL323)","v":0},{"$f":"IF(CM323=CM411,0,CM323)","v":0},{"$f":"IF(CN323=CN411,0,CN323)","v":0},{"$f":"IF(CO323=CO411,0,CO323)","v":0},{"$f":"IF(CP323=CP411,0,CP323)","v":0},{"$f":"IF(CQ323=CQ411,0,CQ323)","v":0},{"$f":"IF(CR323=CR411,0,CR323)","v":0},{"$f":"IF(CS323=CS411,0,CS323)","v":0},{"$f":"IF(CT323=CT411,0,CT323)","v":0},{"$f":"IF(CU323=CU411,0,CU323)","v":0},{"$f":"CK411","v":0},{"$f":"CK412","v":0},1]
[13,{"$f":"'RECOGIDA DATOS'!AG16","v":0},{"$f":"IF(B324=B411,0,B324)","v":0},{"$f":"IF(C324=C411,0,C324)","v":0},{"$f":"IF(D324=D411,0,D324)","v":0},{"$f":"IF(E324=E411,0,E324)","v":0},{"$f":"IF(F324=F411,0,F324)","v":0},{"$f":"IF(G324=G411,0,G324)","v":0},{"$f":"IF(H324=H411,0,H324)","v":0},{"$f":"IF(I324=I411,0,I324)","v":0},{"$f":"IF(J324=J411,0,J324)","v":0},{"$f":"IF(K324=K411,0,K324)","v":0},{"$f":"IF(L324=L411,0,L324)","v":0},{"$f":"IF(M324=M411,0,M324)","v":0},{"$f":"IF(N324=N411,0,N324)","v":0},{"$f":"IF(O324=O411,0,O324)","v":0},{"$f":"IF(P324=P411,0,P324)","v":0},{"$f":"IF(Q324=Q411,0,Q324)","v":0},{"$f":"IF(R324=R411,0,R324)","v":0},{"$f":"IF(S324=S411,0,S324)","v":0},{"$f":"IF(T324=T411,0,T324)","v":0},{"$f":"IF(U324=U411,0,U324)","v":0},{"$f":"IF(V324=V411,0,V324)","v":0},{"$f":"IF(W324=W411,0,W324)","v":0},{"$f":"IF(X324=X411,0,X324)","v":0},{"$f":"IF(Y324=Y411,0,Y324)","v":0},{"$f":"IF(Z324=Z411,0,Z324)","v":0},{"$f":"IF(AA324=AA411,0,AA324)","v":0},{"$f":"IF(AB324=AB411,0,AB324)","v":0},{"$f":"IF(AC324=AC411,0,AC324)","v":0},{"$f":"IF(AD324=AD411,0,AD324)","v":0},{"$f":"IF(AE324=AE411,0,AE324)","v":0},{"$f":"IF(AF324=AF411,0,AF324)","v":0},{"$f":"IF(AG324=AG411,0,AG324)","v":0},{"$f":"IF(AH324=AH411,0,AH324)","v":0},{"$f":"IF(AI324=AI411,0,AI324)","v":0},{"$f":"IF(AJ324=AJ411,0,AJ324)","v":0},{"$f":"IF(AK324=AK411,0,AK324)","v":0},{"$f":"IF(AL324=AL411,0,AL324)","v":0},{"$f":"IF(AM324=AM411,0,AM324)","v":0},{"$f":"IF(AN324=AN411,0,AN324)","v":0},{"$f":"IF(AO324=AO411,0,AO324)","v":0},{"$f":"IF(AP324=AP411,0,AP324)","v":0},{"$f":"IF(AQ324=AQ411,0,AQ324)","v":0},{"$f":"IF(AR324=AR411,0,AR324)","v":0},{"$f":"IF(AS324=AS411,0,AS324)","v":0},{"$f":"IF(AT324=AT411,0,AT324)","v":0},{"$f":"IF(AU324=AU411,0,AU324)","v":0},{"$f":"IF(AV324=AV411,0,AV324)","v":0},{"$f":"IF(AW324=AW411,0,AW324)","v":0},{"$f":"IF(AX324=AX411,0,AX324)","v":0},{"$f":"IF(AY324=AY411,0,AY324)","v":0},{"$f":"IF(AZ324=AZ411,0,AZ324)","v":0},{"$f":"IF(BA324=BA411,0,BA324)","v":0},{"$f":"IF(BB324=BB411,0,BB324)","v":0},{"$f":"IF(BC324=BC411,0,BC324)","v":0},{"$f":"IF(BD324=BD411,0,BD324)","v":0},{"$f":"IF(BE324=BE411,0,BE324)","v":0},{"$f":"IF(BF324=BF411,0,BF324)","v":0},{"$f":"IF(BG324=BG411,0,BG324)","v":0},{"$f":"IF(BH324=BH411,0,BH324)","v":0},{"$f":"IF(BI324=BI411,0,BI324)","v":0},{"$f":"IF(BJ324=BJ411,0,BJ324)","v":0},{"$f":"IF(BK324=BK411,0,BK324)","v":0},{"$f":"IF(BL324=BL411,0,BL324)","v":0},{"$f":"IF(BM324=BM411,0,BM324)","v":0},{"$f":"IF(BN324=BN411,0,BN324)","v":0},{"$f":"IF(BO324=BO411,0,BO324)","v":0},{"$f":"IF(BP324=BP411,0,BP324)","v":0},{"$f":"IF(BQ324=BQ411,0,BQ324)","v":0},{"$f":"IF(BR324=BR411,0,BR324)","v":0},{"$f":"IF(BS324=BS411,0,BS324)","v":0},{"$f":"IF(BT324=BT411,0,BT324)","v":0},{"$f":"IF(BU324=BU411,0,BU324)","v":0},{"$f":"IF(BV324=BV411,0,BV324)","v":0},{"$f":"IF(BW324=BW411,0,BW324)","v":0},{"$f":"IF(BX324=BX411,0,BX324)","v":0},{"$f":"IF(BY324=BY411,0,BY324)","v":0},{"$f":"IF(BZ324=BZ411,0,BZ324)","v":0},{"$f":"IF(CA324=CA411,0,CA324)","v":0},{"$f":"IF(CB324=CB411,0,CB324)","v":0},{"$f":"IF(CC324=CC411,0,CC324)","v":0},{"$f":"IF(CD324=CD411,0,CD324)","v":0},{"$f":"IF(CE324=CE411,0,CE324)","v":0},{"$f":"IF(CF324=CF411,0,CF324)","v":0},{"$f":"IF(CG324=CG411,0,CG324)","v":0},{"$f":"IF(CH324=CH411,0,CH324)","v":0},{"$f":"IF(CI324=CI411,0,CI324)","v":0},{"$f":"IF(CJ324=CJ411,0,CJ324)","v":0},{"$f":"IF(CK324=CK411,0,CK324)","v":0},{"$f":"IF(CL324=CL411,0,CL324)","v":0},{"$f":"IF(CM324=CM411,0,CM324)","v":0},{"$f":"IF(CN324=CN411,0,CN324)","v":0},{"$f":"IF(CO324=CO411,0,CO324)","v":0},{"$f":"IF(CP324=CP411,0,CP324)","v":0},{"$f":"IF(CQ324=CQ411,0,CQ324)","v":0},{"$f":"IF(CR324=CR411,0,CR324)","v":0},{"$f":"IF(CS324=CS411,0,CS324)","v":0},{"$f":"IF(CT324=CT411,0,CT324)","v":0},{"$f":"IF(CU324=CU411,0,CU324)","v":0},{"$f":"CJ411","v":0},{"$f":"CJ412","v":0},1]
[14,{"$f":"'RECOGIDA DATOS'!AG17","v":0},{"$f":"IF(B325=B411,0,B325)","v":0},{"$f":"IF(C325=C411,0,C325)","v":0},{"$f":"IF(D325=D411,0,D325)","v":0},{"$f":"IF(E325=E411,0,E325)","v":0},{"$f":"IF(F325=F411,0,F325)","v":0},{"$f":"IF(G325=G411,0,G325)","v":0},{"$f":"IF(H325=H411,0,H325)","v":0},{"$f":"IF(I325=I411,0,I325)","v":0},{"$f":"IF(J325=J411,0,J325)","v":0},{"$f":"IF(K325=K411,0,K325)","v":0},{"$f":"IF(L325=L411,0,L325)","v":0},{"$f":"IF(M325=M411,0,M325)","v":0},{"$f":"IF(N325=N411,0,N325)","v":0},{"$f":"IF(O325=O411,0,O325)","v":0},{"$f":"IF(P325=P411,0,P325)","v":0},{"$f":"IF(Q325=Q411,0,Q325)","v":0},{"$f":"IF(R325=R411,0,R325)","v":0},{"$f":"IF(S325=S411,0,S325)","v":0},{"$f":"IF(T325=T411,0,T325)","v":0},{"$f":"IF(U325=U411,0,U325)","v":0},{"$f":"IF(V325=V411,0,V325)","v":0},{"$f":"IF(W325=W411,0,W325)","v":0},{"$f":"IF(X325=X411,0,X325)","v":0},{"$f":"IF(Y325=Y411,0,Y325)","v":0},{"$f":"IF(Z325=Z411,0,Z325)","v":0},{"$f":"IF(AA325=AA411,0,AA325)","v":0},{"$f":"IF(AB325=AB411,0,AB325)","v":0},{"$f":"IF(AC325=AC411,0,AC325)","v":0},{"$f":"IF(AD325=AD411,0,AD325)","v":0},{"$f":"IF(AE325=AE411,0,AE325)","v":0},{"$f":"IF(AF325=AF411,0,AF325)","v":0},{"$f":"IF(AG325=AG411,0,AG325)","v":0},{"$f":"IF(AH325=AH411,0,AH325)","v":0},{"$f":"IF(AI325=AI411,0,AI325)","v":0},{"$f":"IF(AJ325=AJ411,0,AJ325)","v":0},{"$f":"IF(AK325=AK411,0,AK325)","v":0},{"$f":"IF(AL325=AL411,0,AL325)","v":0},{"$f":"IF(AM325=AM411,0,AM325)","v":0},{"$f":"IF(AN325=AN411,0,AN325)","v":0},{"$f":"IF(AO325=AO411,0,AO325)","v":0},{"$f":"IF(AP325=AP411,0,AP325)","v":0},{"$f":"IF(AQ325=AQ411,0,AQ325)","v":0},{"$f":"IF(AR325=AR411,0,AR325)","v":0},{"$f":"IF(AS325=AS411,0,AS325)","v":0},{"$f":"IF(AT325=AT411,0,AT325)","v":0},{"$f":"IF(AU325=AU411,0,AU325)","v":0},{"$f":"IF(AV325=AV411,0,AV325)","v":0},{"$f":"IF(AW325=AW411,0,AW325)","v":0},{"$f":"IF(AX325=AX411,0,AX325)","v":0},{"$f":"IF(AY325=AY411,0,AY325)","v":0},{"$f":"IF(AZ325=AZ411,0,AZ325)","v":0},{"$f":"IF(BA325=BA411,0,BA325)","v":0},{"$f":"IF(BB325=BB411,0,BB325)","v":0},{"$f":"IF(BC325=BC411,0,BC325)","v":0},{"$f":"IF(BD325=BD411,0,BD325)","v":0},{"$f":"IF(BE325=BE411,0,BE325)","v":0},{"$f":"IF(BF325=BF411,0,BF325)","v":0},{"$f":"IF(BG325=BG411,0,BG325)","v":0},{"$f":"IF(BH325=BH411,0,BH325)","v":0},{"$f":"IF(BI325=BI411,0,BI325)","v":0},{"$f":"IF(BJ325=BJ411,0,BJ325)","v":0},{"$f":"IF(BK325=BK411,0,BK325)","v":0},{"$f":"IF(BL325=BL411,0,BL325)","v":0},{"$f":"IF(BM325=BM411,0,BM325)","v":0},{"$f":"IF(BN325=BN411,0,BN325)","v":0},{"$f":"IF(BO325=BO411,0,BO325)","v":0},{"$f":"IF(BP325=BP411,0,BP325)","v":0},{"$f":"IF(BQ325=BQ411,0,BQ325)","v":0},{"$f":"IF(BR325=BR411,0,BR325)","v":0},{"$f":"IF(BS325=BS411,0,BS325)","v":0},{"$f":"IF(BT325=BT411,0,BT325)","v":0},{"$f":"IF(BU325=BU411,0,BU325)","v":0},{"$f":"IF(BV325=BV411,0,BV325)","v":0},{"$f":"IF(BW325=BW411,0,BW325)","v":0},{"$f":"IF(BX325=BX411,0,BX325)","v":0},{"$f":"IF(BY325=BY411,0,BY325)","v":0},{"$f":"IF(BZ325=BZ411,0,BZ325)","v":0},{"$f":"IF(CA325=CA411,0,CA325)","v":0},{"$f":"IF(CB325=CB411,0,CB325)","v":0},{"$f":"IF(CC325=CC411,0,CC325)","v":0},{"$f":"IF(CD325=CD411,0,CD325)","v":0},{"$f":"IF(CE325=CE411,0,CE325)","v":0},{"$f":"IF(CF325=CF411,0,CF325)","v":0},{"$f":"IF(CG325=CG411,0,CG325)","v":0},{"$f":"IF(CH325=CH411,0,CH325)","v":0},{"$f":"IF(CI325=CI411,0,CI325)","v":0},{"$f":"IF(CJ325=CJ411,0,CJ325)","v":0},{"$f":"IF(CK325=CK411,0,CK325)","v":0},{"$f":"IF(CL325=CL411,0,CL325)","v":0},{"$f":"IF(CM325=CM411,0,CM325)","v":0},{"$f":"IF(CN325=CN411,0,CN325)","v":0},{"$f":"IF(CO325=CO411,0,CO325)","v":0},{"$f":"IF(CP325=CP411,0,CP325)","v":0},{"$f":"IF(CQ325=CQ411,0,CQ325)","v":0},{"$f":"IF(CR325=CR411,0,CR325)","v":0},{"$f":"IF(CS325=CS411,0,CS325)","v":0},{"$f":"IF(CT325=CT411,0,CT325)","v":0},{"$f":"IF(CU325=CU411,0,CU325)","v":0},{"$f":"CI411","v":0},{"$f":"CI412","v":0},1]
[15,{"$f":"'RECOGIDA DATOS'!AG18","v":0},{"$f":"IF(B326=B411,0,B326)","v":0},{"$f":"IF(C326=C411,0,C326)","v":0},{"$f":"IF(D326=D411,0,D326)","v":0},{"$f":"IF(E326=E411,0,E326)","v":0},{"$f":"IF(F326=F411,0,F326)","v":0},{"$f":"IF(G326=G411,0,G326)","v":0},{"$f":"IF(H326=H411,0,H326)","v":0},{"$f":"IF(I326=I411,0,I326)","v":0},{"$f":"IF(J326=J411,0,J326)","v":0},{"$f":"IF(K326=K411,0,K326)","v":0},{"$f":"IF(L326=L411,0,L326)","v":0},{"$f":"IF(M326=M411,0,M326)","v":0},{"$f":"IF(N326=N411,0,N326)","v":0},{"$f":"IF(O326=O411,0,O326)","v":0},{"$f":"IF(P326=P411,0,P326)","v":0},{"$f":"IF(Q326=Q411,0,Q326)","v":0},{"$f":"IF(R326=R411,0,R326)","v":0},{"$f":"IF(S326=S411,0,S326)","v":0},{"$f":"IF(T326=T411,0,T326)","v":0},{"$f":"IF(U326=U411,0,U326)","v":0},{"$f":"IF(V326=V411,0,V326)","v":0},{"$f":"IF(W326=W411,0,W326)","v":0},{"$f":"IF(X326=X411,0,X326)","v":0},{"$f":"IF(Y326=Y411,0,Y326)","v":0},{"$f":"IF(Z326=Z411,0,Z326)","v":0},{"$f":"IF(AA326=AA411,0,AA326)","v":0},{"$f":"IF(AB326=AB411,0,AB326)","v":0},{"$f":"IF(AC326=AC411,0,AC326)","v":0},{"$f":"IF(AD326=AD411,0,AD326)","v":0},{"$f":"IF(AE326=AE411,0,AE326)","v":0},{"$f":"IF(AF326=AF411,0,AF326)","v":0},{"$f":"IF(AG326=AG411,0,AG326)","v":0},{"$f":"IF(AH326=AH411,0,AH326)","v":0},{"$f":"IF(AI326=AI411,0,AI326)","v":0},{"$f":"IF(AJ326=AJ411,0,AJ326)","v":0},{"$f":"IF(AK326=AK411,0,AK326)","v":0},{"$f":"IF(AL326=AL411,0,AL326)","v":0},{"$f":"IF(AM326=AM411,0,AM326)","v":0},{"$f":"IF(AN326=AN411,0,AN326)","v":0},{"$f":"IF(AO326=AO411,0,AO326)","v":0},{"$f":"IF(AP326=AP411,0,AP326)","v":0},{"$f":"IF(AQ326=AQ411,0,AQ326)","v":0},{"$f":"IF(AR326=AR411,0,AR326)","v":0},{"$f":"IF(AS326=AS411,0,AS326)","v":0},{"$f":"IF(AT326=AT411,0,AT326)","v":0},{"$f":"IF(AU326=AU411,0,AU326)","v":0},{"$f":"IF(AV326=AV411,0,AV326)","v":0},{"$f":"IF(AW326=AW411,0,AW326)","v":0},{"$f":"IF(AX326=AX411,0,AX326)","v":0},{"$f":"IF(AY326=AY411,0,AY326)","v":0},{"$f":"IF(AZ326=AZ411,0,AZ326)","v":0},{"$f":"IF(BA326=BA411,0,BA326)","v":0},{"$f":"IF(BB326=BB411,0,BB326)","v":0},{"$f":"IF(BC326=BC411,0,BC326)","v":0},{"$f":"IF(BD326=BD411,0,BD326)","v":0},{"$f":"IF(BE326=BE411,0,BE326)","v":0},{"$f":"IF(BF326=BF411,0,BF326)","v":0},{"$f":"IF(BG326=BG411,0,BG326)","v":0},{"$f":"IF(BH326=BH411,0,BH326)","v":0},{"$f":"IF(BI326=BI411,0,BI326)","v":0},{"$f":"IF(BJ326=BJ411,0,BJ326)","v":0},{"$f":"IF(BK326=BK411,0,BK326)","v":0},{"$f":"IF(BL326=BL411,0,BL326)","v":0},{"$f":"IF(BM326=BM411,0,BM326)","v":0},{"$f":"IF(BN326=BN411,0,BN326)","v":0},{"$f":"IF(BO326=BO411,0,BO326)","v":0},{"$f":"IF(BP326=BP411,0,BP326)","v":0},{"$f":"IF(BQ326=BQ411,0,BQ326)","v":0},{"$f":"IF(BR326=BR411,0,BR326)","v":0},{"$f":"IF(BS326=BS411,0,BS326)","v":0},{"$f":"IF(BT326=BT411,0,BT326)","v":0},{"$f":"IF(BU326=BU411,0,BU326)","v":0},{"$f":"IF(BV326=BV411,0,BV326)","v":0},{"$f":"IF(BW326=BW411,0,BW326)","v":0},{"$f":"IF(BX326=BX411,0,BX326)","v":0},{"$f":"IF(BY326=BY411,0,BY326)","v":0},{"$f":"IF(BZ326=BZ411,0,BZ326)","v":0},{"$f":"IF(CA326=CA411,0,CA326)","v":0},{"$f":"IF(CB326=CB411,0,CB326)","v":0},{"$f":"IF(CC326=CC411,0,CC326)","v":0},{"$f":"IF(CD326=CD411,0,CD326)","v":0},{"$f":"IF(CE326=CE411,0,CE326)","v":0},{"$f":"IF(CF326=CF411,0,CF326)","v":0},{"$f":"IF(CG326=CG411,0,CG326)","v":0},{"$f":"IF(CH326=CH411,0,CH326)","v":0},{"$f":"IF(CI326=CI411,0,CI326)","v":0},{"$f":"IF(CJ326=CJ411,0,CJ326)","v":0},{"$f":"IF(CK326=CK411,0,CK326)","v":0},{"$f":"IF(CL326=CL411,0,CL326)","v":0},{"$f":"IF(CM326=CM411,0,CM326)","v":0},{"$f":"IF(CN326=CN411,0,CN326)","v":0},{"$f":"IF(CO326=CO411,0,CO326)","v":0},{"$f":"IF(CP326=CP411,0,CP326)","v":0},{"$f":"IF(CQ326=CQ411,0,CQ326)","v":0},{"$f":"IF(CR326=CR411,0,CR326)","v":0},{"$f":"IF(CS326=CS411,0,CS326)","v":0},{"$f":"IF(CT326=CT411,0,CT326)","v":0},{"$f":"IF(CU326=CU411,0,CU326)","v":0},{"$f":"CH411","v":0},{"$f":"CH412","v":0},1]
[16,{"$f":"'RECOGIDA DATOS'!AG19","v":0},{"$f":"IF(B327=B411,0,B327)","v":0},{"$f":"IF(C327=C411,0,C327)","v":0},{"$f":"IF(D327=D411,0,D327)","v":0},{"$f":"IF(E327=E411,0,E327)","v":0},{"$f":"IF(F327=F411,0,F327)","v":0},{"$f":"IF(G327=G411,0,G327)","v":0},{"$f":"IF(H327=H411,0,H327)","v":0},{"$f":"IF(I327=I411,0,I327)","v":0},{"$f":"IF(J327=J411,0,J327)","v":0},{"$f":"IF(K327=K411,0,K327)","v":0},{"$f":"IF(L327=L411,0,L327)","v":0},{"$f":"IF(M327=M411,0,M327)","v":0},{"$f":"IF(N327=N411,0,N327)","v":0},{"$f":"IF(O327=O411,0,O327)","v":0},{"$f":"IF(P327=P411,0,P327)","v":0},{"$f":"IF(Q327=Q411,0,Q327)","v":0},{"$f":"IF(R327=R411,0,R327)","v":0},{"$f":"IF(S327=S411,0,S327)","v":0},{"$f":"IF(T327=T411,0,T327)","v":0},{"$f":"IF(U327=U411,0,U327)","v":0},{"$f":"IF(V327=V411,0,V327)","v":0},{"$f":"IF(W327=W411,0,W327)","v":0},{"$f":"IF(X327=X411,0,X327)","v":0},{"$f":"IF(Y327=Y411,0,Y327)","v":0},{"$f":"IF(Z327=Z411,0,Z327)","v":0},{"$f":"IF(AA327=AA411,0,AA327)","v":0},{"$f":"IF(AB327=AB411,0,AB327)","v":0},{"$f":"IF(AC327=AC411,0,AC327)","v":0},{"$f":"IF(AD327=AD411,0,AD327)","v":0},{"$f":"IF(AE327=AE411,0,AE327)","v":0},{"$f":"IF(AF327=AF411,0,AF327)","v":0},{"$f":"IF(AG327=AG411,0,AG327)","v":0},{"$f":"IF(AH327=AH411,0,AH327)","v":0},{"$f":"IF(AI327=AI411,0,AI327)","v":0},{"$f":"IF(AJ327=AJ411,0,AJ327)","v":0},{"$f":"IF(AK327=AK411,0,AK327)","v":0},{"$f":"IF(AL327=AL411,0,AL327)","v":0},{"$f":"IF(AM327=AM411,0,AM327)","v":0},{"$f":"IF(AN327=AN411,0,AN327)","v":0},{"$f":"IF(AO327=AO411,0,AO327)","v":0},{"$f":"IF(AP327=AP411,0,AP327)","v":0},{"$f":"IF(AQ327=AQ411,0,AQ327)","v":0},{"$f":"IF(AR327=AR411,0,AR327)","v":0},{"$f":"IF(AS327=AS411,0,AS327)","v":0},{"$f":"IF(AT327=AT411,0,AT327)","v":0},{"$f":"IF(AU327=AU411,0,AU327)","v":0},{"$f":"IF(AV327=AV411,0,AV327)","v":0},{"$f":"IF(AW327=AW411,0,AW327)","v":0},{"$f":"IF(AX327=AX411,0,AX327)","v":0},{"$f":"IF(AY327=AY411,0,AY327)","v":0},{"$f":"IF(AZ327=AZ411,0,AZ327)","v":0},{"$f":"IF(BA327=BA411,0,BA327)","v":0},{"$f":"IF(BB327=BB411,0,BB327)","v":0},{"$f":"IF(BC327=BC411,0,BC327)","v":0},{"$f":"IF(BD327=BD411,0,BD327)","v":0},{"$f":"IF(BE327=BE411,0,BE327)","v":0},{"$f":"IF(BF327=BF411,0,BF327)","v":0},{"$f":"IF(BG327=BG411,0,BG327)","v":0},{"$f":"IF(BH327=BH411,0,BH327)","v":0},{"$f":"IF(BI327=BI411,0,BI327)","v":0},{"$f":"IF(BJ327=BJ411,0,BJ327)","v":0},{"$f":"IF(BK327=BK411,0,BK327)","v":0},{"$f":"IF(BL327=BL411,0,BL327)","v":0},{"$f":"IF(BM327=BM411,0,BM327)","v":0},{"$f":"IF(BN327=BN411,0,BN327)","v":0},{"$f":"IF(BO327=BO411,0,BO327)","v":0},{"$f":"IF(BP327=BP411,0,BP327)","v":0},{"$f":"IF(BQ327=BQ411,0,BQ327)","v":0},{"$f":"IF(BR327=BR411,0,BR327)","v":0},{"$f":"IF(BS327=BS411,0,BS327)","v":0},{"$f":"IF(BT327=BT411,0,BT327)","v":0},{"$f":"IF(BU327=BU411,0,BU327)","v":0},{"$f":"IF(BV327=BV411,0,BV327)","v":0},{"$f":"IF(BW327=BW411,0,BW327)","v":0},{"$f":"IF(BX327=BX411,0,BX327)","v":0},{"$f":"IF(BY327=BY411,0,BY327)","v":0},{"$f":"IF(BZ327=BZ411,0,BZ327)","v":0},{"$f":"IF(CA327=CA411,0,CA327)","v":0},{"$f":"IF(CB327=CB411,0,CB327)","v":0},{"$f":"IF(CC327=CC411,0,CC327)","v":0},{"$f":"IF(CD327=CD411,0,CD327)","v":0},{"$f":"IF(CE327=CE411,0,CE327)","v":0},{"$f":"IF(CF327=CF411,0,CF327)","v":0},{"$f":"IF(CG327=CG411,0,CG327)","v":0},{"$f":"IF(CH327=CH411,0,CH327)","v":0},{"$f":"IF(CI327=CI411,0,CI327)","v":0},{"$f":"IF(CJ327=CJ411,0,CJ327)","v":0},{"$f":"IF(CK327=CK411,0,CK327)","v":0},{"$f":"IF(CL327=CL411,0,CL327)","v":0},{"$f":"IF(CM327=CM411,0,CM327)","v":0},{"$f":"IF(CN327=CN411,0,CN327)","v":0},{"$f":"IF(CO327=CO411,0,CO327)","v":0},{"$f":"IF(CP327=CP411,0,CP327)","v":0},{"$f":"IF(CQ327=CQ411,0,CQ327)","v":0},{"$f":"IF(CR327=CR411,0,CR327)","v":0},{"$f":"IF(CS327=CS411,0,CS327)","v":0},{"$f":"IF(CT327=CT411,0,CT327)","v":0},{"$f":"IF(CU327=CU411,0,CU327)","v":0},{"$f":"CG411","v":0},{"$f":"CG412","v":0},1]
[17,{"$f":"'RECOGIDA DATOS'!AG20","v":0},{"$f":"IF(B328=B411,0,B328)","v":0},{"$f":"IF(C328=C411,0,C328)","v":0},{"$f":"IF(D328=D411,0,D328)","v":0},{"$f":"IF(E328=E411,0,E328)","v":0},{"$f":"IF(F328=F411,0,F328)","v":0},{"$f":"IF(G328=G411,0,G328)","v":0},{"$f":"IF(H328=H411,0,H328)","v":0},{"$f":"IF(I328=I411,0,I328)","v":0},{"$f":"IF(J328=J411,0,J328)","v":0},{"$f":"IF(K328=K411,0,K328)","v":0},{"$f":"IF(L328=L411,0,L328)","v":0},{"$f":"IF(M328=M411,0,M328)","v":0},{"$f":"IF(N328=N411,0,N328)","v":0},{"$f":"IF(O328=O411,0,O328)","v":0},{"$f":"IF(P328=P411,0,P328)","v":0},{"$f":"IF(Q328=Q411,0,Q328)","v":0},{"$f":"IF(R328=R411,0,R328)","v":0},{"$f":"IF(S328=S411,0,S328)","v":0},{"$f":"IF(T328=T411,0,T328)","v":0},{"$f":"IF(U328=U411,0,U328)","v":0},{"$f":"IF(V328=V411,0,V328)","v":0},{"$f":"IF(W328=W411,0,W328)","v":0},{"$f":"IF(X328=X411,0,X328)","v":0},{"$f":"IF(Y328=Y411,0,Y328)","v":0},{"$f":"IF(Z328=Z411,0,Z328)","v":0},{"$f":"IF(AA328=AA411,0,AA328)","v":0},{"$f":"IF(AB328=AB411,0,AB328)","v":0},{"$f":"IF(AC328=AC411,0,AC328)","v":0},{"$f":"IF(AD328=AD411,0,AD328)","v":0},{"$f":"IF(AE328=AE411,0,AE328)","v":0},{"$f":"IF(AF328=AF411,0,AF328)","v":0},{"$f":"IF(AG328=AG411,0,AG328)","v":0},{"$f":"IF(AH328=AH411,0,AH328)","v":0},{"$f":"IF(AI328=AI411,0,AI328)","v":0},{"$f":"IF(AJ328=AJ411,0,AJ328)","v":0},{"$f":"IF(AK328=AK411,0,AK328)","v":0},{"$f":"IF(AL328=AL411,0,AL328)","v":0},{"$f":"IF(AM328=AM411,0,AM328)","v":0},{"$f":"IF(AN328=AN411,0,AN328)","v":0},{"$f":"IF(AO328=AO411,0,AO328)","v":0},{"$f":"IF(AP328=AP411,0,AP328)","v":0},{"$f":"IF(AQ328=AQ411,0,AQ328)","v":0},{"$f":"IF(AR328=AR411,0,AR328)","v":0},{"$f":"IF(AS328=AS411,0,AS328)","v":0},{"$f":"IF(AT328=AT411,0,AT328)","v":0},{"$f":"IF(AU328=AU411,0,AU328)","v":0},{"$f":"IF(AV328=AV411,0,AV328)","v":0},{"$f":"IF(AW328=AW411,0,AW328)","v":0},{"$f":"IF(AX328=AX411,0,AX328)","v":0},{"$f":"IF(AY328=AY411,0,AY328)","v":0},{"$f":"IF(AZ328=AZ411,0,AZ328)","v":0},{"$f":"IF(BA328=BA411,0,BA328)","v":0},{"$f":"IF(BB328=BB411,0,BB328)","v":0},{"$f":"IF(BC328=BC411,0,BC328)","v":0},{"$f":"IF(BD328=BD411,0,BD328)","v":0},{"$f":"IF(BE328=BE411,0,BE328)","v":0},{"$f":"IF(BF328=BF411,0,BF328)","v":0},{"$f":"IF(BG328=BG411,0,BG328)","v":0},{"$f":"IF(BH328=BH411,0,BH328)","v":0},{"$f":"IF(BI328=BI411,0,BI328)","v":0},{"$f":"IF(BJ328=BJ411,0,BJ328)","v":0},{"$f":"IF(BK328=BK411,0,BK328)","v":0},{"$f":"IF(BL328=BL411,0,BL328)","v":0},{"$f":"IF(BM328=BM411,0,BM328)","v":0},{"$f":"IF(BN328=BN411,0,BN328)","v":0},{"$f":"IF(BO328=BO411,0,BO328)","v":0},{"$f":"IF(BP328=BP411,0,BP328)","v":0},{"$f":"IF(BQ328=BQ411,0,BQ328)","v":0},{"$f":"IF(BR328=BR411,0,BR328)","v":0},{"$f":"IF(BS328=BS411,0,BS328)","v":0},{"$f":"IF(BT328=BT411,0,BT328)","v":0},{"$f":"IF(BU328=BU411,0,BU328)","v":0},{"$f":"IF(BV328=BV411,0,BV328)","v":0},{"$f":"IF(BW328=BW411,0,BW328)","v":0},{"$f":"IF(BX328=BX411,0,BX328)","v":0},{"$f":"IF(BY328=BY411,0,BY328)","v":0},{"$f":"IF(BZ328=BZ411,0,BZ328)","v":0},{"$f":"IF(CA328=CA411,0,CA328)","v":0},{"$f":"IF(CB328=CB411,0,CB328)","v":0},{"$f":"IF(CC328=CC411,0,CC328)","v":0},{"$f":"IF(CD328=CD411,0,CD328)","v":0},{"$f":"IF(CE328=CE411,0,CE328)","v":0},{"$f":"IF(CF328=CF411,0,CF328)","v":0},{"$f":"IF(CG328=CG411,0,CG328)","v":0},{"$f":"IF(CH328=CH411,0,CH328)","v":0},{"$f":"IF(CI328=CI411,0,CI328)","v":0},{"$f":"IF(CJ328=CJ411,0,CJ328)","v":0},{"$f":"IF(CK328=CK411,0,CK328)","v":0},{"$f":"IF(CL328=CL411,0,CL328)","v":0},{"$f":"IF(CM328=CM411,0,CM328)","v":0},{"$f":"IF(CN328=CN411,0,CN328)","v":0},{"$f":"IF(CO328=CO411,0,CO328)","v":0},{"$f":"IF(CP328=CP411,0,CP328)","v":0},{"$f":"IF(CQ328=CQ411,0,CQ328)","v":0},{"$f":"IF(CR328=CR411,0,CR328)","v":0},{"$f":"IF(CS328=CS411,0,CS328)","v":0},{"$f":"IF(CT328=CT411,0,CT328)","v":0},{"$f":"IF(CU328=CU411,0,CU328)","v":0},{"$f":"CF411","v":0},{"$f":"CF412","v":0},1]
[18,{"$f":"'RECOGIDA DATOS'!AG21","v":0},{"$f":"IF(B329=B411,0,B329)","v":0},{"$f":"IF(C329=C411,0,C329)","v":0},{"$f":"IF(D329=D411,0,D329)","v":0},{"$f":"IF(E329=E411,0,E329)","v":0},{"$f":"IF(F329=F411,0,F329)","v":0},{"$f":"IF(G329=G411,0,G329)","v":0},{"$f":"IF(H329=H411,0,H329)","v":0},{"$f":"IF(I329=I411,0,I329)","v":0},{"$f":"IF(J329=J411,0,J329)","v":0},{"$f":"IF(K329=K411,0,K329)","v":0},{"$f":"IF(L329=L411,0,L329)","v":0},{"$f":"IF(M329=M411,0,M329)","v":0},{"$f":"IF(N329=N411,0,N329)","v":0},{"$f":"IF(O329=O411,0,O329)","v":0},{"$f":"IF(P329=P411,0,P329)","v":0},{"$f":"IF(Q329=Q411,0,Q329)","v":0},{"$f":"IF(R329=R411,0,R329)","v":0},{"$f":"IF(S329=S411,0,S329)","v":0},{"$f":"IF(T329=T411,0,T329)","v":0},{"$f":"IF(U329=U411,0,U329)","v":0},{"$f":"IF(V329=V411,0,V329)","v":0},{"$f":"IF(W329=W411,0,W329)","v":0},{"$f":"IF(X329=X411,0,X329)","v":0},{"$f":"IF(Y329=Y411,0,Y329)","v":0},{"$f":"IF(Z329=Z411,0,Z329)","v":0},{"$f":"IF(AA329=AA411,0,AA329)","v":0},{"$f":"IF(AB329=AB411,0,AB329)","v":0},{"$f":"IF(AC329=AC411,0,AC329)","v":0},{"$f":"IF(AD329=AD411,0,AD329)","v":0},{"$f":"IF(AE329=AE411,0,AE329)","v":0},{"$f":"IF(AF329=AF411,0,AF329)","v":0},{"$f":"IF(AG329=AG411,0,AG329)","v":0},{"$f":"IF(AH329=AH411,0,AH329)","v":0},{"$f":"IF(AI329=AI411,0,AI329)","v":0},{"$f":"IF(AJ329=AJ411,0,AJ329)","v":0},{"$f":"IF(AK329=AK411,0,AK329)","v":0},{"$f":"IF(AL329=AL411,0,AL329)","v":0},{"$f":"IF(AM329=AM411,0,AM329)","v":0},{"$f":"IF(AN329=AN411,0,AN329)","v":0},{"$f":"IF(AO329=AO411,0,AO329)","v":0},{"$f":"IF(AP329=AP411,0,AP329)","v":0},{"$f":"IF(AQ329=AQ411,0,AQ329)","v":0},{"$f":"IF(AR329=AR411,0,AR329)","v":0},{"$f":"IF(AS329=AS411,0,AS329)","v":0},{"$f":"IF(AT329=AT411,0,AT329)","v":0},{"$f":"IF(AU329=AU411,0,AU329)","v":0},{"$f":"IF(AV329=AV411,0,AV329)","v":0},{"$f":"IF(AW329=AW411,0,AW329)","v":0},{"$f":"IF(AX329=AX411,0,AX329)","v":0},{"$f":"IF(AY329=AY411,0,AY329)","v":0},{"$f":"IF(AZ329=AZ411,0,AZ329)","v":0},{"$f":"IF(BA329=BA411,0,BA329)","v":0},{"$f":"IF(BB329=BB411,0,BB329)","v":0},{"$f":"IF(BC329=BC411,0,BC329)","v":0},{"$f":"IF(BD329=BD411,0,BD329)","v":0},{"$f":"IF(BE329=BE411,0,BE329)","v":0},{"$f":"IF(BF329=BF411,0,BF329)","v":0},{"$f":"IF(BG329=BG411,0,BG329)","v":0},{"$f":"IF(BH329=BH411,0,BH329)","v":0},{"$f":"IF(BI329=BI411,0,BI329)","v":0},{"$f":"IF(BJ329=BJ411,0,BJ329)","v":0},{"$f":"IF(BK329=BK411,0,BK329)","v":0},{"$f":"IF(BL329=BL411,0,BL329)","v":0},{"$f":"IF(BM329=BM411,0,BM329)","v":0},{"$f":"IF(BN329=BN411,0,BN329)","v":0},{"$f":"IF(BO329=BO411,0,BO329)","v":0},{"$f":"IF(BP329=BP411,0,BP329)","v":0},{"$f":"IF(BQ329=BQ411,0,BQ329)","v":0},{"$f":"IF(BR329=BR411,0,BR329)","v":0},{"$f":"IF(BS329=BS411,0,BS329)","v":0},{"$f":"IF(BT329=BT411,0,BT329)","v":0},{"$f":"IF(BU329=BU411,0,BU329)","v":0},{"$f":"IF(BV329=BV411,0,BV329)","v":0},{"$f":"IF(BW329=BW411,0,BW329)","v":0},{"$f":"IF(BX329=BX411,0,BX329)","v":0},{"$f":"IF(BY329=BY411,0,BY329)","v":0},{"$f":"IF(BZ329=BZ411,0,BZ329)","v":0},{"$f":"IF(CA329=CA411,0,CA329)","v":0},{"$f":"IF(CB329=CB411,0,CB329)","v":0},{"$f":"IF(CC329=CC411,0,CC329)","v":0},{"$f":"IF(CD329=CD411,0,CD329)","v":0},{"$f":"IF(CE329=CE411,0,CE329)","v":0},{"$f":"IF(CF329=CF411,0,CF329)","v":0},{"$f":"IF(CG329=CG411,0,CG329)","v":0},{"$f":"IF(CH329=CH411,0,CH329)","v":0},{"$f":"IF(CI329=CI411,0,CI329)","v":0},{"$f":"IF(CJ329=CJ411,0,CJ329)","v":0},{"$f":"IF(CK329=CK411,0,CK329)","v":0},{"$f":"IF(CL329=CL411,0,CL329)","v":0},{"$f":"IF(CM329=CM411,0,CM329)","v":0},{"$f":"IF(CN329=CN411,0,CN329)","v":0},{"$f":"IF(CO329=CO411,0,CO329)","v":0},{"$f":"IF(CP329=CP411,0,CP329)","v":0},{"$f":"IF(CQ329=CQ411,0,CQ329)","v":0},{"$f":"IF(CR329=CR411,0,CR329)","v":0},{"$f":"IF(CS329=CS411,0,CS329)","v":0},{"$f":"IF(CT329=CT411,0,CT329)","v":0},{"$f":"IF(CU329=CU411,0,CU329)","v":0},{"$f":"CE411","v":0},{"$f":"CE412","v":0},1]
[19,{"$f":"'RECOGIDA DATOS'!AG22","v":0},{"$f":"IF(B330=B411,0,B330)","v":0},{"$f":"IF(C330=C411,0,C330)","v":0},{"$f":"IF(D330=D411,0,D330)","v":0},{"$f":"IF(E330=E411,0,E330)","v":0},{"$f":"IF(F330=F411,0,F330)","v":0},{"$f":"IF(G330=G411,0,G330)","v":0},{"$f":"IF(H330=H411,0,H330)","v":0},{"$f":"IF(I330=I411,0,I330)","v":0},{"$f":"IF(J330=J411,0,J330)","v":0},{"$f":"IF(K330=K411,0,K330)","v":0},{"$f":"IF(L330=L411,0,L330)","v":0},{"$f":"IF(M330=M411,0,M330)","v":0},{"$f":"IF(N330=N411,0,N330)","v":0},{"$f":"IF(O330=O411,0,O330)","v":0},{"$f":"IF(P330=P411,0,P330)","v":0},{"$f":"IF(Q330=Q411,0,Q330)","v":0},{"$f":"IF(R330=R411,0,R330)","v":0},{"$f":"IF(S330=S411,0,S330)","v":0},{"$f":"IF(T330=T411,0,T330)","v":0},{"$f":"IF(U330=U411,0,U330)","v":0},{"$f":"IF(V330=V411,0,V330)","v":0},{"$f":"IF(W330=W411,0,W330)","v":0},{"$f":"IF(X330=X411,0,X330)","v":0},{"$f":"IF(Y330=Y411,0,Y330)","v":0},{"$f":"IF(Z330=Z411,0,Z330)","v":0},{"$f":"IF(AA330=AA411,0,AA330)","v":0},{"$f":"IF(AB330=AB411,0,AB330)","v":0},{"$f":"IF(AC330=AC411,0,AC330)","v":0},{"$f":"IF(AD330=AD411,0,AD330)","v":0},{"$f":"IF(AE330=AE411,0,AE330)","v":0},{"$f":"IF(AF330=AF411,0,AF330)","v":0},{"$f":"IF(AG330=AG411,0,AG330)","v":0},{"$f":"IF(AH330=AH411,0,AH330)","v":0},{"$f":"IF(AI330=AI411,0,AI330)","v":0},{"$f":"IF(AJ330=AJ411,0,AJ330)","v":0},{"$f":"IF(AK330=AK411,0,AK330)","v":0},{"$f":"IF(AL330=AL411,0,AL330)","v":0},{"$f":"IF(AM330=AM411,0,AM330)","v":0},{"$f":"IF(AN330=AN411,0,AN330)","v":0},{"$f":"IF(AO330=AO411,0,AO330)","v":0},{"$f":"IF(AP330=AP411,0,AP330)","v":0},{"$f":"IF(AQ330=AQ411,0,AQ330)","v":0},{"$f":"IF(AR330=AR411,0,AR330)","v":0},{"$f":"IF(AS330=AS411,0,AS330)","v":0},{"$f":"IF(AT330=AT411,0,AT330)","v":0},{"$f":"IF(AU330=AU411,0,AU330)","v":0},{"$f":"IF(AV330=AV411,0,AV330)","v":0},{"$f":"IF(AW330=AW411,0,AW330)","v":0},{"$f":"IF(AX330=AX411,0,AX330)","v":0},{"$f":"IF(AY330=AY411,0,AY330)","v":0},{"$f":"IF(AZ330=AZ411,0,AZ330)","v":0},{"$f":"IF(BA330=BA411,0,BA330)","v":0},{"$f":"IF(BB330=BB411,0,BB330)","v":0},{"$f":"IF(BC330=BC411,0,BC330)","v":0},{"$f":"IF(BD330=BD411,0,BD330)","v":0},{"$f":"IF(BE330=BE411,0,BE330)","v":0},{"$f":"IF(BF330=BF411,0,BF330)","v":0},{"$f":"IF(BG330=BG411,0,BG330)","v":0},{"$f":"IF(BH330=BH411,0,BH330)","v":0},{"$f":"IF(BI330=BI411,0,BI330)","v":0},{"$f":"IF(BJ330=BJ411,0,BJ330)","v":0},{"$f":"IF(BK330=BK411,0,BK330)","v":0},{"$f":"IF(BL330=BL411,0,BL330)","v":0},{"$f":"IF(BM330=BM411,0,BM330)","v":0},{"$f":"IF(BN330=BN411,0,BN330)","v":0},{"$f":"IF(BO330=BO411,0,BO330)","v":0},{"$f":"IF(BP330=BP411,0,BP330)","v":0},{"$f":"IF(BQ330=BQ411,0,BQ330)","v":0},{"$f":"IF(BR330=BR411,0,BR330)","v":0},{"$f":"IF(BS330=BS411,0,BS330)","v":0},{"$f":"IF(BT330=BT411,0,BT330)","v":0},{"$f":"IF(BU330=BU411,0,BU330)","v":0},{"$f":"IF(BV330=BV411,0,BV330)","v":0},{"$f":"IF(BW330=BW411,0,BW330)","v":0},{"$f":"IF(BX330=BX411,0,BX330)","v":0},{"$f":"IF(BY330=BY411,0,BY330)","v":0},{"$f":"IF(BZ330=BZ411,0,BZ330)","v":0},{"$f":"IF(CA330=CA411,0,CA330)","v":0},{"$f":"IF(CB330=CB411,0,CB330)","v":0},{"$f":"IF(CC330=CC411,0,CC330)","v":0},{"$f":"IF(CD330=CD411,0,CD330)","v":0},{"$f":"IF(CE330=CE411,0,CE330)","v":0},{"$f":"IF(CF330=CF411,0,CF330)","v":0},{"$f":"IF(CG330=CG411,0,CG330)","v":0},{"$f":"IF(CH330=CH411,0,CH330)","v":0},{"$f":"IF(CI330=CI411,0,CI330)","v":0},{"$f":"IF(CJ330=CJ411,0,CJ330)","v":0},{"$f":"IF(CK330=CK411,0,CK330)","v":0},{"$f":"IF(CL330=CL411,0,CL330)","v":0},{"$f":"IF(CM330=CM411,0,CM330)","v":0},{"$f":"IF(CN330=CN411,0,CN330)","v":0},{"$f":"IF(CO330=CO411,0,CO330)","v":0},{"$f":"IF(CP330=CP411,0,CP330)","v":0},{"$f":"IF(CQ330=CQ411,0,CQ330)","v":0},{"$f":"IF(CR330=CR411,0,CR330)","v":0},{"$f":"IF(CS330=CS411,0,CS330)","v":0},{"$f":"IF(CT330=CT411,0,CT330)","v":0},{"$f":"IF(CU330=CU411,0,CU330)","v":0},{"$f":"CD411","v":0},{"$f":"CD412","v":0},1]
[20,{"$f":"'RECOGIDA DATOS'!AG23","v":0},{"$f":"IF(B331=B411,0,B331)","v":0},{"$f":"IF(C331=C411,0,C331)","v":0},{"$f":"IF(D331=D411,0,D331)","v":0},{"$f":"IF(E331=E411,0,E331)","v":0},{"$f":"IF(F331=F411,0,F331)","v":0},{"$f":"IF(G331=G411,0,G331)","v":0},{"$f":"IF(H331=H411,0,H331)","v":0},{"$f":"IF(I331=I411,0,I331)","v":0},{"$f":"IF(J331=J411,0,J331)","v":0},{"$f":"IF(K331=K411,0,K331)","v":0},{"$f":"IF(L331=L411,0,L331)","v":0},{"$f":"IF(M331=M411,0,M331)","v":0},{"$f":"IF(N331=N411,0,N331)","v":0},{"$f":"IF(O331=O411,0,O331)","v":0},{"$f":"IF(P331=P411,0,P331)","v":0},{"$f":"IF(Q331=Q411,0,Q331)","v":0},{"$f":"IF(R331=R411,0,R331)","v":0},{"$f":"IF(S331=S411,0,S331)","v":0},{"$f":"IF(T331=T411,0,T331)","v":0},{"$f":"IF(U331=U411,0,U331)","v":0},{"$f":"IF(V331=V411,0,V331)","v":0},{"$f":"IF(W331=W411,0,W331)","v":0},{"$f":"IF(X331=X411,0,X331)","v":0},{"$f":"IF(Y331=Y411,0,Y331)","v":0},{"$f":"IF(Z331=Z411,0,Z331)","v":0},{"$f":"IF(AA331=AA411,0,AA331)","v":0},{"$f":"IF(AB331=AB411,0,AB331)","v":0},{"$f":"IF(AC331=AC411,0,AC331)","v":0},{"$f":"IF(AD331=AD411,0,AD331)","v":0},{"$f":"IF(AE331=AE411,0,AE331)","v":0},{"$f":"IF(AF331=AF411,0,AF331)","v":0},{"$f":"IF(AG331=AG411,0,AG331)","v":0},{"$f":"IF(AH331=AH411,0,AH331)","v":0},{"$f":"IF(AI331=AI411,0,AI331)","v":0},{"$f":"IF(AJ331=AJ411,0,AJ331)","v":0},{"$f":"IF(AK331=AK411,0,AK331)","v":0},{"$f":"IF(AL331=AL411,0,AL331)","v":0},{"$f":"IF(AM331=AM411,0,AM331)","v":0},{"$f":"IF(AN331=AN411,0,AN331)","v":0},{"$f":"IF(AO331=AO411,0,AO331)","v":0},{"$f":"IF(AP331=AP411,0,AP331)","v":0},{"$f":"IF(AQ331=AQ411,0,AQ331)","v":0},{"$f":"IF(AR331=AR411,0,AR331)","v":0},{"$f":"IF(AS331=AS411,0,AS331)","v":0},{"$f":"IF(AT331=AT411,0,AT331)","v":0},{"$f":"IF(AU331=AU411,0,AU331)","v":0},{"$f":"IF(AV331=AV411,0,AV331)","v":0},{"$f":"IF(AW331=AW411,0,AW331)","v":0},{"$f":"IF(AX331=AX411,0,AX331)","v":0},{"$f":"IF(AY331=AY411,0,AY331)","v":0},{"$f":"IF(AZ331=AZ411,0,AZ331)","v":0},{"$f":"IF(BA331=BA411,0,BA331)","v":0},{"$f":"IF(BB331=BB411,0,BB331)","v":0},{"$f":"IF(BC331=BC411,0,BC331)","v":0},{"$f":"IF(BD331=BD411,0,BD331)","v":0},{"$f":"IF(BE331=BE411,0,BE331)","v":0},{"$f":"IF(BF331=BF411,0,BF331)","v":0},{"$f":"IF(BG331=BG411,0,BG331)","v":0},{"$f":"IF(BH331=BH411,0,BH331)","v":0},{"$f":"IF(BI331=BI411,0,BI331)","v":0},{"$f":"IF(BJ331=BJ411,0,BJ331)","v":0},{"$f":"IF(BK331=BK411,0,BK331)","v":0},{"$f":"IF(BL331=BL411,0,BL331)","v":0},{"$f":"IF(BM331=BM411,0,BM331)","v":0},{"$f":"IF(BN331=BN411,0,BN331)","v":0},{"$f":"IF(BO331=BO411,0,BO331)","v":0},{"$f":"IF(BP331=BP411,0,BP331)","v":0},{"$f":"IF(BQ331=BQ411,0,BQ331)","v":0},{"$f":"IF(BR331=BR411,0,BR331)","v":0},{"$f":"IF(BS331=BS411,0,BS331)","v":0},{"$f":"IF(BT331=BT411,0,BT331)","v":0},{"$f":"IF(BU331=BU411,0,BU331)","v":0},{"$f":"IF(BV331=BV411,0,BV331)","v":0},{"$f":"IF(BW331=BW411,0,BW331)","v":0},{"$f":"IF(BX331=BX411,0,BX331)","v":0},{"$f":"IF(BY331=BY411,0,BY331)","v":0},{"$f":"IF(BZ331=BZ411,0,BZ331)","v":0},{"$f":"IF(CA331=CA411,0,CA331)","v":0},{"$f":"IF(CB331=CB411,0,CB331)","v":0},{"$f":"IF(CC331=CC411,0,CC331)","v":0},{"$f":"IF(CD331=CD411,0,CD331)","v":0},{"$f":"IF(CE331=CE411,0,CE331)","v":0},{"$f":"IF(CF331=CF411,0,CF331)","v":0},{"$f":"IF(CG331=CG411,0,CG331)","v":0},{"$f":"IF(CH331=CH411,0,CH331)","v":0},{"$f":"IF(CI331=CI411,0,CI331)","v":0},{"$f":"IF(CJ331=CJ411,0,CJ331)","v":0},{"$f":"IF(CK331=CK411,0,CK331)","v":0},{"$f":"IF(CL331=CL411,0,CL331)","v":0},{"$f":"IF(CM331=CM411,0,CM331)","v":0},{"$f":"IF(CN331=CN411,0,CN331)","v":0},{"$f":"IF(CO331=CO411,0,CO331)","v":0},{"$f":"IF(CP331=CP411,0,CP331)","v":0},{"$f":"IF(CQ331=CQ411,0,CQ331)","v":0},{"$f":"IF(CR331=CR411,0,CR331)","v":0},{"$f":"IF(CS331=CS411,0,CS331)","v":0},{"$f":"IF(CT331=CT411,0,CT331)","v":0},{"$f":"IF(CU331=CU411,0,CU331)","v":0},{"$f":"CC411","v":0},{"$f":"CC412","v":0},1]
[21,{"$f":"'RECOGIDA DATOS'!AG24","v":0},{"$f":"IF(B332=B411,0,B332)","v":0},{"$f":"IF(C332=C411,0,C332)","v":0},{"$f":"IF(D332=D411,0,D332)","v":0},{"$f":"IF(E332=E411,0,E332)","v":0},{"$f":"IF(F332=F411,0,F332)","v":0},{"$f":"IF(G332=G411,0,G332)","v":0},{"$f":"IF(H332=H411,0,H332)","v":0},{"$f":"IF(I332=I411,0,I332)","v":0},{"$f":"IF(J332=J411,0,J332)","v":0},{"$f":"IF(K332=K411,0,K332)","v":0},{"$f":"IF(L332=L411,0,L332)","v":0},{"$f":"IF(M332=M411,0,M332)","v":0},{"$f":"IF(N332=N411,0,N332)","v":0},{"$f":"IF(O332=O411,0,O332)","v":0},{"$f":"IF(P332=P411,0,P332)","v":0},{"$f":"IF(Q332=Q411,0,Q332)","v":0},{"$f":"IF(R332=R411,0,R332)","v":0},{"$f":"IF(S332=S411,0,S332)","v":0},{"$f":"IF(T332=T411,0,T332)","v":0},{"$f":"IF(U332=U411,0,U332)","v":0},{"$f":"IF(V332=V411,0,V332)","v":0},{"$f":"IF(W332=W411,0,W332)","v":0},{"$f":"IF(X332=X411,0,X332)","v":0},{"$f":"IF(Y332=Y411,0,Y332)","v":0},{"$f":"IF(Z332=Z411,0,Z332)","v":0},{"$f":"IF(AA332=AA411,0,AA332)","v":0},{"$f":"IF(AB332=AB411,0,AB332)","v":0},{"$f":"IF(AC332=AC411,0,AC332)","v":0},{"$f":"IF(AD332=AD411,0,AD332)","v":0},{"$f":"IF(AE332=AE411,0,AE332)","v":0},{"$f":"IF(AF332=AF411,0,AF332)","v":0},{"$f":"IF(AG332=AG411,0,AG332)","v":0},{"$f":"IF(AH332=AH411,0,AH332)","v":0},{"$f":"IF(AI332=AI411,0,AI332)","v":0},{"$f":"IF(AJ332=AJ411,0,AJ332)","v":0},{"$f":"IF(AK332=AK411,0,AK332)","v":0},{"$f":"IF(AL332=AL411,0,AL332)","v":0},{"$f":"IF(AM332=AM411,0,AM332)","v":0},{"$f":"IF(AN332=AN411,0,AN332)","v":0},{"$f":"IF(AO332=AO411,0,AO332)","v":0},{"$f":"IF(AP332=AP411,0,AP332)","v":0},{"$f":"IF(AQ332=AQ411,0,AQ332)","v":0},{"$f":"IF(AR332=AR411,0,AR332)","v":0},{"$f":"IF(AS332=AS411,0,AS332)","v":0},{"$f":"IF(AT332=AT411,0,AT332)","v":0},{"$f":"IF(AU332=AU411,0,AU332)","v":0},{"$f":"IF(AV332=AV411,0,AV332)","v":0},{"$f":"IF(AW332=AW411,0,AW332)","v":0},{"$f":"IF(AX332=AX411,0,AX332)","v":0},{"$f":"IF(AY332=AY411,0,AY332)","v":0},{"$f":"IF(AZ332=AZ411,0,AZ332)","v":0},{"$f":"IF(BA332=BA411,0,BA332)","v":0},{"$f":"IF(BB332=BB411,0,BB332)","v":0},{"$f":"IF(BC332=BC411,0,BC332)","v":0},{"$f":"IF(BD332=BD411,0,BD332)","v":0},{"$f":"IF(BE332=BE411,0,BE332)","v":0},{"$f":"IF(BF332=BF411,0,BF332)","v":0},{"$f":"IF(BG332=BG411,0,BG332)","v":0},{"$f":"IF(BH332=BH411,0,BH332)","v":0},{"$f":"IF(BI332=BI411,0,BI332)","v":0},{"$f":"IF(BJ332=BJ411,0,BJ332)","v":0},{"$f":"IF(BK332=BK411,0,BK332)","v":0},{"$f":"IF(BL332=BL411,0,BL332)","v":0},{"$f":"IF(BM332=BM411,0,BM332)","v":0},{"$f":"IF(BN332=BN411,0,BN332)","v":0},{"$f":"IF(BO332=BO411,0,BO332)","v":0},{"$f":"IF(BP332=BP411,0,BP332)","v":0},{"$f":"IF(BQ332=BQ411,0,BQ332)","v":0},{"$f":"IF(BR332=BR411,0,BR332)","v":0},{"$f":"IF(BS332=BS411,0,BS332)","v":0},{"$f":"IF(BT332=BT411,0,BT332)","v":0},{"$f":"IF(BU332=BU411,0,BU332)","v":0},{"$f":"IF(BV332=BV411,0,BV332)","v":0},{"$f":"IF(BW332=BW411,0,BW332)","v":0},{"$f":"IF(BX332=BX411,0,BX332)","v":0},{"$f":"IF(BY332=BY411,0,BY332)","v":0},{"$f":"IF(BZ332=BZ411,0,BZ332)","v":0},{"$f":"IF(CA332=CA411,0,CA332)","v":0},{"$f":"IF(CB332=CB411,0,CB332)","v":0},{"$f":"IF(CC332=CC411,0,CC332)","v":0},{"$f":"IF(CD332=CD411,0,CD332)","v":0},{"$f":"IF(CE332=CE411,0,CE332)","v":0},{"$f":"IF(CF332=CF411,0,CF332)","v":0},{"$f":"IF(CG332=CG411,0,CG332)","v":0},{"$f":"IF(CH332=CH411,0,CH332)","v":0},{"$f":"IF(CI332=CI411,0,CI332)","v":0},{"$f":"IF(CJ332=CJ411,0,CJ332)","v":0},{"$f":"IF(CK332=CK411,0,CK332)","v":0},{"$f":"IF(CL332=CL411,0,CL332)","v":0},{"$f":"IF(CM332=CM411,0,CM332)","v":0},{"$f":"IF(CN332=CN411,0,CN332)","v":0},{"$f":"IF(CO332=CO411,0,CO332)","v":0},{"$f":"IF(CP332=CP411,0,CP332)","v":0},{"$f":"IF(CQ332=CQ411,0,CQ332)","v":0},{"$f":"IF(CR332=CR411,0,CR332)","v":0},{"$f":"IF(CS332=CS411,0,CS332)","v":0},{"$f":"IF(CT332=CT411,0,CT332)","v":0},{"$f":"IF(CU332=CU411,0,CU332)","v":0},{"$f":"CB411","v":0},{"$f":"CB412","v":0},1]
[22,{"$f":"'RECOGIDA DATOS'!AG25","v":0},{"$f":"IF(B333=B411,0,B333)","v":0},{"$f":"IF(C333=C411,0,C333)","v":0},{"$f":"IF(D333=D411,0,D333)","v":0},{"$f":"IF(E333=E411,0,E333)","v":0},{"$f":"IF(F333=F411,0,F333)","v":0},{"$f":"IF(G333=G411,0,G333)","v":0},{"$f":"IF(H333=H411,0,H333)","v":0},{"$f":"IF(I333=I411,0,I333)","v":0},{"$f":"IF(J333=J411,0,J333)","v":0},{"$f":"IF(K333=K411,0,K333)","v":0},{"$f":"IF(L333=L411,0,L333)","v":0},{"$f":"IF(M333=M411,0,M333)","v":0},{"$f":"IF(N333=N411,0,N333)","v":0},{"$f":"IF(O333=O411,0,O333)","v":0},{"$f":"IF(P333=P411,0,P333)","v":0},{"$f":"IF(Q333=Q411,0,Q333)","v":0},{"$f":"IF(R333=R411,0,R333)","v":0},{"$f":"IF(S333=S411,0,S333)","v":0},{"$f":"IF(T333=T411,0,T333)","v":0},{"$f":"IF(U333=U411,0,U333)","v":0},{"$f":"IF(V333=V411,0,V333)","v":0},{"$f":"IF(W333=W411,0,W333)","v":0},{"$f":"IF(X333=X411,0,X333)","v":0},{"$f":"IF(Y333=Y411,0,Y333)","v":0},{"$f":"IF(Z333=Z411,0,Z333)","v":0},{"$f":"IF(AA333=AA411,0,AA333)","v":0},{"$f":"IF(AB333=AB411,0,AB333)","v":0},{"$f":"IF(AC333=AC411,0,AC333)","v":0},{"$f":"IF(AD333=AD411,0,AD333)","v":0},{"$f":"IF(AE333=AE411,0,AE333)","v":0},{"$f":"IF(AF333=AF411,0,AF333)","v":0},{"$f":"IF(AG333=AG411,0,AG333)","v":0},{"$f":"IF(AH333=AH411,0,AH333)","v":0},{"$f":"IF(AI333=AI411,0,AI333)","v":0},{"$f":"IF(AJ333=AJ411,0,AJ333)","v":0},{"$f":"IF(AK333=AK411,0,AK333)","v":0},{"$f":"IF(AL333=AL411,0,AL333)","v":0},{"$f":"IF(AM333=AM411,0,AM333)","v":0},{"$f":"IF(AN333=AN411,0,AN333)","v":0},{"$f":"IF(AO333=AO411,0,AO333)","v":0},{"$f":"IF(AP333=AP411,0,AP333)","v":0},{"$f":"IF(AQ333=AQ411,0,AQ333)","v":0},{"$f":"IF(AR333=AR411,0,AR333)","v":0},{"$f":"IF(AS333=AS411,0,AS333)","v":0},{"$f":"IF(AT333=AT411,0,AT333)","v":0},{"$f":"IF(AU333=AU411,0,AU333)","v":0},{"$f":"IF(AV333=AV411,0,AV333)","v":0},{"$f":"IF(AW333=AW411,0,AW333)","v":0},{"$f":"IF(AX333=AX411,0,AX333)","v":0},{"$f":"IF(AY333=AY411,0,AY333)","v":0},{"$f":"IF(AZ333=AZ411,0,AZ333)","v":0},{"$f":"IF(BA333=BA411,0,BA333)","v":0},{"$f":"IF(BB333=BB411,0,BB333)","v":0},{"$f":"IF(BC333=BC411,0,BC333)","v":0},{"$f":"IF(BD333=BD411,0,BD333)","v":0},{"$f":"IF(BE333=BE411,0,BE333)","v":0},{"$f":"IF(BF333=BF411,0,BF333)","v":0},{"$f":"IF(BG333=BG411,0,BG333)","v":0},{"$f":"IF(BH333=BH411,0,BH333)","v":0},{"$f":"IF(BI333=BI411,0,BI333)","v":0},{"$f":"IF(BJ333=BJ411,0,BJ333)","v":0},{"$f":"IF(BK333=BK411,0,BK333)","v":0},{"$f":"IF(BL333=BL411,0,BL333)","v":0},{"$f":"IF(BM333=BM411,0,BM333)","v":0},{"$f":"IF(BN333=BN411,0,BN333)","v":0},{"$f":"IF(BO333=BO411,0,BO333)","v":0},{"$f":"IF(BP333=BP411,0,BP333)","v":0},{"$f":"IF(BQ333=BQ411,0,BQ333)","v":0},{"$f":"IF(BR333=BR411,0,BR333)","v":0},{"$f":"IF(BS333=BS411,0,BS333)","v":0},{"$f":"IF(BT333=BT411,0,BT333)","v":0},{"$f":"IF(BU333=BU411,0,BU333)","v":0},{"$f":"IF(BV333=BV411,0,BV333)","v":0},{"$f":"IF(BW333=BW411,0,BW333)","v":0},{"$f":"IF(BX333=BX411,0,BX333)","v":0},{"$f":"IF(BY333=BY411,0,BY333)","v":0},{"$f":"IF(BZ333=BZ411,0,BZ333)","v":0},{"$f":"IF(CA333=CA411,0,CA333)","v":0},{"$f":"IF(CB333=CB411,0,CB333)","v":0},{"$f":"IF(CC333=CC411,0,CC333)","v":0},{"$f":"IF(CD333=CD411,0,CD333)","v":0},{"$f":"IF(CE333=CE411,0,CE333)","v":0},{"$f":"IF(CF333=CF411,0,CF333)","v":0},{"$f":"IF(CG333=CG411,0,CG333)","v":0},{"$f":"IF(CH333=CH411,0,CH333)","v":0},{"$f":"IF(CI333=CI411,0,CI333)","v":0},{"$f":"IF(CJ333=CJ411,0,CJ333)","v":0},{"$f":"IF(CK333=CK411,0,CK333)","v":0},{"$f":"IF(CL333=CL411,0,CL333)","v":0},{"$f":"IF(CM333=CM411,0,CM333)","v":0},{"$f":"IF(CN333=CN411,0,CN333)","v":0},{"$f":"IF(CO333=CO411,0,CO333)","v":0},{"$f":"IF(CP333=CP411,0,CP333)","v":0},{"$f":"IF(CQ333=CQ411,0,CQ333)","v":0},{"$f":"IF(CR333=CR411,0,CR333)","v":0},{"$f":"IF(CS333=CS411,0,CS333)","v":0},{"$f":"IF(CT333=CT411,0,CT333)","v":0},{"$f":"IF(CU333=CU411,0,CU333)","v":0},{"$f":"CA411","v":0},{"$f":"CA412","v":0},1]
[23,{"$f":"'RECOGIDA DATOS'!AG26","v":0},{"$f":"IF(B334=B411,0,B334)","v":0},{"$f":"IF(C334=C411,0,C334)","v":0},{"$f":"IF(D334=D411,0,D334)","v":0},{"$f":"IF(E334=E411,0,E334)","v":0},{"$f":"IF(F334=F411,0,F334)","v":0},{"$f":"IF(G334=G411,0,G334)","v":0},{"$f":"IF(H334=H411,0,H334)","v":0},{"$f":"IF(I334=I411,0,I334)","v":0},{"$f":"IF(J334=J411,0,J334)","v":0},{"$f":"IF(K334=K411,0,K334)","v":0},{"$f":"IF(L334=L411,0,L334)","v":0},{"$f":"IF(M334=M411,0,M334)","v":0},{"$f":"IF(N334=N411,0,N334)","v":0},{"$f":"IF(O334=O411,0,O334)","v":0},{"$f":"IF(P334=P411,0,P334)","v":0},{"$f":"IF(Q334=Q411,0,Q334)","v":0},{"$f":"IF(R334=R411,0,R334)","v":0},{"$f":"IF(S334=S411,0,S334)","v":0},{"$f":"IF(T334=T411,0,T334)","v":0},{"$f":"IF(U334=U411,0,U334)","v":0},{"$f":"IF(V334=V411,0,V334)","v":0},{"$f":"IF(W334=W411,0,W334)","v":0},{"$f":"IF(X334=X411,0,X334)","v":0},{"$f":"IF(Y334=Y411,0,Y334)","v":0},{"$f":"IF(Z334=Z411,0,Z334)","v":0},{"$f":"IF(AA334=AA411,0,AA334)","v":0},{"$f":"IF(AB334=AB411,0,AB334)","v":0},{"$f":"IF(AC334=AC411,0,AC334)","v":0},{"$f":"IF(AD334=AD411,0,AD334)","v":0},{"$f":"IF(AE334=AE411,0,AE334)","v":0},{"$f":"IF(AF334=AF411,0,AF334)","v":0},{"$f":"IF(AG334=AG411,0,AG334)","v":0},{"$f":"IF(AH334=AH411,0,AH334)","v":0},{"$f":"IF(AI334=AI411,0,AI334)","v":0},{"$f":"IF(AJ334=AJ411,0,AJ334)","v":0},{"$f":"IF(AK334=AK411,0,AK334)","v":0},{"$f":"IF(AL334=AL411,0,AL334)","v":0},{"$f":"IF(AM334=AM411,0,AM334)","v":0},{"$f":"IF(AN334=AN411,0,AN334)","v":0},{"$f":"IF(AO334=AO411,0,AO334)","v":0},{"$f":"IF(AP334=AP411,0,AP334)","v":0},{"$f":"IF(AQ334=AQ411,0,AQ334)","v":0},{"$f":"IF(AR334=AR411,0,AR334)","v":0},{"$f":"IF(AS334=AS411,0,AS334)","v":0},{"$f":"IF(AT334=AT411,0,AT334)","v":0},{"$f":"IF(AU334=AU411,0,AU334)","v":0},{"$f":"IF(AV334=AV411,0,AV334)","v":0},{"$f":"IF(AW334=AW411,0,AW334)","v":0},{"$f":"IF(AX334=AX411,0,AX334)","v":0},{"$f":"IF(AY334=AY411,0,AY334)","v":0},{"$f":"IF(AZ334=AZ411,0,AZ334)","v":0},{"$f":"IF(BA334=BA411,0,BA334)","v":0},{"$f":"IF(BB334=BB411,0,BB334)","v":0},{"$f":"IF(BC334=BC411,0,BC334)","v":0},{"$f":"IF(BD334=BD411,0,BD334)","v":0},{"$f":"IF(BE334=BE411,0,BE334)","v":0},{"$f":"IF(BF334=BF411,0,BF334)","v":0},{"$f":"IF(BG334=BG411,0,BG334)","v":0},{"$f":"IF(BH334=BH411,0,BH334)","v":0},{"$f":"IF(BI334=BI411,0,BI334)","v":0},{"$f":"IF(BJ334=BJ411,0,BJ334)","v":0},{"$f":"IF(BK334=BK411,0,BK334)","v":0},{"$f":"IF(BL334=BL411,0,BL334)","v":0},{"$f":"IF(BM334=BM411,0,BM334)","v":0},{"$f":"IF(BN334=BN411,0,BN334)","v":0},{"$f":"IF(BO334=BO411,0,BO334)","v":0},{"$f":"IF(BP334=BP411,0,BP334)","v":0},{"$f":"IF(BQ334=BQ411,0,BQ334)","v":0},{"$f":"IF(BR334=BR411,0,BR334)","v":0},{"$f":"IF(BS334=BS411,0,BS334)","v":0},{"$f":"IF(BT334=BT411,0,BT334)","v":0},{"$f":"IF(BU334=BU411,0,BU334)","v":0},{"$f":"IF(BV334=BV411,0,BV334)","v":0},{"$f":"IF(BW334=BW411,0,BW334)","v":0},{"$f":"IF(BX334=BX411,0,BX334)","v":0},{"$f":"IF(BY334=BY411,0,BY334)","v":0},{"$f":"IF(BZ334=BZ411,0,BZ334)","v":0},{"$f":"IF(CA334=CA411,0,CA334)","v":0},{"$f":"IF(CB334=CB411,0,CB334)","v":0},{"$f":"IF(CC334=CC411,0,CC334)","v":0},{"$f":"IF(CD334=CD411,0,CD334)","v":0},{"$f":"IF(CE334=CE411,0,CE334)","v":0},{"$f":"IF(CF334=CF411,0,CF334)","v":0},{"$f":"IF(CG334=CG411,0,CG334)","v":0},{"$f":"IF(CH334=CH411,0,CH334)","v":0},{"$f":"IF(CI334=CI411,0,CI334)","v":0},{"$f":"IF(CJ334=CJ411,0,CJ334)","v":0},{"$f":"IF(CK334=CK411,0,CK334)","v":0},{"$f":"IF(CL334=CL411,0,CL334)","v":0},{"$f":"IF(CM334=CM411,0,CM334)","v":0},{"$f":"IF(CN334=CN411,0,CN334)","v":0},{"$f":"IF(CO334=CO411,0,CO334)","v":0},{"$f":"IF(CP334=CP411,0,CP334)","v":0},{"$f":"IF(CQ334=CQ411,0,CQ334)","v":0},{"$f":"IF(CR334=CR411,0,CR334)","v":0},{"$f":"IF(CS334=CS411,0,CS334)","v":0},{"$f":"IF(CT334=CT411,0,CT334)","v":0},{"$f":"IF(CU334=CU411,0,CU334)","v":0},{"$f":"BZ411","v":0},{"$f":"BZ412","v":0},1]
[24,{"$f":"'RECOGIDA DATOS'!AG27","v":0},{"$f":"IF(B335=B411,0,B335)","v":0},{"$f":"IF(C335=C411,0,C335)","v":0},{"$f":"IF(D335=D411,0,D335)","v":0},{"$f":"IF(E335=E411,0,E335)","v":0},{"$f":"IF(F335=F411,0,F335)","v":0},{"$f":"IF(G335=G411,0,G335)","v":0},{"$f":"IF(H335=H411,0,H335)","v":0},{"$f":"IF(I335=I411,0,I335)","v":0},{"$f":"IF(J335=J411,0,J335)","v":0},{"$f":"IF(K335=K411,0,K335)","v":0},{"$f":"IF(L335=L411,0,L335)","v":0},{"$f":"IF(M335=M411,0,M335)","v":0},{"$f":"IF(N335=N411,0,N335)","v":0},{"$f":"IF(O335=O411,0,O335)","v":0},{"$f":"IF(P335=P411,0,P335)","v":0},{"$f":"IF(Q335=Q411,0,Q335)","v":0},{"$f":"IF(R335=R411,0,R335)","v":0},{"$f":"IF(S335=S411,0,S335)","v":0},{"$f":"IF(T335=T411,0,T335)","v":0},{"$f":"IF(U335=U411,0,U335)","v":0},{"$f":"IF(V335=V411,0,V335)","v":0},{"$f":"IF(W335=W411,0,W335)","v":0},{"$f":"IF(X335=X411,0,X335)","v":0},{"$f":"IF(Y335=Y411,0,Y335)","v":0},{"$f":"IF(Z335=Z411,0,Z335)","v":0},{"$f":"IF(AA335=AA411,0,AA335)","v":0},{"$f":"IF(AB335=AB411,0,AB335)","v":0},{"$f":"IF(AC335=AC411,0,AC335)","v":0},{"$f":"IF(AD335=AD411,0,AD335)","v":0},{"$f":"IF(AE335=AE411,0,AE335)","v":0},{"$f":"IF(AF335=AF411,0,AF335)","v":0},{"$f":"IF(AG335=AG411,0,AG335)","v":0},{"$f":"IF(AH335=AH411,0,AH335)","v":0},{"$f":"IF(AI335=AI411,0,AI335)","v":0},{"$f":"IF(AJ335=AJ411,0,AJ335)","v":0},{"$f":"IF(AK335=AK411,0,AK335)","v":0},{"$f":"IF(AL335=AL411,0,AL335)","v":0},{"$f":"IF(AM335=AM411,0,AM335)","v":0},{"$f":"IF(AN335=AN411,0,AN335)","v":0},{"$f":"IF(AO335=AO411,0,AO335)","v":0},{"$f":"IF(AP335=AP411,0,AP335)","v":0},{"$f":"IF(AQ335=AQ411,0,AQ335)","v":0},{"$f":"IF(AR335=AR411,0,AR335)","v":0},{"$f":"IF(AS335=AS411,0,AS335)","v":0},{"$f":"IF(AT335=AT411,0,AT335)","v":0},{"$f":"IF(AU335=AU411,0,AU335)","v":0},{"$f":"IF(AV335=AV411,0,AV335)","v":0},{"$f":"IF(AW335=AW411,0,AW335)","v":0},{"$f":"IF(AX335=AX411,0,AX335)","v":0},{"$f":"IF(AY335=AY411,0,AY335)","v":0},{"$f":"IF(AZ335=AZ411,0,AZ335)","v":0},{"$f":"IF(BA335=BA411,0,BA335)","v":0},{"$f":"IF(BB335=BB411,0,BB335)","v":0},{"$f":"IF(BC335=BC411,0,BC335)","v":0},{"$f":"IF(BD335=BD411,0,BD335)","v":0},{"$f":"IF(BE335=BE411,0,BE335)","v":0},{"$f":"IF(BF335=BF411,0,BF335)","v":0},{"$f":"IF(BG335=BG411,0,BG335)","v":0},{"$f":"IF(BH335=BH411,0,BH335)","v":0},{"$f":"IF(BI335=BI411,0,BI335)","v":0},{"$f":"IF(BJ335=BJ411,0,BJ335)","v":0},{"$f":"IF(BK335=BK411,0,BK335)","v":0},{"$f":"IF(BL335=BL411,0,BL335)","v":0},{"$f":"IF(BM335=BM411,0,BM335)","v":0},{"$f":"IF(BN335=BN411,0,BN335)","v":0},{"$f":"IF(BO335=BO411,0,BO335)","v":0},{"$f":"IF(BP335=BP411,0,BP335)","v":0},{"$f":"IF(BQ335=BQ411,0,BQ335)","v":0},{"$f":"IF(BR335=BR411,0,BR335)","v":0},{"$f":"IF(BS335=BS411,0,BS335)","v":0},{"$f":"IF(BT335=BT411,0,BT335)","v":0},{"$f":"IF(BU335=BU411,0,BU335)","v":0},{"$f":"IF(BV335=BV411,0,BV335)","v":0},{"$f":"IF(BW335=BW411,0,BW335)","v":0},{"$f":"IF(BX335=BX411,0,BX335)","v":0},{"$f":"IF(BY335=BY411,0,BY335)","v":0},{"$f":"IF(BZ335=BZ411,0,BZ335)","v":0},{"$f":"IF(CA335=CA411,0,CA335)","v":0},{"$f":"IF(CB335=CB411,0,CB335)","v":0},{"$f":"IF(CC335=CC411,0,CC335)","v":0},{"$f":"IF(CD335=CD411,0,CD335)","v":0},{"$f":"IF(CE335=CE411,0,CE335)","v":0},{"$f":"IF(CF335=CF411,0,CF335)","v":0},{"$f":"IF(CG335=CG411,0,CG335)","v":0},{"$f":"IF(CH335=CH411,0,CH335)","v":0},{"$f":"IF(CI335=CI411,0,CI335)","v":0},{"$f":"IF(CJ335=CJ411,0,CJ335)","v":0},{"$f":"IF(CK335=CK411,0,CK335)","v":0},{"$f":"IF(CL335=CL411,0,CL335)","v":0},{"$f":"IF(CM335=CM411,0,CM335)","v":0},{"$f":"IF(CN335=CN411,0,CN335)","v":0},{"$f":"IF(CO335=CO411,0,CO335)","v":0},{"$f":"IF(CP335=CP411,0,CP335)","v":0},{"$f":"IF(CQ335=CQ411,0,CQ335)","v":0},{"$f":"IF(CR335=CR411,0,CR335)","v":0},{"$f":"IF(CS335=CS411,0,CS335)","v":0},{"$f":"IF(CT335=CT411,0,CT335)","v":0},{"$f":"IF(CU335=CU411,0,CU335)","v":0},{"$f":"BY411","v":0},{"$f":"BY412","v":0},1]
[25,{"$f":"'RECOGIDA DATOS'!AG28","v":0},{"$f":"IF(B336=B411,0,B336)","v":0},{"$f":"IF(C336=C411,0,C336)","v":0},{"$f":"IF(D336=D411,0,D336)","v":0},{"$f":"IF(E336=E411,0,E336)","v":0},{"$f":"IF(F336=F411,0,F336)","v":0},{"$f":"IF(G336=G411,0,G336)","v":0},{"$f":"IF(H336=H411,0,H336)","v":0},{"$f":"IF(I336=I411,0,I336)","v":0},{"$f":"IF(J336=J411,0,J336)","v":0},{"$f":"IF(K336=K411,0,K336)","v":0},{"$f":"IF(L336=L411,0,L336)","v":0},{"$f":"IF(M336=M411,0,M336)","v":0},{"$f":"IF(N336=N411,0,N336)","v":0},{"$f":"IF(O336=O411,0,O336)","v":0},{"$f":"IF(P336=P411,0,P336)","v":0},{"$f":"IF(Q336=Q411,0,Q336)","v":0},{"$f":"IF(R336=R411,0,R336)","v":0},{"$f":"IF(S336=S411,0,S336)","v":0},{"$f":"IF(T336=T411,0,T336)","v":0},{"$f":"IF(U336=U411,0,U336)","v":0},{"$f":"IF(V336=V411,0,V336)","v":0},{"$f":"IF(W336=W411,0,W336)","v":0},{"$f":"IF(X336=X411,0,X336)","v":0},{"$f":"IF(Y336=Y411,0,Y336)","v":0},{"$f":"IF(Z336=Z411,0,Z336)","v":0},{"$f":"IF(AA336=AA411,0,AA336)","v":0},{"$f":"IF(AB336=AB411,0,AB336)","v":0},{"$f":"IF(AC336=AC411,0,AC336)","v":0},{"$f":"IF(AD336=AD411,0,AD336)","v":0},{"$f":"IF(AE336=AE411,0,AE336)","v":0},{"$f":"IF(AF336=AF411,0,AF336)","v":0},{"$f":"IF(AG336=AG411,0,AG336)","v":0},{"$f":"IF(AH336=AH411,0,AH336)","v":0},{"$f":"IF(AI336=AI411,0,AI336)","v":0},{"$f":"IF(AJ336=AJ411,0,AJ336)","v":0},{"$f":"IF(AK336=AK411,0,AK336)","v":0},{"$f":"IF(AL336=AL411,0,AL336)","v":0},{"$f":"IF(AM336=AM411,0,AM336)","v":0},{"$f":"IF(AN336=AN411,0,AN336)","v":0},{"$f":"IF(AO336=AO411,0,AO336)","v":0},{"$f":"IF(AP336=AP411,0,AP336)","v":0},{"$f":"IF(AQ336=AQ411,0,AQ336)","v":0},{"$f":"IF(AR336=AR411,0,AR336)","v":0},{"$f":"IF(AS336=AS411,0,AS336)","v":0},{"$f":"IF(AT336=AT411,0,AT336)","v":0},{"$f":"IF(AU336=AU411,0,AU336)","v":0},{"$f":"IF(AV336=AV411,0,AV336)","v":0},{"$f":"IF(AW336=AW411,0,AW336)","v":0},{"$f":"IF(AX336=AX411,0,AX336)","v":0},{"$f":"IF(AY336=AY411,0,AY336)","v":0},{"$f":"IF(AZ336=AZ411,0,AZ336)","v":0},{"$f":"IF(BA336=BA411,0,BA336)","v":0},{"$f":"IF(BB336=BB411,0,BB336)","v":0},{"$f":"IF(BC336=BC411,0,BC336)","v":0},{"$f":"IF(BD336=BD411,0,BD336)","v":0},{"$f":"IF(BE336=BE411,0,BE336)","v":0},{"$f":"IF(BF336=BF411,0,BF336)","v":0},{"$f":"IF(BG336=BG411,0,BG336)","v":0},{"$f":"IF(BH336=BH411,0,BH336)","v":0},{"$f":"IF(BI336=BI411,0,BI336)","v":0},{"$f":"IF(BJ336=BJ411,0,BJ336)","v":0},{"$f":"IF(BK336=BK411,0,BK336)","v":0},{"$f":"IF(BL336=BL411,0,BL336)","v":0},{"$f":"IF(BM336=BM411,0,BM336)","v":0},{"$f":"IF(BN336=BN411,0,BN336)","v":0},{"$f":"IF(BO336=BO411,0,BO336)","v":0},{"$f":"IF(BP336=BP411,0,BP336)","v":0},{"$f":"IF(BQ336=BQ411,0,BQ336)","v":0},{"$f":"IF(BR336=BR411,0,BR336)","v":0},{"$f":"IF(BS336=BS411,0,BS336)","v":0},{"$f":"IF(BT336=BT411,0,BT336)","v":0},{"$f":"IF(BU336=BU411,0,BU336)","v":0},{"$f":"IF(BV336=BV411,0,BV336)","v":0},{"$f":"IF(BW336=BW411,0,BW336)","v":0},{"$f":"IF(BX336=BX411,0,BX336)","v":0},{"$f":"IF(BY336=BY411,0,BY336)","v":0},{"$f":"IF(BZ336=BZ411,0,BZ336)","v":0},{"$f":"IF(CA336=CA411,0,CA336)","v":0},{"$f":"IF(CB336=CB411,0,CB336)","v":0},{"$f":"IF(CC336=CC411,0,CC336)","v":0},{"$f":"IF(CD336=CD411,0,CD336)","v":0},{"$f":"IF(CE336=CE411,0,CE336)","v":0},{"$f":"IF(CF336=CF411,0,CF336)","v":0},{"$f":"IF(CG336=CG411,0,CG336)","v":0},{"$f":"IF(CH336=CH411,0,CH336)","v":0},{"$f":"IF(CI336=CI411,0,CI336)","v":0},{"$f":"IF(CJ336=CJ411,0,CJ336)","v":0},{"$f":"IF(CK336=CK411,0,CK336)","v":0},{"$f":"IF(CL336=CL411,0,CL336)","v":0},{"$f":"IF(CM336=CM411,0,CM336)","v":0},{"$f":"IF(CN336=CN411,0,CN336)","v":0},{"$f":"IF(CO336=CO411,0,CO336)","v":0},{"$f":"IF(CP336=CP411,0,CP336)","v":0},{"$f":"IF(CQ336=CQ411,0,CQ336)","v":0},{"$f":"IF(CR336=CR411,0,CR336)","v":0},{"$f":"IF(CS336=CS411,0,CS336)","v":0},{"$f":"IF(CT336=CT411,0,CT336)","v":0},{"$f":"IF(CU336=CU411,0,CU336)","v":0},{"$f":"BX411","v":0},{"$f":"BX412","v":0},1]
[26,{"$f":"'RECOGIDA DATOS'!AG29","v":0},{"$f":"IF(B337=B411,0,B337)","v":0},{"$f":"IF(C337=C411,0,C337)","v":0},{"$f":"IF(D337=D411,0,D337)","v":0},{"$f":"IF(E337=E411,0,E337)","v":0},{"$f":"IF(F337=F411,0,F337)","v":0},{"$f":"IF(G337=G411,0,G337)","v":0},{"$f":"IF(H337=H411,0,H337)","v":0},{"$f":"IF(I337=I411,0,I337)","v":0},{"$f":"IF(J337=J411,0,J337)","v":0},{"$f":"IF(K337=K411,0,K337)","v":0},{"$f":"IF(L337=L411,0,L337)","v":0},{"$f":"IF(M337=M411,0,M337)","v":0},{"$f":"IF(N337=N411,0,N337)","v":0},{"$f":"IF(O337=O411,0,O337)","v":0},{"$f":"IF(P337=P411,0,P337)","v":0},{"$f":"IF(Q337=Q411,0,Q337)","v":0},{"$f":"IF(R337=R411,0,R337)","v":0},{"$f":"IF(S337=S411,0,S337)","v":0},{"$f":"IF(T337=T411,0,T337)","v":0},{"$f":"IF(U337=U411,0,U337)","v":0},{"$f":"IF(V337=V411,0,V337)","v":0},{"$f":"IF(W337=W411,0,W337)","v":0},{"$f":"IF(X337=X411,0,X337)","v":0},{"$f":"IF(Y337=Y411,0,Y337)","v":0},{"$f":"IF(Z337=Z411,0,Z337)","v":0},{"$f":"IF(AA337=AA411,0,AA337)","v":0},{"$f":"IF(AB337=AB411,0,AB337)","v":0},{"$f":"IF(AC337=AC411,0,AC337)","v":0},{"$f":"IF(AD337=AD411,0,AD337)","v":0},{"$f":"IF(AE337=AE411,0,AE337)","v":0},{"$f":"IF(AF337=AF411,0,AF337)","v":0},{"$f":"IF(AG337=AG411,0,AG337)","v":0},{"$f":"IF(AH337=AH411,0,AH337)","v":0},{"$f":"IF(AI337=AI411,0,AI337)","v":0},{"$f":"IF(AJ337=AJ411,0,AJ337)","v":0},{"$f":"IF(AK337=AK411,0,AK337)","v":0},{"$f":"IF(AL337=AL411,0,AL337)","v":0},{"$f":"IF(AM337=AM411,0,AM337)","v":0},{"$f":"IF(AN337=AN411,0,AN337)","v":0},{"$f":"IF(AO337=AO411,0,AO337)","v":0},{"$f":"IF(AP337=AP411,0,AP337)","v":0},{"$f":"IF(AQ337=AQ411,0,AQ337)","v":0},{"$f":"IF(AR337=AR411,0,AR337)","v":0},{"$f":"IF(AS337=AS411,0,AS337)","v":0},{"$f":"IF(AT337=AT411,0,AT337)","v":0},{"$f":"IF(AU337=AU411,0,AU337)","v":0},{"$f":"IF(AV337=AV411,0,AV337)","v":0},{"$f":"IF(AW337=AW411,0,AW337)","v":0},{"$f":"IF(AX337=AX411,0,AX337)","v":0},{"$f":"IF(AY337=AY411,0,AY337)","v":0},{"$f":"IF(AZ337=AZ411,0,AZ337)","v":0},{"$f":"IF(BA337=BA411,0,BA337)","v":0},{"$f":"IF(BB337=BB411,0,BB337)","v":0},{"$f":"IF(BC337=BC411,0,BC337)","v":0},{"$f":"IF(BD337=BD411,0,BD337)","v":0},{"$f":"IF(BE337=BE411,0,BE337)","v":0},{"$f":"IF(BF337=BF411,0,BF337)","v":0},{"$f":"IF(BG337=BG411,0,BG337)","v":0},{"$f":"IF(BH337=BH411,0,BH337)","v":0},{"$f":"IF(BI337=BI411,0,BI337)","v":0},{"$f":"IF(BJ337=BJ411,0,BJ337)","v":0},{"$f":"IF(BK337=BK411,0,BK337)","v":0},{"$f":"IF(BL337=BL411,0,BL337)","v":0},{"$f":"IF(BM337=BM411,0,BM337)","v":0},{"$f":"IF(BN337=BN411,0,BN337)","v":0},{"$f":"IF(BO337=BO411,0,BO337)","v":0},{"$f":"IF(BP337=BP411,0,BP337)","v":0},{"$f":"IF(BQ337=BQ411,0,BQ337)","v":0},{"$f":"IF(BR337=BR411,0,BR337)","v":0},{"$f":"IF(BS337=BS411,0,BS337)","v":0},{"$f":"IF(BT337=BT411,0,BT337)","v":0},{"$f":"IF(BU337=BU411,0,BU337)","v":0},{"$f":"IF(BV337=BV411,0,BV337)","v":0},{"$f":"IF(BW337=BW411,0,BW337)","v":0},{"$f":"IF(BX337=BX411,0,BX337)","v":0},{"$f":"IF(BY337=BY411,0,BY337)","v":0},{"$f":"IF(BZ337=BZ411,0,BZ337)","v":0},{"$f":"IF(CA337=CA411,0,CA337)","v":0},{"$f":"IF(CB337=CB411,0,CB337)","v":0},{"$f":"IF(CC337=CC411,0,CC337)","v":0},{"$f":"IF(CD337=CD411,0,CD337)","v":0},{"$f":"IF(CE337=CE411,0,CE337)","v":0},{"$f":"IF(CF337=CF411,0,CF337)","v":0},{"$f":"IF(CG337=CG411,0,CG337)","v":0},{"$f":"IF(CH337=CH411,0,CH337)","v":0},{"$f":"IF(CI337=CI411,0,CI337)","v":0},{"$f":"IF(CJ337=CJ411,0,CJ337)","v":0},{"$f":"IF(CK337=CK411,0,CK337)","v":0},{"$f":"IF(CL337=CL411,0,CL337)","v":0},{"$f":"IF(CM337=CM411,0,CM337)","v":0},{"$f":"IF(CN337=CN411,0,CN337)","v":0},{"$f":"IF(CO337=CO411,0,CO337)","v":0},{"$f":"IF(CP337=CP411,0,CP337)","v":0},{"$f":"IF(CQ337=CQ411,0,CQ337)","v":0},{"$f":"IF(CR337=CR411,0,CR337)","v":0},{"$f":"IF(CS337=CS411,0,CS337)","v":0},{"$f":"IF(CT337=CT411,0,CT337)","v":0},{"$f":"IF(CU337=CU411,0,CU337)","v":0},{"$f":"BW411","v":0},{"$f":"BW412","v":0},1]
[27,{"$f":"'RECOGIDA DATOS'!AG30","v":0},{"$f":"IF(B338=B411,0,B338)","v":0},{"$f":"IF(C338=C411,0,C338)","v":0},{"$f":"IF(D338=D411,0,D338)","v":0},{"$f":"IF(E338=E411,0,E338)","v":0},{"$f":"IF(F338=F411,0,F338)","v":0},{"$f":"IF(G338=G411,0,G338)","v":0},{"$f":"IF(H338=H411,0,H338)","v":0},{"$f":"IF(I338=I411,0,I338)","v":0},{"$f":"IF(J338=J411,0,J338)","v":0},{"$f":"IF(K338=K411,0,K338)","v":0},{"$f":"IF(L338=L411,0,L338)","v":0},{"$f":"IF(M338=M411,0,M338)","v":0},{"$f":"IF(N338=N411,0,N338)","v":0},{"$f":"IF(O338=O411,0,O338)","v":0},{"$f":"IF(P338=P411,0,P338)","v":0},{"$f":"IF(Q338=Q411,0,Q338)","v":0},{"$f":"IF(R338=R411,0,R338)","v":0},{"$f":"IF(S338=S411,0,S338)","v":0},{"$f":"IF(T338=T411,0,T338)","v":0},{"$f":"IF(U338=U411,0,U338)","v":0},{"$f":"IF(V338=V411,0,V338)","v":0},{"$f":"IF(W338=W411,0,W338)","v":0},{"$f":"IF(X338=X411,0,X338)","v":0},{"$f":"IF(Y338=Y411,0,Y338)","v":0},{"$f":"IF(Z338=Z411,0,Z338)","v":0},{"$f":"IF(AA338=AA411,0,AA338)","v":0},{"$f":"IF(AB338=AB411,0,AB338)","v":0},{"$f":"IF(AC338=AC411,0,AC338)","v":0},{"$f":"IF(AD338=AD411,0,AD338)","v":0},{"$f":"IF(AE338=AE411,0,AE338)","v":0},{"$f":"IF(AF338=AF411,0,AF338)","v":0},{"$f":"IF(AG338=AG411,0,AG338)","v":0},{"$f":"IF(AH338=AH411,0,AH338)","v":0},{"$f":"IF(AI338=AI411,0,AI338)","v":0},{"$f":"IF(AJ338=AJ411,0,AJ338)","v":0},{"$f":"IF(AK338=AK411,0,AK338)","v":0},{"$f":"IF(AL338=AL411,0,AL338)","v":0},{"$f":"IF(AM338=AM411,0,AM338)","v":0},{"$f":"IF(AN338=AN411,0,AN338)","v":0},{"$f":"IF(AO338=AO411,0,AO338)","v":0},{"$f":"IF(AP338=AP411,0,AP338)","v":0},{"$f":"IF(AQ338=AQ411,0,AQ338)","v":0},{"$f":"IF(AR338=AR411,0,AR338)","v":0},{"$f":"IF(AS338=AS411,0,AS338)","v":0},{"$f":"IF(AT338=AT411,0,AT338)","v":0},{"$f":"IF(AU338=AU411,0,AU338)","v":0},{"$f":"IF(AV338=AV411,0,AV338)","v":0},{"$f":"IF(AW338=AW411,0,AW338)","v":0},{"$f":"IF(AX338=AX411,0,AX338)","v":0},{"$f":"IF(AY338=AY411,0,AY338)","v":0},{"$f":"IF(AZ338=AZ411,0,AZ338)","v":0},{"$f":"IF(BA338=BA411,0,BA338)","v":0},{"$f":"IF(BB338=BB411,0,BB338)","v":0},{"$f":"IF(BC338=BC411,0,BC338)","v":0},{"$f":"IF(BD338=BD411,0,BD338)","v":0},{"$f":"IF(BE338=BE411,0,BE338)","v":0},{"$f":"IF(BF338=BF411,0,BF338)","v":0},{"$f":"IF(BG338=BG411,0,BG338)","v":0},{"$f":"IF(BH338=BH411,0,BH338)","v":0},{"$f":"IF(BI338=BI411,0,BI338)","v":0},{"$f":"IF(BJ338=BJ411,0,BJ338)","v":0},{"$f":"IF(BK338=BK411,0,BK338)","v":0},{"$f":"IF(BL338=BL411,0,BL338)","v":0},{"$f":"IF(BM338=BM411,0,BM338)","v":0},{"$f":"IF(BN338=BN411,0,BN338)","v":0},{"$f":"IF(BO338=BO411,0,BO338)","v":0},{"$f":"IF(BP338=BP411,0,BP338)","v":0},{"$f":"IF(BQ338=BQ411,0,BQ338)","v":0},{"$f":"IF(BR338=BR411,0,BR338)","v":0},{"$f":"IF(BS338=BS411,0,BS338)","v":0},{"$f":"IF(BT338=BT411,0,BT338)","v":0},{"$f":"IF(BU338=BU411,0,BU338)","v":0},{"$f":"IF(BV338=BV411,0,BV338)","v":0},{"$f":"IF(BW338=BW411,0,BW338)","v":0},{"$f":"IF(BX338=BX411,0,BX338)","v":0},{"$f":"IF(BY338=BY411,0,BY338)","v":0},{"$f":"IF(BZ338=BZ411,0,BZ338)","v":0},{"$f":"IF(CA338=CA411,0,CA338)","v":0},{"$f":"IF(CB338=CB411,0,CB338)","v":0},{"$f":"IF(CC338=CC411,0,CC338)","v":0},{"$f":"IF(CD338=CD411,0,CD338)","v":0},{"$f":"IF(CE338=CE411,0,CE338)","v":0},{"$f":"IF(CF338=CF411,0,CF338)","v":0},{"$f":"IF(CG338=CG411,0,CG338)","v":0},{"$f":"IF(CH338=CH411,0,CH338)","v":0},{"$f":"IF(CI338=CI411,0,CI338)","v":0},{"$f":"IF(CJ338=CJ411,0,CJ338)","v":0},{"$f":"IF(CK338=CK411,0,CK338)","v":0},{"$f":"IF(CL338=CL411,0,CL338)","v":0},{"$f":"IF(CM338=CM411,0,CM338)","v":0},{"$f":"IF(CN338=CN411,0,CN338)","v":0},{"$f":"IF(CO338=CO411,0,CO338)","v":0},{"$f":"IF(CP338=CP411,0,CP338)","v":0},{"$f":"IF(CQ338=CQ411,0,CQ338)","v":0},{"$f":"IF(CR338=CR411,0,CR338)","v":0},{"$f":"IF(CS338=CS411,0,CS338)","v":0},{"$f":"IF(CT338=CT411,0,CT338)","v":0},{"$f":"IF(CU338=CU411,0,CU338)","v":0},{"$f":"BV411","v":0},{"$f":"BV412","v":0},1]
[28,{"$f":"'RECOGIDA DATOS'!AG31","v":0},{"$f":"IF(B339=B411,0,B339)","v":0},{"$f":"IF(C339=C411,0,C339)","v":0},{"$f":"IF(D339=D411,0,D339)","v":0},{"$f":"IF(E339=E411,0,E339)","v":0},{"$f":"IF(F339=F411,0,F339)","v":0},{"$f":"IF(G339=G411,0,G339)","v":0},{"$f":"IF(H339=H411,0,H339)","v":0},{"$f":"IF(I339=I411,0,I339)","v":0},{"$f":"IF(J339=J411,0,J339)","v":0},{"$f":"IF(K339=K411,0,K339)","v":0},{"$f":"IF(L339=L411,0,L339)","v":0},{"$f":"IF(M339=M411,0,M339)","v":0},{"$f":"IF(N339=N411,0,N339)","v":0},{"$f":"IF(O339=O411,0,O339)","v":0},{"$f":"IF(P339=P411,0,P339)","v":0},{"$f":"IF(Q339=Q411,0,Q339)","v":0},{"$f":"IF(R339=R411,0,R339)","v":0},{"$f":"IF(S339=S411,0,S339)","v":0},{"$f":"IF(T339=T411,0,T339)","v":0},{"$f":"IF(U339=U411,0,U339)","v":0},{"$f":"IF(V339=V411,0,V339)","v":0},{"$f":"IF(W339=W411,0,W339)","v":0},{"$f":"IF(X339=X411,0,X339)","v":0},{"$f":"IF(Y339=Y411,0,Y339)","v":0},{"$f":"IF(Z339=Z411,0,Z339)","v":0},{"$f":"IF(AA339=AA411,0,AA339)","v":0},{"$f":"IF(AB339=AB411,0,AB339)","v":0},{"$f":"IF(AC339=AC411,0,AC339)","v":0},{"$f":"IF(AD339=AD411,0,AD339)","v":0},{"$f":"IF(AE339=AE411,0,AE339)","v":0},{"$f":"IF(AF339=AF411,0,AF339)","v":0},{"$f":"IF(AG339=AG411,0,AG339)","v":0},{"$f":"IF(AH339=AH411,0,AH339)","v":0},{"$f":"IF(AI339=AI411,0,AI339)","v":0},{"$f":"IF(AJ339=AJ411,0,AJ339)","v":0},{"$f":"IF(AK339=AK411,0,AK339)","v":0},{"$f":"IF(AL339=AL411,0,AL339)","v":0},{"$f":"IF(AM339=AM411,0,AM339)","v":0},{"$f":"IF(AN339=AN411,0,AN339)","v":0},{"$f":"IF(AO339=AO411,0,AO339)","v":0},{"$f":"IF(AP339=AP411,0,AP339)","v":0},{"$f":"IF(AQ339=AQ411,0,AQ339)","v":0},{"$f":"IF(AR339=AR411,0,AR339)","v":0},{"$f":"IF(AS339=AS411,0,AS339)","v":0},{"$f":"IF(AT339=AT411,0,AT339)","v":0},{"$f":"IF(AU339=AU411,0,AU339)","v":0},{"$f":"IF(AV339=AV411,0,AV339)","v":0},{"$f":"IF(AW339=AW411,0,AW339)","v":0},{"$f":"IF(AX339=AX411,0,AX339)","v":0},{"$f":"IF(AY339=AY411,0,AY339)","v":0},{"$f":"IF(AZ339=AZ411,0,AZ339)","v":0},{"$f":"IF(BA339=BA411,0,BA339)","v":0},{"$f":"IF(BB339=BB411,0,BB339)","v":0},{"$f":"IF(BC339=BC411,0,BC339)","v":0},{"$f":"IF(BD339=BD411,0,BD339)","v":0},{"$f":"IF(BE339=BE411,0,BE339)","v":0},{"$f":"IF(BF339=BF411,0,BF339)","v":0},{"$f":"IF(BG339=BG411,0,BG339)","v":0},{"$f":"IF(BH339=BH411,0,BH339)","v":0},{"$f":"IF(BI339=BI411,0,BI339)","v":0},{"$f":"IF(BJ339=BJ411,0,BJ339)","v":0},{"$f":"IF(BK339=BK411,0,BK339)","v":0},{"$f":"IF(BL339=BL411,0,BL339)","v":0},{"$f":"IF(BM339=BM411,0,BM339)","v":0},{"$f":"IF(BN339=BN411,0,BN339)","v":0},{"$f":"IF(BO339=BO411,0,BO339)","v":0},{"$f":"IF(BP339=BP411,0,BP339)","v":0},{"$f":"IF(BQ339=BQ411,0,BQ339)","v":0},{"$f":"IF(BR339=BR411,0,BR339)","v":0},{"$f":"IF(BS339=BS411,0,BS339)","v":0},{"$f":"IF(BT339=BT411,0,BT339)","v":0},{"$f":"IF(BU339=BU411,0,BU339)","v":0},{"$f":"IF(BV339=BV411,0,BV339)","v":0},{"$f":"IF(BW339=BW411,0,BW339)","v":0},{"$f":"IF(BX339=BX411,0,BX339)","v":0},{"$f":"IF(BY339=BY411,0,BY339)","v":0},{"$f":"IF(BZ339=BZ411,0,BZ339)","v":0},{"$f":"IF(CA339=CA411,0,CA339)","v":0},{"$f":"IF(CB339=CB411,0,CB339)","v":0},{"$f":"IF(CC339=CC411,0,CC339)","v":0},{"$f":"IF(CD339=CD411,0,CD339)","v":0},{"$f":"IF(CE339=CE411,0,CE339)","v":0},{"$f":"IF(CF339=CF411,0,CF339)","v":0},{"$f":"IF(CG339=CG411,0,CG339)","v":0},{"$f":"IF(CH339=CH411,0,CH339)","v":0},{"$f":"IF(CI339=CI411,0,CI339)","v":0},{"$f":"IF(CJ339=CJ411,0,CJ339)","v":0},{"$f":"IF(CK339=CK411,0,CK339)","v":0},{"$f":"IF(CL339=CL411,0,CL339)","v":0},{"$f":"IF(CM339=CM411,0,CM339)","v":0},{"$f":"IF(CN339=CN411,0,CN339)","v":0},{"$f":"IF(CO339=CO411,0,CO339)","v":0},{"$f":"IF(CP339=CP411,0,CP339)","v":0},{"$f":"IF(CQ339=CQ411,0,CQ339)","v":0},{"$f":"IF(CR339=CR411,0,CR339)","v":0},{"$f":"IF(CS339=CS411,0,CS339)","v":0},{"$f":"IF(CT339=CT411,0,CT339)","v":0},{"$f":"IF(CU339=CU411,0,CU339)","v":0},{"$f":"BU411","v":0},{"$f":"BU412","v":0},1]
[29,{"$f":"'RECOGIDA DATOS'!AG32","v":0},{"$f":"IF(B340=B411,0,B340)","v":0},{"$f":"IF(C340=C411,0,C340)","v":0},{"$f":"IF(D340=D411,0,D340)","v":0},{"$f":"IF(E340=E411,0,E340)","v":0},{"$f":"IF(F340=F411,0,F340)","v":0},{"$f":"IF(G340=G411,0,G340)","v":0},{"$f":"IF(H340=H411,0,H340)","v":0},{"$f":"IF(I340=I411,0,I340)","v":0},{"$f":"IF(J340=J411,0,J340)","v":0},{"$f":"IF(K340=K411,0,K340)","v":0},{"$f":"IF(L340=L411,0,L340)","v":0},{"$f":"IF(M340=M411,0,M340)","v":0},{"$f":"IF(N340=N411,0,N340)","v":0},{"$f":"IF(O340=O411,0,O340)","v":0},{"$f":"IF(P340=P411,0,P340)","v":0},{"$f":"IF(Q340=Q411,0,Q340)","v":0},{"$f":"IF(R340=R411,0,R340)","v":0},{"$f":"IF(S340=S411,0,S340)","v":0},{"$f":"IF(T340=T411,0,T340)","v":0},{"$f":"IF(U340=U411,0,U340)","v":0},{"$f":"IF(V340=V411,0,V340)","v":0},{"$f":"IF(W340=W411,0,W340)","v":0},{"$f":"IF(X340=X411,0,X340)","v":0},{"$f":"IF(Y340=Y411,0,Y340)","v":0},{"$f":"IF(Z340=Z411,0,Z340)","v":0},{"$f":"IF(AA340=AA411,0,AA340)","v":0},{"$f":"IF(AB340=AB411,0,AB340)","v":0},{"$f":"IF(AC340=AC411,0,AC340)","v":0},{"$f":"IF(AD340=AD411,0,AD340)","v":0},{"$f":"IF(AE340=AE411,0,AE340)","v":0},{"$f":"IF(AF340=AF411,0,AF340)","v":0},{"$f":"IF(AG340=AG411,0,AG340)","v":0},{"$f":"IF(AH340=AH411,0,AH340)","v":0},{"$f":"IF(AI340=AI411,0,AI340)","v":0},{"$f":"IF(AJ340=AJ411,0,AJ340)","v":0},{"$f":"IF(AK340=AK411,0,AK340)","v":0},{"$f":"IF(AL340=AL411,0,AL340)","v":0},{"$f":"IF(AM340=AM411,0,AM340)","v":0},{"$f":"IF(AN340=AN411,0,AN340)","v":0},{"$f":"IF(AO340=AO411,0,AO340)","v":0},{"$f":"IF(AP340=AP411,0,AP340)","v":0},{"$f":"IF(AQ340=AQ411,0,AQ340)","v":0},{"$f":"IF(AR340=AR411,0,AR340)","v":0},{"$f":"IF(AS340=AS411,0,AS340)","v":0},{"$f":"IF(AT340=AT411,0,AT340)","v":0},{"$f":"IF(AU340=AU411,0,AU340)","v":0},{"$f":"IF(AV340=AV411,0,AV340)","v":0},{"$f":"IF(AW340=AW411,0,AW340)","v":0},{"$f":"IF(AX340=AX411,0,AX340)","v":0},{"$f":"IF(AY340=AY411,0,AY340)","v":0},{"$f":"IF(AZ340=AZ411,0,AZ340)","v":0},{"$f":"IF(BA340=BA411,0,BA340)","v":0},{"$f":"IF(BB340=BB411,0,BB340)","v":0},{"$f":"IF(BC340=BC411,0,BC340)","v":0},{"$f":"IF(BD340=BD411,0,BD340)","v":0},{"$f":"IF(BE340=BE411,0,BE340)","v":0},{"$f":"IF(BF340=BF411,0,BF340)","v":0},{"$f":"IF(BG340=BG411,0,BG340)","v":0},{"$f":"IF(BH340=BH411,0,BH340)","v":0},{"$f":"IF(BI340=BI411,0,BI340)","v":0},{"$f":"IF(BJ340=BJ411,0,BJ340)","v":0},{"$f":"IF(BK340=BK411,0,BK340)","v":0},{"$f":"IF(BL340=BL411,0,BL340)","v":0},{"$f":"IF(BM340=BM411,0,BM340)","v":0},{"$f":"IF(BN340=BN411,0,BN340)","v":0},{"$f":"IF(BO340=BO411,0,BO340)","v":0},{"$f":"IF(BP340=BP411,0,BP340)","v":0},{"$f":"IF(BQ340=BQ411,0,BQ340)","v":0},{"$f":"IF(BR340=BR411,0,BR340)","v":0},{"$f":"IF(BS340=BS411,0,BS340)","v":0},{"$f":"IF(BT340=BT411,0,BT340)","v":0},{"$f":"IF(BU340=BU411,0,BU340)","v":0},{"$f":"IF(BV340=BV411,0,BV340)","v":0},{"$f":"IF(BW340=BW411,0,BW340)","v":0},{"$f":"IF(BX340=BX411,0,BX340)","v":0},{"$f":"IF(BY340=BY411,0,BY340)","v":0},{"$f":"IF(BZ340=BZ411,0,BZ340)","v":0},{"$f":"IF(CA340=CA411,0,CA340)","v":0},{"$f":"IF(CB340=CB411,0,CB340)","v":0},{"$f":"IF(CC340=CC411,0,CC340)","v":0},{"$f":"IF(CD340=CD411,0,CD340)","v":0},{"$f":"IF(CE340=CE411,0,CE340)","v":0},{"$f":"IF(CF340=CF411,0,CF340)","v":0},{"$f":"IF(CG340=CG411,0,CG340)","v":0},{"$f":"IF(CH340=CH411,0,CH340)","v":0},{"$f":"IF(CI340=CI411,0,CI340)","v":0},{"$f":"IF(CJ340=CJ411,0,CJ340)","v":0},{"$f":"IF(CK340=CK411,0,CK340)","v":0},{"$f":"IF(CL340=CL411,0,CL340)","v":0},{"$f":"IF(CM340=CM411,0,CM340)","v":0},{"$f":"IF(CN340=CN411,0,CN340)","v":0},{"$f":"IF(CO340=CO411,0,CO340)","v":0},{"$f":"IF(CP340=CP411,0,CP340)","v":0},{"$f":"IF(CQ340=CQ411,0,CQ340)","v":0},{"$f":"IF(CR340=CR411,0,CR340)","v":0},{"$f":"IF(CS340=CS411,0,CS340)","v":0},{"$f":"IF(CT340=CT411,0,CT340)","v":0},{"$f":"IF(CU340=CU411,0,CU340)","v":0},{"$f":"BT411","v":0},{"$f":"BT412","v":0},1]
[30,{"$f":"'RECOGIDA DATOS'!AG33","v":0},{"$f":"IF(B341=B411,0,B341)","v":0},{"$f":"IF(C341=C411,0,C341)","v":0},{"$f":"IF(D341=D411,0,D341)","v":0},{"$f":"IF(E341=E411,0,E341)","v":0},{"$f":"IF(F341=F411,0,F341)","v":0},{"$f":"IF(G341=G411,0,G341)","v":0},{"$f":"IF(H341=H411,0,H341)","v":0},{"$f":"IF(I341=I411,0,I341)","v":0},{"$f":"IF(J341=J411,0,J341)","v":0},{"$f":"IF(K341=K411,0,K341)","v":0},{"$f":"IF(L341=L411,0,L341)","v":0},{"$f":"IF(M341=M411,0,M341)","v":0},{"$f":"IF(N341=N411,0,N341)","v":0},{"$f":"IF(O341=O411,0,O341)","v":0},{"$f":"IF(P341=P411,0,P341)","v":0},{"$f":"IF(Q341=Q411,0,Q341)","v":0},{"$f":"IF(R341=R411,0,R341)","v":0},{"$f":"IF(S341=S411,0,S341)","v":0},{"$f":"IF(T341=T411,0,T341)","v":0},{"$f":"IF(U341=U411,0,U341)","v":0},{"$f":"IF(V341=V411,0,V341)","v":0},{"$f":"IF(W341=W411,0,W341)","v":0},{"$f":"IF(X341=X411,0,X341)","v":0},{"$f":"IF(Y341=Y411,0,Y341)","v":0},{"$f":"IF(Z341=Z411,0,Z341)","v":0},{"$f":"IF(AA341=AA411,0,AA341)","v":0},{"$f":"IF(AB341=AB411,0,AB341)","v":0},{"$f":"IF(AC341=AC411,0,AC341)","v":0},{"$f":"IF(AD341=AD411,0,AD341)","v":0},{"$f":"IF(AE341=AE411,0,AE341)","v":0},{"$f":"IF(AF341=AF411,0,AF341)","v":0},{"$f":"IF(AG341=AG411,0,AG341)","v":0},{"$f":"IF(AH341=AH411,0,AH341)","v":0},{"$f":"IF(AI341=AI411,0,AI341)","v":0},{"$f":"IF(AJ341=AJ411,0,AJ341)","v":0},{"$f":"IF(AK341=AK411,0,AK341)","v":0},{"$f":"IF(AL341=AL411,0,AL341)","v":0},{"$f":"IF(AM341=AM411,0,AM341)","v":0},{"$f":"IF(AN341=AN411,0,AN341)","v":0},{"$f":"IF(AO341=AO411,0,AO341)","v":0},{"$f":"IF(AP341=AP411,0,AP341)","v":0},{"$f":"IF(AQ341=AQ411,0,AQ341)","v":0},{"$f":"IF(AR341=AR411,0,AR341)","v":0},{"$f":"IF(AS341=AS411,0,AS341)","v":0},{"$f":"IF(AT341=AT411,0,AT341)","v":0},{"$f":"IF(AU341=AU411,0,AU341)","v":0},{"$f":"IF(AV341=AV411,0,AV341)","v":0},{"$f":"IF(AW341=AW411,0,AW341)","v":0},{"$f":"IF(AX341=AX411,0,AX341)","v":0},{"$f":"IF(AY341=AY411,0,AY341)","v":0},{"$f":"IF(AZ341=AZ411,0,AZ341)","v":0},{"$f":"IF(BA341=BA411,0,BA341)","v":0},{"$f":"IF(BB341=BB411,0,BB341)","v":0},{"$f":"IF(BC341=BC411,0,BC341)","v":0},{"$f":"IF(BD341=BD411,0,BD341)","v":0},{"$f":"IF(BE341=BE411,0,BE341)","v":0},{"$f":"IF(BF341=BF411,0,BF341)","v":0},{"$f":"IF(BG341=BG411,0,BG341)","v":0},{"$f":"IF(BH341=BH411,0,BH341)","v":0},{"$f":"IF(BI341=BI411,0,BI341)","v":0},{"$f":"IF(BJ341=BJ411,0,BJ341)","v":0},{"$f":"IF(BK341=BK411,0,BK341)","v":0},{"$f":"IF(BL341=BL411,0,BL341)","v":0},{"$f":"IF(BM341=BM411,0,BM341)","v":0},{"$f":"IF(BN341=BN411,0,BN341)","v":0},{"$f":"IF(BO341=BO411,0,BO341)","v":0},{"$f":"IF(BP341=BP411,0,BP341)","v":0},{"$f":"IF(BQ341=BQ411,0,BQ341)","v":0},{"$f":"IF(BR341=BR411,0,BR341)","v":0},{"$f":"IF(BS341=BS411,0,BS341)","v":0},{"$f":"IF(BT341=BT411,0,BT341)","v":0},{"$f":"IF(BU341=BU411,0,BU341)","v":0},{"$f":"IF(BV341=BV411,0,BV341)","v":0},{"$f":"IF(BW341=BW411,0,BW341)","v":0},{"$f":"IF(BX341=BX411,0,BX341)","v":0},{"$f":"IF(BY341=BY411,0,BY341)","v":0},{"$f":"IF(BZ341=BZ411,0,BZ341)","v":0},{"$f":"IF(CA341=CA411,0,CA341)","v":0},{"$f":"IF(CB341=CB411,0,CB341)","v":0},{"$f":"IF(CC341=CC411,0,CC341)","v":0},{"$f":"IF(CD341=CD411,0,CD341)","v":0},{"$f":"IF(CE341=CE411,0,CE341)","v":0},{"$f":"IF(CF341=CF411,0,CF341)","v":0},{"$f":"IF(CG341=CG411,0,CG341)","v":0},{"$f":"IF(CH341=CH411,0,CH341)","v":0},{"$f":"IF(CI341=CI411,0,CI341)","v":0},{"$f":"IF(CJ341=CJ411,0,CJ341)","v":0},{"$f":"IF(CK341=CK411,0,CK341)","v":0},{"$f":"IF(CL341=CL411,0,CL341)","v":0},{"$f":"IF(CM341=CM411,0,CM341)","v":0},{"$f":"IF(CN341=CN411,0,CN341)","v":0},{"$f":"IF(CO341=CO411,0,CO341)","v":0},{"$f":"IF(CP341=CP411,0,CP341)","v":0},{"$f":"IF(CQ341=CQ411,0,CQ341)","v":0},{"$f":"IF(CR341=CR411,0,CR341)","v":0},{"$f":"IF(CS341=CS411,0,CS341)","v":0},{"$f":"IF(CT341=CT411,0,CT341)","v":0},{"$f":"IF(CU341=CU411,0,CU341)","v":0},{"$f":"BS411","v":0},{"$f":"BS412","v":0},1]
[31,{"$f":"'RECOGIDA DATOS'!AG34","v":0},{"$f":"IF(B342=B411,0,B342)","v":0},{"$f":"IF(C342=C411,0,C342)","v":0},{"$f":"IF(D342=D411,0,D342)","v":0},{"$f":"IF(E342=E411,0,E342)","v":0},{"$f":"IF(F342=F411,0,F342)","v":0},{"$f":"IF(G342=G411,0,G342)","v":0},{"$f":"IF(H342=H411,0,H342)","v":0},{"$f":"IF(I342=I411,0,I342)","v":0},{"$f":"IF(J342=J411,0,J342)","v":0},{"$f":"IF(K342=K411,0,K342)","v":0},{"$f":"IF(L342=L411,0,L342)","v":0},{"$f":"IF(M342=M411,0,M342)","v":0},{"$f":"IF(N342=N411,0,N342)","v":0},{"$f":"IF(O342=O411,0,O342)","v":0},{"$f":"IF(P342=P411,0,P342)","v":0},{"$f":"IF(Q342=Q411,0,Q342)","v":0},{"$f":"IF(R342=R411,0,R342)","v":0},{"$f":"IF(S342=S411,0,S342)","v":0},{"$f":"IF(T342=T411,0,T342)","v":0},{"$f":"IF(U342=U411,0,U342)","v":0},{"$f":"IF(V342=V411,0,V342)","v":0},{"$f":"IF(W342=W411,0,W342)","v":0},{"$f":"IF(X342=X411,0,X342)","v":0},{"$f":"IF(Y342=Y411,0,Y342)","v":0},{"$f":"IF(Z342=Z411,0,Z342)","v":0},{"$f":"IF(AA342=AA411,0,AA342)","v":0},{"$f":"IF(AB342=AB411,0,AB342)","v":0},{"$f":"IF(AC342=AC411,0,AC342)","v":0},{"$f":"IF(AD342=AD411,0,AD342)","v":0},{"$f":"IF(AE342=AE411,0,AE342)","v":0},{"$f":"IF(AF342=AF411,0,AF342)","v":0},{"$f":"IF(AG342=AG411,0,AG342)","v":0},{"$f":"IF(AH342=AH411,0,AH342)","v":0},{"$f":"IF(AI342=AI411,0,AI342)","v":0},{"$f":"IF(AJ342=AJ411,0,AJ342)","v":0},{"$f":"IF(AK342=AK411,0,AK342)","v":0},{"$f":"IF(AL342=AL411,0,AL342)","v":0},{"$f":"IF(AM342=AM411,0,AM342)","v":0},{"$f":"IF(AN342=AN411,0,AN342)","v":0},{"$f":"IF(AO342=AO411,0,AO342)","v":0},{"$f":"IF(AP342=AP411,0,AP342)","v":0},{"$f":"IF(AQ342=AQ411,0,AQ342)","v":0},{"$f":"IF(AR342=AR411,0,AR342)","v":0},{"$f":"IF(AS342=AS411,0,AS342)","v":0},{"$f":"IF(AT342=AT411,0,AT342)","v":0},{"$f":"IF(AU342=AU411,0,AU342)","v":0},{"$f":"IF(AV342=AV411,0,AV342)","v":0},{"$f":"IF(AW342=AW411,0,AW342)","v":0},{"$f":"IF(AX342=AX411,0,AX342)","v":0},{"$f":"IF(AY342=AY411,0,AY342)","v":0},{"$f":"IF(AZ342=AZ411,0,AZ342)","v":0},{"$f":"IF(BA342=BA411,0,BA342)","v":0},{"$f":"IF(BB342=BB411,0,BB342)","v":0},{"$f":"IF(BC342=BC411,0,BC342)","v":0},{"$f":"IF(BD342=BD411,0,BD342)","v":0},{"$f":"IF(BE342=BE411,0,BE342)","v":0},{"$f":"IF(BF342=BF411,0,BF342)","v":0},{"$f":"IF(BG342=BG411,0,BG342)","v":0},{"$f":"IF(BH342=BH411,0,BH342)","v":0},{"$f":"IF(BI342=BI411,0,BI342)","v":0},{"$f":"IF(BJ342=BJ411,0,BJ342)","v":0},{"$f":"IF(BK342=BK411,0,BK342)","v":0},{"$f":"IF(BL342=BL411,0,BL342)","v":0},{"$f":"IF(BM342=BM411,0,BM342)","v":0},{"$f":"IF(BN342=BN411,0,BN342)","v":0},{"$f":"IF(BO342=BO411,0,BO342)","v":0},{"$f":"IF(BP342=BP411,0,BP342)","v":0},{"$f":"IF(BQ342=BQ411,0,BQ342)","v":0},{"$f":"IF(BR342=BR411,0,BR342)","v":0},{"$f":"IF(BS342=BS411,0,BS342)","v":0},{"$f":"IF(BT342=BT411,0,BT342)","v":0},{"$f":"IF(BU342=BU411,0,BU342)","v":0},{"$f":"IF(BV342=BV411,0,BV342)","v":0},{"$f":"IF(BW342=BW411,0,BW342)","v":0},{"$f":"IF(BX342=BX411,0,BX342)","v":0},{"$f":"IF(BY342=BY411,0,BY342)","v":0},{"$f":"IF(BZ342=BZ411,0,BZ342)","v":0},{"$f":"IF(CA342=CA411,0,CA342)","v":0},{"$f":"IF(CB342=CB411,0,CB342)","v":0},{"$f":"IF(CC342=CC411,0,CC342)","v":0},{"$f":"IF(CD342=CD411,0,CD342)","v":0},{"$f":"IF(CE342=CE411,0,CE342)","v":0},{"$f":"IF(CF342=CF411,0,CF342)","v":0},{"$f":"IF(CG342=CG411,0,CG342)","v":0},{"$f":"IF(CH342=CH411,0,CH342)","v":0},{"$f":"IF(CI342=CI411,0,CI342)","v":0},{"$f":"IF(CJ342=CJ411,0,CJ342)","v":0},{"$f":"IF(CK342=CK411,0,CK342)","v":0},{"$f":"IF(CL342=CL411,0,CL342)","v":0},{"$f":"IF(CM342=CM411,0,CM342)","v":0},{"$f":"IF(CN342=CN411,0,CN342)","v":0},{"$f":"IF(CO342=CO411,0,CO342)","v":0},{"$f":"IF(CP342=CP411,0,CP342)","v":0},{"$f":"IF(CQ342=CQ411,0,CQ342)","v":0},{"$f":"IF(CR342=CR411,0,CR342)","v":0},{"$f":"IF(CS342=CS411,0,CS342)","v":0},{"$f":"IF(CT342=CT411,0,CT342)","v":0},{"$f":"IF(CU342=CU411,0,CU342)","v":0},{"$f":"BR411","v":0},{"$f":"BR412","v":0},1]
[32,{"$f":"'RECOGIDA DATOS'!AG35","v":0},{"$f":"IF(B343=B411,0,B343)","v":0},{"$f":"IF(C343=C411,0,C343)","v":0},{"$f":"IF(D343=D411,0,D343)","v":0},{"$f":"IF(E343=E411,0,E343)","v":0},{"$f":"IF(F343=F411,0,F343)","v":0},{"$f":"IF(G343=G411,0,G343)","v":0},{"$f":"IF(H343=H411,0,H343)","v":0},{"$f":"IF(I343=I411,0,I343)","v":0},{"$f":"IF(J343=J411,0,J343)","v":0},{"$f":"IF(K343=K411,0,K343)","v":0},{"$f":"IF(L343=L411,0,L343)","v":0},{"$f":"IF(M343=M411,0,M343)","v":0},{"$f":"IF(N343=N411,0,N343)","v":0},{"$f":"IF(O343=O411,0,O343)","v":0},{"$f":"IF(P343=P411,0,P343)","v":0},{"$f":"IF(Q343=Q411,0,Q343)","v":0},{"$f":"IF(R343=R411,0,R343)","v":0},{"$f":"IF(S343=S411,0,S343)","v":0},{"$f":"IF(T343=T411,0,T343)","v":0},{"$f":"IF(U343=U411,0,U343)","v":0},{"$f":"IF(V343=V411,0,V343)","v":0},{"$f":"IF(W343=W411,0,W343)","v":0},{"$f":"IF(X343=X411,0,X343)","v":0},{"$f":"IF(Y343=Y411,0,Y343)","v":0},{"$f":"IF(Z343=Z411,0,Z343)","v":0},{"$f":"IF(AA343=AA411,0,AA343)","v":0},{"$f":"IF(AB343=AB411,0,AB343)","v":0},{"$f":"IF(AC343=AC411,0,AC343)","v":0},{"$f":"IF(AD343=AD411,0,AD343)","v":0},{"$f":"IF(AE343=AE411,0,AE343)","v":0},{"$f":"IF(AF343=AF411,0,AF343)","v":0},{"$f":"IF(AG343=AG411,0,AG343)","v":0},{"$f":"IF(AH343=AH411,0,AH343)","v":0},{"$f":"IF(AI343=AI411,0,AI343)","v":0},{"$f":"IF(AJ343=AJ411,0,AJ343)","v":0},{"$f":"IF(AK343=AK411,0,AK343)","v":0},{"$f":"IF(AL343=AL411,0,AL343)","v":0},{"$f":"IF(AM343=AM411,0,AM343)","v":0},{"$f":"IF(AN343=AN411,0,AN343)","v":0},{"$f":"IF(AO343=AO411,0,AO343)","v":0},{"$f":"IF(AP343=AP411,0,AP343)","v":0},{"$f":"IF(AQ343=AQ411,0,AQ343)","v":0},{"$f":"IF(AR343=AR411,0,AR343)","v":0},{"$f":"IF(AS343=AS411,0,AS343)","v":0},{"$f":"IF(AT343=AT411,0,AT343)","v":0},{"$f":"IF(AU343=AU411,0,AU343)","v":0},{"$f":"IF(AV343=AV411,0,AV343)","v":0},{"$f":"IF(AW343=AW411,0,AW343)","v":0},{"$f":"IF(AX343=AX411,0,AX343)","v":0},{"$f":"IF(AY343=AY411,0,AY343)","v":0},{"$f":"IF(AZ343=AZ411,0,AZ343)","v":0},{"$f":"IF(BA343=BA411,0,BA343)","v":0},{"$f":"IF(BB343=BB411,0,BB343)","v":0},{"$f":"IF(BC343=BC411,0,BC343)","v":0},{"$f":"IF(BD343=BD411,0,BD343)","v":0},{"$f":"IF(BE343=BE411,0,BE343)","v":0},{"$f":"IF(BF343=BF411,0,BF343)","v":0},{"$f":"IF(BG343=BG411,0,BG343)","v":0},{"$f":"IF(BH343=BH411,0,BH343)","v":0},{"$f":"IF(BI343=BI411,0,BI343)","v":0},{"$f":"IF(BJ343=BJ411,0,BJ343)","v":0},{"$f":"IF(BK343=BK411,0,BK343)","v":0},{"$f":"IF(BL343=BL411,0,BL343)","v":0},{"$f":"IF(BM343=BM411,0,BM343)","v":0},{"$f":"IF(BN343=BN411,0,BN343)","v":0},{"$f":"IF(BO343=BO411,0,BO343)","v":0},{"$f":"IF(BP343=BP411,0,BP343)","v":0},{"$f":"IF(BQ343=BQ411,0,BQ343)","v":0},{"$f":"IF(BR343=BR411,0,BR343)","v":0},{"$f":"IF(BS343=BS411,0,BS343)","v":0},{"$f":"IF(BT343=BT411,0,BT343)","v":0},{"$f":"IF(BU343=BU411,0,BU343)","v":0},{"$f":"IF(BV343=BV411,0,BV343)","v":0},{"$f":"IF(BW343=BW411,0,BW343)","v":0},{"$f":"IF(BX343=BX411,0,BX343)","v":0},{"$f":"IF(BY343=BY411,0,BY343)","v":0},{"$f":"IF(BZ343=BZ411,0,BZ343)","v":0},{"$f":"IF(CA343=CA411,0,CA343)","v":0},{"$f":"IF(CB343=CB411,0,CB343)","v":0},{"$f":"IF(CC343=CC411,0,CC343)","v":0},{"$f":"IF(CD343=CD411,0,CD343)","v":0},{"$f":"IF(CE343=CE411,0,CE343)","v":0},{"$f":"IF(CF343=CF411,0,CF343)","v":0},{"$f":"IF(CG343=CG411,0,CG343)","v":0},{"$f":"IF(CH343=CH411,0,CH343)","v":0},{"$f":"IF(CI343=CI411,0,CI343)","v":0},{"$f":"IF(CJ343=CJ411,0,CJ343)","v":0},{"$f":"IF(CK343=CK411,0,CK343)","v":0},{"$f":"IF(CL343=CL411,0,CL343)","v":0},{"$f":"IF(CM343=CM411,0,CM343)","v":0},{"$f":"IF(CN343=CN411,0,CN343)","v":0},{"$f":"IF(CO343=CO411,0,CO343)","v":0},{"$f":"IF(CP343=CP411,0,CP343)","v":0},{"$f":"IF(CQ343=CQ411,0,CQ343)","v":0},{"$f":"IF(CR343=CR411,0,CR343)","v":0},{"$f":"IF(CS343=CS411,0,CS343)","v":0},{"$f":"IF(CT343=CT411,0,CT343)","v":0},{"$f":"IF(CU343=CU411,0,CU343)","v":0},{"$f":"BQ411","v":0},{"$f":"BQ412","v":0},1]
[33,{"$f":"'RECOGIDA DATOS'!AG36","v":0},{"$f":"IF(B344=B411,0,B344)","v":0},{"$f":"IF(C344=C411,0,C344)","v":0},{"$f":"IF(D344=D411,0,D344)","v":0},{"$f":"IF(E344=E411,0,E344)","v":0},{"$f":"IF(F344=F411,0,F344)","v":0},{"$f":"IF(G344=G411,0,G344)","v":0},{"$f":"IF(H344=H411,0,H344)","v":0},{"$f":"IF(I344=I411,0,I344)","v":0},{"$f":"IF(J344=J411,0,J344)","v":0},{"$f":"IF(K344=K411,0,K344)","v":0},{"$f":"IF(L344=L411,0,L344)","v":0},{"$f":"IF(M344=M411,0,M344)","v":0},{"$f":"IF(N344=N411,0,N344)","v":0},{"$f":"IF(O344=O411,0,O344)","v":0},{"$f":"IF(P344=P411,0,P344)","v":0},{"$f":"IF(Q344=Q411,0,Q344)","v":0},{"$f":"IF(R344=R411,0,R344)","v":0},{"$f":"IF(S344=S411,0,S344)","v":0},{"$f":"IF(T344=T411,0,T344)","v":0},{"$f":"IF(U344=U411,0,U344)","v":0},{"$f":"IF(V344=V411,0,V344)","v":0},{"$f":"IF(W344=W411,0,W344)","v":0},{"$f":"IF(X344=X411,0,X344)","v":0},{"$f":"IF(Y344=Y411,0,Y344)","v":0},{"$f":"IF(Z344=Z411,0,Z344)","v":0},{"$f":"IF(AA344=AA411,0,AA344)","v":0},{"$f":"IF(AB344=AB411,0,AB344)","v":0},{"$f":"IF(AC344=AC411,0,AC344)","v":0},{"$f":"IF(AD344=AD411,0,AD344)","v":0},{"$f":"IF(AE344=AE411,0,AE344)","v":0},{"$f":"IF(AF344=AF411,0,AF344)","v":0},{"$f":"IF(AG344=AG411,0,AG344)","v":0},{"$f":"IF(AH344=AH411,0,AH344)","v":0},{"$f":"IF(AI344=AI411,0,AI344)","v":0},{"$f":"IF(AJ344=AJ411,0,AJ344)","v":0},{"$f":"IF(AK344=AK411,0,AK344)","v":0},{"$f":"IF(AL344=AL411,0,AL344)","v":0},{"$f":"IF(AM344=AM411,0,AM344)","v":0},{"$f":"IF(AN344=AN411,0,AN344)","v":0},{"$f":"IF(AO344=AO411,0,AO344)","v":0},{"$f":"IF(AP344=AP411,0,AP344)","v":0},{"$f":"IF(AQ344=AQ411,0,AQ344)","v":0},{"$f":"IF(AR344=AR411,0,AR344)","v":0},{"$f":"IF(AS344=AS411,0,AS344)","v":0},{"$f":"IF(AT344=AT411,0,AT344)","v":0},{"$f":"IF(AU344=AU411,0,AU344)","v":0},{"$f":"IF(AV344=AV411,0,AV344)","v":0},{"$f":"IF(AW344=AW411,0,AW344)","v":0},{"$f":"IF(AX344=AX411,0,AX344)","v":0},{"$f":"IF(AY344=AY411,0,AY344)","v":0},{"$f":"IF(AZ344=AZ411,0,AZ344)","v":0},{"$f":"IF(BA344=BA411,0,BA344)","v":0},{"$f":"IF(BB344=BB411,0,BB344)","v":0},{"$f":"IF(BC344=BC411,0,BC344)","v":0},{"$f":"IF(BD344=BD411,0,BD344)","v":0},{"$f":"IF(BE344=BE411,0,BE344)","v":0},{"$f":"IF(BF344=BF411,0,BF344)","v":0},{"$f":"IF(BG344=BG411,0,BG344)","v":0},{"$f":"IF(BH344=BH411,0,BH344)","v":0},{"$f":"IF(BI344=BI411,0,BI344)","v":0},{"$f":"IF(BJ344=BJ411,0,BJ344)","v":0},{"$f":"IF(BK344=BK411,0,BK344)","v":0},{"$f":"IF(BL344=BL411,0,BL344)","v":0},{"$f":"IF(BM344=BM411,0,BM344)","v":0},{"$f":"IF(BN344=BN411,0,BN344)","v":0},{"$f":"IF(BO344=BO411,0,BO344)","v":0},{"$f":"IF(BP344=BP411,0,BP344)","v":0},{"$f":"IF(BQ344=BQ411,0,BQ344)","v":0},{"$f":"IF(BR344=BR411,0,BR344)","v":0},{"$f":"IF(BS344=BS411,0,BS344)","v":0},{"$f":"IF(BT344=BT411,0,BT344)","v":0},{"$f":"IF(BU344=BU411,0,BU344)","v":0},{"$f":"IF(BV344=BV411,0,BV344)","v":0},{"$f":"IF(BW344=BW411,0,BW344)","v":0},{"$f":"IF(BX344=BX411,0,BX344)","v":0},{"$f":"IF(BY344=BY411,0,BY344)","v":0},{"$f":"IF(BZ344=BZ411,0,BZ344)","v":0},{"$f":"IF(CA344=CA411,0,CA344)","v":0},{"$f":"IF(CB344=CB411,0,CB344)","v":0},{"$f":"IF(CC344=CC411,0,CC344)","v":0},{"$f":"IF(CD344=CD411,0,CD344)","v":0},{"$f":"IF(CE344=CE411,0,CE344)","v":0},{"$f":"IF(CF344=CF411,0,CF344)","v":0},{"$f":"IF(CG344=CG411,0,CG344)","v":0},{"$f":"IF(CH344=CH411,0,CH344)","v":0},{"$f":"IF(CI344=CI411,0,CI344)","v":0},{"$f":"IF(CJ344=CJ411,0,CJ344)","v":0},{"$f":"IF(CK344=CK411,0,CK344)","v":0},{"$f":"IF(CL344=CL411,0,CL344)","v":0},{"$f":"IF(CM344=CM411,0,CM344)","v":0},{"$f":"IF(CN344=CN411,0,CN344)","v":0},{"$f":"IF(CO344=CO411,0,CO344)","v":0},{"$f":"IF(CP344=CP411,0,CP344)","v":0},{"$f":"IF(CQ344=CQ411,0,CQ344)","v":0},{"$f":"IF(CR344=CR411,0,CR344)","v":0},{"$f":"IF(CS344=CS411,0,CS344)","v":0},{"$f":"IF(CT344=CT411,0,CT344)","v":0},{"$f":"IF(CU344=CU411,0,CU344)","v":0},{"$f":"BP411","v":0},{"$f":"BP412","v":0},1]
[34,{"$f":"'RECOGIDA DATOS'!AG37","v":0},{"$f":"IF(B345=B411,0,B345)","v":0},{"$f":"IF(C345=C411,0,C345)","v":0},{"$f":"IF(D345=D411,0,D345)","v":0},{"$f":"IF(E345=E411,0,E345)","v":0},{"$f":"IF(F345=F411,0,F345)","v":0},{"$f":"IF(G345=G411,0,G345)","v":0},{"$f":"IF(H345=H411,0,H345)","v":0},{"$f":"IF(I345=I411,0,I345)","v":0},{"$f":"IF(J345=J411,0,J345)","v":0},{"$f":"IF(K345=K411,0,K345)","v":0},{"$f":"IF(L345=L411,0,L345)","v":0},{"$f":"IF(M345=M411,0,M345)","v":0},{"$f":"IF(N345=N411,0,N345)","v":0},{"$f":"IF(O345=O411,0,O345)","v":0},{"$f":"IF(P345=P411,0,P345)","v":0},{"$f":"IF(Q345=Q411,0,Q345)","v":0},{"$f":"IF(R345=R411,0,R345)","v":0},{"$f":"IF(S345=S411,0,S345)","v":0},{"$f":"IF(T345=T411,0,T345)","v":0},{"$f":"IF(U345=U411,0,U345)","v":0},{"$f":"IF(V345=V411,0,V345)","v":0},{"$f":"IF(W345=W411,0,W345)","v":0},{"$f":"IF(X345=X411,0,X345)","v":0},{"$f":"IF(Y345=Y411,0,Y345)","v":0},{"$f":"IF(Z345=Z411,0,Z345)","v":0},{"$f":"IF(AA345=AA411,0,AA345)","v":0},{"$f":"IF(AB345=AB411,0,AB345)","v":0},{"$f":"IF(AC345=AC411,0,AC345)","v":0},{"$f":"IF(AD345=AD411,0,AD345)","v":0},{"$f":"IF(AE345=AE411,0,AE345)","v":0},{"$f":"IF(AF345=AF411,0,AF345)","v":0},{"$f":"IF(AG345=AG411,0,AG345)","v":0},{"$f":"IF(AH345=AH411,0,AH345)","v":0},{"$f":"IF(AI345=AI411,0,AI345)","v":0},{"$f":"IF(AJ345=AJ411,0,AJ345)","v":0},{"$f":"IF(AK345=AK411,0,AK345)","v":0},{"$f":"IF(AL345=AL411,0,AL345)","v":0},{"$f":"IF(AM345=AM411,0,AM345)","v":0},{"$f":"IF(AN345=AN411,0,AN345)","v":0},{"$f":"IF(AO345=AO411,0,AO345)","v":0},{"$f":"IF(AP345=AP411,0,AP345)","v":0},{"$f":"IF(AQ345=AQ411,0,AQ345)","v":0},{"$f":"IF(AR345=AR411,0,AR345)","v":0},{"$f":"IF(AS345=AS411,0,AS345)","v":0},{"$f":"IF(AT345=AT411,0,AT345)","v":0},{"$f":"IF(AU345=AU411,0,AU345)","v":0},{"$f":"IF(AV345=AV411,0,AV345)","v":0},{"$f":"IF(AW345=AW411,0,AW345)","v":0},{"$f":"IF(AX345=AX411,0,AX345)","v":0},{"$f":"IF(AY345=AY411,0,AY345)","v":0},{"$f":"IF(AZ345=AZ411,0,AZ345)","v":0},{"$f":"IF(BA345=BA411,0,BA345)","v":0},{"$f":"IF(BB345=BB411,0,BB345)","v":0},{"$f":"IF(BC345=BC411,0,BC345)","v":0},{"$f":"IF(BD345=BD411,0,BD345)","v":0},{"$f":"IF(BE345=BE411,0,BE345)","v":0},{"$f":"IF(BF345=BF411,0,BF345)","v":0},{"$f":"IF(BG345=BG411,0,BG345)","v":0},{"$f":"IF(BH345=BH411,0,BH345)","v":0},{"$f":"IF(BI345=BI411,0,BI345)","v":0},{"$f":"IF(BJ345=BJ411,0,BJ345)","v":0},{"$f":"IF(BK345=BK411,0,BK345)","v":0},{"$f":"IF(BL345=BL411,0,BL345)","v":0},{"$f":"IF(BM345=BM411,0,BM345)","v":0},{"$f":"IF(BN345=BN411,0,BN345)","v":0},{"$f":"IF(BO345=BO411,0,BO345)","v":0},{"$f":"IF(BP345=BP411,0,BP345)","v":0},{"$f":"IF(BQ345=BQ411,0,BQ345)","v":0},{"$f":"IF(BR345=BR411,0,BR345)","v":0},{"$f":"IF(BS345=BS411,0,BS345)","v":0},{"$f":"IF(BT345=BT411,0,BT345)","v":0},{"$f":"IF(BU345=BU411,0,BU345)","v":0},{"$f":"IF(BV345=BV411,0,BV345)","v":0},{"$f":"IF(BW345=BW411,0,BW345)","v":0},{"$f":"IF(BX345=BX411,0,BX345)","v":0},{"$f":"IF(BY345=BY411,0,BY345)","v":0},{"$f":"IF(BZ345=BZ411,0,BZ345)","v":0},{"$f":"IF(CA345=CA411,0,CA345)","v":0},{"$f":"IF(CB345=CB411,0,CB345)","v":0},{"$f":"IF(CC345=CC411,0,CC345)","v":0},{"$f":"IF(CD345=CD411,0,CD345)","v":0},{"$f":"IF(CE345=CE411,0,CE345)","v":0},{"$f":"IF(CF345=CF411,0,CF345)","v":0},{"$f":"IF(CG345=CG411,0,CG345)","v":0},{"$f":"IF(CH345=CH411,0,CH345)","v":0},{"$f":"IF(CI345=CI411,0,CI345)","v":0},{"$f":"IF(CJ345=CJ411,0,CJ345)","v":0},{"$f":"IF(CK345=CK411,0,CK345)","v":0},{"$f":"IF(CL345=CL411,0,CL345)","v":0},{"$f":"IF(CM345=CM411,0,CM345)","v":0},{"$f":"IF(CN345=CN411,0,CN345)","v":0},{"$f":"IF(CO345=CO411,0,CO345)","v":0},{"$f":"IF(CP345=CP411,0,CP345)","v":0},{"$f":"IF(CQ345=CQ411,0,CQ345)","v":0},{"$f":"IF(CR345=CR411,0,CR345)","v":0},{"$f":"IF(CS345=CS411,0,CS345)","v":0},{"$f":"IF(CT345=CT411,0,CT345)","v":0},{"$f":"IF(CU345=CU411,0,CU345)","v":0},{"$f":"BO411","v":0},{"$f":"BO412","v":0},1]
[35,{"$f":"'RECOGIDA DATOS'!AG38","v":0},{"$f":"IF(B346=B411,0,B346)","v":0},{"$f":"IF(C346=C411,0,C346)","v":0},{"$f":"IF(D346=D411,0,D346)","v":0},{"$f":"IF(E346=E411,0,E346)","v":0},{"$f":"IF(F346=F411,0,F346)","v":0},{"$f":"IF(G346=G411,0,G346)","v":0},{"$f":"IF(H346=H411,0,H346)","v":0},{"$f":"IF(I346=I411,0,I346)","v":0},{"$f":"IF(J346=J411,0,J346)","v":0},{"$f":"IF(K346=K411,0,K346)","v":0},{"$f":"IF(L346=L411,0,L346)","v":0},{"$f":"IF(M346=M411,0,M346)","v":0},{"$f":"IF(N346=N411,0,N346)","v":0},{"$f":"IF(O346=O411,0,O346)","v":0},{"$f":"IF(P346=P411,0,P346)","v":0},{"$f":"IF(Q346=Q411,0,Q346)","v":0},{"$f":"IF(R346=R411,0,R346)","v":0},{"$f":"IF(S346=S411,0,S346)","v":0},{"$f":"IF(T346=T411,0,T346)","v":0},{"$f":"IF(U346=U411,0,U346)","v":0},{"$f":"IF(V346=V411,0,V346)","v":0},{"$f":"IF(W346=W411,0,W346)","v":0},{"$f":"IF(X346=X411,0,X346)","v":0},{"$f":"IF(Y346=Y411,0,Y346)","v":0},{"$f":"IF(Z346=Z411,0,Z346)","v":0},{"$f":"IF(AA346=AA411,0,AA346)","v":0},{"$f":"IF(AB346=AB411,0,AB346)","v":0},{"$f":"IF(AC346=AC411,0,AC346)","v":0},{"$f":"IF(AD346=AD411,0,AD346)","v":0},{"$f":"IF(AE346=AE411,0,AE346)","v":0},{"$f":"IF(AF346=AF411,0,AF346)","v":0},{"$f":"IF(AG346=AG411,0,AG346)","v":0},{"$f":"IF(AH346=AH411,0,AH346)","v":0},{"$f":"IF(AI346=AI411,0,AI346)","v":0},{"$f":"IF(AJ346=AJ411,0,AJ346)","v":0},{"$f":"IF(AK346=AK411,0,AK346)","v":0},{"$f":"IF(AL346=AL411,0,AL346)","v":0},{"$f":"IF(AM346=AM411,0,AM346)","v":0},{"$f":"IF(AN346=AN411,0,AN346)","v":0},{"$f":"IF(AO346=AO411,0,AO346)","v":0},{"$f":"IF(AP346=AP411,0,AP346)","v":0},{"$f":"IF(AQ346=AQ411,0,AQ346)","v":0},{"$f":"IF(AR346=AR411,0,AR346)","v":0},{"$f":"IF(AS346=AS411,0,AS346)","v":0},{"$f":"IF(AT346=AT411,0,AT346)","v":0},{"$f":"IF(AU346=AU411,0,AU346)","v":0},{"$f":"IF(AV346=AV411,0,AV346)","v":0},{"$f":"IF(AW346=AW411,0,AW346)","v":0},{"$f":"IF(AX346=AX411,0,AX346)","v":0},{"$f":"IF(AY346=AY411,0,AY346)","v":0},{"$f":"IF(AZ346=AZ411,0,AZ346)","v":0},{"$f":"IF(BA346=BA411,0,BA346)","v":0},{"$f":"IF(BB346=BB411,0,BB346)","v":0},{"$f":"IF(BC346=BC411,0,BC346)","v":0},{"$f":"IF(BD346=BD411,0,BD346)","v":0},{"$f":"IF(BE346=BE411,0,BE346)","v":0},{"$f":"IF(BF346=BF411,0,BF346)","v":0},{"$f":"IF(BG346=BG411,0,BG346)","v":0},{"$f":"IF(BH346=BH411,0,BH346)","v":0},{"$f":"IF(BI346=BI411,0,BI346)","v":0},{"$f":"IF(BJ346=BJ411,0,BJ346)","v":0},{"$f":"IF(BK346=BK411,0,BK346)","v":0},{"$f":"IF(BL346=BL411,0,BL346)","v":0},{"$f":"IF(BM346=BM411,0,BM346)","v":0},{"$f":"IF(BN346=BN411,0,BN346)","v":0},{"$f":"IF(BO346=BO411,0,BO346)","v":0},{"$f":"IF(BP346=BP411,0,BP346)","v":0},{"$f":"IF(BQ346=BQ411,0,BQ346)","v":0},{"$f":"IF(BR346=BR411,0,BR346)","v":0},{"$f":"IF(BS346=BS411,0,BS346)","v":0},{"$f":"IF(BT346=BT411,0,BT346)","v":0},{"$f":"IF(BU346=BU411,0,BU346)","v":0},{"$f":"IF(BV346=BV411,0,BV346)","v":0},{"$f":"IF(BW346=BW411,0,BW346)","v":0},{"$f":"IF(BX346=BX411,0,BX346)","v":0},{"$f":"IF(BY346=BY411,0,BY346)","v":0},{"$f":"IF(BZ346=BZ411,0,BZ346)","v":0},{"$f":"IF(CA346=CA411,0,CA346)","v":0},{"$f":"IF(CB346=CB411,0,CB346)","v":0},{"$f":"IF(CC346=CC411,0,CC346)","v":0},{"$f":"IF(CD346=CD411,0,CD346)","v":0},{"$f":"IF(CE346=CE411,0,CE346)","v":0},{"$f":"IF(CF346=CF411,0,CF346)","v":0},{"$f":"IF(CG346=CG411,0,CG346)","v":0},{"$f":"IF(CH346=CH411,0,CH346)","v":0},{"$f":"IF(CI346=CI411,0,CI346)","v":0},{"$f":"IF(CJ346=CJ411,0,CJ346)","v":0},{"$f":"IF(CK346=CK411,0,CK346)","v":0},{"$f":"IF(CL346=CL411,0,CL346)","v":0},{"$f":"IF(CM346=CM411,0,CM346)","v":0},{"$f":"IF(CN346=CN411,0,CN346)","v":0},{"$f":"IF(CO346=CO411,0,CO346)","v":0},{"$f":"IF(CP346=CP411,0,CP346)","v":0},{"$f":"IF(CQ346=CQ411,0,CQ346)","v":0},{"$f":"IF(CR346=CR411,0,CR346)","v":0},{"$f":"IF(CS346=CS411,0,CS346)","v":0},{"$f":"IF(CT346=CT411,0,CT346)","v":0},{"$f":"IF(CU346=CU411,0,CU346)","v":0},{"$f":"BN411","v":0},{"$f":"BN412","v":0},1]
[36,{"$f":"'RECOGIDA DATOS'!AG39","v":0},{"$f":"IF(B347=B411,0,B347)","v":0},{"$f":"IF(C347=C411,0,C347)","v":0},{"$f":"IF(D347=D411,0,D347)","v":0},{"$f":"IF(E347=E411,0,E347)","v":0},{"$f":"IF(F347=F411,0,F347)","v":0},{"$f":"IF(G347=G411,0,G347)","v":0},{"$f":"IF(H347=H411,0,H347)","v":0},{"$f":"IF(I347=I411,0,I347)","v":0},{"$f":"IF(J347=J411,0,J347)","v":0},{"$f":"IF(K347=K411,0,K347)","v":0},{"$f":"IF(L347=L411,0,L347)","v":0},{"$f":"IF(M347=M411,0,M347)","v":0},{"$f":"IF(N347=N411,0,N347)","v":0},{"$f":"IF(O347=O411,0,O347)","v":0},{"$f":"IF(P347=P411,0,P347)","v":0},{"$f":"IF(Q347=Q411,0,Q347)","v":0},{"$f":"IF(R347=R411,0,R347)","v":0},{"$f":"IF(S347=S411,0,S347)","v":0},{"$f":"IF(T347=T411,0,T347)","v":0},{"$f":"IF(U347=U411,0,U347)","v":0},{"$f":"IF(V347=V411,0,V347)","v":0},{"$f":"IF(W347=W411,0,W347)","v":0},{"$f":"IF(X347=X411,0,X347)","v":0},{"$f":"IF(Y347=Y411,0,Y347)","v":0},{"$f":"IF(Z347=Z411,0,Z347)","v":0},{"$f":"IF(AA347=AA411,0,AA347)","v":0},{"$f":"IF(AB347=AB411,0,AB347)","v":0},{"$f":"IF(AC347=AC411,0,AC347)","v":0},{"$f":"IF(AD347=AD411,0,AD347)","v":0},{"$f":"IF(AE347=AE411,0,AE347)","v":0},{"$f":"IF(AF347=AF411,0,AF347)","v":0},{"$f":"IF(AG347=AG411,0,AG347)","v":0},{"$f":"IF(AH347=AH411,0,AH347)","v":0},{"$f":"IF(AI347=AI411,0,AI347)","v":0},{"$f":"IF(AJ347=AJ411,0,AJ347)","v":0},{"$f":"IF(AK347=AK411,0,AK347)","v":0},{"$f":"IF(AL347=AL411,0,AL347)","v":0},{"$f":"IF(AM347=AM411,0,AM347)","v":0},{"$f":"IF(AN347=AN411,0,AN347)","v":0},{"$f":"IF(AO347=AO411,0,AO347)","v":0},{"$f":"IF(AP347=AP411,0,AP347)","v":0},{"$f":"IF(AQ347=AQ411,0,AQ347)","v":0},{"$f":"IF(AR347=AR411,0,AR347)","v":0},{"$f":"IF(AS347=AS411,0,AS347)","v":0},{"$f":"IF(AT347=AT411,0,AT347)","v":0},{"$f":"IF(AU347=AU411,0,AU347)","v":0},{"$f":"IF(AV347=AV411,0,AV347)","v":0},{"$f":"IF(AW347=AW411,0,AW347)","v":0},{"$f":"IF(AX347=AX411,0,AX347)","v":0},{"$f":"IF(AY347=AY411,0,AY347)","v":0},{"$f":"IF(AZ347=AZ411,0,AZ347)","v":0},{"$f":"IF(BA347=BA411,0,BA347)","v":0},{"$f":"IF(BB347=BB411,0,BB347)","v":0},{"$f":"IF(BC347=BC411,0,BC347)","v":0},{"$f":"IF(BD347=BD411,0,BD347)","v":0},{"$f":"IF(BE347=BE411,0,BE347)","v":0},{"$f":"IF(BF347=BF411,0,BF347)","v":0},{"$f":"IF(BG347=BG411,0,BG347)","v":0},{"$f":"IF(BH347=BH411,0,BH347)","v":0},{"$f":"IF(BI347=BI411,0,BI347)","v":0},{"$f":"IF(BJ347=BJ411,0,BJ347)","v":0},{"$f":"IF(BK347=BK411,0,BK347)","v":0},{"$f":"IF(BL347=BL411,0,BL347)","v":0},{"$f":"IF(BM347=BM411,0,BM347)","v":0},{"$f":"IF(BN347=BN411,0,BN347)","v":0},{"$f":"IF(BO347=BO411,0,BO347)","v":0},{"$f":"IF(BP347=BP411,0,BP347)","v":0},{"$f":"IF(BQ347=BQ411,0,BQ347)","v":0},{"$f":"IF(BR347=BR411,0,BR347)","v":0},{"$f":"IF(BS347=BS411,0,BS347)","v":0},{"$f":"IF(BT347=BT411,0,BT347)","v":0},{"$f":"IF(BU347=BU411,0,BU347)","v":0},{"$f":"IF(BV347=BV411,0,BV347)","v":0},{"$f":"IF(BW347=BW411,0,BW347)","v":0},{"$f":"IF(BX347=BX411,0,BX347)","v":0},{"$f":"IF(BY347=BY411,0,BY347)","v":0},{"$f":"IF(BZ347=BZ411,0,BZ347)","v":0},{"$f":"IF(CA347=CA411,0,CA347)","v":0},{"$f":"IF(CB347=CB411,0,CB347)","v":0},{"$f":"IF(CC347=CC411,0,CC347)","v":0},{"$f":"IF(CD347=CD411,0,CD347)","v":0},{"$f":"IF(CE347=CE411,0,CE347)","v":0},{"$f":"IF(CF347=CF411,0,CF347)","v":0},{"$f":"IF(CG347=CG411,0,CG347)","v":0},{"$f":"IF(CH347=CH411,0,CH347)","v":0},{"$f":"IF(CI347=CI411,0,CI347)","v":0},{"$f":"IF(CJ347=CJ411,0,CJ347)","v":0},{"$f":"IF(CK347=CK411,0,CK347)","v":0},{"$f":"IF(CL347=CL411,0,CL347)","v":0},{"$f":"IF(CM347=CM411,0,CM347)","v":0},{"$f":"IF(CN347=CN411,0,CN347)","v":0},{"$f":"IF(CO347=CO411,0,CO347)","v":0},{"$f":"IF(CP347=CP411,0,CP347)","v":0},{"$f":"IF(CQ347=CQ411,0,CQ347)","v":0},{"$f":"IF(CR347=CR411,0,CR347)","v":0},{"$f":"IF(CS347=CS411,0,CS347)","v":0},{"$f":"IF(CT347=CT411,0,CT347)","v":0},{"$f":"IF(CU347=CU411,0,CU347)","v":0},{"$f":"BM411","v":0},{"$f":"BM412","v":0},1]
[37,{"$f":"'RECOGIDA DATOS'!AG40","v":0},{"$f":"IF(B348=B411,0,B348)","v":0},{"$f":"IF(C348=C411,0,C348)","v":0},{"$f":"IF(D348=D411,0,D348)","v":0},{"$f":"IF(E348=E411,0,E348)","v":0},{"$f":"IF(F348=F411,0,F348)","v":0},{"$f":"IF(G348=G411,0,G348)","v":0},{"$f":"IF(H348=H411,0,H348)","v":0},{"$f":"IF(I348=I411,0,I348)","v":0},{"$f":"IF(J348=J411,0,J348)","v":0},{"$f":"IF(K348=K411,0,K348)","v":0},{"$f":"IF(L348=L411,0,L348)","v":0},{"$f":"IF(M348=M411,0,M348)","v":0},{"$f":"IF(N348=N411,0,N348)","v":0},{"$f":"IF(O348=O411,0,O348)","v":0},{"$f":"IF(P348=P411,0,P348)","v":0},{"$f":"IF(Q348=Q411,0,Q348)","v":0},{"$f":"IF(R348=R411,0,R348)","v":0},{"$f":"IF(S348=S411,0,S348)","v":0},{"$f":"IF(T348=T411,0,T348)","v":0},{"$f":"IF(U348=U411,0,U348)","v":0},{"$f":"IF(V348=V411,0,V348)","v":0},{"$f":"IF(W348=W411,0,W348)","v":0},{"$f":"IF(X348=X411,0,X348)","v":0},{"$f":"IF(Y348=Y411,0,Y348)","v":0},{"$f":"IF(Z348=Z411,0,Z348)","v":0},{"$f":"IF(AA348=AA411,0,AA348)","v":0},{"$f":"IF(AB348=AB411,0,AB348)","v":0},{"$f":"IF(AC348=AC411,0,AC348)","v":0},{"$f":"IF(AD348=AD411,0,AD348)","v":0},{"$f":"IF(AE348=AE411,0,AE348)","v":0},{"$f":"IF(AF348=AF411,0,AF348)","v":0},{"$f":"IF(AG348=AG411,0,AG348)","v":0},{"$f":"IF(AH348=AH411,0,AH348)","v":0},{"$f":"IF(AI348=AI411,0,AI348)","v":0},{"$f":"IF(AJ348=AJ411,0,AJ348)","v":0},{"$f":"IF(AK348=AK411,0,AK348)","v":0},{"$f":"IF(AL348=AL411,0,AL348)","v":0},{"$f":"IF(AM348=AM411,0,AM348)","v":0},{"$f":"IF(AN348=AN411,0,AN348)","v":0},{"$f":"IF(AO348=AO411,0,AO348)","v":0},{"$f":"IF(AP348=AP411,0,AP348)","v":0},{"$f":"IF(AQ348=AQ411,0,AQ348)","v":0},{"$f":"IF(AR348=AR411,0,AR348)","v":0},{"$f":"IF(AS348=AS411,0,AS348)","v":0},{"$f":"IF(AT348=AT411,0,AT348)","v":0},{"$f":"IF(AU348=AU411,0,AU348)","v":0},{"$f":"IF(AV348=AV411,0,AV348)","v":0},{"$f":"IF(AW348=AW411,0,AW348)","v":0},{"$f":"IF(AX348=AX411,0,AX348)","v":0},{"$f":"IF(AY348=AY411,0,AY348)","v":0},{"$f":"IF(AZ348=AZ411,0,AZ348)","v":0},{"$f":"IF(BA348=BA411,0,BA348)","v":0},{"$f":"IF(BB348=BB411,0,BB348)","v":0},{"$f":"IF(BC348=BC411,0,BC348)","v":0},{"$f":"IF(BD348=BD411,0,BD348)","v":0},{"$f":"IF(BE348=BE411,0,BE348)","v":0},{"$f":"IF(BF348=BF411,0,BF348)","v":0},{"$f":"IF(BG348=BG411,0,BG348)","v":0},{"$f":"IF(BH348=BH411,0,BH348)","v":0},{"$f":"IF(BI348=BI411,0,BI348)","v":0},{"$f":"IF(BJ348=BJ411,0,BJ348)","v":0},{"$f":"IF(BK348=BK411,0,BK348)","v":0},{"$f":"IF(BL348=BL411,0,BL348)","v":0},{"$f":"IF(BM348=BM411,0,BM348)","v":0},{"$f":"IF(BN348=BN411,0,BN348)","v":0},{"$f":"IF(BO348=BO411,0,BO348)","v":0},{"$f":"IF(BP348=BP411,0,BP348)","v":0},{"$f":"IF(BQ348=BQ411,0,BQ348)","v":0},{"$f":"IF(BR348=BR411,0,BR348)","v":0},{"$f":"IF(BS348=BS411,0,BS348)","v":0},{"$f":"IF(BT348=BT411,0,BT348)","v":0},{"$f":"IF(BU348=BU411,0,BU348)","v":0},{"$f":"IF(BV348=BV411,0,BV348)","v":0},{"$f":"IF(BW348=BW411,0,BW348)","v":0},{"$f":"IF(BX348=BX411,0,BX348)","v":0},{"$f":"IF(BY348=BY411,0,BY348)","v":0},{"$f":"IF(BZ348=BZ411,0,BZ348)","v":0},{"$f":"IF(CA348=CA411,0,CA348)","v":0},{"$f":"IF(CB348=CB411,0,CB348)","v":0},{"$f":"IF(CC348=CC411,0,CC348)","v":0},{"$f":"IF(CD348=CD411,0,CD348)","v":0},{"$f":"IF(CE348=CE411,0,CE348)","v":0},{"$f":"IF(CF348=CF411,0,CF348)","v":0},{"$f":"IF(CG348=CG411,0,CG348)","v":0},{"$f":"IF(CH348=CH411,0,CH348)","v":0},{"$f":"IF(CI348=CI411,0,CI348)","v":0},{"$f":"IF(CJ348=CJ411,0,CJ348)","v":0},{"$f":"IF(CK348=CK411,0,CK348)","v":0},{"$f":"IF(CL348=CL411,0,CL348)","v":0},{"$f":"IF(CM348=CM411,0,CM348)","v":0},{"$f":"IF(CN348=CN411,0,CN348)","v":0},{"$f":"IF(CO348=CO411,0,CO348)","v":0},{"$f":"IF(CP348=CP411,0,CP348)","v":0},{"$f":"IF(CQ348=CQ411,0,CQ348)","v":0},{"$f":"IF(CR348=CR411,0,CR348)","v":0},{"$f":"IF(CS348=CS411,0,CS348)","v":0},{"$f":"IF(CT348=CT411,0,CT348)","v":0},{"$f":"IF(CU348=CU411,0,CU348)","v":0},{"$f":"BL411","v":0},{"$f":"BL412","v":0},1]
[38,{"$f":"'RECOGIDA DATOS'!AG41","v":0},{"$f":"IF(B349=B411,0,B349)","v":0},{"$f":"IF(C349=C411,0,C349)","v":0},{"$f":"IF(D349=D411,0,D349)","v":0},{"$f":"IF(E349=E411,0,E349)","v":0},{"$f":"IF(F349=F411,0,F349)","v":0},{"$f":"IF(G349=G411,0,G349)","v":0},{"$f":"IF(H349=H411,0,H349)","v":0},{"$f":"IF(I349=I411,0,I349)","v":0},{"$f":"IF(J349=J411,0,J349)","v":0},{"$f":"IF(K349=K411,0,K349)","v":0},{"$f":"IF(L349=L411,0,L349)","v":0},{"$f":"IF(M349=M411,0,M349)","v":0},{"$f":"IF(N349=N411,0,N349)","v":0},{"$f":"IF(O349=O411,0,O349)","v":0},{"$f":"IF(P349=P411,0,P349)","v":0},{"$f":"IF(Q349=Q411,0,Q349)","v":0},{"$f":"IF(R349=R411,0,R349)","v":0},{"$f":"IF(S349=S411,0,S349)","v":0},{"$f":"IF(T349=T411,0,T349)","v":0},{"$f":"IF(U349=U411,0,U349)","v":0},{"$f":"IF(V349=V411,0,V349)","v":0},{"$f":"IF(W349=W411,0,W349)","v":0},{"$f":"IF(X349=X411,0,X349)","v":0},{"$f":"IF(Y349=Y411,0,Y349)","v":0},{"$f":"IF(Z349=Z411,0,Z349)","v":0},{"$f":"IF(AA349=AA411,0,AA349)","v":0},{"$f":"IF(AB349=AB411,0,AB349)","v":0},{"$f":"IF(AC349=AC411,0,AC349)","v":0},{"$f":"IF(AD349=AD411,0,AD349)","v":0},{"$f":"IF(AE349=AE411,0,AE349)","v":0},{"$f":"IF(AF349=AF411,0,AF349)","v":0},{"$f":"IF(AG349=AG411,0,AG349)","v":0},{"$f":"IF(AH349=AH411,0,AH349)","v":0},{"$f":"IF(AI349=AI411,0,AI349)","v":0},{"$f":"IF(AJ349=AJ411,0,AJ349)","v":0},{"$f":"IF(AK349=AK411,0,AK349)","v":0},{"$f":"IF(AL349=AL411,0,AL349)","v":0},{"$f":"IF(AM349=AM411,0,AM349)","v":0},{"$f":"IF(AN349=AN411,0,AN349)","v":0},{"$f":"IF(AO349=AO411,0,AO349)","v":0},{"$f":"IF(AP349=AP411,0,AP349)","v":0},{"$f":"IF(AQ349=AQ411,0,AQ349)","v":0},{"$f":"IF(AR349=AR411,0,AR349)","v":0},{"$f":"IF(AS349=AS411,0,AS349)","v":0},{"$f":"IF(AT349=AT411,0,AT349)","v":0},{"$f":"IF(AU349=AU411,0,AU349)","v":0},{"$f":"IF(AV349=AV411,0,AV349)","v":0},{"$f":"IF(AW349=AW411,0,AW349)","v":0},{"$f":"IF(AX349=AX411,0,AX349)","v":0},{"$f":"IF(AY349=AY411,0,AY349)","v":0},{"$f":"IF(AZ349=AZ411,0,AZ349)","v":0},{"$f":"IF(BA349=BA411,0,BA349)","v":0},{"$f":"IF(BB349=BB411,0,BB349)","v":0},{"$f":"IF(BC349=BC411,0,BC349)","v":0},{"$f":"IF(BD349=BD411,0,BD349)","v":0},{"$f":"IF(BE349=BE411,0,BE349)","v":0},{"$f":"IF(BF349=BF411,0,BF349)","v":0},{"$f":"IF(BG349=BG411,0,BG349)","v":0},{"$f":"IF(BH349=BH411,0,BH349)","v":0},{"$f":"IF(BI349=BI411,0,BI349)","v":0},{"$f":"IF(BJ349=BJ411,0,BJ349)","v":0},{"$f":"IF(BK349=BK411,0,BK349)","v":0},{"$f":"IF(BL349=BL411,0,BL349)","v":0},{"$f":"IF(BM349=BM411,0,BM349)","v":0},{"$f":"IF(BN349=BN411,0,BN349)","v":0},{"$f":"IF(BO349=BO411,0,BO349)","v":0},{"$f":"IF(BP349=BP411,0,BP349)","v":0},{"$f":"IF(BQ349=BQ411,0,BQ349)","v":0},{"$f":"IF(BR349=BR411,0,BR349)","v":0},{"$f":"IF(BS349=BS411,0,BS349)","v":0},{"$f":"IF(BT349=BT411,0,BT349)","v":0},{"$f":"IF(BU349=BU411,0,BU349)","v":0},{"$f":"IF(BV349=BV411,0,BV349)","v":0},{"$f":"IF(BW349=BW411,0,BW349)","v":0},{"$f":"IF(BX349=BX411,0,BX349)","v":0},{"$f":"IF(BY349=BY411,0,BY349)","v":0},{"$f":"IF(BZ349=BZ411,0,BZ349)","v":0},{"$f":"IF(CA349=CA411,0,CA349)","v":0},{"$f":"IF(CB349=CB411,0,CB349)","v":0},{"$f":"IF(CC349=CC411,0,CC349)","v":0},{"$f":"IF(CD349=CD411,0,CD349)","v":0},{"$f":"IF(CE349=CE411,0,CE349)","v":0},{"$f":"IF(CF349=CF411,0,CF349)","v":0},{"$f":"IF(CG349=CG411,0,CG349)","v":0},{"$f":"IF(CH349=CH411,0,CH349)","v":0},{"$f":"IF(CI349=CI411,0,CI349)","v":0},{"$f":"IF(CJ349=CJ411,0,CJ349)","v":0},{"$f":"IF(CK349=CK411,0,CK349)","v":0},{"$f":"IF(CL349=CL411,0,CL349)","v":0},{"$f":"IF(CM349=CM411,0,CM349)","v":0},{"$f":"IF(CN349=CN411,0,CN349)","v":0},{"$f":"IF(CO349=CO411,0,CO349)","v":0},{"$f":"IF(CP349=CP411,0,CP349)","v":0},{"$f":"IF(CQ349=CQ411,0,CQ349)","v":0},{"$f":"IF(CR349=CR411,0,CR349)","v":0},{"$f":"IF(CS349=CS411,0,CS349)","v":0},{"$f":"IF(CT349=CT411,0,CT349)","v":0},{"$f":"IF(CU349=CU411,0,CU349)","v":0},{"$f":"BK411","v":0},{"$f":"BK412","v":0},1]
[39,{"$f":"'RECOGIDA DATOS'!AG42","v":0},{"$f":"IF(B350=B411,0,B350)","v":0},{"$f":"IF(C350=C411,0,C350)","v":0},{"$f":"IF(D350=D411,0,D350)","v":0},{"$f":"IF(E350=E411,0,E350)","v":0},{"$f":"IF(F350=F411,0,F350)","v":0},{"$f":"IF(G350=G411,0,G350)","v":0},{"$f":"IF(H350=H411,0,H350)","v":0},{"$f":"IF(I350=I411,0,I350)","v":0},{"$f":"IF(J350=J411,0,J350)","v":0},{"$f":"IF(K350=K411,0,K350)","v":0},{"$f":"IF(L350=L411,0,L350)","v":0},{"$f":"IF(M350=M411,0,M350)","v":0},{"$f":"IF(N350=N411,0,N350)","v":0},{"$f":"IF(O350=O411,0,O350)","v":0},{"$f":"IF(P350=P411,0,P350)","v":0},{"$f":"IF(Q350=Q411,0,Q350)","v":0},{"$f":"IF(R350=R411,0,R350)","v":0},{"$f":"IF(S350=S411,0,S350)","v":0},{"$f":"IF(T350=T411,0,T350)","v":0},{"$f":"IF(U350=U411,0,U350)","v":0},{"$f":"IF(V350=V411,0,V350)","v":0},{"$f":"IF(W350=W411,0,W350)","v":0},{"$f":"IF(X350=X411,0,X350)","v":0},{"$f":"IF(Y350=Y411,0,Y350)","v":0},{"$f":"IF(Z350=Z411,0,Z350)","v":0},{"$f":"IF(AA350=AA411,0,AA350)","v":0},{"$f":"IF(AB350=AB411,0,AB350)","v":0},{"$f":"IF(AC350=AC411,0,AC350)","v":0},{"$f":"IF(AD350=AD411,0,AD350)","v":0},{"$f":"IF(AE350=AE411,0,AE350)","v":0},{"$f":"IF(AF350=AF411,0,AF350)","v":0},{"$f":"IF(AG350=AG411,0,AG350)","v":0},{"$f":"IF(AH350=AH411,0,AH350)","v":0},{"$f":"IF(AI350=AI411,0,AI350)","v":0},{"$f":"IF(AJ350=AJ411,0,AJ350)","v":0},{"$f":"IF(AK350=AK411,0,AK350)","v":0},{"$f":"IF(AL350=AL411,0,AL350)","v":0},{"$f":"IF(AM350=AM411,0,AM350)","v":0},{"$f":"IF(AN350=AN411,0,AN350)","v":0},{"$f":"IF(AO350=AO411,0,AO350)","v":0},{"$f":"IF(AP350=AP411,0,AP350)","v":0},{"$f":"IF(AQ350=AQ411,0,AQ350)","v":0},{"$f":"IF(AR350=AR411,0,AR350)","v":0},{"$f":"IF(AS350=AS411,0,AS350)","v":0},{"$f":"IF(AT350=AT411,0,AT350)","v":0},{"$f":"IF(AU350=AU411,0,AU350)","v":0},{"$f":"IF(AV350=AV411,0,AV350)","v":0},{"$f":"IF(AW350=AW411,0,AW350)","v":0},{"$f":"IF(AX350=AX411,0,AX350)","v":0},{"$f":"IF(AY350=AY411,0,AY350)","v":0},{"$f":"IF(AZ350=AZ411,0,AZ350)","v":0},{"$f":"IF(BA350=BA411,0,BA350)","v":0},{"$f":"IF(BB350=BB411,0,BB350)","v":0},{"$f":"IF(BC350=BC411,0,BC350)","v":0},{"$f":"IF(BD350=BD411,0,BD350)","v":0},{"$f":"IF(BE350=BE411,0,BE350)","v":0},{"$f":"IF(BF350=BF411,0,BF350)","v":0},{"$f":"IF(BG350=BG411,0,BG350)","v":0},{"$f":"IF(BH350=BH411,0,BH350)","v":0},{"$f":"IF(BI350=BI411,0,BI350)","v":0},{"$f":"IF(BJ350=BJ411,0,BJ350)","v":0},{"$f":"IF(BK350=BK411,0,BK350)","v":0},{"$f":"IF(BL350=BL411,0,BL350)","v":0},{"$f":"IF(BM350=BM411,0,BM350)","v":0},{"$f":"IF(BN350=BN411,0,BN350)","v":0},{"$f":"IF(BO350=BO411,0,BO350)","v":0},{"$f":"IF(BP350=BP411,0,BP350)","v":0},{"$f":"IF(BQ350=BQ411,0,BQ350)","v":0},{"$f":"IF(BR350=BR411,0,BR350)","v":0},{"$f":"IF(BS350=BS411,0,BS350)","v":0},{"$f":"IF(BT350=BT411,0,BT350)","v":0},{"$f":"IF(BU350=BU411,0,BU350)","v":0},{"$f":"IF(BV350=BV411,0,BV350)","v":0},{"$f":"IF(BW350=BW411,0,BW350)","v":0},{"$f":"IF(BX350=BX411,0,BX350)","v":0},{"$f":"IF(BY350=BY411,0,BY350)","v":0},{"$f":"IF(BZ350=BZ411,0,BZ350)","v":0},{"$f":"IF(CA350=CA411,0,CA350)","v":0},{"$f":"IF(CB350=CB411,0,CB350)","v":0},{"$f":"IF(CC350=CC411,0,CC350)","v":0},{"$f":"IF(CD350=CD411,0,CD350)","v":0},{"$f":"IF(CE350=CE411,0,CE350)","v":0},{"$f":"IF(CF350=CF411,0,CF350)","v":0},{"$f":"IF(CG350=CG411,0,CG350)","v":0},{"$f":"IF(CH350=CH411,0,CH350)","v":0},{"$f":"IF(CI350=CI411,0,CI350)","v":0},{"$f":"IF(CJ350=CJ411,0,CJ350)","v":0},{"$f":"IF(CK350=CK411,0,CK350)","v":0},{"$f":"IF(CL350=CL411,0,CL350)","v":0},{"$f":"IF(CM350=CM411,0,CM350)","v":0},{"$f":"IF(CN350=CN411,0,CN350)","v":0},{"$f":"IF(CO350=CO411,0,CO350)","v":0},{"$f":"IF(CP350=CP411,0,CP350)","v":0},{"$f":"IF(CQ350=CQ411,0,CQ350)","v":0},{"$f":"IF(CR350=CR411,0,CR350)","v":0},{"$f":"IF(CS350=CS411,0,CS350)","v":0},{"$f":"IF(CT350=CT411,0,CT350)","v":0},{"$f":"IF(CU350=CU411,0,CU350)","v":0},{"$f":"BJ411","v":0},{"$f":"BJ412","v":0},1]
[40,{"$f":"'RECOGIDA DATOS'!AG43","v":0},{"$f":"IF(B351=B411,0,B351)","v":0},{"$f":"IF(C351=C411,0,C351)","v":0},{"$f":"IF(D351=D411,0,D351)","v":0},{"$f":"IF(E351=E411,0,E351)","v":0},{"$f":"IF(F351=F411,0,F351)","v":0},{"$f":"IF(G351=G411,0,G351)","v":0},{"$f":"IF(H351=H411,0,H351)","v":0},{"$f":"IF(I351=I411,0,I351)","v":0},{"$f":"IF(J351=J411,0,J351)","v":0},{"$f":"IF(K351=K411,0,K351)","v":0},{"$f":"IF(L351=L411,0,L351)","v":0},{"$f":"IF(M351=M411,0,M351)","v":0},{"$f":"IF(N351=N411,0,N351)","v":0},{"$f":"IF(O351=O411,0,O351)","v":0},{"$f":"IF(P351=P411,0,P351)","v":0},{"$f":"IF(Q351=Q411,0,Q351)","v":0},{"$f":"IF(R351=R411,0,R351)","v":0},{"$f":"IF(S351=S411,0,S351)","v":0},{"$f":"IF(T351=T411,0,T351)","v":0},{"$f":"IF(U351=U411,0,U351)","v":0},{"$f":"IF(V351=V411,0,V351)","v":0},{"$f":"IF(W351=W411,0,W351)","v":0},{"$f":"IF(X351=X411,0,X351)","v":0},{"$f":"IF(Y351=Y411,0,Y351)","v":0},{"$f":"IF(Z351=Z411,0,Z351)","v":0},{"$f":"IF(AA351=AA411,0,AA351)","v":0},{"$f":"IF(AB351=AB411,0,AB351)","v":0},{"$f":"IF(AC351=AC411,0,AC351)","v":0},{"$f":"IF(AD351=AD411,0,AD351)","v":0},{"$f":"IF(AE351=AE411,0,AE351)","v":0},{"$f":"IF(AF351=AF411,0,AF351)","v":0},{"$f":"IF(AG351=AG411,0,AG351)","v":0},{"$f":"IF(AH351=AH411,0,AH351)","v":0},{"$f":"IF(AI351=AI411,0,AI351)","v":0},{"$f":"IF(AJ351=AJ411,0,AJ351)","v":0},{"$f":"IF(AK351=AK411,0,AK351)","v":0},{"$f":"IF(AL351=AL411,0,AL351)","v":0},{"$f":"IF(AM351=AM411,0,AM351)","v":0},{"$f":"IF(AN351=AN411,0,AN351)","v":0},{"$f":"IF(AO351=AO411,0,AO351)","v":0},{"$f":"IF(AP351=AP411,0,AP351)","v":0},{"$f":"IF(AQ351=AQ411,0,AQ351)","v":0},{"$f":"IF(AR351=AR411,0,AR351)","v":0},{"$f":"IF(AS351=AS411,0,AS351)","v":0},{"$f":"IF(AT351=AT411,0,AT351)","v":0},{"$f":"IF(AU351=AU411,0,AU351)","v":0},{"$f":"IF(AV351=AV411,0,AV351)","v":0},{"$f":"IF(AW351=AW411,0,AW351)","v":0},{"$f":"IF(AX351=AX411,0,AX351)","v":0},{"$f":"IF(AY351=AY411,0,AY351)","v":0},{"$f":"IF(AZ351=AZ411,0,AZ351)","v":0},{"$f":"IF(BA351=BA411,0,BA351)","v":0},{"$f":"IF(BB351=BB411,0,BB351)","v":0},{"$f":"IF(BC351=BC411,0,BC351)","v":0},{"$f":"IF(BD351=BD411,0,BD351)","v":0},{"$f":"IF(BE351=BE411,0,BE351)","v":0},{"$f":"IF(BF351=BF411,0,BF351)","v":0},{"$f":"IF(BG351=BG411,0,BG351)","v":0},{"$f":"IF(BH351=BH411,0,BH351)","v":0},{"$f":"IF(BI351=BI411,0,BI351)","v":0},{"$f":"IF(BJ351=BJ411,0,BJ351)","v":0},{"$f":"IF(BK351=BK411,0,BK351)","v":0},{"$f":"IF(BL351=BL411,0,BL351)","v":0},{"$f":"IF(BM351=BM411,0,BM351)","v":0},{"$f":"IF(BN351=BN411,0,BN351)","v":0},{"$f":"IF(BO351=BO411,0,BO351)","v":0},{"$f":"IF(BP351=BP411,0,BP351)","v":0},{"$f":"IF(BQ351=BQ411,0,BQ351)","v":0},{"$f":"IF(BR351=BR411,0,BR351)","v":0},{"$f":"IF(BS351=BS411,0,BS351)","v":0},{"$f":"IF(BT351=BT411,0,BT351)","v":0},{"$f":"IF(BU351=BU411,0,BU351)","v":0},{"$f":"IF(BV351=BV411,0,BV351)","v":0},{"$f":"IF(BW351=BW411,0,BW351)","v":0},{"$f":"IF(BX351=BX411,0,BX351)","v":0},{"$f":"IF(BY351=BY411,0,BY351)","v":0},{"$f":"IF(BZ351=BZ411,0,BZ351)","v":0},{"$f":"IF(CA351=CA411,0,CA351)","v":0},{"$f":"IF(CB351=CB411,0,CB351)","v":0},{"$f":"IF(CC351=CC411,0,CC351)","v":0},{"$f":"IF(CD351=CD411,0,CD351)","v":0},{"$f":"IF(CE351=CE411,0,CE351)","v":0},{"$f":"IF(CF351=CF411,0,CF351)","v":0},{"$f":"IF(CG351=CG411,0,CG351)","v":0},{"$f":"IF(CH351=CH411,0,CH351)","v":0},{"$f":"IF(CI351=CI411,0,CI351)","v":0},{"$f":"IF(CJ351=CJ411,0,CJ351)","v":0},{"$f":"IF(CK351=CK411,0,CK351)","v":0},{"$f":"IF(CL351=CL411,0,CL351)","v":0},{"$f":"IF(CM351=CM411,0,CM351)","v":0},{"$f":"IF(CN351=CN411,0,CN351)","v":0},{"$f":"IF(CO351=CO411,0,CO351)","v":0},{"$f":"IF(CP351=CP411,0,CP351)","v":0},{"$f":"IF(CQ351=CQ411,0,CQ351)","v":0},{"$f":"IF(CR351=CR411,0,CR351)","v":0},{"$f":"IF(CS351=CS411,0,CS351)","v":0},{"$f":"IF(CT351=CT411,0,CT351)","v":0},{"$f":"IF(CU351=CU411,0,CU351)","v":0},{"$f":"BI411","v":0},{"$f":"BI412","v":0},1]
[41,{"$f":"'RECOGIDA DATOS'!AG44","v":0},{"$f":"IF(B352=B411,0,B352)","v":0},{"$f":"IF(C352=C411,0,C352)","v":0},{"$f":"IF(D352=D411,0,D352)","v":0},{"$f":"IF(E352=E411,0,E352)","v":0},{"$f":"IF(F352=F411,0,F352)","v":0},{"$f":"IF(G352=G411,0,G352)","v":0},{"$f":"IF(H352=H411,0,H352)","v":0},{"$f":"IF(I352=I411,0,I352)","v":0},{"$f":"IF(J352=J411,0,J352)","v":0},{"$f":"IF(K352=K411,0,K352)","v":0},{"$f":"IF(L352=L411,0,L352)","v":0},{"$f":"IF(M352=M411,0,M352)","v":0},{"$f":"IF(N352=N411,0,N352)","v":0},{"$f":"IF(O352=O411,0,O352)","v":0},{"$f":"IF(P352=P411,0,P352)","v":0},{"$f":"IF(Q352=Q411,0,Q352)","v":0},{"$f":"IF(R352=R411,0,R352)","v":0},{"$f":"IF(S352=S411,0,S352)","v":0},{"$f":"IF(T352=T411,0,T352)","v":0},{"$f":"IF(U352=U411,0,U352)","v":0},{"$f":"IF(V352=V411,0,V352)","v":0},{"$f":"IF(W352=W411,0,W352)","v":0},{"$f":"IF(X352=X411,0,X352)","v":0},{"$f":"IF(Y352=Y411,0,Y352)","v":0},{"$f":"IF(Z352=Z411,0,Z352)","v":0},{"$f":"IF(AA352=AA411,0,AA352)","v":0},{"$f":"IF(AB352=AB411,0,AB352)","v":0},{"$f":"IF(AC352=AC411,0,AC352)","v":0},{"$f":"IF(AD352=AD411,0,AD352)","v":0},{"$f":"IF(AE352=AE411,0,AE352)","v":0},{"$f":"IF(AF352=AF411,0,AF352)","v":0},{"$f":"IF(AG352=AG411,0,AG352)","v":0},{"$f":"IF(AH352=AH411,0,AH352)","v":0},{"$f":"IF(AI352=AI411,0,AI352)","v":0},{"$f":"IF(AJ352=AJ411,0,AJ352)","v":0},{"$f":"IF(AK352=AK411,0,AK352)","v":0},{"$f":"IF(AL352=AL411,0,AL352)","v":0},{"$f":"IF(AM352=AM411,0,AM352)","v":0},{"$f":"IF(AN352=AN411,0,AN352)","v":0},{"$f":"IF(AO352=AO411,0,AO352)","v":0},{"$f":"IF(AP352=AP411,0,AP352)","v":0},{"$f":"IF(AQ352=AQ411,0,AQ352)","v":0},{"$f":"IF(AR352=AR411,0,AR352)","v":0},{"$f":"IF(AS352=AS411,0,AS352)","v":0},{"$f":"IF(AT352=AT411,0,AT352)","v":0},{"$f":"IF(AU352=AU411,0,AU352)","v":0},{"$f":"IF(AV352=AV411,0,AV352)","v":0},{"$f":"IF(AW352=AW411,0,AW352)","v":0},{"$f":"IF(AX352=AX411,0,AX352)","v":0},{"$f":"IF(AY352=AY411,0,AY352)","v":0},{"$f":"IF(AZ352=AZ411,0,AZ352)","v":0},{"$f":"IF(BA352=BA411,0,BA352)","v":0},{"$f":"IF(BB352=BB411,0,BB352)","v":0},{"$f":"IF(BC352=BC411,0,BC352)","v":0},{"$f":"IF(BD352=BD411,0,BD352)","v":0},{"$f":"IF(BE352=BE411,0,BE352)","v":0},{"$f":"IF(BF352=BF411,0,BF352)","v":0},{"$f":"IF(BG352=BG411,0,BG352)","v":0},{"$f":"IF(BH352=BH411,0,BH352)","v":0},{"$f":"IF(BI352=BI411,0,BI352)","v":0},{"$f":"IF(BJ352=BJ411,0,BJ352)","v":0},{"$f":"IF(BK352=BK411,0,BK352)","v":0},{"$f":"IF(BL352=BL411,0,BL352)","v":0},{"$f":"IF(BM352=BM411,0,BM352)","v":0},{"$f":"IF(BN352=BN411,0,BN352)","v":0},{"$f":"IF(BO352=BO411,0,BO352)","v":0},{"$f":"IF(BP352=BP411,0,BP352)","v":0},{"$f":"IF(BQ352=BQ411,0,BQ352)","v":0},{"$f":"IF(BR352=BR411,0,BR352)","v":0},{"$f":"IF(BS352=BS411,0,BS352)","v":0},{"$f":"IF(BT352=BT411,0,BT352)","v":0},{"$f":"IF(BU352=BU411,0,BU352)","v":0},{"$f":"IF(BV352=BV411,0,BV352)","v":0},{"$f":"IF(BW352=BW411,0,BW352)","v":0},{"$f":"IF(BX352=BX411,0,BX352)","v":0},{"$f":"IF(BY352=BY411,0,BY352)","v":0},{"$f":"IF(BZ352=BZ411,0,BZ352)","v":0},{"$f":"IF(CA352=CA411,0,CA352)","v":0},{"$f":"IF(CB352=CB411,0,CB352)","v":0},{"$f":"IF(CC352=CC411,0,CC352)","v":0},{"$f":"IF(CD352=CD411,0,CD352)","v":0},{"$f":"IF(CE352=CE411,0,CE352)","v":0},{"$f":"IF(CF352=CF411,0,CF352)","v":0},{"$f":"IF(CG352=CG411,0,CG352)","v":0},{"$f":"IF(CH352=CH411,0,CH352)","v":0},{"$f":"IF(CI352=CI411,0,CI352)","v":0},{"$f":"IF(CJ352=CJ411,0,CJ352)","v":0},{"$f":"IF(CK352=CK411,0,CK352)","v":0},{"$f":"IF(CL352=CL411,0,CL352)","v":0},{"$f":"IF(CM352=CM411,0,CM352)","v":0},{"$f":"IF(CN352=CN411,0,CN352)","v":0},{"$f":"IF(CO352=CO411,0,CO352)","v":0},{"$f":"IF(CP352=CP411,0,CP352)","v":0},{"$f":"IF(CQ352=CQ411,0,CQ352)","v":0},{"$f":"IF(CR352=CR411,0,CR352)","v":0},{"$f":"IF(CS352=CS411,0,CS352)","v":0},{"$f":"IF(CT352=CT411,0,CT352)","v":0},{"$f":"IF(CU352=CU411,0,CU352)","v":0},{"$f":"BH411","v":0},{"$f":"BH412","v":0},1]
[42,{"$f":"'RECOGIDA DATOS'!AG45","v":0},{"$f":"IF(B353=B411,0,B353)","v":0},{"$f":"IF(C353=C411,0,C353)","v":0},{"$f":"IF(D353=D411,0,D353)","v":0},{"$f":"IF(E353=E411,0,E353)","v":0},{"$f":"IF(F353=F411,0,F353)","v":0},{"$f":"IF(G353=G411,0,G353)","v":0},{"$f":"IF(H353=H411,0,H353)","v":0},{"$f":"IF(I353=I411,0,I353)","v":0},{"$f":"IF(J353=J411,0,J353)","v":0},{"$f":"IF(K353=K411,0,K353)","v":0},{"$f":"IF(L353=L411,0,L353)","v":0},{"$f":"IF(M353=M411,0,M353)","v":0},{"$f":"IF(N353=N411,0,N353)","v":0},{"$f":"IF(O353=O411,0,O353)","v":0},{"$f":"IF(P353=P411,0,P353)","v":0},{"$f":"IF(Q353=Q411,0,Q353)","v":0},{"$f":"IF(R353=R411,0,R353)","v":0},{"$f":"IF(S353=S411,0,S353)","v":0},{"$f":"IF(T353=T411,0,T353)","v":0},{"$f":"IF(U353=U411,0,U353)","v":0},{"$f":"IF(V353=V411,0,V353)","v":0},{"$f":"IF(W353=W411,0,W353)","v":0},{"$f":"IF(X353=X411,0,X353)","v":0},{"$f":"IF(Y353=Y411,0,Y353)","v":0},{"$f":"IF(Z353=Z411,0,Z353)","v":0},{"$f":"IF(AA353=AA411,0,AA353)","v":0},{"$f":"IF(AB353=AB411,0,AB353)","v":0},{"$f":"IF(AC353=AC411,0,AC353)","v":0},{"$f":"IF(AD353=AD411,0,AD353)","v":0},{"$f":"IF(AE353=AE411,0,AE353)","v":0},{"$f":"IF(AF353=AF411,0,AF353)","v":0},{"$f":"IF(AG353=AG411,0,AG353)","v":0},{"$f":"IF(AH353=AH411,0,AH353)","v":0},{"$f":"IF(AI353=AI411,0,AI353)","v":0},{"$f":"IF(AJ353=AJ411,0,AJ353)","v":0},{"$f":"IF(AK353=AK411,0,AK353)","v":0},{"$f":"IF(AL353=AL411,0,AL353)","v":0},{"$f":"IF(AM353=AM411,0,AM353)","v":0},{"$f":"IF(AN353=AN411,0,AN353)","v":0},{"$f":"IF(AO353=AO411,0,AO353)","v":0},{"$f":"IF(AP353=AP411,0,AP353)","v":0},{"$f":"IF(AQ353=AQ411,0,AQ353)","v":0},{"$f":"IF(AR353=AR411,0,AR353)","v":0},{"$f":"IF(AS353=AS411,0,AS353)","v":0},{"$f":"IF(AT353=AT411,0,AT353)","v":0},{"$f":"IF(AU353=AU411,0,AU353)","v":0},{"$f":"IF(AV353=AV411,0,AV353)","v":0},{"$f":"IF(AW353=AW411,0,AW353)","v":0},{"$f":"IF(AX353=AX411,0,AX353)","v":0},{"$f":"IF(AY353=AY411,0,AY353)","v":0},{"$f":"IF(AZ353=AZ411,0,AZ353)","v":0},{"$f":"IF(BA353=BA411,0,BA353)","v":0},{"$f":"IF(BB353=BB411,0,BB353)","v":0},{"$f":"IF(BC353=BC411,0,BC353)","v":0},{"$f":"IF(BD353=BD411,0,BD353)","v":0},{"$f":"IF(BE353=BE411,0,BE353)","v":0},{"$f":"IF(BF353=BF411,0,BF353)","v":0},{"$f":"IF(BG353=BG411,0,BG353)","v":0},{"$f":"IF(BH353=BH411,0,BH353)","v":0},{"$f":"IF(BI353=BI411,0,BI353)","v":0},{"$f":"IF(BJ353=BJ411,0,BJ353)","v":0},{"$f":"IF(BK353=BK411,0,BK353)","v":0},{"$f":"IF(BL353=BL411,0,BL353)","v":0},{"$f":"IF(BM353=BM411,0,BM353)","v":0},{"$f":"IF(BN353=BN411,0,BN353)","v":0},{"$f":"IF(BO353=BO411,0,BO353)","v":0},{"$f":"IF(BP353=BP411,0,BP353)","v":0},{"$f":"IF(BQ353=BQ411,0,BQ353)","v":0},{"$f":"IF(BR353=BR411,0,BR353)","v":0},{"$f":"IF(BS353=BS411,0,BS353)","v":0},{"$f":"IF(BT353=BT411,0,BT353)","v":0},{"$f":"IF(BU353=BU411,0,BU353)","v":0},{"$f":"IF(BV353=BV411,0,BV353)","v":0},{"$f":"IF(BW353=BW411,0,BW353)","v":0},{"$f":"IF(BX353=BX411,0,BX353)","v":0},{"$f":"IF(BY353=BY411,0,BY353)","v":0},{"$f":"IF(BZ353=BZ411,0,BZ353)","v":0},{"$f":"IF(CA353=CA411,0,CA353)","v":0},{"$f":"IF(CB353=CB411,0,CB353)","v":0},{"$f":"IF(CC353=CC411,0,CC353)","v":0},{"$f":"IF(CD353=CD411,0,CD353)","v":0},{"$f":"IF(CE353=CE411,0,CE353)","v":0},{"$f":"IF(CF353=CF411,0,CF353)","v":0},{"$f":"IF(CG353=CG411,0,CG353)","v":0},{"$f":"IF(CH353=CH411,0,CH353)","v":0},{"$f":"IF(CI353=CI411,0,CI353)","v":0},{"$f":"IF(CJ353=CJ411,0,CJ353)","v":0},{"$f":"IF(CK353=CK411,0,CK353)","v":0},{"$f":"IF(CL353=CL411,0,CL353)","v":0},{"$f":"IF(CM353=CM411,0,CM353)","v":0},{"$f":"IF(CN353=CN411,0,CN353)","v":0},{"$f":"IF(CO353=CO411,0,CO353)","v":0},{"$f":"IF(CP353=CP411,0,CP353)","v":0},{"$f":"IF(CQ353=CQ411,0,CQ353)","v":0},{"$f":"IF(CR353=CR411,0,CR353)","v":0},{"$f":"IF(CS353=CS411,0,CS353)","v":0},{"$f":"IF(CT353=CT411,0,CT353)","v":0},{"$f":"IF(CU353=CU411,0,CU353)","v":0},{"$f":"BG411","v":0},{"$f":"BG412","v":0},1]
[43,{"$f":"'RECOGIDA DATOS'!AG46","v":0},{"$f":"IF(B354=B411,0,B354)","v":0},{"$f":"IF(C354=C411,0,C354)","v":0},{"$f":"IF(D354=D411,0,D354)","v":0},{"$f":"IF(E354=E411,0,E354)","v":0},{"$f":"IF(F354=F411,0,F354)","v":0},{"$f":"IF(G354=G411,0,G354)","v":0},{"$f":"IF(H354=H411,0,H354)","v":0},{"$f":"IF(I354=I411,0,I354)","v":0},{"$f":"IF(J354=J411,0,J354)","v":0},{"$f":"IF(K354=K411,0,K354)","v":0},{"$f":"IF(L354=L411,0,L354)","v":0},{"$f":"IF(M354=M411,0,M354)","v":0},{"$f":"IF(N354=N411,0,N354)","v":0},{"$f":"IF(O354=O411,0,O354)","v":0},{"$f":"IF(P354=P411,0,P354)","v":0},{"$f":"IF(Q354=Q411,0,Q354)","v":0},{"$f":"IF(R354=R411,0,R354)","v":0},{"$f":"IF(S354=S411,0,S354)","v":0},{"$f":"IF(T354=T411,0,T354)","v":0},{"$f":"IF(U354=U411,0,U354)","v":0},{"$f":"IF(V354=V411,0,V354)","v":0},{"$f":"IF(W354=W411,0,W354)","v":0},{"$f":"IF(X354=X411,0,X354)","v":0},{"$f":"IF(Y354=Y411,0,Y354)","v":0},{"$f":"IF(Z354=Z411,0,Z354)","v":0},{"$f":"IF(AA354=AA411,0,AA354)","v":0},{"$f":"IF(AB354=AB411,0,AB354)","v":0},{"$f":"IF(AC354=AC411,0,AC354)","v":0},{"$f":"IF(AD354=AD411,0,AD354)","v":0},{"$f":"IF(AE354=AE411,0,AE354)","v":0},{"$f":"IF(AF354=AF411,0,AF354)","v":0},{"$f":"IF(AG354=AG411,0,AG354)","v":0},{"$f":"IF(AH354=AH411,0,AH354)","v":0},{"$f":"IF(AI354=AI411,0,AI354)","v":0},{"$f":"IF(AJ354=AJ411,0,AJ354)","v":0},{"$f":"IF(AK354=AK411,0,AK354)","v":0},{"$f":"IF(AL354=AL411,0,AL354)","v":0},{"$f":"IF(AM354=AM411,0,AM354)","v":0},{"$f":"IF(AN354=AN411,0,AN354)","v":0},{"$f":"IF(AO354=AO411,0,AO354)","v":0},{"$f":"IF(AP354=AP411,0,AP354)","v":0},{"$f":"IF(AQ354=AQ411,0,AQ354)","v":0},{"$f":"IF(AR354=AR411,0,AR354)","v":0},{"$f":"IF(AS354=AS411,0,AS354)","v":0},{"$f":"IF(AT354=AT411,0,AT354)","v":0},{"$f":"IF(AU354=AU411,0,AU354)","v":0},{"$f":"IF(AV354=AV411,0,AV354)","v":0},{"$f":"IF(AW354=AW411,0,AW354)","v":0},{"$f":"IF(AX354=AX411,0,AX354)","v":0},{"$f":"IF(AY354=AY411,0,AY354)","v":0},{"$f":"IF(AZ354=AZ411,0,AZ354)","v":0},{"$f":"IF(BA354=BA411,0,BA354)","v":0},{"$f":"IF(BB354=BB411,0,BB354)","v":0},{"$f":"IF(BC354=BC411,0,BC354)","v":0},{"$f":"IF(BD354=BD411,0,BD354)","v":0},{"$f":"IF(BE354=BE411,0,BE354)","v":0},{"$f":"IF(BF354=BF411,0,BF354)","v":0},{"$f":"IF(BG354=BG411,0,BG354)","v":0},{"$f":"IF(BH354=BH411,0,BH354)","v":0},{"$f":"IF(BI354=BI411,0,BI354)","v":0},{"$f":"IF(BJ354=BJ411,0,BJ354)","v":0},{"$f":"IF(BK354=BK411,0,BK354)","v":0},{"$f":"IF(BL354=BL411,0,BL354)","v":0},{"$f":"IF(BM354=BM411,0,BM354)","v":0},{"$f":"IF(BN354=BN411,0,BN354)","v":0},{"$f":"IF(BO354=BO411,0,BO354)","v":0},{"$f":"IF(BP354=BP411,0,BP354)","v":0},{"$f":"IF(BQ354=BQ411,0,BQ354)","v":0},{"$f":"IF(BR354=BR411,0,BR354)","v":0},{"$f":"IF(BS354=BS411,0,BS354)","v":0},{"$f":"IF(BT354=BT411,0,BT354)","v":0},{"$f":"IF(BU354=BU411,0,BU354)","v":0},{"$f":"IF(BV354=BV411,0,BV354)","v":0},{"$f":"IF(BW354=BW411,0,BW354)","v":0},{"$f":"IF(BX354=BX411,0,BX354)","v":0},{"$f":"IF(BY354=BY411,0,BY354)","v":0},{"$f":"IF(BZ354=BZ411,0,BZ354)","v":0},{"$f":"IF(CA354=CA411,0,CA354)","v":0},{"$f":"IF(CB354=CB411,0,CB354)","v":0},{"$f":"IF(CC354=CC411,0,CC354)","v":0},{"$f":"IF(CD354=CD411,0,CD354)","v":0},{"$f":"IF(CE354=CE411,0,CE354)","v":0},{"$f":"IF(CF354=CF411,0,CF354)","v":0},{"$f":"IF(CG354=CG411,0,CG354)","v":0},{"$f":"IF(CH354=CH411,0,CH354)","v":0},{"$f":"IF(CI354=CI411,0,CI354)","v":0},{"$f":"IF(CJ354=CJ411,0,CJ354)","v":0},{"$f":"IF(CK354=CK411,0,CK354)","v":0},{"$f":"IF(CL354=CL411,0,CL354)","v":0},{"$f":"IF(CM354=CM411,0,CM354)","v":0},{"$f":"IF(CN354=CN411,0,CN354)","v":0},{"$f":"IF(CO354=CO411,0,CO354)","v":0},{"$f":"IF(CP354=CP411,0,CP354)","v":0},{"$f":"IF(CQ354=CQ411,0,CQ354)","v":0},{"$f":"IF(CR354=CR411,0,CR354)","v":0},{"$f":"IF(CS354=CS411,0,CS354)","v":0},{"$f":"IF(CT354=CT411,0,CT354)","v":0},{"$f":"IF(CU354=CU411,0,CU354)","v":0},{"$f":"BF411","v":0},{"$f":"BF412","v":0},1]
[44,{"$f":"'RECOGIDA DATOS'!AG47","v":0},{"$f":"IF(B355=B411,0,B355)","v":0},{"$f":"IF(C355=C411,0,C355)","v":0},{"$f":"IF(D355=D411,0,D355)","v":0},{"$f":"IF(E355=E411,0,E355)","v":0},{"$f":"IF(F355=F411,0,F355)","v":0},{"$f":"IF(G355=G411,0,G355)","v":0},{"$f":"IF(H355=H411,0,H355)","v":0},{"$f":"IF(I355=I411,0,I355)","v":0},{"$f":"IF(J355=J411,0,J355)","v":0},{"$f":"IF(K355=K411,0,K355)","v":0},{"$f":"IF(L355=L411,0,L355)","v":0},{"$f":"IF(M355=M411,0,M355)","v":0},{"$f":"IF(N355=N411,0,N355)","v":0},{"$f":"IF(O355=O411,0,O355)","v":0},{"$f":"IF(P355=P411,0,P355)","v":0},{"$f":"IF(Q355=Q411,0,Q355)","v":0},{"$f":"IF(R355=R411,0,R355)","v":0},{"$f":"IF(S355=S411,0,S355)","v":0},{"$f":"IF(T355=T411,0,T355)","v":0},{"$f":"IF(U355=U411,0,U355)","v":0},{"$f":"IF(V355=V411,0,V355)","v":0},{"$f":"IF(W355=W411,0,W355)","v":0},{"$f":"IF(X355=X411,0,X355)","v":0},{"$f":"IF(Y355=Y411,0,Y355)","v":0},{"$f":"IF(Z355=Z411,0,Z355)","v":0},{"$f":"IF(AA355=AA411,0,AA355)","v":0},{"$f":"IF(AB355=AB411,0,AB355)","v":0},{"$f":"IF(AC355=AC411,0,AC355)","v":0},{"$f":"IF(AD355=AD411,0,AD355)","v":0},{"$f":"IF(AE355=AE411,0,AE355)","v":0},{"$f":"IF(AF355=AF411,0,AF355)","v":0},{"$f":"IF(AG355=AG411,0,AG355)","v":0},{"$f":"IF(AH355=AH411,0,AH355)","v":0},{"$f":"IF(AI355=AI411,0,AI355)","v":0},{"$f":"IF(AJ355=AJ411,0,AJ355)","v":0},{"$f":"IF(AK355=AK411,0,AK355)","v":0},{"$f":"IF(AL355=AL411,0,AL355)","v":0},{"$f":"IF(AM355=AM411,0,AM355)","v":0},{"$f":"IF(AN355=AN411,0,AN355)","v":0},{"$f":"IF(AO355=AO411,0,AO355)","v":0},{"$f":"IF(AP355=AP411,0,AP355)","v":0},{"$f":"IF(AQ355=AQ411,0,AQ355)","v":0},{"$f":"IF(AR355=AR411,0,AR355)","v":0},{"$f":"IF(AS355=AS411,0,AS355)","v":0},{"$f":"IF(AT355=AT411,0,AT355)","v":0},{"$f":"IF(AU355=AU411,0,AU355)","v":0},{"$f":"IF(AV355=AV411,0,AV355)","v":0},{"$f":"IF(AW355=AW411,0,AW355)","v":0},{"$f":"IF(AX355=AX411,0,AX355)","v":0},{"$f":"IF(AY355=AY411,0,AY355)","v":0},{"$f":"IF(AZ355=AZ411,0,AZ355)","v":0},{"$f":"IF(BA355=BA411,0,BA355)","v":0},{"$f":"IF(BB355=BB411,0,BB355)","v":0},{"$f":"IF(BC355=BC411,0,BC355)","v":0},{"$f":"IF(BD355=BD411,0,BD355)","v":0},{"$f":"IF(BE355=BE411,0,BE355)","v":0},{"$f":"IF(BF355=BF411,0,BF355)","v":0},{"$f":"IF(BG355=BG411,0,BG355)","v":0},{"$f":"IF(BH355=BH411,0,BH355)","v":0},{"$f":"IF(BI355=BI411,0,BI355)","v":0},{"$f":"IF(BJ355=BJ411,0,BJ355)","v":0},{"$f":"IF(BK355=BK411,0,BK355)","v":0},{"$f":"IF(BL355=BL411,0,BL355)","v":0},{"$f":"IF(BM355=BM411,0,BM355)","v":0},{"$f":"IF(BN355=BN411,0,BN355)","v":0},{"$f":"IF(BO355=BO411,0,BO355)","v":0},{"$f":"IF(BP355=BP411,0,BP355)","v":0},{"$f":"IF(BQ355=BQ411,0,BQ355)","v":0},{"$f":"IF(BR355=BR411,0,BR355)","v":0},{"$f":"IF(BS355=BS411,0,BS355)","v":0},{"$f":"IF(BT355=BT411,0,BT355)","v":0},{"$f":"IF(BU355=BU411,0,BU355)","v":0},{"$f":"IF(BV355=BV411,0,BV355)","v":0},{"$f":"IF(BW355=BW411,0,BW355)","v":0},{"$f":"IF(BX355=BX411,0,BX355)","v":0},{"$f":"IF(BY355=BY411,0,BY355)","v":0},{"$f":"IF(BZ355=BZ411,0,BZ355)","v":0},{"$f":"IF(CA355=CA411,0,CA355)","v":0},{"$f":"IF(CB355=CB411,0,CB355)","v":0},{"$f":"IF(CC355=CC411,0,CC355)","v":0},{"$f":"IF(CD355=CD411,0,CD355)","v":0},{"$f":"IF(CE355=CE411,0,CE355)","v":0},{"$f":"IF(CF355=CF411,0,CF355)","v":0},{"$f":"IF(CG355=CG411,0,CG355)","v":0},{"$f":"IF(CH355=CH411,0,CH355)","v":0},{"$f":"IF(CI355=CI411,0,CI355)","v":0},{"$f":"IF(CJ355=CJ411,0,CJ355)","v":0},{"$f":"IF(CK355=CK411,0,CK355)","v":0},{"$f":"IF(CL355=CL411,0,CL355)","v":0},{"$f":"IF(CM355=CM411,0,CM355)","v":0},{"$f":"IF(CN355=CN411,0,CN355)","v":0},{"$f":"IF(CO355=CO411,0,CO355)","v":0},{"$f":"IF(CP355=CP411,0,CP355)","v":0},{"$f":"IF(CQ355=CQ411,0,CQ355)","v":0},{"$f":"IF(CR355=CR411,0,CR355)","v":0},{"$f":"IF(CS355=CS411,0,CS355)","v":0},{"$f":"IF(CT355=CT411,0,CT355)","v":0},{"$f":"IF(CU355=CU411,0,CU355)","v":0},{"$f":"BE411","v":0},{"$f":"BE412","v":0},1]
[45,{"$f":"'RECOGIDA DATOS'!AG48","v":0},{"$f":"IF(B356=B411,0,B356)","v":0},{"$f":"IF(C356=C411,0,C356)","v":0},{"$f":"IF(D356=D411,0,D356)","v":0},{"$f":"IF(E356=E411,0,E356)","v":0},{"$f":"IF(F356=F411,0,F356)","v":0},{"$f":"IF(G356=G411,0,G356)","v":0},{"$f":"IF(H356=H411,0,H356)","v":0},{"$f":"IF(I356=I411,0,I356)","v":0},{"$f":"IF(J356=J411,0,J356)","v":0},{"$f":"IF(K356=K411,0,K356)","v":0},{"$f":"IF(L356=L411,0,L356)","v":0},{"$f":"IF(M356=M411,0,M356)","v":0},{"$f":"IF(N356=N411,0,N356)","v":0},{"$f":"IF(O356=O411,0,O356)","v":0},{"$f":"IF(P356=P411,0,P356)","v":0},{"$f":"IF(Q356=Q411,0,Q356)","v":0},{"$f":"IF(R356=R411,0,R356)","v":0},{"$f":"IF(S356=S411,0,S356)","v":0},{"$f":"IF(T356=T411,0,T356)","v":0},{"$f":"IF(U356=U411,0,U356)","v":0},{"$f":"IF(V356=V411,0,V356)","v":0},{"$f":"IF(W356=W411,0,W356)","v":0},{"$f":"IF(X356=X411,0,X356)","v":0},{"$f":"IF(Y356=Y411,0,Y356)","v":0},{"$f":"IF(Z356=Z411,0,Z356)","v":0},{"$f":"IF(AA356=AA411,0,AA356)","v":0},{"$f":"IF(AB356=AB411,0,AB356)","v":0},{"$f":"IF(AC356=AC411,0,AC356)","v":0},{"$f":"IF(AD356=AD411,0,AD356)","v":0},{"$f":"IF(AE356=AE411,0,AE356)","v":0},{"$f":"IF(AF356=AF411,0,AF356)","v":0},{"$f":"IF(AG356=AG411,0,AG356)","v":0},{"$f":"IF(AH356=AH411,0,AH356)","v":0},{"$f":"IF(AI356=AI411,0,AI356)","v":0},{"$f":"IF(AJ356=AJ411,0,AJ356)","v":0},{"$f":"IF(AK356=AK411,0,AK356)","v":0},{"$f":"IF(AL356=AL411,0,AL356)","v":0},{"$f":"IF(AM356=AM411,0,AM356)","v":0},{"$f":"IF(AN356=AN411,0,AN356)","v":0},{"$f":"IF(AO356=AO411,0,AO356)","v":0},{"$f":"IF(AP356=AP411,0,AP356)","v":0},{"$f":"IF(AQ356=AQ411,0,AQ356)","v":0},{"$f":"IF(AR356=AR411,0,AR356)","v":0},{"$f":"IF(AS356=AS411,0,AS356)","v":0},{"$f":"IF(AT356=AT411,0,AT356)","v":0},{"$f":"IF(AU356=AU411,0,AU356)","v":0},{"$f":"IF(AV356=AV411,0,AV356)","v":0},{"$f":"IF(AW356=AW411,0,AW356)","v":0},{"$f":"IF(AX356=AX411,0,AX356)","v":0},{"$f":"IF(AY356=AY411,0,AY356)","v":0},{"$f":"IF(AZ356=AZ411,0,AZ356)","v":0},{"$f":"IF(BA356=BA411,0,BA356)","v":0},{"$f":"IF(BB356=BB411,0,BB356)","v":0},{"$f":"IF(BC356=BC411,0,BC356)","v":0},{"$f":"IF(BD356=BD411,0,BD356)","v":0},{"$f":"IF(BE356=BE411,0,BE356)","v":0},{"$f":"IF(BF356=BF411,0,BF356)","v":0},{"$f":"IF(BG356=BG411,0,BG356)","v":0},{"$f":"IF(BH356=BH411,0,BH356)","v":0},{"$f":"IF(BI356=BI411,0,BI356)","v":0},{"$f":"IF(BJ356=BJ411,0,BJ356)","v":0},{"$f":"IF(BK356=BK411,0,BK356)","v":0},{"$f":"IF(BL356=BL411,0,BL356)","v":0},{"$f":"IF(BM356=BM411,0,BM356)","v":0},{"$f":"IF(BN356=BN411,0,BN356)","v":0},{"$f":"IF(BO356=BO411,0,BO356)","v":0},{"$f":"IF(BP356=BP411,0,BP356)","v":0},{"$f":"IF(BQ356=BQ411,0,BQ356)","v":0},{"$f":"IF(BR356=BR411,0,BR356)","v":0},{"$f":"IF(BS356=BS411,0,BS356)","v":0},{"$f":"IF(BT356=BT411,0,BT356)","v":0},{"$f":"IF(BU356=BU411,0,BU356)","v":0},{"$f":"IF(BV356=BV411,0,BV356)","v":0},{"$f":"IF(BW356=BW411,0,BW356)","v":0},{"$f":"IF(BX356=BX411,0,BX356)","v":0},{"$f":"IF(BY356=BY411,0,BY356)","v":0},{"$f":"IF(BZ356=BZ411,0,BZ356)","v":0},{"$f":"IF(CA356=CA411,0,CA356)","v":0},{"$f":"IF(CB356=CB411,0,CB356)","v":0},{"$f":"IF(CC356=CC411,0,CC356)","v":0},{"$f":"IF(CD356=CD411,0,CD356)","v":0},{"$f":"IF(CE356=CE411,0,CE356)","v":0},{"$f":"IF(CF356=CF411,0,CF356)","v":0},{"$f":"IF(CG356=CG411,0,CG356)","v":0},{"$f":"IF(CH356=CH411,0,CH356)","v":0},{"$f":"IF(CI356=CI411,0,CI356)","v":0},{"$f":"IF(CJ356=CJ411,0,CJ356)","v":0},{"$f":"IF(CK356=CK411,0,CK356)","v":0},{"$f":"IF(CL356=CL411,0,CL356)","v":0},{"$f":"IF(CM356=CM411,0,CM356)","v":0},{"$f":"IF(CN356=CN411,0,CN356)","v":0},{"$f":"IF(CO356=CO411,0,CO356)","v":0},{"$f":"IF(CP356=CP411,0,CP356)","v":0},{"$f":"IF(CQ356=CQ411,0,CQ356)","v":0},{"$f":"IF(CR356=CR411,0,CR356)","v":0},{"$f":"IF(CS356=CS411,0,CS356)","v":0},{"$f":"IF(CT356=CT411,0,CT356)","v":0},{"$f":"IF(CU356=CU411,0,CU356)","v":0},{"$f":"BD411","v":0},{"$f":"BD412","v":0},1]
[46,{"$f":"'RECOGIDA DATOS'!AG49","v":0},{"$f":"IF(B357=B411,0,B357)","v":0},{"$f":"IF(C357=C411,0,C357)","v":0},{"$f":"IF(D357=D411,0,D357)","v":0},{"$f":"IF(E357=E411,0,E357)","v":0},{"$f":"IF(F357=F411,0,F357)","v":0},{"$f":"IF(G357=G411,0,G357)","v":0},{"$f":"IF(H357=H411,0,H357)","v":0},{"$f":"IF(I357=I411,0,I357)","v":0},{"$f":"IF(J357=J411,0,J357)","v":0},{"$f":"IF(K357=K411,0,K357)","v":0},{"$f":"IF(L357=L411,0,L357)","v":0},{"$f":"IF(M357=M411,0,M357)","v":0},{"$f":"IF(N357=N411,0,N357)","v":0},{"$f":"IF(O357=O411,0,O357)","v":0},{"$f":"IF(P357=P411,0,P357)","v":0},{"$f":"IF(Q357=Q411,0,Q357)","v":0},{"$f":"IF(R357=R411,0,R357)","v":0},{"$f":"IF(S357=S411,0,S357)","v":0},{"$f":"IF(T357=T411,0,T357)","v":0},{"$f":"IF(U357=U411,0,U357)","v":0},{"$f":"IF(V357=V411,0,V357)","v":0},{"$f":"IF(W357=W411,0,W357)","v":0},{"$f":"IF(X357=X411,0,X357)","v":0},{"$f":"IF(Y357=Y411,0,Y357)","v":0},{"$f":"IF(Z357=Z411,0,Z357)","v":0},{"$f":"IF(AA357=AA411,0,AA357)","v":0},{"$f":"IF(AB357=AB411,0,AB357)","v":0},{"$f":"IF(AC357=AC411,0,AC357)","v":0},{"$f":"IF(AD357=AD411,0,AD357)","v":0},{"$f":"IF(AE357=AE411,0,AE357)","v":0},{"$f":"IF(AF357=AF411,0,AF357)","v":0},{"$f":"IF(AG357=AG411,0,AG357)","v":0},{"$f":"IF(AH357=AH411,0,AH357)","v":0},{"$f":"IF(AI357=AI411,0,AI357)","v":0},{"$f":"IF(AJ357=AJ411,0,AJ357)","v":0},{"$f":"IF(AK357=AK411,0,AK357)","v":0},{"$f":"IF(AL357=AL411,0,AL357)","v":0},{"$f":"IF(AM357=AM411,0,AM357)","v":0},{"$f":"IF(AN357=AN411,0,AN357)","v":0},{"$f":"IF(AO357=AO411,0,AO357)","v":0},{"$f":"IF(AP357=AP411,0,AP357)","v":0},{"$f":"IF(AQ357=AQ411,0,AQ357)","v":0},{"$f":"IF(AR357=AR411,0,AR357)","v":0},{"$f":"IF(AS357=AS411,0,AS357)","v":0},{"$f":"IF(AT357=AT411,0,AT357)","v":0},{"$f":"IF(AU357=AU411,0,AU357)","v":0},{"$f":"IF(AV357=AV411,0,AV357)","v":0},{"$f":"IF(AW357=AW411,0,AW357)","v":0},{"$f":"IF(AX357=AX411,0,AX357)","v":0},{"$f":"IF(AY357=AY411,0,AY357)","v":0},{"$f":"IF(AZ357=AZ411,0,AZ357)","v":0},{"$f":"IF(BA357=BA411,0,BA357)","v":0},{"$f":"IF(BB357=BB411,0,BB357)","v":0},{"$f":"IF(BC357=BC411,0,BC357)","v":0},{"$f":"IF(BD357=BD411,0,BD357)","v":0},{"$f":"IF(BE357=BE411,0,BE357)","v":0},{"$f":"IF(BF357=BF411,0,BF357)","v":0},{"$f":"IF(BG357=BG411,0,BG357)","v":0},{"$f":"IF(BH357=BH411,0,BH357)","v":0},{"$f":"IF(BI357=BI411,0,BI357)","v":0},{"$f":"IF(BJ357=BJ411,0,BJ357)","v":0},{"$f":"IF(BK357=BK411,0,BK357)","v":0},{"$f":"IF(BL357=BL411,0,BL357)","v":0},{"$f":"IF(BM357=BM411,0,BM357)","v":0},{"$f":"IF(BN357=BN411,0,BN357)","v":0},{"$f":"IF(BO357=BO411,0,BO357)","v":0},{"$f":"IF(BP357=BP411,0,BP357)","v":0},{"$f":"IF(BQ357=BQ411,0,BQ357)","v":0},{"$f":"IF(BR357=BR411,0,BR357)","v":0},{"$f":"IF(BS357=BS411,0,BS357)","v":0},{"$f":"IF(BT357=BT411,0,BT357)","v":0},{"$f":"IF(BU357=BU411,0,BU357)","v":0},{"$f":"IF(BV357=BV411,0,BV357)","v":0},{"$f":"IF(BW357=BW411,0,BW357)","v":0},{"$f":"IF(BX357=BX411,0,BX357)","v":0},{"$f":"IF(BY357=BY411,0,BY357)","v":0},{"$f":"IF(BZ357=BZ411,0,BZ357)","v":0},{"$f":"IF(CA357=CA411,0,CA357)","v":0},{"$f":"IF(CB357=CB411,0,CB357)","v":0},{"$f":"IF(CC357=CC411,0,CC357)","v":0},{"$f":"IF(CD357=CD411,0,CD357)","v":0},{"$f":"IF(CE357=CE411,0,CE357)","v":0},{"$f":"IF(CF357=CF411,0,CF357)","v":0},{"$f":"IF(CG357=CG411,0,CG357)","v":0},{"$f":"IF(CH357=CH411,0,CH357)","v":0},{"$f":"IF(CI357=CI411,0,CI357)","v":0},{"$f":"IF(CJ357=CJ411,0,CJ357)","v":0},{"$f":"IF(CK357=CK411,0,CK357)","v":0},{"$f":"IF(CL357=CL411,0,CL357)","v":0},{"$f":"IF(CM357=CM411,0,CM357)","v":0},{"$f":"IF(CN357=CN411,0,CN357)","v":0},{"$f":"IF(CO357=CO411,0,CO357)","v":0},{"$f":"IF(CP357=CP411,0,CP357)","v":0},{"$f":"IF(CQ357=CQ411,0,CQ357)","v":0},{"$f":"IF(CR357=CR411,0,CR357)","v":0},{"$f":"IF(CS357=CS411,0,CS357)","v":0},{"$f":"IF(CT357=CT411,0,CT357)","v":0},{"$f":"IF(CU357=CU411,0,CU357)","v":0},{"$f":"BC411","v":0},{"$f":"BC412","v":0},1]
[47,{"$f":"'RECOGIDA DATOS'!AG50","v":0},{"$f":"IF(B358=B411,0,B358)","v":0},{"$f":"IF(C358=C411,0,C358)","v":0},{"$f":"IF(D358=D411,0,D358)","v":0},{"$f":"IF(E358=E411,0,E358)","v":0},{"$f":"IF(F358=F411,0,F358)","v":0},{"$f":"IF(G358=G411,0,G358)","v":0},{"$f":"IF(H358=H411,0,H358)","v":0},{"$f":"IF(I358=I411,0,I358)","v":0},{"$f":"IF(J358=J411,0,J358)","v":0},{"$f":"IF(K358=K411,0,K358)","v":0},{"$f":"IF(L358=L411,0,L358)","v":0},{"$f":"IF(M358=M411,0,M358)","v":0},{"$f":"IF(N358=N411,0,N358)","v":0},{"$f":"IF(O358=O411,0,O358)","v":0},{"$f":"IF(P358=P411,0,P358)","v":0},{"$f":"IF(Q358=Q411,0,Q358)","v":0},{"$f":"IF(R358=R411,0,R358)","v":0},{"$f":"IF(S358=S411,0,S358)","v":0},{"$f":"IF(T358=T411,0,T358)","v":0},{"$f":"IF(U358=U411,0,U358)","v":0},{"$f":"IF(V358=V411,0,V358)","v":0},{"$f":"IF(W358=W411,0,W358)","v":0},{"$f":"IF(X358=X411,0,X358)","v":0},{"$f":"IF(Y358=Y411,0,Y358)","v":0},{"$f":"IF(Z358=Z411,0,Z358)","v":0},{"$f":"IF(AA358=AA411,0,AA358)","v":0},{"$f":"IF(AB358=AB411,0,AB358)","v":0},{"$f":"IF(AC358=AC411,0,AC358)","v":0},{"$f":"IF(AD358=AD411,0,AD358)","v":0},{"$f":"IF(AE358=AE411,0,AE358)","v":0},{"$f":"IF(AF358=AF411,0,AF358)","v":0},{"$f":"IF(AG358=AG411,0,AG358)","v":0},{"$f":"IF(AH358=AH411,0,AH358)","v":0},{"$f":"IF(AI358=AI411,0,AI358)","v":0},{"$f":"IF(AJ358=AJ411,0,AJ358)","v":0},{"$f":"IF(AK358=AK411,0,AK358)","v":0},{"$f":"IF(AL358=AL411,0,AL358)","v":0},{"$f":"IF(AM358=AM411,0,AM358)","v":0},{"$f":"IF(AN358=AN411,0,AN358)","v":0},{"$f":"IF(AO358=AO411,0,AO358)","v":0},{"$f":"IF(AP358=AP411,0,AP358)","v":0},{"$f":"IF(AQ358=AQ411,0,AQ358)","v":0},{"$f":"IF(AR358=AR411,0,AR358)","v":0},{"$f":"IF(AS358=AS411,0,AS358)","v":0},{"$f":"IF(AT358=AT411,0,AT358)","v":0},{"$f":"IF(AU358=AU411,0,AU358)","v":0},{"$f":"IF(AV358=AV411,0,AV358)","v":0},{"$f":"IF(AW358=AW411,0,AW358)","v":0},{"$f":"IF(AX358=AX411,0,AX358)","v":0},{"$f":"IF(AY358=AY411,0,AY358)","v":0},{"$f":"IF(AZ358=AZ411,0,AZ358)","v":0},{"$f":"IF(BA358=BA411,0,BA358)","v":0},{"$f":"IF(BB358=BB411,0,BB358)","v":0},{"$f":"IF(BC358=BC411,0,BC358)","v":0},{"$f":"IF(BD358=BD411,0,BD358)","v":0},{"$f":"IF(BE358=BE411,0,BE358)","v":0},{"$f":"IF(BF358=BF411,0,BF358)","v":0},{"$f":"IF(BG358=BG411,0,BG358)","v":0},{"$f":"IF(BH358=BH411,0,BH358)","v":0},{"$f":"IF(BI358=BI411,0,BI358)","v":0},{"$f":"IF(BJ358=BJ411,0,BJ358)","v":0},{"$f":"IF(BK358=BK411,0,BK358)","v":0},{"$f":"IF(BL358=BL411,0,BL358)","v":0},{"$f":"IF(BM358=BM411,0,BM358)","v":0},{"$f":"IF(BN358=BN411,0,BN358)","v":0},{"$f":"IF(BO358=BO411,0,BO358)","v":0},{"$f":"IF(BP358=BP411,0,BP358)","v":0},{"$f":"IF(BQ358=BQ411,0,BQ358)","v":0},{"$f":"IF(BR358=BR411,0,BR358)","v":0},{"$f":"IF(BS358=BS411,0,BS358)","v":0},{"$f":"IF(BT358=BT411,0,BT358)","v":0},{"$f":"IF(BU358=BU411,0,BU358)","v":0},{"$f":"IF(BV358=BV411,0,BV358)","v":0},{"$f":"IF(BW358=BW411,0,BW358)","v":0},{"$f":"IF(BX358=BX411,0,BX358)","v":0},{"$f":"IF(BY358=BY411,0,BY358)","v":0},{"$f":"IF(BZ358=BZ411,0,BZ358)","v":0},{"$f":"IF(CA358=CA411,0,CA358)","v":0},{"$f":"IF(CB358=CB411,0,CB358)","v":0},{"$f":"IF(CC358=CC411,0,CC358)","v":0},{"$f":"IF(CD358=CD411,0,CD358)","v":0},{"$f":"IF(CE358=CE411,0,CE358)","v":0},{"$f":"IF(CF358=CF411,0,CF358)","v":0},{"$f":"IF(CG358=CG411,0,CG358)","v":0},{"$f":"IF(CH358=CH411,0,CH358)","v":0},{"$f":"IF(CI358=CI411,0,CI358)","v":0},{"$f":"IF(CJ358=CJ411,0,CJ358)","v":0},{"$f":"IF(CK358=CK411,0,CK358)","v":0},{"$f":"IF(CL358=CL411,0,CL358)","v":0},{"$f":"IF(CM358=CM411,0,CM358)","v":0},{"$f":"IF(CN358=CN411,0,CN358)","v":0},{"$f":"IF(CO358=CO411,0,CO358)","v":0},{"$f":"IF(CP358=CP411,0,CP358)","v":0},{"$f":"IF(CQ358=CQ411,0,CQ358)","v":0},{"$f":"IF(CR358=CR411,0,CR358)","v":0},{"$f":"IF(CS358=CS411,0,CS358)","v":0},{"$f":"IF(CT358=CT411,0,CT358)","v":0},{"$f":"IF(CU358=CU411,0,CU358)","v":0},{"$f":"BB411","v":0},{"$f":"BB412","v":0},1]
[48,{"$f":"'RECOGIDA DATOS'!AG51","v":0},{"$f":"IF(B359=B411,0,B359)","v":0},{"$f":"IF(C359=C411,0,C359)","v":0},{"$f":"IF(D359=D411,0,D359)","v":0},{"$f":"IF(E359=E411,0,E359)","v":0},{"$f":"IF(F359=F411,0,F359)","v":0},{"$f":"IF(G359=G411,0,G359)","v":0},{"$f":"IF(H359=H411,0,H359)","v":0},{"$f":"IF(I359=I411,0,I359)","v":0},{"$f":"IF(J359=J411,0,J359)","v":0},{"$f":"IF(K359=K411,0,K359)","v":0},{"$f":"IF(L359=L411,0,L359)","v":0},{"$f":"IF(M359=M411,0,M359)","v":0},{"$f":"IF(N359=N411,0,N359)","v":0},{"$f":"IF(O359=O411,0,O359)","v":0},{"$f":"IF(P359=P411,0,P359)","v":0},{"$f":"IF(Q359=Q411,0,Q359)","v":0},{"$f":"IF(R359=R411,0,R359)","v":0},{"$f":"IF(S359=S411,0,S359)","v":0},{"$f":"IF(T359=T411,0,T359)","v":0},{"$f":"IF(U359=U411,0,U359)","v":0},{"$f":"IF(V359=V411,0,V359)","v":0},{"$f":"IF(W359=W411,0,W359)","v":0},{"$f":"IF(X359=X411,0,X359)","v":0},{"$f":"IF(Y359=Y411,0,Y359)","v":0},{"$f":"IF(Z359=Z411,0,Z359)","v":0},{"$f":"IF(AA359=AA411,0,AA359)","v":0},{"$f":"IF(AB359=AB411,0,AB359)","v":0},{"$f":"IF(AC359=AC411,0,AC359)","v":0},{"$f":"IF(AD359=AD411,0,AD359)","v":0},{"$f":"IF(AE359=AE411,0,AE359)","v":0},{"$f":"IF(AF359=AF411,0,AF359)","v":0},{"$f":"IF(AG359=AG411,0,AG359)","v":0},{"$f":"IF(AH359=AH411,0,AH359)","v":0},{"$f":"IF(AI359=AI411,0,AI359)","v":0},{"$f":"IF(AJ359=AJ411,0,AJ359)","v":0},{"$f":"IF(AK359=AK411,0,AK359)","v":0},{"$f":"IF(AL359=AL411,0,AL359)","v":0},{"$f":"IF(AM359=AM411,0,AM359)","v":0},{"$f":"IF(AN359=AN411,0,AN359)","v":0},{"$f":"IF(AO359=AO411,0,AO359)","v":0},{"$f":"IF(AP359=AP411,0,AP359)","v":0},{"$f":"IF(AQ359=AQ411,0,AQ359)","v":0},{"$f":"IF(AR359=AR411,0,AR359)","v":0},{"$f":"IF(AS359=AS411,0,AS359)","v":0},{"$f":"IF(AT359=AT411,0,AT359)","v":0},{"$f":"IF(AU359=AU411,0,AU359)","v":0},{"$f":"IF(AV359=AV411,0,AV359)","v":0},{"$f":"IF(AW359=AW411,0,AW359)","v":0},{"$f":"IF(AX359=AX411,0,AX359)","v":0},{"$f":"IF(AY359=AY411,0,AY359)","v":0},{"$f":"IF(AZ359=AZ411,0,AZ359)","v":0},{"$f":"IF(BA359=BA411,0,BA359)","v":0},{"$f":"IF(BB359=BB411,0,BB359)","v":0},{"$f":"IF(BC359=BC411,0,BC359)","v":0},{"$f":"IF(BD359=BD411,0,BD359)","v":0},{"$f":"IF(BE359=BE411,0,BE359)","v":0},{"$f":"IF(BF359=BF411,0,BF359)","v":0},{"$f":"IF(BG359=BG411,0,BG359)","v":0},{"$f":"IF(BH359=BH411,0,BH359)","v":0},{"$f":"IF(BI359=BI411,0,BI359)","v":0},{"$f":"IF(BJ359=BJ411,0,BJ359)","v":0},{"$f":"IF(BK359=BK411,0,BK359)","v":0},{"$f":"IF(BL359=BL411,0,BL359)","v":0},{"$f":"IF(BM359=BM411,0,BM359)","v":0},{"$f":"IF(BN359=BN411,0,BN359)","v":0},{"$f":"IF(BO359=BO411,0,BO359)","v":0},{"$f":"IF(BP359=BP411,0,BP359)","v":0},{"$f":"IF(BQ359=BQ411,0,BQ359)","v":0},{"$f":"IF(BR359=BR411,0,BR359)","v":0},{"$f":"IF(BS359=BS411,0,BS359)","v":0},{"$f":"IF(BT359=BT411,0,BT359)","v":0},{"$f":"IF(BU359=BU411,0,BU359)","v":0},{"$f":"IF(BV359=BV411,0,BV359)","v":0},{"$f":"IF(BW359=BW411,0,BW359)","v":0},{"$f":"IF(BX359=BX411,0,BX359)","v":0},{"$f":"IF(BY359=BY411,0,BY359)","v":0},{"$f":"IF(BZ359=BZ411,0,BZ359)","v":0},{"$f":"IF(CA359=CA411,0,CA359)","v":0},{"$f":"IF(CB359=CB411,0,CB359)","v":0},{"$f":"IF(CC359=CC411,0,CC359)","v":0},{"$f":"IF(CD359=CD411,0,CD359)","v":0},{"$f":"IF(CE359=CE411,0,CE359)","v":0},{"$f":"IF(CF359=CF411,0,CF359)","v":0},{"$f":"IF(CG359=CG411,0,CG359)","v":0},{"$f":"IF(CH359=CH411,0,CH359)","v":0},{"$f":"IF(CI359=CI411,0,CI359)","v":0},{"$f":"IF(CJ359=CJ411,0,CJ359)","v":0},{"$f":"IF(CK359=CK411,0,CK359)","v":0},{"$f":"IF(CL359=CL411,0,CL359)","v":0},{"$f":"IF(CM359=CM411,0,CM359)","v":0},{"$f":"IF(CN359=CN411,0,CN359)","v":0},{"$f":"IF(CO359=CO411,0,CO359)","v":0},{"$f":"IF(CP359=CP411,0,CP359)","v":0},{"$f":"IF(CQ359=CQ411,0,CQ359)","v":0},{"$f":"IF(CR359=CR411,0,CR359)","v":0},{"$f":"IF(CS359=CS411,0,CS359)","v":0},{"$f":"IF(CT359=CT411,0,CT359)","v":0},{"$f":"IF(CU359=CU411,0,CU359)","v":0},{"$f":"BA411","v":0},{"$f":"BA412","v":0},1]
[49,{"$f":"'RECOGIDA DATOS'!AG52","v":0},{"$f":"IF(B360=B411,0,B360)","v":0},{"$f":"IF(C360=C411,0,C360)","v":0},{"$f":"IF(D360=D411,0,D360)","v":0},{"$f":"IF(E360=E411,0,E360)","v":0},{"$f":"IF(F360=F411,0,F360)","v":0},{"$f":"IF(G360=G411,0,G360)","v":0},{"$f":"IF(H360=H411,0,H360)","v":0},{"$f":"IF(I360=I411,0,I360)","v":0},{"$f":"IF(J360=J411,0,J360)","v":0},{"$f":"IF(K360=K411,0,K360)","v":0},{"$f":"IF(L360=L411,0,L360)","v":0},{"$f":"IF(M360=M411,0,M360)","v":0},{"$f":"IF(N360=N411,0,N360)","v":0},{"$f":"IF(O360=O411,0,O360)","v":0},{"$f":"IF(P360=P411,0,P360)","v":0},{"$f":"IF(Q360=Q411,0,Q360)","v":0},{"$f":"IF(R360=R411,0,R360)","v":0},{"$f":"IF(S360=S411,0,S360)","v":0},{"$f":"IF(T360=T411,0,T360)","v":0},{"$f":"IF(U360=U411,0,U360)","v":0},{"$f":"IF(V360=V411,0,V360)","v":0},{"$f":"IF(W360=W411,0,W360)","v":0},{"$f":"IF(X360=X411,0,X360)","v":0},{"$f":"IF(Y360=Y411,0,Y360)","v":0},{"$f":"IF(Z360=Z411,0,Z360)","v":0},{"$f":"IF(AA360=AA411,0,AA360)","v":0},{"$f":"IF(AB360=AB411,0,AB360)","v":0},{"$f":"IF(AC360=AC411,0,AC360)","v":0},{"$f":"IF(AD360=AD411,0,AD360)","v":0},{"$f":"IF(AE360=AE411,0,AE360)","v":0},{"$f":"IF(AF360=AF411,0,AF360)","v":0},{"$f":"IF(AG360=AG411,0,AG360)","v":0},{"$f":"IF(AH360=AH411,0,AH360)","v":0},{"$f":"IF(AI360=AI411,0,AI360)","v":0},{"$f":"IF(AJ360=AJ411,0,AJ360)","v":0},{"$f":"IF(AK360=AK411,0,AK360)","v":0},{"$f":"IF(AL360=AL411,0,AL360)","v":0},{"$f":"IF(AM360=AM411,0,AM360)","v":0},{"$f":"IF(AN360=AN411,0,AN360)","v":0},{"$f":"IF(AO360=AO411,0,AO360)","v":0},{"$f":"IF(AP360=AP411,0,AP360)","v":0},{"$f":"IF(AQ360=AQ411,0,AQ360)","v":0},{"$f":"IF(AR360=AR411,0,AR360)","v":0},{"$f":"IF(AS360=AS411,0,AS360)","v":0},{"$f":"IF(AT360=AT411,0,AT360)","v":0},{"$f":"IF(AU360=AU411,0,AU360)","v":0},{"$f":"IF(AV360=AV411,0,AV360)","v":0},{"$f":"IF(AW360=AW411,0,AW360)","v":0},{"$f":"IF(AX360=AX411,0,AX360)","v":0},{"$f":"IF(AY360=AY411,0,AY360)","v":0},{"$f":"IF(AZ360=AZ411,0,AZ360)","v":0},{"$f":"IF(BA360=BA411,0,BA360)","v":0},{"$f":"IF(BB360=BB411,0,BB360)","v":0},{"$f":"IF(BC360=BC411,0,BC360)","v":0},{"$f":"IF(BD360=BD411,0,BD360)","v":0},{"$f":"IF(BE360=BE411,0,BE360)","v":0},{"$f":"IF(BF360=BF411,0,BF360)","v":0},{"$f":"IF(BG360=BG411,0,BG360)","v":0},{"$f":"IF(BH360=BH411,0,BH360)","v":0},{"$f":"IF(BI360=BI411,0,BI360)","v":0},{"$f":"IF(BJ360=BJ411,0,BJ360)","v":0},{"$f":"IF(BK360=BK411,0,BK360)","v":0},{"$f":"IF(BL360=BL411,0,BL360)","v":0},{"$f":"IF(BM360=BM411,0,BM360)","v":0},{"$f":"IF(BN360=BN411,0,BN360)","v":0},{"$f":"IF(BO360=BO411,0,BO360)","v":0},{"$f":"IF(BP360=BP411,0,BP360)","v":0},{"$f":"IF(BQ360=BQ411,0,BQ360)","v":0},{"$f":"IF(BR360=BR411,0,BR360)","v":0},{"$f":"IF(BS360=BS411,0,BS360)","v":0},{"$f":"IF(BT360=BT411,0,BT360)","v":0},{"$f":"IF(BU360=BU411,0,BU360)","v":0},{"$f":"IF(BV360=BV411,0,BV360)","v":0},{"$f":"IF(BW360=BW411,0,BW360)","v":0},{"$f":"IF(BX360=BX411,0,BX360)","v":0},{"$f":"IF(BY360=BY411,0,BY360)","v":0},{"$f":"IF(BZ360=BZ411,0,BZ360)","v":0},{"$f":"IF(CA360=CA411,0,CA360)","v":0},{"$f":"IF(CB360=CB411,0,CB360)","v":0},{"$f":"IF(CC360=CC411,0,CC360)","v":0},{"$f":"IF(CD360=CD411,0,CD360)","v":0},{"$f":"IF(CE360=CE411,0,CE360)","v":0},{"$f":"IF(CF360=CF411,0,CF360)","v":0},{"$f":"IF(CG360=CG411,0,CG360)","v":0},{"$f":"IF(CH360=CH411,0,CH360)","v":0},{"$f":"IF(CI360=CI411,0,CI360)","v":0},{"$f":"IF(CJ360=CJ411,0,CJ360)","v":0},{"$f":"IF(CK360=CK411,0,CK360)","v":0},{"$f":"IF(CL360=CL411,0,CL360)","v":0},{"$f":"IF(CM360=CM411,0,CM360)","v":0},{"$f":"IF(CN360=CN411,0,CN360)","v":0},{"$f":"IF(CO360=CO411,0,CO360)","v":0},{"$f":"IF(CP360=CP411,0,CP360)","v":0},{"$f":"IF(CQ360=CQ411,0,CQ360)","v":0},{"$f":"IF(CR360=CR411,0,CR360)","v":0},{"$f":"IF(CS360=CS411,0,CS360)","v":0},{"$f":"IF(CT360=CT411,0,CT360)","v":0},{"$f":"IF(CU360=CU411,0,CU360)","v":0},{"$f":"AZ411","v":0},{"$f":"AZ412","v":0},1]
[50,{"$f":"'RECOGIDA DATOS'!AG53","v":0},{"$f":"IF(B361=B411,0,B361)","v":0},{"$f":"IF(C361=C411,0,C361)","v":0},{"$f":"IF(D361=D411,0,D361)","v":0},{"$f":"IF(E361=E411,0,E361)","v":0},{"$f":"IF(F361=F411,0,F361)","v":0},{"$f":"IF(G361=G411,0,G361)","v":0},{"$f":"IF(H361=H411,0,H361)","v":0},{"$f":"IF(I361=I411,0,I361)","v":0},{"$f":"IF(J361=J411,0,J361)","v":0},{"$f":"IF(K361=K411,0,K361)","v":0},{"$f":"IF(L361=L411,0,L361)","v":0},{"$f":"IF(M361=M411,0,M361)","v":0},{"$f":"IF(N361=N411,0,N361)","v":0},{"$f":"IF(O361=O411,0,O361)","v":0},{"$f":"IF(P361=P411,0,P361)","v":0},{"$f":"IF(Q361=Q411,0,Q361)","v":0},{"$f":"IF(R361=R411,0,R361)","v":0},{"$f":"IF(S361=S411,0,S361)","v":0},{"$f":"IF(T361=T411,0,T361)","v":0},{"$f":"IF(U361=U411,0,U361)","v":0},{"$f":"IF(V361=V411,0,V361)","v":0},{"$f":"IF(W361=W411,0,W361)","v":0},{"$f":"IF(X361=X411,0,X361)","v":0},{"$f":"IF(Y361=Y411,0,Y361)","v":0},{"$f":"IF(Z361=Z411,0,Z361)","v":0},{"$f":"IF(AA361=AA411,0,AA361)","v":0},{"$f":"IF(AB361=AB411,0,AB361)","v":0},{"$f":"IF(AC361=AC411,0,AC361)","v":0},{"$f":"IF(AD361=AD411,0,AD361)","v":0},{"$f":"IF(AE361=AE411,0,AE361)","v":0},{"$f":"IF(AF361=AF411,0,AF361)","v":0},{"$f":"IF(AG361=AG411,0,AG361)","v":0},{"$f":"IF(AH361=AH411,0,AH361)","v":0},{"$f":"IF(AI361=AI411,0,AI361)","v":0},{"$f":"IF(AJ361=AJ411,0,AJ361)","v":0},{"$f":"IF(AK361=AK411,0,AK361)","v":0},{"$f":"IF(AL361=AL411,0,AL361)","v":0},{"$f":"IF(AM361=AM411,0,AM361)","v":0},{"$f":"IF(AN361=AN411,0,AN361)","v":0},{"$f":"IF(AO361=AO411,0,AO361)","v":0},{"$f":"IF(AP361=AP411,0,AP361)","v":0},{"$f":"IF(AQ361=AQ411,0,AQ361)","v":0},{"$f":"IF(AR361=AR411,0,AR361)","v":0},{"$f":"IF(AS361=AS411,0,AS361)","v":0},{"$f":"IF(AT361=AT411,0,AT361)","v":0},{"$f":"IF(AU361=AU411,0,AU361)","v":0},{"$f":"IF(AV361=AV411,0,AV361)","v":0},{"$f":"IF(AW361=AW411,0,AW361)","v":0},{"$f":"IF(AX361=AX411,0,AX361)","v":0},{"$f":"IF(AY361=AY411,0,AY361)","v":0},{"$f":"IF(AZ361=AZ411,0,AZ361)","v":0},{"$f":"IF(BA361=BA411,0,BA361)","v":0},{"$f":"IF(BB361=BB411,0,BB361)","v":0},{"$f":"IF(BC361=BC411,0,BC361)","v":0},{"$f":"IF(BD361=BD411,0,BD361)","v":0},{"$f":"IF(BE361=BE411,0,BE361)","v":0},{"$f":"IF(BF361=BF411,0,BF361)","v":0},{"$f":"IF(BG361=BG411,0,BG361)","v":0},{"$f":"IF(BH361=BH411,0,BH361)","v":0},{"$f":"IF(BI361=BI411,0,BI361)","v":0},{"$f":"IF(BJ361=BJ411,0,BJ361)","v":0},{"$f":"IF(BK361=BK411,0,BK361)","v":0},{"$f":"IF(BL361=BL411,0,BL361)","v":0},{"$f":"IF(BM361=BM411,0,BM361)","v":0},{"$f":"IF(BN361=BN411,0,BN361)","v":0},{"$f":"IF(BO361=BO411,0,BO361)","v":0},{"$f":"IF(BP361=BP411,0,BP361)","v":0},{"$f":"IF(BQ361=BQ411,0,BQ361)","v":0},{"$f":"IF(BR361=BR411,0,BR361)","v":0},{"$f":"IF(BS361=BS411,0,BS361)","v":0},{"$f":"IF(BT361=BT411,0,BT361)","v":0},{"$f":"IF(BU361=BU411,0,BU361)","v":0},{"$f":"IF(BV361=BV411,0,BV361)","v":0},{"$f":"IF(BW361=BW411,0,BW361)","v":0},{"$f":"IF(BX361=BX411,0,BX361)","v":0},{"$f":"IF(BY361=BY411,0,BY361)","v":0},{"$f":"IF(BZ361=BZ411,0,BZ361)","v":0},{"$f":"IF(CA361=CA411,0,CA361)","v":0},{"$f":"IF(CB361=CB411,0,CB361)","v":0},{"$f":"IF(CC361=CC411,0,CC361)","v":0},{"$f":"IF(CD361=CD411,0,CD361)","v":0},{"$f":"IF(CE361=CE411,0,CE361)","v":0},{"$f":"IF(CF361=CF411,0,CF361)","v":0},{"$f":"IF(CG361=CG411,0,CG361)","v":0},{"$f":"IF(CH361=CH411,0,CH361)","v":0},{"$f":"IF(CI361=CI411,0,CI361)","v":0},{"$f":"IF(CJ361=CJ411,0,CJ361)","v":0},{"$f":"IF(CK361=CK411,0,CK361)","v":0},{"$f":"IF(CL361=CL411,0,CL361)","v":0},{"$f":"IF(CM361=CM411,0,CM361)","v":0},{"$f":"IF(CN361=CN411,0,CN361)","v":0},{"$f":"IF(CO361=CO411,0,CO361)","v":0},{"$f":"IF(CP361=CP411,0,CP361)","v":0},{"$f":"IF(CQ361=CQ411,0,CQ361)","v":0},{"$f":"IF(CR361=CR411,0,CR361)","v":0},{"$f":"IF(CS361=CS411,0,CS361)","v":0},{"$f":"IF(CT361=CT411,0,CT361)","v":0},{"$f":"IF(CU361=CU411,0,CU361)","v":0},{"$f":"AY411","v":0},{"$f":"AY412","v":0},1]
[51,{"$f":"'RECOGIDA DATOS'!AG54","v":0},{"$f":"IF(B362=B411,0,B362)","v":0},{"$f":"IF(C362=C411,0,C362)","v":0},{"$f":"IF(D362=D411,0,D362)","v":0},{"$f":"IF(E362=E411,0,E362)","v":0},{"$f":"IF(F362=F411,0,F362)","v":0},{"$f":"IF(G362=G411,0,G362)","v":0},{"$f":"IF(H362=H411,0,H362)","v":0},{"$f":"IF(I362=I411,0,I362)","v":0},{"$f":"IF(J362=J411,0,J362)","v":0},{"$f":"IF(K362=K411,0,K362)","v":0},{"$f":"IF(L362=L411,0,L362)","v":0},{"$f":"IF(M362=M411,0,M362)","v":0},{"$f":"IF(N362=N411,0,N362)","v":0},{"$f":"IF(O362=O411,0,O362)","v":0},{"$f":"IF(P362=P411,0,P362)","v":0},{"$f":"IF(Q362=Q411,0,Q362)","v":0},{"$f":"IF(R362=R411,0,R362)","v":0},{"$f":"IF(S362=S411,0,S362)","v":0},{"$f":"IF(T362=T411,0,T362)","v":0},{"$f":"IF(U362=U411,0,U362)","v":0},{"$f":"IF(V362=V411,0,V362)","v":0},{"$f":"IF(W362=W411,0,W362)","v":0},{"$f":"IF(X362=X411,0,X362)","v":0},{"$f":"IF(Y362=Y411,0,Y362)","v":0},{"$f":"IF(Z362=Z411,0,Z362)","v":0},{"$f":"IF(AA362=AA411,0,AA362)","v":0},{"$f":"IF(AB362=AB411,0,AB362)","v":0},{"$f":"IF(AC362=AC411,0,AC362)","v":0},{"$f":"IF(AD362=AD411,0,AD362)","v":0},{"$f":"IF(AE362=AE411,0,AE362)","v":0},{"$f":"IF(AF362=AF411,0,AF362)","v":0},{"$f":"IF(AG362=AG411,0,AG362)","v":0},{"$f":"IF(AH362=AH411,0,AH362)","v":0},{"$f":"IF(AI362=AI411,0,AI362)","v":0},{"$f":"IF(AJ362=AJ411,0,AJ362)","v":0},{"$f":"IF(AK362=AK411,0,AK362)","v":0},{"$f":"IF(AL362=AL411,0,AL362)","v":0},{"$f":"IF(AM362=AM411,0,AM362)","v":0},{"$f":"IF(AN362=AN411,0,AN362)","v":0},{"$f":"IF(AO362=AO411,0,AO362)","v":0},{"$f":"IF(AP362=AP411,0,AP362)","v":0},{"$f":"IF(AQ362=AQ411,0,AQ362)","v":0},{"$f":"IF(AR362=AR411,0,AR362)","v":0},{"$f":"IF(AS362=AS411,0,AS362)","v":0},{"$f":"IF(AT362=AT411,0,AT362)","v":0},{"$f":"IF(AU362=AU411,0,AU362)","v":0},{"$f":"IF(AV362=AV411,0,AV362)","v":0},{"$f":"IF(AW362=AW411,0,AW362)","v":0},{"$f":"IF(AX362=AX411,0,AX362)","v":0},{"$f":"IF(AY362=AY411,0,AY362)","v":0},{"$f":"IF(AZ362=AZ411,0,AZ362)","v":0},{"$f":"IF(BA362=BA411,0,BA362)","v":0},{"$f":"IF(BB362=BB411,0,BB362)","v":0},{"$f":"IF(BC362=BC411,0,BC362)","v":0},{"$f":"IF(BD362=BD411,0,BD362)","v":0},{"$f":"IF(BE362=BE411,0,BE362)","v":0},{"$f":"IF(BF362=BF411,0,BF362)","v":0},{"$f":"IF(BG362=BG411,0,BG362)","v":0},{"$f":"IF(BH362=BH411,0,BH362)","v":0},{"$f":"IF(BI362=BI411,0,BI362)","v":0},{"$f":"IF(BJ362=BJ411,0,BJ362)","v":0},{"$f":"IF(BK362=BK411,0,BK362)","v":0},{"$f":"IF(BL362=BL411,0,BL362)","v":0},{"$f":"IF(BM362=BM411,0,BM362)","v":0},{"$f":"IF(BN362=BN411,0,BN362)","v":0},{"$f":"IF(BO362=BO411,0,BO362)","v":0},{"$f":"IF(BP362=BP411,0,BP362)","v":0},{"$f":"IF(BQ362=BQ411,0,BQ362)","v":0},{"$f":"IF(BR362=BR411,0,BR362)","v":0},{"$f":"IF(BS362=BS411,0,BS362)","v":0},{"$f":"IF(BT362=BT411,0,BT362)","v":0},{"$f":"IF(BU362=BU411,0,BU362)","v":0},{"$f":"IF(BV362=BV411,0,BV362)","v":0},{"$f":"IF(BW362=BW411,0,BW362)","v":0},{"$f":"IF(BX362=BX411,0,BX362)","v":0},{"$f":"IF(BY362=BY411,0,BY362)","v":0},{"$f":"IF(BZ362=BZ411,0,BZ362)","v":0},{"$f":"IF(CA362=CA411,0,CA362)","v":0},{"$f":"IF(CB362=CB411,0,CB362)","v":0},{"$f":"IF(CC362=CC411,0,CC362)","v":0},{"$f":"IF(CD362=CD411,0,CD362)","v":0},{"$f":"IF(CE362=CE411,0,CE362)","v":0},{"$f":"IF(CF362=CF411,0,CF362)","v":0},{"$f":"IF(CG362=CG411,0,CG362)","v":0},{"$f":"IF(CH362=CH411,0,CH362)","v":0},{"$f":"IF(CI362=CI411,0,CI362)","v":0},{"$f":"IF(CJ362=CJ411,0,CJ362)","v":0},{"$f":"IF(CK362=CK411,0,CK362)","v":0},{"$f":"IF(CL362=CL411,0,CL362)","v":0},{"$f":"IF(CM362=CM411,0,CM362)","v":0},{"$f":"IF(CN362=CN411,0,CN362)","v":0},{"$f":"IF(CO362=CO411,0,CO362)","v":0},{"$f":"IF(CP362=CP411,0,CP362)","v":0},{"$f":"IF(CQ362=CQ411,0,CQ362)","v":0},{"$f":"IF(CR362=CR411,0,CR362)","v":0},{"$f":"IF(CS362=CS411,0,CS362)","v":0},{"$f":"IF(CT362=CT411,0,CT362)","v":0},{"$f":"IF(CU362=CU411,0,CU362)","v":0},{"$f":"AX411","v":0},{"$f":"AX412","v":0},1]
[52,{"$f":"'RECOGIDA DATOS'!AG55","v":0},{"$f":"IF(B363=B411,0,B363)","v":0},{"$f":"IF(C363=C411,0,C363)","v":0},{"$f":"IF(D363=D411,0,D363)","v":0},{"$f":"IF(E363=E411,0,E363)","v":0},{"$f":"IF(F363=F411,0,F363)","v":0},{"$f":"IF(G363=G411,0,G363)","v":0},{"$f":"IF(H363=H411,0,H363)","v":0},{"$f":"IF(I363=I411,0,I363)","v":0},{"$f":"IF(J363=J411,0,J363)","v":0},{"$f":"IF(K363=K411,0,K363)","v":0},{"$f":"IF(L363=L411,0,L363)","v":0},{"$f":"IF(M363=M411,0,M363)","v":0},{"$f":"IF(N363=N411,0,N363)","v":0},{"$f":"IF(O363=O411,0,O363)","v":0},{"$f":"IF(P363=P411,0,P363)","v":0},{"$f":"IF(Q363=Q411,0,Q363)","v":0},{"$f":"IF(R363=R411,0,R363)","v":0},{"$f":"IF(S363=S411,0,S363)","v":0},{"$f":"IF(T363=T411,0,T363)","v":0},{"$f":"IF(U363=U411,0,U363)","v":0},{"$f":"IF(V363=V411,0,V363)","v":0},{"$f":"IF(W363=W411,0,W363)","v":0},{"$f":"IF(X363=X411,0,X363)","v":0},{"$f":"IF(Y363=Y411,0,Y363)","v":0},{"$f":"IF(Z363=Z411,0,Z363)","v":0},{"$f":"IF(AA363=AA411,0,AA363)","v":0},{"$f":"IF(AB363=AB411,0,AB363)","v":0},{"$f":"IF(AC363=AC411,0,AC363)","v":0},{"$f":"IF(AD363=AD411,0,AD363)","v":0},{"$f":"IF(AE363=AE411,0,AE363)","v":0},{"$f":"IF(AF363=AF411,0,AF363)","v":0},{"$f":"IF(AG363=AG411,0,AG363)","v":0},{"$f":"IF(AH363=AH411,0,AH363)","v":0},{"$f":"IF(AI363=AI411,0,AI363)","v":0},{"$f":"IF(AJ363=AJ411,0,AJ363)","v":0},{"$f":"IF(AK363=AK411,0,AK363)","v":0},{"$f":"IF(AL363=AL411,0,AL363)","v":0},{"$f":"IF(AM363=AM411,0,AM363)","v":0},{"$f":"IF(AN363=AN411,0,AN363)","v":0},{"$f":"IF(AO363=AO411,0,AO363)","v":0},{"$f":"IF(AP363=AP411,0,AP363)","v":0},{"$f":"IF(AQ363=AQ411,0,AQ363)","v":0},{"$f":"IF(AR363=AR411,0,AR363)","v":0},{"$f":"IF(AS363=AS411,0,AS363)","v":0},{"$f":"IF(AT363=AT411,0,AT363)","v":0},{"$f":"IF(AU363=AU411,0,AU363)","v":0},{"$f":"IF(AV363=AV411,0,AV363)","v":0},{"$f":"IF(AW363=AW411,0,AW363)","v":0},{"$f":"IF(AX363=AX411,0,AX363)","v":0},{"$f":"IF(AY363=AY411,0,AY363)","v":0},{"$f":"IF(AZ363=AZ411,0,AZ363)","v":0},{"$f":"IF(BA363=BA411,0,BA363)","v":0},{"$f":"IF(BB363=BB411,0,BB363)","v":0},{"$f":"IF(BC363=BC411,0,BC363)","v":0},{"$f":"IF(BD363=BD411,0,BD363)","v":0},{"$f":"IF(BE363=BE411,0,BE363)","v":0},{"$f":"IF(BF363=BF411,0,BF363)","v":0},{"$f":"IF(BG363=BG411,0,BG363)","v":0},{"$f":"IF(BH363=BH411,0,BH363)","v":0},{"$f":"IF(BI363=BI411,0,BI363)","v":0},{"$f":"IF(BJ363=BJ411,0,BJ363)","v":0},{"$f":"IF(BK363=BK411,0,BK363)","v":0},{"$f":"IF(BL363=BL411,0,BL363)","v":0},{"$f":"IF(BM363=BM411,0,BM363)","v":0},{"$f":"IF(BN363=BN411,0,BN363)","v":0},{"$f":"IF(BO363=BO411,0,BO363)","v":0},{"$f":"IF(BP363=BP411,0,BP363)","v":0},{"$f":"IF(BQ363=BQ411,0,BQ363)","v":0},{"$f":"IF(BR363=BR411,0,BR363)","v":0},{"$f":"IF(BS363=BS411,0,BS363)","v":0},{"$f":"IF(BT363=BT411,0,BT363)","v":0},{"$f":"IF(BU363=BU411,0,BU363)","v":0},{"$f":"IF(BV363=BV411,0,BV363)","v":0},{"$f":"IF(BW363=BW411,0,BW363)","v":0},{"$f":"IF(BX363=BX411,0,BX363)","v":0},{"$f":"IF(BY363=BY411,0,BY363)","v":0},{"$f":"IF(BZ363=BZ411,0,BZ363)","v":0},{"$f":"IF(CA363=CA411,0,CA363)","v":0},{"$f":"IF(CB363=CB411,0,CB363)","v":0},{"$f":"IF(CC363=CC411,0,CC363)","v":0},{"$f":"IF(CD363=CD411,0,CD363)","v":0},{"$f":"IF(CE363=CE411,0,CE363)","v":0},{"$f":"IF(CF363=CF411,0,CF363)","v":0},{"$f":"IF(CG363=CG411,0,CG363)","v":0},{"$f":"IF(CH363=CH411,0,CH363)","v":0},{"$f":"IF(CI363=CI411,0,CI363)","v":0},{"$f":"IF(CJ363=CJ411,0,CJ363)","v":0},{"$f":"IF(CK363=CK411,0,CK363)","v":0},{"$f":"IF(CL363=CL411,0,CL363)","v":0},{"$f":"IF(CM363=CM411,0,CM363)","v":0},{"$f":"IF(CN363=CN411,0,CN363)","v":0},{"$f":"IF(CO363=CO411,0,CO363)","v":0},{"$f":"IF(CP363=CP411,0,CP363)","v":0},{"$f":"IF(CQ363=CQ411,0,CQ363)","v":0},{"$f":"IF(CR363=CR411,0,CR363)","v":0},{"$f":"IF(CS363=CS411,0,CS363)","v":0},{"$f":"IF(CT363=CT411,0,CT363)","v":0},{"$f":"IF(CU363=CU411,0,CU363)","v":0},{"$f":"AW411","v":0},{"$f":"AW412","v":0},1]
[53,{"$f":"'RECOGIDA DATOS'!AG56","v":0},{"$f":"IF(B364=B411,0,B364)","v":0},{"$f":"IF(C364=C411,0,C364)","v":0},{"$f":"IF(D364=D411,0,D364)","v":0},{"$f":"IF(E364=E411,0,E364)","v":0},{"$f":"IF(F364=F411,0,F364)","v":0},{"$f":"IF(G364=G411,0,G364)","v":0},{"$f":"IF(H364=H411,0,H364)","v":0},{"$f":"IF(I364=I411,0,I364)","v":0},{"$f":"IF(J364=J411,0,J364)","v":0},{"$f":"IF(K364=K411,0,K364)","v":0},{"$f":"IF(L364=L411,0,L364)","v":0},{"$f":"IF(M364=M411,0,M364)","v":0},{"$f":"IF(N364=N411,0,N364)","v":0},{"$f":"IF(O364=O411,0,O364)","v":0},{"$f":"IF(P364=P411,0,P364)","v":0},{"$f":"IF(Q364=Q411,0,Q364)","v":0},{"$f":"IF(R364=R411,0,R364)","v":0},{"$f":"IF(S364=S411,0,S364)","v":0},{"$f":"IF(T364=T411,0,T364)","v":0},{"$f":"IF(U364=U411,0,U364)","v":0},{"$f":"IF(V364=V411,0,V364)","v":0},{"$f":"IF(W364=W411,0,W364)","v":0},{"$f":"IF(X364=X411,0,X364)","v":0},{"$f":"IF(Y364=Y411,0,Y364)","v":0},{"$f":"IF(Z364=Z411,0,Z364)","v":0},{"$f":"IF(AA364=AA411,0,AA364)","v":0},{"$f":"IF(AB364=AB411,0,AB364)","v":0},{"$f":"IF(AC364=AC411,0,AC364)","v":0},{"$f":"IF(AD364=AD411,0,AD364)","v":0},{"$f":"IF(AE364=AE411,0,AE364)","v":0},{"$f":"IF(AF364=AF411,0,AF364)","v":0},{"$f":"IF(AG364=AG411,0,AG364)","v":0},{"$f":"IF(AH364=AH411,0,AH364)","v":0},{"$f":"IF(AI364=AI411,0,AI364)","v":0},{"$f":"IF(AJ364=AJ411,0,AJ364)","v":0},{"$f":"IF(AK364=AK411,0,AK364)","v":0},{"$f":"IF(AL364=AL411,0,AL364)","v":0},{"$f":"IF(AM364=AM411,0,AM364)","v":0},{"$f":"IF(AN364=AN411,0,AN364)","v":0},{"$f":"IF(AO364=AO411,0,AO364)","v":0},{"$f":"IF(AP364=AP411,0,AP364)","v":0},{"$f":"IF(AQ364=AQ411,0,AQ364)","v":0},{"$f":"IF(AR364=AR411,0,AR364)","v":0},{"$f":"IF(AS364=AS411,0,AS364)","v":0},{"$f":"IF(AT364=AT411,0,AT364)","v":0},{"$f":"IF(AU364=AU411,0,AU364)","v":0},{"$f":"IF(AV364=AV411,0,AV364)","v":0},{"$f":"IF(AW364=AW411,0,AW364)","v":0},{"$f":"IF(AX364=AX411,0,AX364)","v":0},{"$f":"IF(AY364=AY411,0,AY364)","v":0},{"$f":"IF(AZ364=AZ411,0,AZ364)","v":0},{"$f":"IF(BA364=BA411,0,BA364)","v":0},{"$f":"IF(BB364=BB411,0,BB364)","v":0},{"$f":"IF(BC364=BC411,0,BC364)","v":0},{"$f":"IF(BD364=BD411,0,BD364)","v":0},{"$f":"IF(BE364=BE411,0,BE364)","v":0},{"$f":"IF(BF364=BF411,0,BF364)","v":0},{"$f":"IF(BG364=BG411,0,BG364)","v":0},{"$f":"IF(BH364=BH411,0,BH364)","v":0},{"$f":"IF(BI364=BI411,0,BI364)","v":0},{"$f":"IF(BJ364=BJ411,0,BJ364)","v":0},{"$f":"IF(BK364=BK411,0,BK364)","v":0},{"$f":"IF(BL364=BL411,0,BL364)","v":0},{"$f":"IF(BM364=BM411,0,BM364)","v":0},{"$f":"IF(BN364=BN411,0,BN364)","v":0},{"$f":"IF(BO364=BO411,0,BO364)","v":0},{"$f":"IF(BP364=BP411,0,BP364)","v":0},{"$f":"IF(BQ364=BQ411,0,BQ364)","v":0},{"$f":"IF(BR364=BR411,0,BR364)","v":0},{"$f":"IF(BS364=BS411,0,BS364)","v":0},{"$f":"IF(BT364=BT411,0,BT364)","v":0},{"$f":"IF(BU364=BU411,0,BU364)","v":0},{"$f":"IF(BV364=BV411,0,BV364)","v":0},{"$f":"IF(BW364=BW411,0,BW364)","v":0},{"$f":"IF(BX364=BX411,0,BX364)","v":0},{"$f":"IF(BY364=BY411,0,BY364)","v":0},{"$f":"IF(BZ364=BZ411,0,BZ364)","v":0},{"$f":"IF(CA364=CA411,0,CA364)","v":0},{"$f":"IF(CB364=CB411,0,CB364)","v":0},{"$f":"IF(CC364=CC411,0,CC364)","v":0},{"$f":"IF(CD364=CD411,0,CD364)","v":0},{"$f":"IF(CE364=CE411,0,CE364)","v":0},{"$f":"IF(CF364=CF411,0,CF364)","v":0},{"$f":"IF(CG364=CG411,0,CG364)","v":0},{"$f":"IF(CH364=CH411,0,CH364)","v":0},{"$f":"IF(CI364=CI411,0,CI364)","v":0},{"$f":"IF(CJ364=CJ411,0,CJ364)","v":0},{"$f":"IF(CK364=CK411,0,CK364)","v":0},{"$f":"IF(CL364=CL411,0,CL364)","v":0},{"$f":"IF(CM364=CM411,0,CM364)","v":0},{"$f":"IF(CN364=CN411,0,CN364)","v":0},{"$f":"IF(CO364=CO411,0,CO364)","v":0},{"$f":"IF(CP364=CP411,0,CP364)","v":0},{"$f":"IF(CQ364=CQ411,0,CQ364)","v":0},{"$f":"IF(CR364=CR411,0,CR364)","v":0},{"$f":"IF(CS364=CS411,0,CS364)","v":0},{"$f":"IF(CT364=CT411,0,CT364)","v":0},{"$f":"IF(CU364=CU411,0,CU364)","v":0},{"$f":"AV411","v":0},{"$f":"AV412","v":0},1]
[54,{"$f":"'RECOGIDA DATOS'!AG57","v":0},{"$f":"IF(B365=B411,0,B365)","v":0},{"$f":"IF(C365=C411,0,C365)","v":0},{"$f":"IF(D365=D411,0,D365)","v":0},{"$f":"IF(E365=E411,0,E365)","v":0},{"$f":"IF(F365=F411,0,F365)","v":0},{"$f":"IF(G365=G411,0,G365)","v":0},{"$f":"IF(H365=H411,0,H365)","v":0},{"$f":"IF(I365=I411,0,I365)","v":0},{"$f":"IF(J365=J411,0,J365)","v":0},{"$f":"IF(K365=K411,0,K365)","v":0},{"$f":"IF(L365=L411,0,L365)","v":0},{"$f":"IF(M365=M411,0,M365)","v":0},{"$f":"IF(N365=N411,0,N365)","v":0},{"$f":"IF(O365=O411,0,O365)","v":0},{"$f":"IF(P365=P411,0,P365)","v":0},{"$f":"IF(Q365=Q411,0,Q365)","v":0},{"$f":"IF(R365=R411,0,R365)","v":0},{"$f":"IF(S365=S411,0,S365)","v":0},{"$f":"IF(T365=T411,0,T365)","v":0},{"$f":"IF(U365=U411,0,U365)","v":0},{"$f":"IF(V365=V411,0,V365)","v":0},{"$f":"IF(W365=W411,0,W365)","v":0},{"$f":"IF(X365=X411,0,X365)","v":0},{"$f":"IF(Y365=Y411,0,Y365)","v":0},{"$f":"IF(Z365=Z411,0,Z365)","v":0},{"$f":"IF(AA365=AA411,0,AA365)","v":0},{"$f":"IF(AB365=AB411,0,AB365)","v":0},{"$f":"IF(AC365=AC411,0,AC365)","v":0},{"$f":"IF(AD365=AD411,0,AD365)","v":0},{"$f":"IF(AE365=AE411,0,AE365)","v":0},{"$f":"IF(AF365=AF411,0,AF365)","v":0},{"$f":"IF(AG365=AG411,0,AG365)","v":0},{"$f":"IF(AH365=AH411,0,AH365)","v":0},{"$f":"IF(AI365=AI411,0,AI365)","v":0},{"$f":"IF(AJ365=AJ411,0,AJ365)","v":0},{"$f":"IF(AK365=AK411,0,AK365)","v":0},{"$f":"IF(AL365=AL411,0,AL365)","v":0},{"$f":"IF(AM365=AM411,0,AM365)","v":0},{"$f":"IF(AN365=AN411,0,AN365)","v":0},{"$f":"IF(AO365=AO411,0,AO365)","v":0},{"$f":"IF(AP365=AP411,0,AP365)","v":0},{"$f":"IF(AQ365=AQ411,0,AQ365)","v":0},{"$f":"IF(AR365=AR411,0,AR365)","v":0},{"$f":"IF(AS365=AS411,0,AS365)","v":0},{"$f":"IF(AT365=AT411,0,AT365)","v":0},{"$f":"IF(AU365=AU411,0,AU365)","v":0},{"$f":"IF(AV365=AV411,0,AV365)","v":0},{"$f":"IF(AW365=AW411,0,AW365)","v":0},{"$f":"IF(AX365=AX411,0,AX365)","v":0},{"$f":"IF(AY365=AY411,0,AY365)","v":0},{"$f":"IF(AZ365=AZ411,0,AZ365)","v":0},{"$f":"IF(BA365=BA411,0,BA365)","v":0},{"$f":"IF(BB365=BB411,0,BB365)","v":0},{"$f":"IF(BC365=BC411,0,BC365)","v":0},{"$f":"IF(BD365=BD411,0,BD365)","v":0},{"$f":"IF(BE365=BE411,0,BE365)","v":0},{"$f":"IF(BF365=BF411,0,BF365)","v":0},{"$f":"IF(BG365=BG411,0,BG365)","v":0},{"$f":"IF(BH365=BH411,0,BH365)","v":0},{"$f":"IF(BI365=BI411,0,BI365)","v":0},{"$f":"IF(BJ365=BJ411,0,BJ365)","v":0},{"$f":"IF(BK365=BK411,0,BK365)","v":0},{"$f":"IF(BL365=BL411,0,BL365)","v":0},{"$f":"IF(BM365=BM411,0,BM365)","v":0},{"$f":"IF(BN365=BN411,0,BN365)","v":0},{"$f":"IF(BO365=BO411,0,BO365)","v":0},{"$f":"IF(BP365=BP411,0,BP365)","v":0},{"$f":"IF(BQ365=BQ411,0,BQ365)","v":0},{"$f":"IF(BR365=BR411,0,BR365)","v":0},{"$f":"IF(BS365=BS411,0,BS365)","v":0},{"$f":"IF(BT365=BT411,0,BT365)","v":0},{"$f":"IF(BU365=BU411,0,BU365)","v":0},{"$f":"IF(BV365=BV411,0,BV365)","v":0},{"$f":"IF(BW365=BW411,0,BW365)","v":0},{"$f":"IF(BX365=BX411,0,BX365)","v":0},{"$f":"IF(BY365=BY411,0,BY365)","v":0},{"$f":"IF(BZ365=BZ411,0,BZ365)","v":0},{"$f":"IF(CA365=CA411,0,CA365)","v":0},{"$f":"IF(CB365=CB411,0,CB365)","v":0},{"$f":"IF(CC365=CC411,0,CC365)","v":0},{"$f":"IF(CD365=CD411,0,CD365)","v":0},{"$f":"IF(CE365=CE411,0,CE365)","v":0},{"$f":"IF(CF365=CF411,0,CF365)","v":0},{"$f":"IF(CG365=CG411,0,CG365)","v":0},{"$f":"IF(CH365=CH411,0,CH365)","v":0},{"$f":"IF(CI365=CI411,0,CI365)","v":0},{"$f":"IF(CJ365=CJ411,0,CJ365)","v":0},{"$f":"IF(CK365=CK411,0,CK365)","v":0},{"$f":"IF(CL365=CL411,0,CL365)","v":0},{"$f":"IF(CM365=CM411,0,CM365)","v":0},{"$f":"IF(CN365=CN411,0,CN365)","v":0},{"$f":"IF(CO365=CO411,0,CO365)","v":0},{"$f":"IF(CP365=CP411,0,CP365)","v":0},{"$f":"IF(CQ365=CQ411,0,CQ365)","v":0},{"$f":"IF(CR365=CR411,0,CR365)","v":0},{"$f":"IF(CS365=CS411,0,CS365)","v":0},{"$f":"IF(CT365=CT411,0,CT365)","v":0},{"$f":"IF(CU365=CU411,0,CU365)","v":0},{"$f":"AU411","v":0},{"$f":"AU412","v":0},1]
[55,{"$f":"'RECOGIDA DATOS'!AG58","v":0},{"$f":"IF(B366=B411,0,B366)","v":0},{"$f":"IF(C366=C411,0,C366)","v":0},{"$f":"IF(D366=D411,0,D366)","v":0},{"$f":"IF(E366=E411,0,E366)","v":0},{"$f":"IF(F366=F411,0,F366)","v":0},{"$f":"IF(G366=G411,0,G366)","v":0},{"$f":"IF(H366=H411,0,H366)","v":0},{"$f":"IF(I366=I411,0,I366)","v":0},{"$f":"IF(J366=J411,0,J366)","v":0},{"$f":"IF(K366=K411,0,K366)","v":0},{"$f":"IF(L366=L411,0,L366)","v":0},{"$f":"IF(M366=M411,0,M366)","v":0},{"$f":"IF(N366=N411,0,N366)","v":0},{"$f":"IF(O366=O411,0,O366)","v":0},{"$f":"IF(P366=P411,0,P366)","v":0},{"$f":"IF(Q366=Q411,0,Q366)","v":0},{"$f":"IF(R366=R411,0,R366)","v":0},{"$f":"IF(S366=S411,0,S366)","v":0},{"$f":"IF(T366=T411,0,T366)","v":0},{"$f":"IF(U366=U411,0,U366)","v":0},{"$f":"IF(V366=V411,0,V366)","v":0},{"$f":"IF(W366=W411,0,W366)","v":0},{"$f":"IF(X366=X411,0,X366)","v":0},{"$f":"IF(Y366=Y411,0,Y366)","v":0},{"$f":"IF(Z366=Z411,0,Z366)","v":0},{"$f":"IF(AA366=AA411,0,AA366)","v":0},{"$f":"IF(AB366=AB411,0,AB366)","v":0},{"$f":"IF(AC366=AC411,0,AC366)","v":0},{"$f":"IF(AD366=AD411,0,AD366)","v":0},{"$f":"IF(AE366=AE411,0,AE366)","v":0},{"$f":"IF(AF366=AF411,0,AF366)","v":0},{"$f":"IF(AG366=AG411,0,AG366)","v":0},{"$f":"IF(AH366=AH411,0,AH366)","v":0},{"$f":"IF(AI366=AI411,0,AI366)","v":0},{"$f":"IF(AJ366=AJ411,0,AJ366)","v":0},{"$f":"IF(AK366=AK411,0,AK366)","v":0},{"$f":"IF(AL366=AL411,0,AL366)","v":0},{"$f":"IF(AM366=AM411,0,AM366)","v":0},{"$f":"IF(AN366=AN411,0,AN366)","v":0},{"$f":"IF(AO366=AO411,0,AO366)","v":0},{"$f":"IF(AP366=AP411,0,AP366)","v":0},{"$f":"IF(AQ366=AQ411,0,AQ366)","v":0},{"$f":"IF(AR366=AR411,0,AR366)","v":0},{"$f":"IF(AS366=AS411,0,AS366)","v":0},{"$f":"IF(AT366=AT411,0,AT366)","v":0},{"$f":"IF(AU366=AU411,0,AU366)","v":0},{"$f":"IF(AV366=AV411,0,AV366)","v":0},{"$f":"IF(AW366=AW411,0,AW366)","v":0},{"$f":"IF(AX366=AX411,0,AX366)","v":0},{"$f":"IF(AY366=AY411,0,AY366)","v":0},{"$f":"IF(AZ366=AZ411,0,AZ366)","v":0},{"$f":"IF(BA366=BA411,0,BA366)","v":0},{"$f":"IF(BB366=BB411,0,BB366)","v":0},{"$f":"IF(BC366=BC411,0,BC366)","v":0},{"$f":"IF(BD366=BD411,0,BD366)","v":0},{"$f":"IF(BE366=BE411,0,BE366)","v":0},{"$f":"IF(BF366=BF411,0,BF366)","v":0},{"$f":"IF(BG366=BG411,0,BG366)","v":0},{"$f":"IF(BH366=BH411,0,BH366)","v":0},{"$f":"IF(BI366=BI411,0,BI366)","v":0},{"$f":"IF(BJ366=BJ411,0,BJ366)","v":0},{"$f":"IF(BK366=BK411,0,BK366)","v":0},{"$f":"IF(BL366=BL411,0,BL366)","v":0},{"$f":"IF(BM366=BM411,0,BM366)","v":0},{"$f":"IF(BN366=BN411,0,BN366)","v":0},{"$f":"IF(BO366=BO411,0,BO366)","v":0},{"$f":"IF(BP366=BP411,0,BP366)","v":0},{"$f":"IF(BQ366=BQ411,0,BQ366)","v":0},{"$f":"IF(BR366=BR411,0,BR366)","v":0},{"$f":"IF(BS366=BS411,0,BS366)","v":0},{"$f":"IF(BT366=BT411,0,BT366)","v":0},{"$f":"IF(BU366=BU411,0,BU366)","v":0},{"$f":"IF(BV366=BV411,0,BV366)","v":0},{"$f":"IF(BW366=BW411,0,BW366)","v":0},{"$f":"IF(BX366=BX411,0,BX366)","v":0},{"$f":"IF(BY366=BY411,0,BY366)","v":0},{"$f":"IF(BZ366=BZ411,0,BZ366)","v":0},{"$f":"IF(CA366=CA411,0,CA366)","v":0},{"$f":"IF(CB366=CB411,0,CB366)","v":0},{"$f":"IF(CC366=CC411,0,CC366)","v":0},{"$f":"IF(CD366=CD411,0,CD366)","v":0},{"$f":"IF(CE366=CE411,0,CE366)","v":0},{"$f":"IF(CF366=CF411,0,CF366)","v":0},{"$f":"IF(CG366=CG411,0,CG366)","v":0},{"$f":"IF(CH366=CH411,0,CH366)","v":0},{"$f":"IF(CI366=CI411,0,CI366)","v":0},{"$f":"IF(CJ366=CJ411,0,CJ366)","v":0},{"$f":"IF(CK366=CK411,0,CK366)","v":0},{"$f":"IF(CL366=CL411,0,CL366)","v":0},{"$f":"IF(CM366=CM411,0,CM366)","v":0},{"$f":"IF(CN366=CN411,0,CN366)","v":0},{"$f":"IF(CO366=CO411,0,CO366)","v":0},{"$f":"IF(CP366=CP411,0,CP366)","v":0},{"$f":"IF(CQ366=CQ411,0,CQ366)","v":0},{"$f":"IF(CR366=CR411,0,CR366)","v":0},{"$f":"IF(CS366=CS411,0,CS366)","v":0},{"$f":"IF(CT366=CT411,0,CT366)","v":0},{"$f":"IF(CU366=CU411,0,CU366)","v":0},{"$f":"AT411","v":0},{"$f":"AT412","v":0},1]
[56,{"$f":"'RECOGIDA DATOS'!AG59","v":0},{"$f":"IF(B367=B411,0,B367)","v":0},{"$f":"IF(C367=C411,0,C367)","v":0},{"$f":"IF(D367=D411,0,D367)","v":0},{"$f":"IF(E367=E411,0,E367)","v":0},{"$f":"IF(F367=F411,0,F367)","v":0},{"$f":"IF(G367=G411,0,G367)","v":0},{"$f":"IF(H367=H411,0,H367)","v":0},{"$f":"IF(I367=I411,0,I367)","v":0},{"$f":"IF(J367=J411,0,J367)","v":0},{"$f":"IF(K367=K411,0,K367)","v":0},{"$f":"IF(L367=L411,0,L367)","v":0},{"$f":"IF(M367=M411,0,M367)","v":0},{"$f":"IF(N367=N411,0,N367)","v":0},{"$f":"IF(O367=O411,0,O367)","v":0},{"$f":"IF(P367=P411,0,P367)","v":0},{"$f":"IF(Q367=Q411,0,Q367)","v":0},{"$f":"IF(R367=R411,0,R367)","v":0},{"$f":"IF(S367=S411,0,S367)","v":0},{"$f":"IF(T367=T411,0,T367)","v":0},{"$f":"IF(U367=U411,0,U367)","v":0},{"$f":"IF(V367=V411,0,V367)","v":0},{"$f":"IF(W367=W411,0,W367)","v":0},{"$f":"IF(X367=X411,0,X367)","v":0},{"$f":"IF(Y367=Y411,0,Y367)","v":0},{"$f":"IF(Z367=Z411,0,Z367)","v":0},{"$f":"IF(AA367=AA411,0,AA367)","v":0},{"$f":"IF(AB367=AB411,0,AB367)","v":0},{"$f":"IF(AC367=AC411,0,AC367)","v":0},{"$f":"IF(AD367=AD411,0,AD367)","v":0},{"$f":"IF(AE367=AE411,0,AE367)","v":0},{"$f":"IF(AF367=AF411,0,AF367)","v":0},{"$f":"IF(AG367=AG411,0,AG367)","v":0},{"$f":"IF(AH367=AH411,0,AH367)","v":0},{"$f":"IF(AI367=AI411,0,AI367)","v":0},{"$f":"IF(AJ367=AJ411,0,AJ367)","v":0},{"$f":"IF(AK367=AK411,0,AK367)","v":0},{"$f":"IF(AL367=AL411,0,AL367)","v":0},{"$f":"IF(AM367=AM411,0,AM367)","v":0},{"$f":"IF(AN367=AN411,0,AN367)","v":0},{"$f":"IF(AO367=AO411,0,AO367)","v":0},{"$f":"IF(AP367=AP411,0,AP367)","v":0},{"$f":"IF(AQ367=AQ411,0,AQ367)","v":0},{"$f":"IF(AR367=AR411,0,AR367)","v":0},{"$f":"IF(AS367=AS411,0,AS367)","v":0},{"$f":"IF(AT367=AT411,0,AT367)","v":0},{"$f":"IF(AU367=AU411,0,AU367)","v":0},{"$f":"IF(AV367=AV411,0,AV367)","v":0},{"$f":"IF(AW367=AW411,0,AW367)","v":0},{"$f":"IF(AX367=AX411,0,AX367)","v":0},{"$f":"IF(AY367=AY411,0,AY367)","v":0},{"$f":"IF(AZ367=AZ411,0,AZ367)","v":0},{"$f":"IF(BA367=BA411,0,BA367)","v":0},{"$f":"IF(BB367=BB411,0,BB367)","v":0},{"$f":"IF(BC367=BC411,0,BC367)","v":0},{"$f":"IF(BD367=BD411,0,BD367)","v":0},{"$f":"IF(BE367=BE411,0,BE367)","v":0},{"$f":"IF(BF367=BF411,0,BF367)","v":0},{"$f":"IF(BG367=BG411,0,BG367)","v":0},{"$f":"IF(BH367=BH411,0,BH367)","v":0},{"$f":"IF(BI367=BI411,0,BI367)","v":0},{"$f":"IF(BJ367=BJ411,0,BJ367)","v":0},{"$f":"IF(BK367=BK411,0,BK367)","v":0},{"$f":"IF(BL367=BL411,0,BL367)","v":0},{"$f":"IF(BM367=BM411,0,BM367)","v":0},{"$f":"IF(BN367=BN411,0,BN367)","v":0},{"$f":"IF(BO367=BO411,0,BO367)","v":0},{"$f":"IF(BP367=BP411,0,BP367)","v":0},{"$f":"IF(BQ367=BQ411,0,BQ367)","v":0},{"$f":"IF(BR367=BR411,0,BR367)","v":0},{"$f":"IF(BS367=BS411,0,BS367)","v":0},{"$f":"IF(BT367=BT411,0,BT367)","v":0},{"$f":"IF(BU367=BU411,0,BU367)","v":0},{"$f":"IF(BV367=BV411,0,BV367)","v":0},{"$f":"IF(BW367=BW411,0,BW367)","v":0},{"$f":"IF(BX367=BX411,0,BX367)","v":0},{"$f":"IF(BY367=BY411,0,BY367)","v":0},{"$f":"IF(BZ367=BZ411,0,BZ367)","v":0},{"$f":"IF(CA367=CA411,0,CA367)","v":0},{"$f":"IF(CB367=CB411,0,CB367)","v":0},{"$f":"IF(CC367=CC411,0,CC367)","v":0},{"$f":"IF(CD367=CD411,0,CD367)","v":0},{"$f":"IF(CE367=CE411,0,CE367)","v":0},{"$f":"IF(CF367=CF411,0,CF367)","v":0},{"$f":"IF(CG367=CG411,0,CG367)","v":0},{"$f":"IF(CH367=CH411,0,CH367)","v":0},{"$f":"IF(CI367=CI411,0,CI367)","v":0},{"$f":"IF(CJ367=CJ411,0,CJ367)","v":0},{"$f":"IF(CK367=CK411,0,CK367)","v":0},{"$f":"IF(CL367=CL411,0,CL367)","v":0},{"$f":"IF(CM367=CM411,0,CM367)","v":0},{"$f":"IF(CN367=CN411,0,CN367)","v":0},{"$f":"IF(CO367=CO411,0,CO367)","v":0},{"$f":"IF(CP367=CP411,0,CP367)","v":0},{"$f":"IF(CQ367=CQ411,0,CQ367)","v":0},{"$f":"IF(CR367=CR411,0,CR367)","v":0},{"$f":"IF(CS367=CS411,0,CS367)","v":0},{"$f":"IF(CT367=CT411,0,CT367)","v":0},{"$f":"IF(CU367=CU411,0,CU367)","v":0},{"$f":"AS411","v":0},{"$f":"AS412","v":0},1]
[57,{"$f":"'RECOGIDA DATOS'!AG60","v":0},{"$f":"IF(B368=B411,0,B368)","v":0},{"$f":"IF(C368=C411,0,C368)","v":0},{"$f":"IF(D368=D411,0,D368)","v":0},{"$f":"IF(E368=E411,0,E368)","v":0},{"$f":"IF(F368=F411,0,F368)","v":0},{"$f":"IF(G368=G411,0,G368)","v":0},{"$f":"IF(H368=H411,0,H368)","v":0},{"$f":"IF(I368=I411,0,I368)","v":0},{"$f":"IF(J368=J411,0,J368)","v":0},{"$f":"IF(K368=K411,0,K368)","v":0},{"$f":"IF(L368=L411,0,L368)","v":0},{"$f":"IF(M368=M411,0,M368)","v":0},{"$f":"IF(N368=N411,0,N368)","v":0},{"$f":"IF(O368=O411,0,O368)","v":0},{"$f":"IF(P368=P411,0,P368)","v":0},{"$f":"IF(Q368=Q411,0,Q368)","v":0},{"$f":"IF(R368=R411,0,R368)","v":0},{"$f":"IF(S368=S411,0,S368)","v":0},{"$f":"IF(T368=T411,0,T368)","v":0},{"$f":"IF(U368=U411,0,U368)","v":0},{"$f":"IF(V368=V411,0,V368)","v":0},{"$f":"IF(W368=W411,0,W368)","v":0},{"$f":"IF(X368=X411,0,X368)","v":0},{"$f":"IF(Y368=Y411,0,Y368)","v":0},{"$f":"IF(Z368=Z411,0,Z368)","v":0},{"$f":"IF(AA368=AA411,0,AA368)","v":0},{"$f":"IF(AB368=AB411,0,AB368)","v":0},{"$f":"IF(AC368=AC411,0,AC368)","v":0},{"$f":"IF(AD368=AD411,0,AD368)","v":0},{"$f":"IF(AE368=AE411,0,AE368)","v":0},{"$f":"IF(AF368=AF411,0,AF368)","v":0},{"$f":"IF(AG368=AG411,0,AG368)","v":0},{"$f":"IF(AH368=AH411,0,AH368)","v":0},{"$f":"IF(AI368=AI411,0,AI368)","v":0},{"$f":"IF(AJ368=AJ411,0,AJ368)","v":0},{"$f":"IF(AK368=AK411,0,AK368)","v":0},{"$f":"IF(AL368=AL411,0,AL368)","v":0},{"$f":"IF(AM368=AM411,0,AM368)","v":0},{"$f":"IF(AN368=AN411,0,AN368)","v":0},{"$f":"IF(AO368=AO411,0,AO368)","v":0},{"$f":"IF(AP368=AP411,0,AP368)","v":0},{"$f":"IF(AQ368=AQ411,0,AQ368)","v":0},{"$f":"IF(AR368=AR411,0,AR368)","v":0},{"$f":"IF(AS368=AS411,0,AS368)","v":0},{"$f":"IF(AT368=AT411,0,AT368)","v":0},{"$f":"IF(AU368=AU411,0,AU368)","v":0},{"$f":"IF(AV368=AV411,0,AV368)","v":0},{"$f":"IF(AW368=AW411,0,AW368)","v":0},{"$f":"IF(AX368=AX411,0,AX368)","v":0},{"$f":"IF(AY368=AY411,0,AY368)","v":0},{"$f":"IF(AZ368=AZ411,0,AZ368)","v":0},{"$f":"IF(BA368=BA411,0,BA368)","v":0},{"$f":"IF(BB368=BB411,0,BB368)","v":0},{"$f":"IF(BC368=BC411,0,BC368)","v":0},{"$f":"IF(BD368=BD411,0,BD368)","v":0},{"$f":"IF(BE368=BE411,0,BE368)","v":0},{"$f":"IF(BF368=BF411,0,BF368)","v":0},{"$f":"IF(BG368=BG411,0,BG368)","v":0},{"$f":"IF(BH368=BH411,0,BH368)","v":0},{"$f":"IF(BI368=BI411,0,BI368)","v":0},{"$f":"IF(BJ368=BJ411,0,BJ368)","v":0},{"$f":"IF(BK368=BK411,0,BK368)","v":0},{"$f":"IF(BL368=BL411,0,BL368)","v":0},{"$f":"IF(BM368=BM411,0,BM368)","v":0},{"$f":"IF(BN368=BN411,0,BN368)","v":0},{"$f":"IF(BO368=BO411,0,BO368)","v":0},{"$f":"IF(BP368=BP411,0,BP368)","v":0},{"$f":"IF(BQ368=BQ411,0,BQ368)","v":0},{"$f":"IF(BR368=BR411,0,BR368)","v":0},{"$f":"IF(BS368=BS411,0,BS368)","v":0},{"$f":"IF(BT368=BT411,0,BT368)","v":0},{"$f":"IF(BU368=BU411,0,BU368)","v":0},{"$f":"IF(BV368=BV411,0,BV368)","v":0},{"$f":"IF(BW368=BW411,0,BW368)","v":0},{"$f":"IF(BX368=BX411,0,BX368)","v":0},{"$f":"IF(BY368=BY411,0,BY368)","v":0},{"$f":"IF(BZ368=BZ411,0,BZ368)","v":0},{"$f":"IF(CA368=CA411,0,CA368)","v":0},{"$f":"IF(CB368=CB411,0,CB368)","v":0},{"$f":"IF(CC368=CC411,0,CC368)","v":0},{"$f":"IF(CD368=CD411,0,CD368)","v":0},{"$f":"IF(CE368=CE411,0,CE368)","v":0},{"$f":"IF(CF368=CF411,0,CF368)","v":0},{"$f":"IF(CG368=CG411,0,CG368)","v":0},{"$f":"IF(CH368=CH411,0,CH368)","v":0},{"$f":"IF(CI368=CI411,0,CI368)","v":0},{"$f":"IF(CJ368=CJ411,0,CJ368)","v":0},{"$f":"IF(CK368=CK411,0,CK368)","v":0},{"$f":"IF(CL368=CL411,0,CL368)","v":0},{"$f":"IF(CM368=CM411,0,CM368)","v":0},{"$f":"IF(CN368=CN411,0,CN368)","v":0},{"$f":"IF(CO368=CO411,0,CO368)","v":0},{"$f":"IF(CP368=CP411,0,CP368)","v":0},{"$f":"IF(CQ368=CQ411,0,CQ368)","v":0},{"$f":"IF(CR368=CR411,0,CR368)","v":0},{"$f":"IF(CS368=CS411,0,CS368)","v":0},{"$f":"IF(CT368=CT411,0,CT368)","v":0},{"$f":"IF(CU368=CU411,0,CU368)","v":0},{"$f":"AR411","v":0},{"$f":"AR412","v":0},1]
[58,{"$f":"'RECOGIDA DATOS'!AG61","v":0},{"$f":"IF(B369=B411,0,B369)","v":0},{"$f":"IF(C369=C411,0,C369)","v":0},{"$f":"IF(D369=D411,0,D369)","v":0},{"$f":"IF(E369=E411,0,E369)","v":0},{"$f":"IF(F369=F411,0,F369)","v":0},{"$f":"IF(G369=G411,0,G369)","v":0},{"$f":"IF(H369=H411,0,H369)","v":0},{"$f":"IF(I369=I411,0,I369)","v":0},{"$f":"IF(J369=J411,0,J369)","v":0},{"$f":"IF(K369=K411,0,K369)","v":0},{"$f":"IF(L369=L411,0,L369)","v":0},{"$f":"IF(M369=M411,0,M369)","v":0},{"$f":"IF(N369=N411,0,N369)","v":0},{"$f":"IF(O369=O411,0,O369)","v":0},{"$f":"IF(P369=P411,0,P369)","v":0},{"$f":"IF(Q369=Q411,0,Q369)","v":0},{"$f":"IF(R369=R411,0,R369)","v":0},{"$f":"IF(S369=S411,0,S369)","v":0},{"$f":"IF(T369=T411,0,T369)","v":0},{"$f":"IF(U369=U411,0,U369)","v":0},{"$f":"IF(V369=V411,0,V369)","v":0},{"$f":"IF(W369=W411,0,W369)","v":0},{"$f":"IF(X369=X411,0,X369)","v":0},{"$f":"IF(Y369=Y411,0,Y369)","v":0},{"$f":"IF(Z369=Z411,0,Z369)","v":0},{"$f":"IF(AA369=AA411,0,AA369)","v":0},{"$f":"IF(AB369=AB411,0,AB369)","v":0},{"$f":"IF(AC369=AC411,0,AC369)","v":0},{"$f":"IF(AD369=AD411,0,AD369)","v":0},{"$f":"IF(AE369=AE411,0,AE369)","v":0},{"$f":"IF(AF369=AF411,0,AF369)","v":0},{"$f":"IF(AG369=AG411,0,AG369)","v":0},{"$f":"IF(AH369=AH411,0,AH369)","v":0},{"$f":"IF(AI369=AI411,0,AI369)","v":0},{"$f":"IF(AJ369=AJ411,0,AJ369)","v":0},{"$f":"IF(AK369=AK411,0,AK369)","v":0},{"$f":"IF(AL369=AL411,0,AL369)","v":0},{"$f":"IF(AM369=AM411,0,AM369)","v":0},{"$f":"IF(AN369=AN411,0,AN369)","v":0},{"$f":"IF(AO369=AO411,0,AO369)","v":0},{"$f":"IF(AP369=AP411,0,AP369)","v":0},{"$f":"IF(AQ369=AQ411,0,AQ369)","v":0},{"$f":"IF(AR369=AR411,0,AR369)","v":0},{"$f":"IF(AS369=AS411,0,AS369)","v":0},{"$f":"IF(AT369=AT411,0,AT369)","v":0},{"$f":"IF(AU369=AU411,0,AU369)","v":0},{"$f":"IF(AV369=AV411,0,AV369)","v":0},{"$f":"IF(AW369=AW411,0,AW369)","v":0},{"$f":"IF(AX369=AX411,0,AX369)","v":0},{"$f":"IF(AY369=AY411,0,AY369)","v":0},{"$f":"IF(AZ369=AZ411,0,AZ369)","v":0},{"$f":"IF(BA369=BA411,0,BA369)","v":0},{"$f":"IF(BB369=BB411,0,BB369)","v":0},{"$f":"IF(BC369=BC411,0,BC369)","v":0},{"$f":"IF(BD369=BD411,0,BD369)","v":0},{"$f":"IF(BE369=BE411,0,BE369)","v":0},{"$f":"IF(BF369=BF411,0,BF369)","v":0},{"$f":"IF(BG369=BG411,0,BG369)","v":0},{"$f":"IF(BH369=BH411,0,BH369)","v":0},{"$f":"IF(BI369=BI411,0,BI369)","v":0},{"$f":"IF(BJ369=BJ411,0,BJ369)","v":0},{"$f":"IF(BK369=BK411,0,BK369)","v":0},{"$f":"IF(BL369=BL411,0,BL369)","v":0},{"$f":"IF(BM369=BM411,0,BM369)","v":0},{"$f":"IF(BN369=BN411,0,BN369)","v":0},{"$f":"IF(BO369=BO411,0,BO369)","v":0},{"$f":"IF(BP369=BP411,0,BP369)","v":0},{"$f":"IF(BQ369=BQ411,0,BQ369)","v":0},{"$f":"IF(BR369=BR411,0,BR369)","v":0},{"$f":"IF(BS369=BS411,0,BS369)","v":0},{"$f":"IF(BT369=BT411,0,BT369)","v":0},{"$f":"IF(BU369=BU411,0,BU369)","v":0},{"$f":"IF(BV369=BV411,0,BV369)","v":0},{"$f":"IF(BW369=BW411,0,BW369)","v":0},{"$f":"IF(BX369=BX411,0,BX369)","v":0},{"$f":"IF(BY369=BY411,0,BY369)","v":0},{"$f":"IF(BZ369=BZ411,0,BZ369)","v":0},{"$f":"IF(CA369=CA411,0,CA369)","v":0},{"$f":"IF(CB369=CB411,0,CB369)","v":0},{"$f":"IF(CC369=CC411,0,CC369)","v":0},{"$f":"IF(CD369=CD411,0,CD369)","v":0},{"$f":"IF(CE369=CE411,0,CE369)","v":0},{"$f":"IF(CF369=CF411,0,CF369)","v":0},{"$f":"IF(CG369=CG411,0,CG369)","v":0},{"$f":"IF(CH369=CH411,0,CH369)","v":0},{"$f":"IF(CI369=CI411,0,CI369)","v":0},{"$f":"IF(CJ369=CJ411,0,CJ369)","v":0},{"$f":"IF(CK369=CK411,0,CK369)","v":0},{"$f":"IF(CL369=CL411,0,CL369)","v":0},{"$f":"IF(CM369=CM411,0,CM369)","v":0},{"$f":"IF(CN369=CN411,0,CN369)","v":0},{"$f":"IF(CO369=CO411,0,CO369)","v":0},{"$f":"IF(CP369=CP411,0,CP369)","v":0},{"$f":"IF(CQ369=CQ411,0,CQ369)","v":0},{"$f":"IF(CR369=CR411,0,CR369)","v":0},{"$f":"IF(CS369=CS411,0,CS369)","v":0},{"$f":"IF(CT369=CT411,0,CT369)","v":0},{"$f":"IF(CU369=CU411,0,CU369)","v":0},{"$f":"AQ411","v":0},{"$f":"AQ412","v":0},1]
[59,{"$f":"'RECOGIDA DATOS'!AG62","v":0},{"$f":"IF(B370=B411,0,B370)","v":0},{"$f":"IF(C370=C411,0,C370)","v":0},{"$f":"IF(D370=D411,0,D370)","v":0},{"$f":"IF(E370=E411,0,E370)","v":0},{"$f":"IF(F370=F411,0,F370)","v":0},{"$f":"IF(G370=G411,0,G370)","v":0},{"$f":"IF(H370=H411,0,H370)","v":0},{"$f":"IF(I370=I411,0,I370)","v":0},{"$f":"IF(J370=J411,0,J370)","v":0},{"$f":"IF(K370=K411,0,K370)","v":0},{"$f":"IF(L370=L411,0,L370)","v":0},{"$f":"IF(M370=M411,0,M370)","v":0},{"$f":"IF(N370=N411,0,N370)","v":0},{"$f":"IF(O370=O411,0,O370)","v":0},{"$f":"IF(P370=P411,0,P370)","v":0},{"$f":"IF(Q370=Q411,0,Q370)","v":0},{"$f":"IF(R370=R411,0,R370)","v":0},{"$f":"IF(S370=S411,0,S370)","v":0},{"$f":"IF(T370=T411,0,T370)","v":0},{"$f":"IF(U370=U411,0,U370)","v":0},{"$f":"IF(V370=V411,0,V370)","v":0},{"$f":"IF(W370=W411,0,W370)","v":0},{"$f":"IF(X370=X411,0,X370)","v":0},{"$f":"IF(Y370=Y411,0,Y370)","v":0},{"$f":"IF(Z370=Z411,0,Z370)","v":0},{"$f":"IF(AA370=AA411,0,AA370)","v":0},{"$f":"IF(AB370=AB411,0,AB370)","v":0},{"$f":"IF(AC370=AC411,0,AC370)","v":0},{"$f":"IF(AD370=AD411,0,AD370)","v":0},{"$f":"IF(AE370=AE411,0,AE370)","v":0},{"$f":"IF(AF370=AF411,0,AF370)","v":0},{"$f":"IF(AG370=AG411,0,AG370)","v":0},{"$f":"IF(AH370=AH411,0,AH370)","v":0},{"$f":"IF(AI370=AI411,0,AI370)","v":0},{"$f":"IF(AJ370=AJ411,0,AJ370)","v":0},{"$f":"IF(AK370=AK411,0,AK370)","v":0},{"$f":"IF(AL370=AL411,0,AL370)","v":0},{"$f":"IF(AM370=AM411,0,AM370)","v":0},{"$f":"IF(AN370=AN411,0,AN370)","v":0},{"$f":"IF(AO370=AO411,0,AO370)","v":0},{"$f":"IF(AP370=AP411,0,AP370)","v":0},{"$f":"IF(AQ370=AQ411,0,AQ370)","v":0},{"$f":"IF(AR370=AR411,0,AR370)","v":0},{"$f":"IF(AS370=AS411,0,AS370)","v":0},{"$f":"IF(AT370=AT411,0,AT370)","v":0},{"$f":"IF(AU370=AU411,0,AU370)","v":0},{"$f":"IF(AV370=AV411,0,AV370)","v":0},{"$f":"IF(AW370=AW411,0,AW370)","v":0},{"$f":"IF(AX370=AX411,0,AX370)","v":0},{"$f":"IF(AY370=AY411,0,AY370)","v":0},{"$f":"IF(AZ370=AZ411,0,AZ370)","v":0},{"$f":"IF(BA370=BA411,0,BA370)","v":0},{"$f":"IF(BB370=BB411,0,BB370)","v":0},{"$f":"IF(BC370=BC411,0,BC370)","v":0},{"$f":"IF(BD370=BD411,0,BD370)","v":0},{"$f":"IF(BE370=BE411,0,BE370)","v":0},{"$f":"IF(BF370=BF411,0,BF370)","v":0},{"$f":"IF(BG370=BG411,0,BG370)","v":0},{"$f":"IF(BH370=BH411,0,BH370)","v":0},{"$f":"IF(BI370=BI411,0,BI370)","v":0},{"$f":"IF(BJ370=BJ411,0,BJ370)","v":0},{"$f":"IF(BK370=BK411,0,BK370)","v":0},{"$f":"IF(BL370=BL411,0,BL370)","v":0},{"$f":"IF(BM370=BM411,0,BM370)","v":0},{"$f":"IF(BN370=BN411,0,BN370)","v":0},{"$f":"IF(BO370=BO411,0,BO370)","v":0},{"$f":"IF(BP370=BP411,0,BP370)","v":0},{"$f":"IF(BQ370=BQ411,0,BQ370)","v":0},{"$f":"IF(BR370=BR411,0,BR370)","v":0},{"$f":"IF(BS370=BS411,0,BS370)","v":0},{"$f":"IF(BT370=BT411,0,BT370)","v":0},{"$f":"IF(BU370=BU411,0,BU370)","v":0},{"$f":"IF(BV370=BV411,0,BV370)","v":0},{"$f":"IF(BW370=BW411,0,BW370)","v":0},{"$f":"IF(BX370=BX411,0,BX370)","v":0},{"$f":"IF(BY370=BY411,0,BY370)","v":0},{"$f":"IF(BZ370=BZ411,0,BZ370)","v":0},{"$f":"IF(CA370=CA411,0,CA370)","v":0},{"$f":"IF(CB370=CB411,0,CB370)","v":0},{"$f":"IF(CC370=CC411,0,CC370)","v":0},{"$f":"IF(CD370=CD411,0,CD370)","v":0},{"$f":"IF(CE370=CE411,0,CE370)","v":0},{"$f":"IF(CF370=CF411,0,CF370)","v":0},{"$f":"IF(CG370=CG411,0,CG370)","v":0},{"$f":"IF(CH370=CH411,0,CH370)","v":0},{"$f":"IF(CI370=CI411,0,CI370)","v":0},{"$f":"IF(CJ370=CJ411,0,CJ370)","v":0},{"$f":"IF(CK370=CK411,0,CK370)","v":0},{"$f":"IF(CL370=CL411,0,CL370)","v":0},{"$f":"IF(CM370=CM411,0,CM370)","v":0},{"$f":"IF(CN370=CN411,0,CN370)","v":0},{"$f":"IF(CO370=CO411,0,CO370)","v":0},{"$f":"IF(CP370=CP411,0,CP370)","v":0},{"$f":"IF(CQ370=CQ411,0,CQ370)","v":0},{"$f":"IF(CR370=CR411,0,CR370)","v":0},{"$f":"IF(CS370=CS411,0,CS370)","v":0},{"$f":"IF(CT370=CT411,0,CT370)","v":0},{"$f":"IF(CU370=CU411,0,CU370)","v":0},{"$f":"AP411","v":0},{"$f":"AP412","v":0},1]
[60,{"$f":"'RECOGIDA DATOS'!AG63","v":0},{"$f":"IF(B371=B411,0,B371)","v":0},{"$f":"IF(C371=C411,0,C371)","v":0},{"$f":"IF(D371=D411,0,D371)","v":0},{"$f":"IF(E371=E411,0,E371)","v":0},{"$f":"IF(F371=F411,0,F371)","v":0},{"$f":"IF(G371=G411,0,G371)","v":0},{"$f":"IF(H371=H411,0,H371)","v":0},{"$f":"IF(I371=I411,0,I371)","v":0},{"$f":"IF(J371=J411,0,J371)","v":0},{"$f":"IF(K371=K411,0,K371)","v":0},{"$f":"IF(L371=L411,0,L371)","v":0},{"$f":"IF(M371=M411,0,M371)","v":0},{"$f":"IF(N371=N411,0,N371)","v":0},{"$f":"IF(O371=O411,0,O371)","v":0},{"$f":"IF(P371=P411,0,P371)","v":0},{"$f":"IF(Q371=Q411,0,Q371)","v":0},{"$f":"IF(R371=R411,0,R371)","v":0},{"$f":"IF(S371=S411,0,S371)","v":0},{"$f":"IF(T371=T411,0,T371)","v":0},{"$f":"IF(U371=U411,0,U371)","v":0},{"$f":"IF(V371=V411,0,V371)","v":0},{"$f":"IF(W371=W411,0,W371)","v":0},{"$f":"IF(X371=X411,0,X371)","v":0},{"$f":"IF(Y371=Y411,0,Y371)","v":0},{"$f":"IF(Z371=Z411,0,Z371)","v":0},{"$f":"IF(AA371=AA411,0,AA371)","v":0},{"$f":"IF(AB371=AB411,0,AB371)","v":0},{"$f":"IF(AC371=AC411,0,AC371)","v":0},{"$f":"IF(AD371=AD411,0,AD371)","v":0},{"$f":"IF(AE371=AE411,0,AE371)","v":0},{"$f":"IF(AF371=AF411,0,AF371)","v":0},{"$f":"IF(AG371=AG411,0,AG371)","v":0},{"$f":"IF(AH371=AH411,0,AH371)","v":0},{"$f":"IF(AI371=AI411,0,AI371)","v":0},{"$f":"IF(AJ371=AJ411,0,AJ371)","v":0},{"$f":"IF(AK371=AK411,0,AK371)","v":0},{"$f":"IF(AL371=AL411,0,AL371)","v":0},{"$f":"IF(AM371=AM411,0,AM371)","v":0},{"$f":"IF(AN371=AN411,0,AN371)","v":0},{"$f":"IF(AO371=AO411,0,AO371)","v":0},{"$f":"IF(AP371=AP411,0,AP371)","v":0},{"$f":"IF(AQ371=AQ411,0,AQ371)","v":0},{"$f":"IF(AR371=AR411,0,AR371)","v":0},{"$f":"IF(AS371=AS411,0,AS371)","v":0},{"$f":"IF(AT371=AT411,0,AT371)","v":0},{"$f":"IF(AU371=AU411,0,AU371)","v":0},{"$f":"IF(AV371=AV411,0,AV371)","v":0},{"$f":"IF(AW371=AW411,0,AW371)","v":0},{"$f":"IF(AX371=AX411,0,AX371)","v":0},{"$f":"IF(AY371=AY411,0,AY371)","v":0},{"$f":"IF(AZ371=AZ411,0,AZ371)","v":0},{"$f":"IF(BA371=BA411,0,BA371)","v":0},{"$f":"IF(BB371=BB411,0,BB371)","v":0},{"$f":"IF(BC371=BC411,0,BC371)","v":0},{"$f":"IF(BD371=BD411,0,BD371)","v":0},{"$f":"IF(BE371=BE411,0,BE371)","v":0},{"$f":"IF(BF371=BF411,0,BF371)","v":0},{"$f":"IF(BG371=BG411,0,BG371)","v":0},{"$f":"IF(BH371=BH411,0,BH371)","v":0},{"$f":"IF(BI371=BI411,0,BI371)","v":0},{"$f":"IF(BJ371=BJ411,0,BJ371)","v":0},{"$f":"IF(BK371=BK411,0,BK371)","v":0},{"$f":"IF(BL371=BL411,0,BL371)","v":0},{"$f":"IF(BM371=BM411,0,BM371)","v":0},{"$f":"IF(BN371=BN411,0,BN371)","v":0},{"$f":"IF(BO371=BO411,0,BO371)","v":0},{"$f":"IF(BP371=BP411,0,BP371)","v":0},{"$f":"IF(BQ371=BQ411,0,BQ371)","v":0},{"$f":"IF(BR371=BR411,0,BR371)","v":0},{"$f":"IF(BS371=BS411,0,BS371)","v":0},{"$f":"IF(BT371=BT411,0,BT371)","v":0},{"$f":"IF(BU371=BU411,0,BU371)","v":0},{"$f":"IF(BV371=BV411,0,BV371)","v":0},{"$f":"IF(BW371=BW411,0,BW371)","v":0},{"$f":"IF(BX371=BX411,0,BX371)","v":0},{"$f":"IF(BY371=BY411,0,BY371)","v":0},{"$f":"IF(BZ371=BZ411,0,BZ371)","v":0},{"$f":"IF(CA371=CA411,0,CA371)","v":0},{"$f":"IF(CB371=CB411,0,CB371)","v":0},{"$f":"IF(CC371=CC411,0,CC371)","v":0},{"$f":"IF(CD371=CD411,0,CD371)","v":0},{"$f":"IF(CE371=CE411,0,CE371)","v":0},{"$f":"IF(CF371=CF411,0,CF371)","v":0},{"$f":"IF(CG371=CG411,0,CG371)","v":0},{"$f":"IF(CH371=CH411,0,CH371)","v":0},{"$f":"IF(CI371=CI411,0,CI371)","v":0},{"$f":"IF(CJ371=CJ411,0,CJ371)","v":0},{"$f":"IF(CK371=CK411,0,CK371)","v":0},{"$f":"IF(CL371=CL411,0,CL371)","v":0},{"$f":"IF(CM371=CM411,0,CM371)","v":0},{"$f":"IF(CN371=CN411,0,CN371)","v":0},{"$f":"IF(CO371=CO411,0,CO371)","v":0},{"$f":"IF(CP371=CP411,0,CP371)","v":0},{"$f":"IF(CQ371=CQ411,0,CQ371)","v":0},{"$f":"IF(CR371=CR411,0,CR371)","v":0},{"$f":"IF(CS371=CS411,0,CS371)","v":0},{"$f":"IF(CT371=CT411,0,CT371)","v":0},{"$f":"IF(CU371=CU411,0,CU371)","v":0},{"$f":"AO411","v":0},{"$f":"AO412","v":0},1]
[61,{"$f":"'RECOGIDA DATOS'!AG64","v":0},{"$f":"IF(B372=B411,0,B372)","v":0},{"$f":"IF(C372=C411,0,C372)","v":0},{"$f":"IF(D372=D411,0,D372)","v":0},{"$f":"IF(E372=E411,0,E372)","v":0},{"$f":"IF(F372=F411,0,F372)","v":0},{"$f":"IF(G372=G411,0,G372)","v":0},{"$f":"IF(H372=H411,0,H372)","v":0},{"$f":"IF(I372=I411,0,I372)","v":0},{"$f":"IF(J372=J411,0,J372)","v":0},{"$f":"IF(K372=K411,0,K372)","v":0},{"$f":"IF(L372=L411,0,L372)","v":0},{"$f":"IF(M372=M411,0,M372)","v":0},{"$f":"IF(N372=N411,0,N372)","v":0},{"$f":"IF(O372=O411,0,O372)","v":0},{"$f":"IF(P372=P411,0,P372)","v":0},{"$f":"IF(Q372=Q411,0,Q372)","v":0},{"$f":"IF(R372=R411,0,R372)","v":0},{"$f":"IF(S372=S411,0,S372)","v":0},{"$f":"IF(T372=T411,0,T372)","v":0},{"$f":"IF(U372=U411,0,U372)","v":0},{"$f":"IF(V372=V411,0,V372)","v":0},{"$f":"IF(W372=W411,0,W372)","v":0},{"$f":"IF(X372=X411,0,X372)","v":0},{"$f":"IF(Y372=Y411,0,Y372)","v":0},{"$f":"IF(Z372=Z411,0,Z372)","v":0},{"$f":"IF(AA372=AA411,0,AA372)","v":0},{"$f":"IF(AB372=AB411,0,AB372)","v":0},{"$f":"IF(AC372=AC411,0,AC372)","v":0},{"$f":"IF(AD372=AD411,0,AD372)","v":0},{"$f":"IF(AE372=AE411,0,AE372)","v":0},{"$f":"IF(AF372=AF411,0,AF372)","v":0},{"$f":"IF(AG372=AG411,0,AG372)","v":0},{"$f":"IF(AH372=AH411,0,AH372)","v":0},{"$f":"IF(AI372=AI411,0,AI372)","v":0},{"$f":"IF(AJ372=AJ411,0,AJ372)","v":0},{"$f":"IF(AK372=AK411,0,AK372)","v":0},{"$f":"IF(AL372=AL411,0,AL372)","v":0},{"$f":"IF(AM372=AM411,0,AM372)","v":0},{"$f":"IF(AN372=AN411,0,AN372)","v":0},{"$f":"IF(AO372=AO411,0,AO372)","v":0},{"$f":"IF(AP372=AP411,0,AP372)","v":0},{"$f":"IF(AQ372=AQ411,0,AQ372)","v":0},{"$f":"IF(AR372=AR411,0,AR372)","v":0},{"$f":"IF(AS372=AS411,0,AS372)","v":0},{"$f":"IF(AT372=AT411,0,AT372)","v":0},{"$f":"IF(AU372=AU411,0,AU372)","v":0},{"$f":"IF(AV372=AV411,0,AV372)","v":0},{"$f":"IF(AW372=AW411,0,AW372)","v":0},{"$f":"IF(AX372=AX411,0,AX372)","v":0},{"$f":"IF(AY372=AY411,0,AY372)","v":0},{"$f":"IF(AZ372=AZ411,0,AZ372)","v":0},{"$f":"IF(BA372=BA411,0,BA372)","v":0},{"$f":"IF(BB372=BB411,0,BB372)","v":0},{"$f":"IF(BC372=BC411,0,BC372)","v":0},{"$f":"IF(BD372=BD411,0,BD372)","v":0},{"$f":"IF(BE372=BE411,0,BE372)","v":0},{"$f":"IF(BF372=BF411,0,BF372)","v":0},{"$f":"IF(BG372=BG411,0,BG372)","v":0},{"$f":"IF(BH372=BH411,0,BH372)","v":0},{"$f":"IF(BI372=BI411,0,BI372)","v":0},{"$f":"IF(BJ372=BJ411,0,BJ372)","v":0},{"$f":"IF(BK372=BK411,0,BK372)","v":0},{"$f":"IF(BL372=BL411,0,BL372)","v":0},{"$f":"IF(BM372=BM411,0,BM372)","v":0},{"$f":"IF(BN372=BN411,0,BN372)","v":0},{"$f":"IF(BO372=BO411,0,BO372)","v":0},{"$f":"IF(BP372=BP411,0,BP372)","v":0},{"$f":"IF(BQ372=BQ411,0,BQ372)","v":0},{"$f":"IF(BR372=BR411,0,BR372)","v":0},{"$f":"IF(BS372=BS411,0,BS372)","v":0},{"$f":"IF(BT372=BT411,0,BT372)","v":0},{"$f":"IF(BU372=BU411,0,BU372)","v":0},{"$f":"IF(BV372=BV411,0,BV372)","v":0},{"$f":"IF(BW372=BW411,0,BW372)","v":0},{"$f":"IF(BX372=BX411,0,BX372)","v":0},{"$f":"IF(BY372=BY411,0,BY372)","v":0},{"$f":"IF(BZ372=BZ411,0,BZ372)","v":0},{"$f":"IF(CA372=CA411,0,CA372)","v":0},{"$f":"IF(CB372=CB411,0,CB372)","v":0},{"$f":"IF(CC372=CC411,0,CC372)","v":0},{"$f":"IF(CD372=CD411,0,CD372)","v":0},{"$f":"IF(CE372=CE411,0,CE372)","v":0},{"$f":"IF(CF372=CF411,0,CF372)","v":0},{"$f":"IF(CG372=CG411,0,CG372)","v":0},{"$f":"IF(CH372=CH411,0,CH372)","v":0},{"$f":"IF(CI372=CI411,0,CI372)","v":0},{"$f":"IF(CJ372=CJ411,0,CJ372)","v":0},{"$f":"IF(CK372=CK411,0,CK372)","v":0},{"$f":"IF(CL372=CL411,0,CL372)","v":0},{"$f":"IF(CM372=CM411,0,CM372)","v":0},{"$f":"IF(CN372=CN411,0,CN372)","v":0},{"$f":"IF(CO372=CO411,0,CO372)","v":0},{"$f":"IF(CP372=CP411,0,CP372)","v":0},{"$f":"IF(CQ372=CQ411,0,CQ372)","v":0},{"$f":"IF(CR372=CR411,0,CR372)","v":0},{"$f":"IF(CS372=CS411,0,CS372)","v":0},{"$f":"IF(CT372=CT411,0,CT372)","v":0},{"$f":"IF(CU372=CU411,0,CU372)","v":0},{"$f":"AN411","v":0},{"$f":"AN412","v":0},1]
[62,{"$f":"'RECOGIDA DATOS'!AG65","v":0},{"$f":"IF(B373=B411,0,B373)","v":0},{"$f":"IF(C373=C411,0,C373)","v":0},{"$f":"IF(D373=D411,0,D373)","v":0},{"$f":"IF(E373=E411,0,E373)","v":0},{"$f":"IF(F373=F411,0,F373)","v":0},{"$f":"IF(G373=G411,0,G373)","v":0},{"$f":"IF(H373=H411,0,H373)","v":0},{"$f":"IF(I373=I411,0,I373)","v":0},{"$f":"IF(J373=J411,0,J373)","v":0},{"$f":"IF(K373=K411,0,K373)","v":0},{"$f":"IF(L373=L411,0,L373)","v":0},{"$f":"IF(M373=M411,0,M373)","v":0},{"$f":"IF(N373=N411,0,N373)","v":0},{"$f":"IF(O373=O411,0,O373)","v":0},{"$f":"IF(P373=P411,0,P373)","v":0},{"$f":"IF(Q373=Q411,0,Q373)","v":0},{"$f":"IF(R373=R411,0,R373)","v":0},{"$f":"IF(S373=S411,0,S373)","v":0},{"$f":"IF(T373=T411,0,T373)","v":0},{"$f":"IF(U373=U411,0,U373)","v":0},{"$f":"IF(V373=V411,0,V373)","v":0},{"$f":"IF(W373=W411,0,W373)","v":0},{"$f":"IF(X373=X411,0,X373)","v":0},{"$f":"IF(Y373=Y411,0,Y373)","v":0},{"$f":"IF(Z373=Z411,0,Z373)","v":0},{"$f":"IF(AA373=AA411,0,AA373)","v":0},{"$f":"IF(AB373=AB411,0,AB373)","v":0},{"$f":"IF(AC373=AC411,0,AC373)","v":0},{"$f":"IF(AD373=AD411,0,AD373)","v":0},{"$f":"IF(AE373=AE411,0,AE373)","v":0},{"$f":"IF(AF373=AF411,0,AF373)","v":0},{"$f":"IF(AG373=AG411,0,AG373)","v":0},{"$f":"IF(AH373=AH411,0,AH373)","v":0},{"$f":"IF(AI373=AI411,0,AI373)","v":0},{"$f":"IF(AJ373=AJ411,0,AJ373)","v":0},{"$f":"IF(AK373=AK411,0,AK373)","v":0},{"$f":"IF(AL373=AL411,0,AL373)","v":0},{"$f":"IF(AM373=AM411,0,AM373)","v":0},{"$f":"IF(AN373=AN411,0,AN373)","v":0},{"$f":"IF(AO373=AO411,0,AO373)","v":0},{"$f":"IF(AP373=AP411,0,AP373)","v":0},{"$f":"IF(AQ373=AQ411,0,AQ373)","v":0},{"$f":"IF(AR373=AR411,0,AR373)","v":0},{"$f":"IF(AS373=AS411,0,AS373)","v":0},{"$f":"IF(AT373=AT411,0,AT373)","v":0},{"$f":"IF(AU373=AU411,0,AU373)","v":0},{"$f":"IF(AV373=AV411,0,AV373)","v":0},{"$f":"IF(AW373=AW411,0,AW373)","v":0},{"$f":"IF(AX373=AX411,0,AX373)","v":0},{"$f":"IF(AY373=AY411,0,AY373)","v":0},{"$f":"IF(AZ373=AZ411,0,AZ373)","v":0},{"$f":"IF(BA373=BA411,0,BA373)","v":0},{"$f":"IF(BB373=BB411,0,BB373)","v":0},{"$f":"IF(BC373=BC411,0,BC373)","v":0},{"$f":"IF(BD373=BD411,0,BD373)","v":0},{"$f":"IF(BE373=BE411,0,BE373)","v":0},{"$f":"IF(BF373=BF411,0,BF373)","v":0},{"$f":"IF(BG373=BG411,0,BG373)","v":0},{"$f":"IF(BH373=BH411,0,BH373)","v":0},{"$f":"IF(BI373=BI411,0,BI373)","v":0},{"$f":"IF(BJ373=BJ411,0,BJ373)","v":0},{"$f":"IF(BK373=BK411,0,BK373)","v":0},{"$f":"IF(BL373=BL411,0,BL373)","v":0},{"$f":"IF(BM373=BM411,0,BM373)","v":0},{"$f":"IF(BN373=BN411,0,BN373)","v":0},{"$f":"IF(BO373=BO411,0,BO373)","v":0},{"$f":"IF(BP373=BP411,0,BP373)","v":0},{"$f":"IF(BQ373=BQ411,0,BQ373)","v":0},{"$f":"IF(BR373=BR411,0,BR373)","v":0},{"$f":"IF(BS373=BS411,0,BS373)","v":0},{"$f":"IF(BT373=BT411,0,BT373)","v":0},{"$f":"IF(BU373=BU411,0,BU373)","v":0},{"$f":"IF(BV373=BV411,0,BV373)","v":0},{"$f":"IF(BW373=BW411,0,BW373)","v":0},{"$f":"IF(BX373=BX411,0,BX373)","v":0},{"$f":"IF(BY373=BY411,0,BY373)","v":0},{"$f":"IF(BZ373=BZ411,0,BZ373)","v":0},{"$f":"IF(CA373=CA411,0,CA373)","v":0},{"$f":"IF(CB373=CB411,0,CB373)","v":0},{"$f":"IF(CC373=CC411,0,CC373)","v":0},{"$f":"IF(CD373=CD411,0,CD373)","v":0},{"$f":"IF(CE373=CE411,0,CE373)","v":0},{"$f":"IF(CF373=CF411,0,CF373)","v":0},{"$f":"IF(CG373=CG411,0,CG373)","v":0},{"$f":"IF(CH373=CH411,0,CH373)","v":0},{"$f":"IF(CI373=CI411,0,CI373)","v":0},{"$f":"IF(CJ373=CJ411,0,CJ373)","v":0},{"$f":"IF(CK373=CK411,0,CK373)","v":0},{"$f":"IF(CL373=CL411,0,CL373)","v":0},{"$f":"IF(CM373=CM411,0,CM373)","v":0},{"$f":"IF(CN373=CN411,0,CN373)","v":0},{"$f":"IF(CO373=CO411,0,CO373)","v":0},{"$f":"IF(CP373=CP411,0,CP373)","v":0},{"$f":"IF(CQ373=CQ411,0,CQ373)","v":0},{"$f":"IF(CR373=CR411,0,CR373)","v":0},{"$f":"IF(CS373=CS411,0,CS373)","v":0},{"$f":"IF(CT373=CT411,0,CT373)","v":0},{"$f":"IF(CU373=CU411,0,CU373)","v":0},{"$f":"AM411","v":0},{"$f":"AM412","v":0},1]
[63,{"$f":"'RECOGIDA DATOS'!AG66","v":0},{"$f":"IF(B374=B411,0,B374)","v":0},{"$f":"IF(C374=C411,0,C374)","v":0},{"$f":"IF(D374=D411,0,D374)","v":0},{"$f":"IF(E374=E411,0,E374)","v":0},{"$f":"IF(F374=F411,0,F374)","v":0},{"$f":"IF(G374=G411,0,G374)","v":0},{"$f":"IF(H374=H411,0,H374)","v":0},{"$f":"IF(I374=I411,0,I374)","v":0},{"$f":"IF(J374=J411,0,J374)","v":0},{"$f":"IF(K374=K411,0,K374)","v":0},{"$f":"IF(L374=L411,0,L374)","v":0},{"$f":"IF(M374=M411,0,M374)","v":0},{"$f":"IF(N374=N411,0,N374)","v":0},{"$f":"IF(O374=O411,0,O374)","v":0},{"$f":"IF(P374=P411,0,P374)","v":0},{"$f":"IF(Q374=Q411,0,Q374)","v":0},{"$f":"IF(R374=R411,0,R374)","v":0},{"$f":"IF(S374=S411,0,S374)","v":0},{"$f":"IF(T374=T411,0,T374)","v":0},{"$f":"IF(U374=U411,0,U374)","v":0},{"$f":"IF(V374=V411,0,V374)","v":0},{"$f":"IF(W374=W411,0,W374)","v":0},{"$f":"IF(X374=X411,0,X374)","v":0},{"$f":"IF(Y374=Y411,0,Y374)","v":0},{"$f":"IF(Z374=Z411,0,Z374)","v":0},{"$f":"IF(AA374=AA411,0,AA374)","v":0},{"$f":"IF(AB374=AB411,0,AB374)","v":0},{"$f":"IF(AC374=AC411,0,AC374)","v":0},{"$f":"IF(AD374=AD411,0,AD374)","v":0},{"$f":"IF(AE374=AE411,0,AE374)","v":0},{"$f":"IF(AF374=AF411,0,AF374)","v":0},{"$f":"IF(AG374=AG411,0,AG374)","v":0},{"$f":"IF(AH374=AH411,0,AH374)","v":0},{"$f":"IF(AI374=AI411,0,AI374)","v":0},{"$f":"IF(AJ374=AJ411,0,AJ374)","v":0},{"$f":"IF(AK374=AK411,0,AK374)","v":0},{"$f":"IF(AL374=AL411,0,AL374)","v":0},{"$f":"IF(AM374=AM411,0,AM374)","v":0},{"$f":"IF(AN374=AN411,0,AN374)","v":0},{"$f":"IF(AO374=AO411,0,AO374)","v":0},{"$f":"IF(AP374=AP411,0,AP374)","v":0},{"$f":"IF(AQ374=AQ411,0,AQ374)","v":0},{"$f":"IF(AR374=AR411,0,AR374)","v":0},{"$f":"IF(AS374=AS411,0,AS374)","v":0},{"$f":"IF(AT374=AT411,0,AT374)","v":0},{"$f":"IF(AU374=AU411,0,AU374)","v":0},{"$f":"IF(AV374=AV411,0,AV374)","v":0},{"$f":"IF(AW374=AW411,0,AW374)","v":0},{"$f":"IF(AX374=AX411,0,AX374)","v":0},{"$f":"IF(AY374=AY411,0,AY374)","v":0},{"$f":"IF(AZ374=AZ411,0,AZ374)","v":0},{"$f":"IF(BA374=BA411,0,BA374)","v":0},{"$f":"IF(BB374=BB411,0,BB374)","v":0},{"$f":"IF(BC374=BC411,0,BC374)","v":0},{"$f":"IF(BD374=BD411,0,BD374)","v":0},{"$f":"IF(BE374=BE411,0,BE374)","v":0},{"$f":"IF(BF374=BF411,0,BF374)","v":0},{"$f":"IF(BG374=BG411,0,BG374)","v":0},{"$f":"IF(BH374=BH411,0,BH374)","v":0},{"$f":"IF(BI374=BI411,0,BI374)","v":0},{"$f":"IF(BJ374=BJ411,0,BJ374)","v":0},{"$f":"IF(BK374=BK411,0,BK374)","v":0},{"$f":"IF(BL374=BL411,0,BL374)","v":0},{"$f":"IF(BM374=BM411,0,BM374)","v":0},{"$f":"IF(BN374=BN411,0,BN374)","v":0},{"$f":"IF(BO374=BO411,0,BO374)","v":0},{"$f":"IF(BP374=BP411,0,BP374)","v":0},{"$f":"IF(BQ374=BQ411,0,BQ374)","v":0},{"$f":"IF(BR374=BR411,0,BR374)","v":0},{"$f":"IF(BS374=BS411,0,BS374)","v":0},{"$f":"IF(BT374=BT411,0,BT374)","v":0},{"$f":"IF(BU374=BU411,0,BU374)","v":0},{"$f":"IF(BV374=BV411,0,BV374)","v":0},{"$f":"IF(BW374=BW411,0,BW374)","v":0},{"$f":"IF(BX374=BX411,0,BX374)","v":0},{"$f":"IF(BY374=BY411,0,BY374)","v":0},{"$f":"IF(BZ374=BZ411,0,BZ374)","v":0},{"$f":"IF(CA374=CA411,0,CA374)","v":0},{"$f":"IF(CB374=CB411,0,CB374)","v":0},{"$f":"IF(CC374=CC411,0,CC374)","v":0},{"$f":"IF(CD374=CD411,0,CD374)","v":0},{"$f":"IF(CE374=CE411,0,CE374)","v":0},{"$f":"IF(CF374=CF411,0,CF374)","v":0},{"$f":"IF(CG374=CG411,0,CG374)","v":0},{"$f":"IF(CH374=CH411,0,CH374)","v":0},{"$f":"IF(CI374=CI411,0,CI374)","v":0},{"$f":"IF(CJ374=CJ411,0,CJ374)","v":0},{"$f":"IF(CK374=CK411,0,CK374)","v":0},{"$f":"IF(CL374=CL411,0,CL374)","v":0},{"$f":"IF(CM374=CM411,0,CM374)","v":0},{"$f":"IF(CN374=CN411,0,CN374)","v":0},{"$f":"IF(CO374=CO411,0,CO374)","v":0},{"$f":"IF(CP374=CP411,0,CP374)","v":0},{"$f":"IF(CQ374=CQ411,0,CQ374)","v":0},{"$f":"IF(CR374=CR411,0,CR374)","v":0},{"$f":"IF(CS374=CS411,0,CS374)","v":0},{"$f":"IF(CT374=CT411,0,CT374)","v":0},{"$f":"IF(CU374=CU411,0,CU374)","v":0},{"$f":"AL411","v":0},{"$f":"AL412","v":0},1]
[64,{"$f":"'RECOGIDA DATOS'!AG67","v":0},{"$f":"IF(B375=B411,0,B375)","v":0},{"$f":"IF(C375=C411,0,C375)","v":0},{"$f":"IF(D375=D411,0,D375)","v":0},{"$f":"IF(E375=E411,0,E375)","v":0},{"$f":"IF(F375=F411,0,F375)","v":0},{"$f":"IF(G375=G411,0,G375)","v":0},{"$f":"IF(H375=H411,0,H375)","v":0},{"$f":"IF(I375=I411,0,I375)","v":0},{"$f":"IF(J375=J411,0,J375)","v":0},{"$f":"IF(K375=K411,0,K375)","v":0},{"$f":"IF(L375=L411,0,L375)","v":0},{"$f":"IF(M375=M411,0,M375)","v":0},{"$f":"IF(N375=N411,0,N375)","v":0},{"$f":"IF(O375=O411,0,O375)","v":0},{"$f":"IF(P375=P411,0,P375)","v":0},{"$f":"IF(Q375=Q411,0,Q375)","v":0},{"$f":"IF(R375=R411,0,R375)","v":0},{"$f":"IF(S375=S411,0,S375)","v":0},{"$f":"IF(T375=T411,0,T375)","v":0},{"$f":"IF(U375=U411,0,U375)","v":0},{"$f":"IF(V375=V411,0,V375)","v":0},{"$f":"IF(W375=W411,0,W375)","v":0},{"$f":"IF(X375=X411,0,X375)","v":0},{"$f":"IF(Y375=Y411,0,Y375)","v":0},{"$f":"IF(Z375=Z411,0,Z375)","v":0},{"$f":"IF(AA375=AA411,0,AA375)","v":0},{"$f":"IF(AB375=AB411,0,AB375)","v":0},{"$f":"IF(AC375=AC411,0,AC375)","v":0},{"$f":"IF(AD375=AD411,0,AD375)","v":0},{"$f":"IF(AE375=AE411,0,AE375)","v":0},{"$f":"IF(AF375=AF411,0,AF375)","v":0},{"$f":"IF(AG375=AG411,0,AG375)","v":0},{"$f":"IF(AH375=AH411,0,AH375)","v":0},{"$f":"IF(AI375=AI411,0,AI375)","v":0},{"$f":"IF(AJ375=AJ411,0,AJ375)","v":0},{"$f":"IF(AK375=AK411,0,AK375)","v":0},{"$f":"IF(AL375=AL411,0,AL375)","v":0},{"$f":"IF(AM375=AM411,0,AM375)","v":0},{"$f":"IF(AN375=AN411,0,AN375)","v":0},{"$f":"IF(AO375=AO411,0,AO375)","v":0},{"$f":"IF(AP375=AP411,0,AP375)","v":0},{"$f":"IF(AQ375=AQ411,0,AQ375)","v":0},{"$f":"IF(AR375=AR411,0,AR375)","v":0},{"$f":"IF(AS375=AS411,0,AS375)","v":0},{"$f":"IF(AT375=AT411,0,AT375)","v":0},{"$f":"IF(AU375=AU411,0,AU375)","v":0},{"$f":"IF(AV375=AV411,0,AV375)","v":0},{"$f":"IF(AW375=AW411,0,AW375)","v":0},{"$f":"IF(AX375=AX411,0,AX375)","v":0},{"$f":"IF(AY375=AY411,0,AY375)","v":0},{"$f":"IF(AZ375=AZ411,0,AZ375)","v":0},{"$f":"IF(BA375=BA411,0,BA375)","v":0},{"$f":"IF(BB375=BB411,0,BB375)","v":0},{"$f":"IF(BC375=BC411,0,BC375)","v":0},{"$f":"IF(BD375=BD411,0,BD375)","v":0},{"$f":"IF(BE375=BE411,0,BE375)","v":0},{"$f":"IF(BF375=BF411,0,BF375)","v":0},{"$f":"IF(BG375=BG411,0,BG375)","v":0},{"$f":"IF(BH375=BH411,0,BH375)","v":0},{"$f":"IF(BI375=BI411,0,BI375)","v":0},{"$f":"IF(BJ375=BJ411,0,BJ375)","v":0},{"$f":"IF(BK375=BK411,0,BK375)","v":0},{"$f":"IF(BL375=BL411,0,BL375)","v":0},{"$f":"IF(BM375=BM411,0,BM375)","v":0},{"$f":"IF(BN375=BN411,0,BN375)","v":0},{"$f":"IF(BO375=BO411,0,BO375)","v":0},{"$f":"IF(BP375=BP411,0,BP375)","v":0},{"$f":"IF(BQ375=BQ411,0,BQ375)","v":0},{"$f":"IF(BR375=BR411,0,BR375)","v":0},{"$f":"IF(BS375=BS411,0,BS375)","v":0},{"$f":"IF(BT375=BT411,0,BT375)","v":0},{"$f":"IF(BU375=BU411,0,BU375)","v":0},{"$f":"IF(BV375=BV411,0,BV375)","v":0},{"$f":"IF(BW375=BW411,0,BW375)","v":0},{"$f":"IF(BX375=BX411,0,BX375)","v":0},{"$f":"IF(BY375=BY411,0,BY375)","v":0},{"$f":"IF(BZ375=BZ411,0,BZ375)","v":0},{"$f":"IF(CA375=CA411,0,CA375)","v":0},{"$f":"IF(CB375=CB411,0,CB375)","v":0},{"$f":"IF(CC375=CC411,0,CC375)","v":0},{"$f":"IF(CD375=CD411,0,CD375)","v":0},{"$f":"IF(CE375=CE411,0,CE375)","v":0},{"$f":"IF(CF375=CF411,0,CF375)","v":0},{"$f":"IF(CG375=CG411,0,CG375)","v":0},{"$f":"IF(CH375=CH411,0,CH375)","v":0},{"$f":"IF(CI375=CI411,0,CI375)","v":0},{"$f":"IF(CJ375=CJ411,0,CJ375)","v":0},{"$f":"IF(CK375=CK411,0,CK375)","v":0},{"$f":"IF(CL375=CL411,0,CL375)","v":0},{"$f":"IF(CM375=CM411,0,CM375)","v":0},{"$f":"IF(CN375=CN411,0,CN375)","v":0},{"$f":"IF(CO375=CO411,0,CO375)","v":0},{"$f":"IF(CP375=CP411,0,CP375)","v":0},{"$f":"IF(CQ375=CQ411,0,CQ375)","v":0},{"$f":"IF(CR375=CR411,0,CR375)","v":0},{"$f":"IF(CS375=CS411,0,CS375)","v":0},{"$f":"IF(CT375=CT411,0,CT375)","v":0},{"$f":"IF(CU375=CU411,0,CU375)","v":0},{"$f":"AK411","v":0},{"$f":"AK412","v":0},1]
[65,{"$f":"'RECOGIDA DATOS'!AG68","v":0},{"$f":"IF(B376=B411,0,B376)","v":0},{"$f":"IF(C376=C411,0,C376)","v":0},{"$f":"IF(D376=D411,0,D376)","v":0},{"$f":"IF(E376=E411,0,E376)","v":0},{"$f":"IF(F376=F411,0,F376)","v":0},{"$f":"IF(G376=G411,0,G376)","v":0},{"$f":"IF(H376=H411,0,H376)","v":0},{"$f":"IF(I376=I411,0,I376)","v":0},{"$f":"IF(J376=J411,0,J376)","v":0},{"$f":"IF(K376=K411,0,K376)","v":0},{"$f":"IF(L376=L411,0,L376)","v":0},{"$f":"IF(M376=M411,0,M376)","v":0},{"$f":"IF(N376=N411,0,N376)","v":0},{"$f":"IF(O376=O411,0,O376)","v":0},{"$f":"IF(P376=P411,0,P376)","v":0},{"$f":"IF(Q376=Q411,0,Q376)","v":0},{"$f":"IF(R376=R411,0,R376)","v":0},{"$f":"IF(S376=S411,0,S376)","v":0},{"$f":"IF(T376=T411,0,T376)","v":0},{"$f":"IF(U376=U411,0,U376)","v":0},{"$f":"IF(V376=V411,0,V376)","v":0},{"$f":"IF(W376=W411,0,W376)","v":0},{"$f":"IF(X376=X411,0,X376)","v":0},{"$f":"IF(Y376=Y411,0,Y376)","v":0},{"$f":"IF(Z376=Z411,0,Z376)","v":0},{"$f":"IF(AA376=AA411,0,AA376)","v":0},{"$f":"IF(AB376=AB411,0,AB376)","v":0},{"$f":"IF(AC376=AC411,0,AC376)","v":0},{"$f":"IF(AD376=AD411,0,AD376)","v":0},{"$f":"IF(AE376=AE411,0,AE376)","v":0},{"$f":"IF(AF376=AF411,0,AF376)","v":0},{"$f":"IF(AG376=AG411,0,AG376)","v":0},{"$f":"IF(AH376=AH411,0,AH376)","v":0},{"$f":"IF(AI376=AI411,0,AI376)","v":0},{"$f":"IF(AJ376=AJ411,0,AJ376)","v":0},{"$f":"IF(AK376=AK411,0,AK376)","v":0},{"$f":"IF(AL376=AL411,0,AL376)","v":0},{"$f":"IF(AM376=AM411,0,AM376)","v":0},{"$f":"IF(AN376=AN411,0,AN376)","v":0},{"$f":"IF(AO376=AO411,0,AO376)","v":0},{"$f":"IF(AP376=AP411,0,AP376)","v":0},{"$f":"IF(AQ376=AQ411,0,AQ376)","v":0},{"$f":"IF(AR376=AR411,0,AR376)","v":0},{"$f":"IF(AS376=AS411,0,AS376)","v":0},{"$f":"IF(AT376=AT411,0,AT376)","v":0},{"$f":"IF(AU376=AU411,0,AU376)","v":0},{"$f":"IF(AV376=AV411,0,AV376)","v":0},{"$f":"IF(AW376=AW411,0,AW376)","v":0},{"$f":"IF(AX376=AX411,0,AX376)","v":0},{"$f":"IF(AY376=AY411,0,AY376)","v":0},{"$f":"IF(AZ376=AZ411,0,AZ376)","v":0},{"$f":"IF(BA376=BA411,0,BA376)","v":0},{"$f":"IF(BB376=BB411,0,BB376)","v":0},{"$f":"IF(BC376=BC411,0,BC376)","v":0},{"$f":"IF(BD376=BD411,0,BD376)","v":0},{"$f":"IF(BE376=BE411,0,BE376)","v":0},{"$f":"IF(BF376=BF411,0,BF376)","v":0},{"$f":"IF(BG376=BG411,0,BG376)","v":0},{"$f":"IF(BH376=BH411,0,BH376)","v":0},{"$f":"IF(BI376=BI411,0,BI376)","v":0},{"$f":"IF(BJ376=BJ411,0,BJ376)","v":0},{"$f":"IF(BK376=BK411,0,BK376)","v":0},{"$f":"IF(BL376=BL411,0,BL376)","v":0},{"$f":"IF(BM376=BM411,0,BM376)","v":0},{"$f":"IF(BN376=BN411,0,BN376)","v":0},{"$f":"IF(BO376=BO411,0,BO376)","v":0},{"$f":"IF(BP376=BP411,0,BP376)","v":0},{"$f":"IF(BQ376=BQ411,0,BQ376)","v":0},{"$f":"IF(BR376=BR411,0,BR376)","v":0},{"$f":"IF(BS376=BS411,0,BS376)","v":0},{"$f":"IF(BT376=BT411,0,BT376)","v":0},{"$f":"IF(BU376=BU411,0,BU376)","v":0},{"$f":"IF(BV376=BV411,0,BV376)","v":0},{"$f":"IF(BW376=BW411,0,BW376)","v":0},{"$f":"IF(BX376=BX411,0,BX376)","v":0},{"$f":"IF(BY376=BY411,0,BY376)","v":0},{"$f":"IF(BZ376=BZ411,0,BZ376)","v":0},{"$f":"IF(CA376=CA411,0,CA376)","v":0},{"$f":"IF(CB376=CB411,0,CB376)","v":0},{"$f":"IF(CC376=CC411,0,CC376)","v":0},{"$f":"IF(CD376=CD411,0,CD376)","v":0},{"$f":"IF(CE376=CE411,0,CE376)","v":0},{"$f":"IF(CF376=CF411,0,CF376)","v":0},{"$f":"IF(CG376=CG411,0,CG376)","v":0},{"$f":"IF(CH376=CH411,0,CH376)","v":0},{"$f":"IF(CI376=CI411,0,CI376)","v":0},{"$f":"IF(CJ376=CJ411,0,CJ376)","v":0},{"$f":"IF(CK376=CK411,0,CK376)","v":0},{"$f":"IF(CL376=CL411,0,CL376)","v":0},{"$f":"IF(CM376=CM411,0,CM376)","v":0},{"$f":"IF(CN376=CN411,0,CN376)","v":0},{"$f":"IF(CO376=CO411,0,CO376)","v":0},{"$f":"IF(CP376=CP411,0,CP376)","v":0},{"$f":"IF(CQ376=CQ411,0,CQ376)","v":0},{"$f":"IF(CR376=CR411,0,CR376)","v":0},{"$f":"IF(CS376=CS411,0,CS376)","v":0},{"$f":"IF(CT376=CT411,0,CT376)","v":0},{"$f":"IF(CU376=CU411,0,CU376)","v":0},{"$f":"AJ411","v":0},{"$f":"AJ412","v":0},1]
[66,{"$f":"'RECOGIDA DATOS'!AG69","v":0},{"$f":"IF(B377=B411,0,B377)","v":0},{"$f":"IF(C377=C411,0,C377)","v":0},{"$f":"IF(D377=D411,0,D377)","v":0},{"$f":"IF(E377=E411,0,E377)","v":0},{"$f":"IF(F377=F411,0,F377)","v":0},{"$f":"IF(G377=G411,0,G377)","v":0},{"$f":"IF(H377=H411,0,H377)","v":0},{"$f":"IF(I377=I411,0,I377)","v":0},{"$f":"IF(J377=J411,0,J377)","v":0},{"$f":"IF(K377=K411,0,K377)","v":0},{"$f":"IF(L377=L411,0,L377)","v":0},{"$f":"IF(M377=M411,0,M377)","v":0},{"$f":"IF(N377=N411,0,N377)","v":0},{"$f":"IF(O377=O411,0,O377)","v":0},{"$f":"IF(P377=P411,0,P377)","v":0},{"$f":"IF(Q377=Q411,0,Q377)","v":0},{"$f":"IF(R377=R411,0,R377)","v":0},{"$f":"IF(S377=S411,0,S377)","v":0},{"$f":"IF(T377=T411,0,T377)","v":0},{"$f":"IF(U377=U411,0,U377)","v":0},{"$f":"IF(V377=V411,0,V377)","v":0},{"$f":"IF(W377=W411,0,W377)","v":0},{"$f":"IF(X377=X411,0,X377)","v":0},{"$f":"IF(Y377=Y411,0,Y377)","v":0},{"$f":"IF(Z377=Z411,0,Z377)","v":0},{"$f":"IF(AA377=AA411,0,AA377)","v":0},{"$f":"IF(AB377=AB411,0,AB377)","v":0},{"$f":"IF(AC377=AC411,0,AC377)","v":0},{"$f":"IF(AD377=AD411,0,AD377)","v":0},{"$f":"IF(AE377=AE411,0,AE377)","v":0},{"$f":"IF(AF377=AF411,0,AF377)","v":0},{"$f":"IF(AG377=AG411,0,AG377)","v":0},{"$f":"IF(AH377=AH411,0,AH377)","v":0},{"$f":"IF(AI377=AI411,0,AI377)","v":0},{"$f":"IF(AJ377=AJ411,0,AJ377)","v":0},{"$f":"IF(AK377=AK411,0,AK377)","v":0},{"$f":"IF(AL377=AL411,0,AL377)","v":0},{"$f":"IF(AM377=AM411,0,AM377)","v":0},{"$f":"IF(AN377=AN411,0,AN377)","v":0},{"$f":"IF(AO377=AO411,0,AO377)","v":0},{"$f":"IF(AP377=AP411,0,AP377)","v":0},{"$f":"IF(AQ377=AQ411,0,AQ377)","v":0},{"$f":"IF(AR377=AR411,0,AR377)","v":0},{"$f":"IF(AS377=AS411,0,AS377)","v":0},{"$f":"IF(AT377=AT411,0,AT377)","v":0},{"$f":"IF(AU377=AU411,0,AU377)","v":0},{"$f":"IF(AV377=AV411,0,AV377)","v":0},{"$f":"IF(AW377=AW411,0,AW377)","v":0},{"$f":"IF(AX377=AX411,0,AX377)","v":0},{"$f":"IF(AY377=AY411,0,AY377)","v":0},{"$f":"IF(AZ377=AZ411,0,AZ377)","v":0},{"$f":"IF(BA377=BA411,0,BA377)","v":0},{"$f":"IF(BB377=BB411,0,BB377)","v":0},{"$f":"IF(BC377=BC411,0,BC377)","v":0},{"$f":"IF(BD377=BD411,0,BD377)","v":0},{"$f":"IF(BE377=BE411,0,BE377)","v":0},{"$f":"IF(BF377=BF411,0,BF377)","v":0},{"$f":"IF(BG377=BG411,0,BG377)","v":0},{"$f":"IF(BH377=BH411,0,BH377)","v":0},{"$f":"IF(BI377=BI411,0,BI377)","v":0},{"$f":"IF(BJ377=BJ411,0,BJ377)","v":0},{"$f":"IF(BK377=BK411,0,BK377)","v":0},{"$f":"IF(BL377=BL411,0,BL377)","v":0},{"$f":"IF(BM377=BM411,0,BM377)","v":0},{"$f":"IF(BN377=BN411,0,BN377)","v":0},{"$f":"IF(BO377=BO411,0,BO377)","v":0},{"$f":"IF(BP377=BP411,0,BP377)","v":0},{"$f":"IF(BQ377=BQ411,0,BQ377)","v":0},{"$f":"IF(BR377=BR411,0,BR377)","v":0},{"$f":"IF(BS377=BS411,0,BS377)","v":0},{"$f":"IF(BT377=BT411,0,BT377)","v":0},{"$f":"IF(BU377=BU411,0,BU377)","v":0},{"$f":"IF(BV377=BV411,0,BV377)","v":0},{"$f":"IF(BW377=BW411,0,BW377)","v":0},{"$f":"IF(BX377=BX411,0,BX377)","v":0},{"$f":"IF(BY377=BY411,0,BY377)","v":0},{"$f":"IF(BZ377=BZ411,0,BZ377)","v":0},{"$f":"IF(CA377=CA411,0,CA377)","v":0},{"$f":"IF(CB377=CB411,0,CB377)","v":0},{"$f":"IF(CC377=CC411,0,CC377)","v":0},{"$f":"IF(CD377=CD411,0,CD377)","v":0},{"$f":"IF(CE377=CE411,0,CE377)","v":0},{"$f":"IF(CF377=CF411,0,CF377)","v":0},{"$f":"IF(CG377=CG411,0,CG377)","v":0},{"$f":"IF(CH377=CH411,0,CH377)","v":0},{"$f":"IF(CI377=CI411,0,CI377)","v":0},{"$f":"IF(CJ377=CJ411,0,CJ377)","v":0},{"$f":"IF(CK377=CK411,0,CK377)","v":0},{"$f":"IF(CL377=CL411,0,CL377)","v":0},{"$f":"IF(CM377=CM411,0,CM377)","v":0},{"$f":"IF(CN377=CN411,0,CN377)","v":0},{"$f":"IF(CO377=CO411,0,CO377)","v":0},{"$f":"IF(CP377=CP411,0,CP377)","v":0},{"$f":"IF(CQ377=CQ411,0,CQ377)","v":0},{"$f":"IF(CR377=CR411,0,CR377)","v":0},{"$f":"IF(CS377=CS411,0,CS377)","v":0},{"$f":"IF(CT377=CT411,0,CT377)","v":0},{"$f":"IF(CU377=CU411,0,CU377)","v":0},{"$f":"AI411","v":0},{"$f":"AI412","v":0},1]
[67,{"$f":"'RECOGIDA DATOS'!AG70","v":0},{"$f":"IF(B378=B411,0,B378)","v":0},{"$f":"IF(C378=C411,0,C378)","v":0},{"$f":"IF(D378=D411,0,D378)","v":0},{"$f":"IF(E378=E411,0,E378)","v":0},{"$f":"IF(F378=F411,0,F378)","v":0},{"$f":"IF(G378=G411,0,G378)","v":0},{"$f":"IF(H378=H411,0,H378)","v":0},{"$f":"IF(I378=I411,0,I378)","v":0},{"$f":"IF(J378=J411,0,J378)","v":0},{"$f":"IF(K378=K411,0,K378)","v":0},{"$f":"IF(L378=L411,0,L378)","v":0},{"$f":"IF(M378=M411,0,M378)","v":0},{"$f":"IF(N378=N411,0,N378)","v":0},{"$f":"IF(O378=O411,0,O378)","v":0},{"$f":"IF(P378=P411,0,P378)","v":0},{"$f":"IF(Q378=Q411,0,Q378)","v":0},{"$f":"IF(R378=R411,0,R378)","v":0},{"$f":"IF(S378=S411,0,S378)","v":0},{"$f":"IF(T378=T411,0,T378)","v":0},{"$f":"IF(U378=U411,0,U378)","v":0},{"$f":"IF(V378=V411,0,V378)","v":0},{"$f":"IF(W378=W411,0,W378)","v":0},{"$f":"IF(X378=X411,0,X378)","v":0},{"$f":"IF(Y378=Y411,0,Y378)","v":0},{"$f":"IF(Z378=Z411,0,Z378)","v":0},{"$f":"IF(AA378=AA411,0,AA378)","v":0},{"$f":"IF(AB378=AB411,0,AB378)","v":0},{"$f":"IF(AC378=AC411,0,AC378)","v":0},{"$f":"IF(AD378=AD411,0,AD378)","v":0},{"$f":"IF(AE378=AE411,0,AE378)","v":0},{"$f":"IF(AF378=AF411,0,AF378)","v":0},{"$f":"IF(AG378=AG411,0,AG378)","v":0},{"$f":"IF(AH378=AH411,0,AH378)","v":0},{"$f":"IF(AI378=AI411,0,AI378)","v":0},{"$f":"IF(AJ378=AJ411,0,AJ378)","v":0},{"$f":"IF(AK378=AK411,0,AK378)","v":0},{"$f":"IF(AL378=AL411,0,AL378)","v":0},{"$f":"IF(AM378=AM411,0,AM378)","v":0},{"$f":"IF(AN378=AN411,0,AN378)","v":0},{"$f":"IF(AO378=AO411,0,AO378)","v":0},{"$f":"IF(AP378=AP411,0,AP378)","v":0},{"$f":"IF(AQ378=AQ411,0,AQ378)","v":0},{"$f":"IF(AR378=AR411,0,AR378)","v":0},{"$f":"IF(AS378=AS411,0,AS378)","v":0},{"$f":"IF(AT378=AT411,0,AT378)","v":0},{"$f":"IF(AU378=AU411,0,AU378)","v":0},{"$f":"IF(AV378=AV411,0,AV378)","v":0},{"$f":"IF(AW378=AW411,0,AW378)","v":0},{"$f":"IF(AX378=AX411,0,AX378)","v":0},{"$f":"IF(AY378=AY411,0,AY378)","v":0},{"$f":"IF(AZ378=AZ411,0,AZ378)","v":0},{"$f":"IF(BA378=BA411,0,BA378)","v":0},{"$f":"IF(BB378=BB411,0,BB378)","v":0},{"$f":"IF(BC378=BC411,0,BC378)","v":0},{"$f":"IF(BD378=BD411,0,BD378)","v":0},{"$f":"IF(BE378=BE411,0,BE378)","v":0},{"$f":"IF(BF378=BF411,0,BF378)","v":0},{"$f":"IF(BG378=BG411,0,BG378)","v":0},{"$f":"IF(BH378=BH411,0,BH378)","v":0},{"$f":"IF(BI378=BI411,0,BI378)","v":0},{"$f":"IF(BJ378=BJ411,0,BJ378)","v":0},{"$f":"IF(BK378=BK411,0,BK378)","v":0},{"$f":"IF(BL378=BL411,0,BL378)","v":0},{"$f":"IF(BM378=BM411,0,BM378)","v":0},{"$f":"IF(BN378=BN411,0,BN378)","v":0},{"$f":"IF(BO378=BO411,0,BO378)","v":0},{"$f":"IF(BP378=BP411,0,BP378)","v":0},{"$f":"IF(BQ378=BQ411,0,BQ378)","v":0},{"$f":"IF(BR378=BR411,0,BR378)","v":0},{"$f":"IF(BS378=BS411,0,BS378)","v":0},{"$f":"IF(BT378=BT411,0,BT378)","v":0},{"$f":"IF(BU378=BU411,0,BU378)","v":0},{"$f":"IF(BV378=BV411,0,BV378)","v":0},{"$f":"IF(BW378=BW411,0,BW378)","v":0},{"$f":"IF(BX378=BX411,0,BX378)","v":0},{"$f":"IF(BY378=BY411,0,BY378)","v":0},{"$f":"IF(BZ378=BZ411,0,BZ378)","v":0},{"$f":"IF(CA378=CA411,0,CA378)","v":0},{"$f":"IF(CB378=CB411,0,CB378)","v":0},{"$f":"IF(CC378=CC411,0,CC378)","v":0},{"$f":"IF(CD378=CD411,0,CD378)","v":0},{"$f":"IF(CE378=CE411,0,CE378)","v":0},{"$f":"IF(CF378=CF411,0,CF378)","v":0},{"$f":"IF(CG378=CG411,0,CG378)","v":0},{"$f":"IF(CH378=CH411,0,CH378)","v":0},{"$f":"IF(CI378=CI411,0,CI378)","v":0},{"$f":"IF(CJ378=CJ411,0,CJ378)","v":0},{"$f":"IF(CK378=CK411,0,CK378)","v":0},{"$f":"IF(CL378=CL411,0,CL378)","v":0},{"$f":"IF(CM378=CM411,0,CM378)","v":0},{"$f":"IF(CN378=CN411,0,CN378)","v":0},{"$f":"IF(CO378=CO411,0,CO378)","v":0},{"$f":"IF(CP378=CP411,0,CP378)","v":0},{"$f":"IF(CQ378=CQ411,0,CQ378)","v":0},{"$f":"IF(CR378=CR411,0,CR378)","v":0},{"$f":"IF(CS378=CS411,0,CS378)","v":0},{"$f":"IF(CT378=CT411,0,CT378)","v":0},{"$f":"IF(CU378=CU411,0,CU378)","v":0},{"$f":"AH411","v":0},{"$f":"AH412","v":0},1]
[68,{"$f":"'RECOGIDA DATOS'!AG71","v":0},{"$f":"IF(B379=B411,0,B379)","v":0},{"$f":"IF(C379=C411,0,C379)","v":0},{"$f":"IF(D379=D411,0,D379)","v":0},{"$f":"IF(E379=E411,0,E379)","v":0},{"$f":"IF(F379=F411,0,F379)","v":0},{"$f":"IF(G379=G411,0,G379)","v":0},{"$f":"IF(H379=H411,0,H379)","v":0},{"$f":"IF(I379=I411,0,I379)","v":0},{"$f":"IF(J379=J411,0,J379)","v":0},{"$f":"IF(K379=K411,0,K379)","v":0},{"$f":"IF(L379=L411,0,L379)","v":0},{"$f":"IF(M379=M411,0,M379)","v":0},{"$f":"IF(N379=N411,0,N379)","v":0},{"$f":"IF(O379=O411,0,O379)","v":0},{"$f":"IF(P379=P411,0,P379)","v":0},{"$f":"IF(Q379=Q411,0,Q379)","v":0},{"$f":"IF(R379=R411,0,R379)","v":0},{"$f":"IF(S379=S411,0,S379)","v":0},{"$f":"IF(T379=T411,0,T379)","v":0},{"$f":"IF(U379=U411,0,U379)","v":0},{"$f":"IF(V379=V411,0,V379)","v":0},{"$f":"IF(W379=W411,0,W379)","v":0},{"$f":"IF(X379=X411,0,X379)","v":0},{"$f":"IF(Y379=Y411,0,Y379)","v":0},{"$f":"IF(Z379=Z411,0,Z379)","v":0},{"$f":"IF(AA379=AA411,0,AA379)","v":0},{"$f":"IF(AB379=AB411,0,AB379)","v":0},{"$f":"IF(AC379=AC411,0,AC379)","v":0},{"$f":"IF(AD379=AD411,0,AD379)","v":0},{"$f":"IF(AE379=AE411,0,AE379)","v":0},{"$f":"IF(AF379=AF411,0,AF379)","v":0},{"$f":"IF(AG379=AG411,0,AG379)","v":0},{"$f":"IF(AH379=AH411,0,AH379)","v":0},{"$f":"IF(AI379=AI411,0,AI379)","v":0},{"$f":"IF(AJ379=AJ411,0,AJ379)","v":0},{"$f":"IF(AK379=AK411,0,AK379)","v":0},{"$f":"IF(AL379=AL411,0,AL379)","v":0},{"$f":"IF(AM379=AM411,0,AM379)","v":0},{"$f":"IF(AN379=AN411,0,AN379)","v":0},{"$f":"IF(AO379=AO411,0,AO379)","v":0},{"$f":"IF(AP379=AP411,0,AP379)","v":0},{"$f":"IF(AQ379=AQ411,0,AQ379)","v":0},{"$f":"IF(AR379=AR411,0,AR379)","v":0},{"$f":"IF(AS379=AS411,0,AS379)","v":0},{"$f":"IF(AT379=AT411,0,AT379)","v":0},{"$f":"IF(AU379=AU411,0,AU379)","v":0},{"$f":"IF(AV379=AV411,0,AV379)","v":0},{"$f":"IF(AW379=AW411,0,AW379)","v":0},{"$f":"IF(AX379=AX411,0,AX379)","v":0},{"$f":"IF(AY379=AY411,0,AY379)","v":0},{"$f":"IF(AZ379=AZ411,0,AZ379)","v":0},{"$f":"IF(BA379=BA411,0,BA379)","v":0},{"$f":"IF(BB379=BB411,0,BB379)","v":0},{"$f":"IF(BC379=BC411,0,BC379)","v":0},{"$f":"IF(BD379=BD411,0,BD379)","v":0},{"$f":"IF(BE379=BE411,0,BE379)","v":0},{"$f":"IF(BF379=BF411,0,BF379)","v":0},{"$f":"IF(BG379=BG411,0,BG379)","v":0},{"$f":"IF(BH379=BH411,0,BH379)","v":0},{"$f":"IF(BI379=BI411,0,BI379)","v":0},{"$f":"IF(BJ379=BJ411,0,BJ379)","v":0},{"$f":"IF(BK379=BK411,0,BK379)","v":0},{"$f":"IF(BL379=BL411,0,BL379)","v":0},{"$f":"IF(BM379=BM411,0,BM379)","v":0},{"$f":"IF(BN379=BN411,0,BN379)","v":0},{"$f":"IF(BO379=BO411,0,BO379)","v":0},{"$f":"IF(BP379=BP411,0,BP379)","v":0},{"$f":"IF(BQ379=BQ411,0,BQ379)","v":0},{"$f":"IF(BR379=BR411,0,BR379)","v":0},{"$f":"IF(BS379=BS411,0,BS379)","v":0},{"$f":"IF(BT379=BT411,0,BT379)","v":0},{"$f":"IF(BU379=BU411,0,BU379)","v":0},{"$f":"IF(BV379=BV411,0,BV379)","v":0},{"$f":"IF(BW379=BW411,0,BW379)","v":0},{"$f":"IF(BX379=BX411,0,BX379)","v":0},{"$f":"IF(BY379=BY411,0,BY379)","v":0},{"$f":"IF(BZ379=BZ411,0,BZ379)","v":0},{"$f":"IF(CA379=CA411,0,CA379)","v":0},{"$f":"IF(CB379=CB411,0,CB379)","v":0},{"$f":"IF(CC379=CC411,0,CC379)","v":0},{"$f":"IF(CD379=CD411,0,CD379)","v":0},{"$f":"IF(CE379=CE411,0,CE379)","v":0},{"$f":"IF(CF379=CF411,0,CF379)","v":0},{"$f":"IF(CG379=CG411,0,CG379)","v":0},{"$f":"IF(CH379=CH411,0,CH379)","v":0},{"$f":"IF(CI379=CI411,0,CI379)","v":0},{"$f":"IF(CJ379=CJ411,0,CJ379)","v":0},{"$f":"IF(CK379=CK411,0,CK379)","v":0},{"$f":"IF(CL379=CL411,0,CL379)","v":0},{"$f":"IF(CM379=CM411,0,CM379)","v":0},{"$f":"IF(CN379=CN411,0,CN379)","v":0},{"$f":"IF(CO379=CO411,0,CO379)","v":0},{"$f":"IF(CP379=CP411,0,CP379)","v":0},{"$f":"IF(CQ379=CQ411,0,CQ379)","v":0},{"$f":"IF(CR379=CR411,0,CR379)","v":0},{"$f":"IF(CS379=CS411,0,CS379)","v":0},{"$f":"IF(CT379=CT411,0,CT379)","v":0},{"$f":"IF(CU379=CU411,0,CU379)","v":0},{"$f":"AG411","v":0},{"$f":"AG412","v":0},1]
[69,{"$f":"'RECOGIDA DATOS'!AG72","v":0},{"$f":"IF(B380=B411,0,B380)","v":0},{"$f":"IF(C380=C411,0,C380)","v":0},{"$f":"IF(D380=D411,0,D380)","v":0},{"$f":"IF(E380=E411,0,E380)","v":0},{"$f":"IF(F380=F411,0,F380)","v":0},{"$f":"IF(G380=G411,0,G380)","v":0},{"$f":"IF(H380=H411,0,H380)","v":0},{"$f":"IF(I380=I411,0,I380)","v":0},{"$f":"IF(J380=J411,0,J380)","v":0},{"$f":"IF(K380=K411,0,K380)","v":0},{"$f":"IF(L380=L411,0,L380)","v":0},{"$f":"IF(M380=M411,0,M380)","v":0},{"$f":"IF(N380=N411,0,N380)","v":0},{"$f":"IF(O380=O411,0,O380)","v":0},{"$f":"IF(P380=P411,0,P380)","v":0},{"$f":"IF(Q380=Q411,0,Q380)","v":0},{"$f":"IF(R380=R411,0,R380)","v":0},{"$f":"IF(S380=S411,0,S380)","v":0},{"$f":"IF(T380=T411,0,T380)","v":0},{"$f":"IF(U380=U411,0,U380)","v":0},{"$f":"IF(V380=V411,0,V380)","v":0},{"$f":"IF(W380=W411,0,W380)","v":0},{"$f":"IF(X380=X411,0,X380)","v":0},{"$f":"IF(Y380=Y411,0,Y380)","v":0},{"$f":"IF(Z380=Z411,0,Z380)","v":0},{"$f":"IF(AA380=AA411,0,AA380)","v":0},{"$f":"IF(AB380=AB411,0,AB380)","v":0},{"$f":"IF(AC380=AC411,0,AC380)","v":0},{"$f":"IF(AD380=AD411,0,AD380)","v":0},{"$f":"IF(AE380=AE411,0,AE380)","v":0},{"$f":"IF(AF380=AF411,0,AF380)","v":0},{"$f":"IF(AG380=AG411,0,AG380)","v":0},{"$f":"IF(AH380=AH411,0,AH380)","v":0},{"$f":"IF(AI380=AI411,0,AI380)","v":0},{"$f":"IF(AJ380=AJ411,0,AJ380)","v":0},{"$f":"IF(AK380=AK411,0,AK380)","v":0},{"$f":"IF(AL380=AL411,0,AL380)","v":0},{"$f":"IF(AM380=AM411,0,AM380)","v":0},{"$f":"IF(AN380=AN411,0,AN380)","v":0},{"$f":"IF(AO380=AO411,0,AO380)","v":0},{"$f":"IF(AP380=AP411,0,AP380)","v":0},{"$f":"IF(AQ380=AQ411,0,AQ380)","v":0},{"$f":"IF(AR380=AR411,0,AR380)","v":0},{"$f":"IF(AS380=AS411,0,AS380)","v":0},{"$f":"IF(AT380=AT411,0,AT380)","v":0},{"$f":"IF(AU380=AU411,0,AU380)","v":0},{"$f":"IF(AV380=AV411,0,AV380)","v":0},{"$f":"IF(AW380=AW411,0,AW380)","v":0},{"$f":"IF(AX380=AX411,0,AX380)","v":0},{"$f":"IF(AY380=AY411,0,AY380)","v":0},{"$f":"IF(AZ380=AZ411,0,AZ380)","v":0},{"$f":"IF(BA380=BA411,0,BA380)","v":0},{"$f":"IF(BB380=BB411,0,BB380)","v":0},{"$f":"IF(BC380=BC411,0,BC380)","v":0},{"$f":"IF(BD380=BD411,0,BD380)","v":0},{"$f":"IF(BE380=BE411,0,BE380)","v":0},{"$f":"IF(BF380=BF411,0,BF380)","v":0},{"$f":"IF(BG380=BG411,0,BG380)","v":0},{"$f":"IF(BH380=BH411,0,BH380)","v":0},{"$f":"IF(BI380=BI411,0,BI380)","v":0},{"$f":"IF(BJ380=BJ411,0,BJ380)","v":0},{"$f":"IF(BK380=BK411,0,BK380)","v":0},{"$f":"IF(BL380=BL411,0,BL380)","v":0},{"$f":"IF(BM380=BM411,0,BM380)","v":0},{"$f":"IF(BN380=BN411,0,BN380)","v":0},{"$f":"IF(BO380=BO411,0,BO380)","v":0},{"$f":"IF(BP380=BP411,0,BP380)","v":0},{"$f":"IF(BQ380=BQ411,0,BQ380)","v":0},{"$f":"IF(BR380=BR411,0,BR380)","v":0},{"$f":"IF(BS380=BS411,0,BS380)","v":0},{"$f":"IF(BT380=BT411,0,BT380)","v":0},{"$f":"IF(BU380=BU411,0,BU380)","v":0},{"$f":"IF(BV380=BV411,0,BV380)","v":0},{"$f":"IF(BW380=BW411,0,BW380)","v":0},{"$f":"IF(BX380=BX411,0,BX380)","v":0},{"$f":"IF(BY380=BY411,0,BY380)","v":0},{"$f":"IF(BZ380=BZ411,0,BZ380)","v":0},{"$f":"IF(CA380=CA411,0,CA380)","v":0},{"$f":"IF(CB380=CB411,0,CB380)","v":0},{"$f":"IF(CC380=CC411,0,CC380)","v":0},{"$f":"IF(CD380=CD411,0,CD380)","v":0},{"$f":"IF(CE380=CE411,0,CE380)","v":0},{"$f":"IF(CF380=CF411,0,CF380)","v":0},{"$f":"IF(CG380=CG411,0,CG380)","v":0},{"$f":"IF(CH380=CH411,0,CH380)","v":0},{"$f":"IF(CI380=CI411,0,CI380)","v":0},{"$f":"IF(CJ380=CJ411,0,CJ380)","v":0},{"$f":"IF(CK380=CK411,0,CK380)","v":0},{"$f":"IF(CL380=CL411,0,CL380)","v":0},{"$f":"IF(CM380=CM411,0,CM380)","v":0},{"$f":"IF(CN380=CN411,0,CN380)","v":0},{"$f":"IF(CO380=CO411,0,CO380)","v":0},{"$f":"IF(CP380=CP411,0,CP380)","v":0},{"$f":"IF(CQ380=CQ411,0,CQ380)","v":0},{"$f":"IF(CR380=CR411,0,CR380)","v":0},{"$f":"IF(CS380=CS411,0,CS380)","v":0},{"$f":"IF(CT380=CT411,0,CT380)","v":0},{"$f":"IF(CU380=CU411,0,CU380)","v":0},{"$f":"AF411","v":0},{"$f":"AF412","v":0},1]
[70,{"$f":"'RECOGIDA DATOS'!AG73","v":0},{"$f":"IF(B381=B411,0,B381)","v":0},{"$f":"IF(C381=C411,0,C381)","v":0},{"$f":"IF(D381=D411,0,D381)","v":0},{"$f":"IF(E381=E411,0,E381)","v":0},{"$f":"IF(F381=F411,0,F381)","v":0},{"$f":"IF(G381=G411,0,G381)","v":0},{"$f":"IF(H381=H411,0,H381)","v":0},{"$f":"IF(I381=I411,0,I381)","v":0},{"$f":"IF(J381=J411,0,J381)","v":0},{"$f":"IF(K381=K411,0,K381)","v":0},{"$f":"IF(L381=L411,0,L381)","v":0},{"$f":"IF(M381=M411,0,M381)","v":0},{"$f":"IF(N381=N411,0,N381)","v":0},{"$f":"IF(O381=O411,0,O381)","v":0},{"$f":"IF(P381=P411,0,P381)","v":0},{"$f":"IF(Q381=Q411,0,Q381)","v":0},{"$f":"IF(R381=R411,0,R381)","v":0},{"$f":"IF(S381=S411,0,S381)","v":0},{"$f":"IF(T381=T411,0,T381)","v":0},{"$f":"IF(U381=U411,0,U381)","v":0},{"$f":"IF(V381=V411,0,V381)","v":0},{"$f":"IF(W381=W411,0,W381)","v":0},{"$f":"IF(X381=X411,0,X381)","v":0},{"$f":"IF(Y381=Y411,0,Y381)","v":0},{"$f":"IF(Z381=Z411,0,Z381)","v":0},{"$f":"IF(AA381=AA411,0,AA381)","v":0},{"$f":"IF(AB381=AB411,0,AB381)","v":0},{"$f":"IF(AC381=AC411,0,AC381)","v":0},{"$f":"IF(AD381=AD411,0,AD381)","v":0},{"$f":"IF(AE381=AE411,0,AE381)","v":0},{"$f":"IF(AF381=AF411,0,AF381)","v":0},{"$f":"IF(AG381=AG411,0,AG381)","v":0},{"$f":"IF(AH381=AH411,0,AH381)","v":0},{"$f":"IF(AI381=AI411,0,AI381)","v":0},{"$f":"IF(AJ381=AJ411,0,AJ381)","v":0},{"$f":"IF(AK381=AK411,0,AK381)","v":0},{"$f":"IF(AL381=AL411,0,AL381)","v":0},{"$f":"IF(AM381=AM411,0,AM381)","v":0},{"$f":"IF(AN381=AN411,0,AN381)","v":0},{"$f":"IF(AO381=AO411,0,AO381)","v":0},{"$f":"IF(AP381=AP411,0,AP381)","v":0},{"$f":"IF(AQ381=AQ411,0,AQ381)","v":0},{"$f":"IF(AR381=AR411,0,AR381)","v":0},{"$f":"IF(AS381=AS411,0,AS381)","v":0},{"$f":"IF(AT381=AT411,0,AT381)","v":0},{"$f":"IF(AU381=AU411,0,AU381)","v":0},{"$f":"IF(AV381=AV411,0,AV381)","v":0},{"$f":"IF(AW381=AW411,0,AW381)","v":0},{"$f":"IF(AX381=AX411,0,AX381)","v":0},{"$f":"IF(AY381=AY411,0,AY381)","v":0},{"$f":"IF(AZ381=AZ411,0,AZ381)","v":0},{"$f":"IF(BA381=BA411,0,BA381)","v":0},{"$f":"IF(BB381=BB411,0,BB381)","v":0},{"$f":"IF(BC381=BC411,0,BC381)","v":0},{"$f":"IF(BD381=BD411,0,BD381)","v":0},{"$f":"IF(BE381=BE411,0,BE381)","v":0},{"$f":"IF(BF381=BF411,0,BF381)","v":0},{"$f":"IF(BG381=BG411,0,BG381)","v":0},{"$f":"IF(BH381=BH411,0,BH381)","v":0},{"$f":"IF(BI381=BI411,0,BI381)","v":0},{"$f":"IF(BJ381=BJ411,0,BJ381)","v":0},{"$f":"IF(BK381=BK411,0,BK381)","v":0},{"$f":"IF(BL381=BL411,0,BL381)","v":0},{"$f":"IF(BM381=BM411,0,BM381)","v":0},{"$f":"IF(BN381=BN411,0,BN381)","v":0},{"$f":"IF(BO381=BO411,0,BO381)","v":0},{"$f":"IF(BP381=BP411,0,BP381)","v":0},{"$f":"IF(BQ381=BQ411,0,BQ381)","v":0},{"$f":"IF(BR381=BR411,0,BR381)","v":0},{"$f":"IF(BS381=BS411,0,BS381)","v":0},{"$f":"IF(BT381=BT411,0,BT381)","v":0},{"$f":"IF(BU381=BU411,0,BU381)","v":0},{"$f":"IF(BV381=BV411,0,BV381)","v":0},{"$f":"IF(BW381=BW411,0,BW381)","v":0},{"$f":"IF(BX381=BX411,0,BX381)","v":0},{"$f":"IF(BY381=BY411,0,BY381)","v":0},{"$f":"IF(BZ381=BZ411,0,BZ381)","v":0},{"$f":"IF(CA381=CA411,0,CA381)","v":0},{"$f":"IF(CB381=CB411,0,CB381)","v":0},{"$f":"IF(CC381=CC411,0,CC381)","v":0},{"$f":"IF(CD381=CD411,0,CD381)","v":0},{"$f":"IF(CE381=CE411,0,CE381)","v":0},{"$f":"IF(CF381=CF411,0,CF381)","v":0},{"$f":"IF(CG381=CG411,0,CG381)","v":0},{"$f":"IF(CH381=CH411,0,CH381)","v":0},{"$f":"IF(CI381=CI411,0,CI381)","v":0},{"$f":"IF(CJ381=CJ411,0,CJ381)","v":0},{"$f":"IF(CK381=CK411,0,CK381)","v":0},{"$f":"IF(CL381=CL411,0,CL381)","v":0},{"$f":"IF(CM381=CM411,0,CM381)","v":0},{"$f":"IF(CN381=CN411,0,CN381)","v":0},{"$f":"IF(CO381=CO411,0,CO381)","v":0},{"$f":"IF(CP381=CP411,0,CP381)","v":0},{"$f":"IF(CQ381=CQ411,0,CQ381)","v":0},{"$f":"IF(CR381=CR411,0,CR381)","v":0},{"$f":"IF(CS381=CS411,0,CS381)","v":0},{"$f":"IF(CT381=CT411,0,CT381)","v":0},{"$f":"IF(CU381=CU411,0,CU381)","v":0},{"$f":"AE411","v":0},{"$f":"AE412","v":0},1]
[71,{"$f":"'RECOGIDA DATOS'!AG74","v":0},{"$f":"IF(B382=B411,0,B382)","v":0},{"$f":"IF(C382=C411,0,C382)","v":0},{"$f":"IF(D382=D411,0,D382)","v":0},{"$f":"IF(E382=E411,0,E382)","v":0},{"$f":"IF(F382=F411,0,F382)","v":0},{"$f":"IF(G382=G411,0,G382)","v":0},{"$f":"IF(H382=H411,0,H382)","v":0},{"$f":"IF(I382=I411,0,I382)","v":0},{"$f":"IF(J382=J411,0,J382)","v":0},{"$f":"IF(K382=K411,0,K382)","v":0},{"$f":"IF(L382=L411,0,L382)","v":0},{"$f":"IF(M382=M411,0,M382)","v":0},{"$f":"IF(N382=N411,0,N382)","v":0},{"$f":"IF(O382=O411,0,O382)","v":0},{"$f":"IF(P382=P411,0,P382)","v":0},{"$f":"IF(Q382=Q411,0,Q382)","v":0},{"$f":"IF(R382=R411,0,R382)","v":0},{"$f":"IF(S382=S411,0,S382)","v":0},{"$f":"IF(T382=T411,0,T382)","v":0},{"$f":"IF(U382=U411,0,U382)","v":0},{"$f":"IF(V382=V411,0,V382)","v":0},{"$f":"IF(W382=W411,0,W382)","v":0},{"$f":"IF(X382=X411,0,X382)","v":0},{"$f":"IF(Y382=Y411,0,Y382)","v":0},{"$f":"IF(Z382=Z411,0,Z382)","v":0},{"$f":"IF(AA382=AA411,0,AA382)","v":0},{"$f":"IF(AB382=AB411,0,AB382)","v":0},{"$f":"IF(AC382=AC411,0,AC382)","v":0},{"$f":"IF(AD382=AD411,0,AD382)","v":0},{"$f":"IF(AE382=AE411,0,AE382)","v":0},{"$f":"IF(AF382=AF411,0,AF382)","v":0},{"$f":"IF(AG382=AG411,0,AG382)","v":0},{"$f":"IF(AH382=AH411,0,AH382)","v":0},{"$f":"IF(AI382=AI411,0,AI382)","v":0},{"$f":"IF(AJ382=AJ411,0,AJ382)","v":0},{"$f":"IF(AK382=AK411,0,AK382)","v":0},{"$f":"IF(AL382=AL411,0,AL382)","v":0},{"$f":"IF(AM382=AM411,0,AM382)","v":0},{"$f":"IF(AN382=AN411,0,AN382)","v":0},{"$f":"IF(AO382=AO411,0,AO382)","v":0},{"$f":"IF(AP382=AP411,0,AP382)","v":0},{"$f":"IF(AQ382=AQ411,0,AQ382)","v":0},{"$f":"IF(AR382=AR411,0,AR382)","v":0},{"$f":"IF(AS382=AS411,0,AS382)","v":0},{"$f":"IF(AT382=AT411,0,AT382)","v":0},{"$f":"IF(AU382=AU411,0,AU382)","v":0},{"$f":"IF(AV382=AV411,0,AV382)","v":0},{"$f":"IF(AW382=AW411,0,AW382)","v":0},{"$f":"IF(AX382=AX411,0,AX382)","v":0},{"$f":"IF(AY382=AY411,0,AY382)","v":0},{"$f":"IF(AZ382=AZ411,0,AZ382)","v":0},{"$f":"IF(BA382=BA411,0,BA382)","v":0},{"$f":"IF(BB382=BB411,0,BB382)","v":0},{"$f":"IF(BC382=BC411,0,BC382)","v":0},{"$f":"IF(BD382=BD411,0,BD382)","v":0},{"$f":"IF(BE382=BE411,0,BE382)","v":0},{"$f":"IF(BF382=BF411,0,BF382)","v":0},{"$f":"IF(BG382=BG411,0,BG382)","v":0},{"$f":"IF(BH382=BH411,0,BH382)","v":0},{"$f":"IF(BI382=BI411,0,BI382)","v":0},{"$f":"IF(BJ382=BJ411,0,BJ382)","v":0},{"$f":"IF(BK382=BK411,0,BK382)","v":0},{"$f":"IF(BL382=BL411,0,BL382)","v":0},{"$f":"IF(BM382=BM411,0,BM382)","v":0},{"$f":"IF(BN382=BN411,0,BN382)","v":0},{"$f":"IF(BO382=BO411,0,BO382)","v":0},{"$f":"IF(BP382=BP411,0,BP382)","v":0},{"$f":"IF(BQ382=BQ411,0,BQ382)","v":0},{"$f":"IF(BR382=BR411,0,BR382)","v":0},{"$f":"IF(BS382=BS411,0,BS382)","v":0},{"$f":"IF(BT382=BT411,0,BT382)","v":0},{"$f":"IF(BU382=BU411,0,BU382)","v":0},{"$f":"IF(BV382=BV411,0,BV382)","v":0},{"$f":"IF(BW382=BW411,0,BW382)","v":0},{"$f":"IF(BX382=BX411,0,BX382)","v":0},{"$f":"IF(BY382=BY411,0,BY382)","v":0},{"$f":"IF(BZ382=BZ411,0,BZ382)","v":0},{"$f":"IF(CA382=CA411,0,CA382)","v":0},{"$f":"IF(CB382=CB411,0,CB382)","v":0},{"$f":"IF(CC382=CC411,0,CC382)","v":0},{"$f":"IF(CD382=CD411,0,CD382)","v":0},{"$f":"IF(CE382=CE411,0,CE382)","v":0},{"$f":"IF(CF382=CF411,0,CF382)","v":0},{"$f":"IF(CG382=CG411,0,CG382)","v":0},{"$f":"IF(CH382=CH411,0,CH382)","v":0},{"$f":"IF(CI382=CI411,0,CI382)","v":0},{"$f":"IF(CJ382=CJ411,0,CJ382)","v":0},{"$f":"IF(CK382=CK411,0,CK382)","v":0},{"$f":"IF(CL382=CL411,0,CL382)","v":0},{"$f":"IF(CM382=CM411,0,CM382)","v":0},{"$f":"IF(CN382=CN411,0,CN382)","v":0},{"$f":"IF(CO382=CO411,0,CO382)","v":0},{"$f":"IF(CP382=CP411,0,CP382)","v":0},{"$f":"IF(CQ382=CQ411,0,CQ382)","v":0},{"$f":"IF(CR382=CR411,0,CR382)","v":0},{"$f":"IF(CS382=CS411,0,CS382)","v":0},{"$f":"IF(CT382=CT411,0,CT382)","v":0},{"$f":"IF(CU382=CU411,0,CU382)","v":0},{"$f":"AD411","v":0},{"$f":"AD412","v":0},1]
[72,{"$f":"'RECOGIDA DATOS'!AG75","v":0},{"$f":"IF(B383=B411,0,B383)","v":0},{"$f":"IF(C383=C411,0,C383)","v":0},{"$f":"IF(D383=D411,0,D383)","v":0},{"$f":"IF(E383=E411,0,E383)","v":0},{"$f":"IF(F383=F411,0,F383)","v":0},{"$f":"IF(G383=G411,0,G383)","v":0},{"$f":"IF(H383=H411,0,H383)","v":0},{"$f":"IF(I383=I411,0,I383)","v":0},{"$f":"IF(J383=J411,0,J383)","v":0},{"$f":"IF(K383=K411,0,K383)","v":0},{"$f":"IF(L383=L411,0,L383)","v":0},{"$f":"IF(M383=M411,0,M383)","v":0},{"$f":"IF(N383=N411,0,N383)","v":0},{"$f":"IF(O383=O411,0,O383)","v":0},{"$f":"IF(P383=P411,0,P383)","v":0},{"$f":"IF(Q383=Q411,0,Q383)","v":0},{"$f":"IF(R383=R411,0,R383)","v":0},{"$f":"IF(S383=S411,0,S383)","v":0},{"$f":"IF(T383=T411,0,T383)","v":0},{"$f":"IF(U383=U411,0,U383)","v":0},{"$f":"IF(V383=V411,0,V383)","v":0},{"$f":"IF(W383=W411,0,W383)","v":0},{"$f":"IF(X383=X411,0,X383)","v":0},{"$f":"IF(Y383=Y411,0,Y383)","v":0},{"$f":"IF(Z383=Z411,0,Z383)","v":0},{"$f":"IF(AA383=AA411,0,AA383)","v":0},{"$f":"IF(AB383=AB411,0,AB383)","v":0},{"$f":"IF(AC383=AC411,0,AC383)","v":0},{"$f":"IF(AD383=AD411,0,AD383)","v":0},{"$f":"IF(AE383=AE411,0,AE383)","v":0},{"$f":"IF(AF383=AF411,0,AF383)","v":0},{"$f":"IF(AG383=AG411,0,AG383)","v":0},{"$f":"IF(AH383=AH411,0,AH383)","v":0},{"$f":"IF(AI383=AI411,0,AI383)","v":0},{"$f":"IF(AJ383=AJ411,0,AJ383)","v":0},{"$f":"IF(AK383=AK411,0,AK383)","v":0},{"$f":"IF(AL383=AL411,0,AL383)","v":0},{"$f":"IF(AM383=AM411,0,AM383)","v":0},{"$f":"IF(AN383=AN411,0,AN383)","v":0},{"$f":"IF(AO383=AO411,0,AO383)","v":0},{"$f":"IF(AP383=AP411,0,AP383)","v":0},{"$f":"IF(AQ383=AQ411,0,AQ383)","v":0},{"$f":"IF(AR383=AR411,0,AR383)","v":0},{"$f":"IF(AS383=AS411,0,AS383)","v":0},{"$f":"IF(AT383=AT411,0,AT383)","v":0},{"$f":"IF(AU383=AU411,0,AU383)","v":0},{"$f":"IF(AV383=AV411,0,AV383)","v":0},{"$f":"IF(AW383=AW411,0,AW383)","v":0},{"$f":"IF(AX383=AX411,0,AX383)","v":0},{"$f":"IF(AY383=AY411,0,AY383)","v":0},{"$f":"IF(AZ383=AZ411,0,AZ383)","v":0},{"$f":"IF(BA383=BA411,0,BA383)","v":0},{"$f":"IF(BB383=BB411,0,BB383)","v":0},{"$f":"IF(BC383=BC411,0,BC383)","v":0},{"$f":"IF(BD383=BD411,0,BD383)","v":0},{"$f":"IF(BE383=BE411,0,BE383)","v":0},{"$f":"IF(BF383=BF411,0,BF383)","v":0},{"$f":"IF(BG383=BG411,0,BG383)","v":0},{"$f":"IF(BH383=BH411,0,BH383)","v":0},{"$f":"IF(BI383=BI411,0,BI383)","v":0},{"$f":"IF(BJ383=BJ411,0,BJ383)","v":0},{"$f":"IF(BK383=BK411,0,BK383)","v":0},{"$f":"IF(BL383=BL411,0,BL383)","v":0},{"$f":"IF(BM383=BM411,0,BM383)","v":0},{"$f":"IF(BN383=BN411,0,BN383)","v":0},{"$f":"IF(BO383=BO411,0,BO383)","v":0},{"$f":"IF(BP383=BP411,0,BP383)","v":0},{"$f":"IF(BQ383=BQ411,0,BQ383)","v":0},{"$f":"IF(BR383=BR411,0,BR383)","v":0},{"$f":"IF(BS383=BS411,0,BS383)","v":0},{"$f":"IF(BT383=BT411,0,BT383)","v":0},{"$f":"IF(BU383=BU411,0,BU383)","v":0},{"$f":"IF(BV383=BV411,0,BV383)","v":0},{"$f":"IF(BW383=BW411,0,BW383)","v":0},{"$f":"IF(BX383=BX411,0,BX383)","v":0},{"$f":"IF(BY383=BY411,0,BY383)","v":0},{"$f":"IF(BZ383=BZ411,0,BZ383)","v":0},{"$f":"IF(CA383=CA411,0,CA383)","v":0},{"$f":"IF(CB383=CB411,0,CB383)","v":0},{"$f":"IF(CC383=CC411,0,CC383)","v":0},{"$f":"IF(CD383=CD411,0,CD383)","v":0},{"$f":"IF(CE383=CE411,0,CE383)","v":0},{"$f":"IF(CF383=CF411,0,CF383)","v":0},{"$f":"IF(CG383=CG411,0,CG383)","v":0},{"$f":"IF(CH383=CH411,0,CH383)","v":0},{"$f":"IF(CI383=CI411,0,CI383)","v":0},{"$f":"IF(CJ383=CJ411,0,CJ383)","v":0},{"$f":"IF(CK383=CK411,0,CK383)","v":0},{"$f":"IF(CL383=CL411,0,CL383)","v":0},{"$f":"IF(CM383=CM411,0,CM383)","v":0},{"$f":"IF(CN383=CN411,0,CN383)","v":0},{"$f":"IF(CO383=CO411,0,CO383)","v":0},{"$f":"IF(CP383=CP411,0,CP383)","v":0},{"$f":"IF(CQ383=CQ411,0,CQ383)","v":0},{"$f":"IF(CR383=CR411,0,CR383)","v":0},{"$f":"IF(CS383=CS411,0,CS383)","v":0},{"$f":"IF(CT383=CT411,0,CT383)","v":0},{"$f":"IF(CU383=CU411,0,CU383)","v":0},{"$f":"AC411","v":0},{"$f":"AC412","v":0},1]
[73,{"$f":"'RECOGIDA DATOS'!AG76","v":0},{"$f":"IF(B384=B411,0,B384)","v":0},{"$f":"IF(C384=C411,0,C384)","v":0},{"$f":"IF(D384=D411,0,D384)","v":0},{"$f":"IF(E384=E411,0,E384)","v":0},{"$f":"IF(F384=F411,0,F384)","v":0},{"$f":"IF(G384=G411,0,G384)","v":0},{"$f":"IF(H384=H411,0,H384)","v":0},{"$f":"IF(I384=I411,0,I384)","v":0},{"$f":"IF(J384=J411,0,J384)","v":0},{"$f":"IF(K384=K411,0,K384)","v":0},{"$f":"IF(L384=L411,0,L384)","v":0},{"$f":"IF(M384=M411,0,M384)","v":0},{"$f":"IF(N384=N411,0,N384)","v":0},{"$f":"IF(O384=O411,0,O384)","v":0},{"$f":"IF(P384=P411,0,P384)","v":0},{"$f":"IF(Q384=Q411,0,Q384)","v":0},{"$f":"IF(R384=R411,0,R384)","v":0},{"$f":"IF(S384=S411,0,S384)","v":0},{"$f":"IF(T384=T411,0,T384)","v":0},{"$f":"IF(U384=U411,0,U384)","v":0},{"$f":"IF(V384=V411,0,V384)","v":0},{"$f":"IF(W384=W411,0,W384)","v":0},{"$f":"IF(X384=X411,0,X384)","v":0},{"$f":"IF(Y384=Y411,0,Y384)","v":0},{"$f":"IF(Z384=Z411,0,Z384)","v":0},{"$f":"IF(AA384=AA411,0,AA384)","v":0},{"$f":"IF(AB384=AB411,0,AB384)","v":0},{"$f":"IF(AC384=AC411,0,AC384)","v":0},{"$f":"IF(AD384=AD411,0,AD384)","v":0},{"$f":"IF(AE384=AE411,0,AE384)","v":0},{"$f":"IF(AF384=AF411,0,AF384)","v":0},{"$f":"IF(AG384=AG411,0,AG384)","v":0},{"$f":"IF(AH384=AH411,0,AH384)","v":0},{"$f":"IF(AI384=AI411,0,AI384)","v":0},{"$f":"IF(AJ384=AJ411,0,AJ384)","v":0},{"$f":"IF(AK384=AK411,0,AK384)","v":0},{"$f":"IF(AL384=AL411,0,AL384)","v":0},{"$f":"IF(AM384=AM411,0,AM384)","v":0},{"$f":"IF(AN384=AN411,0,AN384)","v":0},{"$f":"IF(AO384=AO411,0,AO384)","v":0},{"$f":"IF(AP384=AP411,0,AP384)","v":0},{"$f":"IF(AQ384=AQ411,0,AQ384)","v":0},{"$f":"IF(AR384=AR411,0,AR384)","v":0},{"$f":"IF(AS384=AS411,0,AS384)","v":0},{"$f":"IF(AT384=AT411,0,AT384)","v":0},{"$f":"IF(AU384=AU411,0,AU384)","v":0},{"$f":"IF(AV384=AV411,0,AV384)","v":0},{"$f":"IF(AW384=AW411,0,AW384)","v":0},{"$f":"IF(AX384=AX411,0,AX384)","v":0},{"$f":"IF(AY384=AY411,0,AY384)","v":0},{"$f":"IF(AZ384=AZ411,0,AZ384)","v":0},{"$f":"IF(BA384=BA411,0,BA384)","v":0},{"$f":"IF(BB384=BB411,0,BB384)","v":0},{"$f":"IF(BC384=BC411,0,BC384)","v":0},{"$f":"IF(BD384=BD411,0,BD384)","v":0},{"$f":"IF(BE384=BE411,0,BE384)","v":0},{"$f":"IF(BF384=BF411,0,BF384)","v":0},{"$f":"IF(BG384=BG411,0,BG384)","v":0},{"$f":"IF(BH384=BH411,0,BH384)","v":0},{"$f":"IF(BI384=BI411,0,BI384)","v":0},{"$f":"IF(BJ384=BJ411,0,BJ384)","v":0},{"$f":"IF(BK384=BK411,0,BK384)","v":0},{"$f":"IF(BL384=BL411,0,BL384)","v":0},{"$f":"IF(BM384=BM411,0,BM384)","v":0},{"$f":"IF(BN384=BN411,0,BN384)","v":0},{"$f":"IF(BO384=BO411,0,BO384)","v":0},{"$f":"IF(BP384=BP411,0,BP384)","v":0},{"$f":"IF(BQ384=BQ411,0,BQ384)","v":0},{"$f":"IF(BR384=BR411,0,BR384)","v":0},{"$f":"IF(BS384=BS411,0,BS384)","v":0},{"$f":"IF(BT384=BT411,0,BT384)","v":0},{"$f":"IF(BU384=BU411,0,BU384)","v":0},{"$f":"IF(BV384=BV411,0,BV384)","v":0},{"$f":"IF(BW384=BW411,0,BW384)","v":0},{"$f":"IF(BX384=BX411,0,BX384)","v":0},{"$f":"IF(BY384=BY411,0,BY384)","v":0},{"$f":"IF(BZ384=BZ411,0,BZ384)","v":0},{"$f":"IF(CA384=CA411,0,CA384)","v":0},{"$f":"IF(CB384=CB411,0,CB384)","v":0},{"$f":"IF(CC384=CC411,0,CC384)","v":0},{"$f":"IF(CD384=CD411,0,CD384)","v":0},{"$f":"IF(CE384=CE411,0,CE384)","v":0},{"$f":"IF(CF384=CF411,0,CF384)","v":0},{"$f":"IF(CG384=CG411,0,CG384)","v":0},{"$f":"IF(CH384=CH411,0,CH384)","v":0},{"$f":"IF(CI384=CI411,0,CI384)","v":0},{"$f":"IF(CJ384=CJ411,0,CJ384)","v":0},{"$f":"IF(CK384=CK411,0,CK384)","v":0},{"$f":"IF(CL384=CL411,0,CL384)","v":0},{"$f":"IF(CM384=CM411,0,CM384)","v":0},{"$f":"IF(CN384=CN411,0,CN384)","v":0},{"$f":"IF(CO384=CO411,0,CO384)","v":0},{"$f":"IF(CP384=CP411,0,CP384)","v":0},{"$f":"IF(CQ384=CQ411,0,CQ384)","v":0},{"$f":"IF(CR384=CR411,0,CR384)","v":0},{"$f":"IF(CS384=CS411,0,CS384)","v":0},{"$f":"IF(CT384=CT411,0,CT384)","v":0},{"$f":"IF(CU384=CU411,0,CU384)","v":0},{"$f":"AB411","v":0},{"$f":"AB412","v":0},1]
[74,{"$f":"'RECOGIDA DATOS'!AG77","v":0},{"$f":"IF(B385=B411,0,B385)","v":0},{"$f":"IF(C385=C411,0,C385)","v":0},{"$f":"IF(D385=D411,0,D385)","v":0},{"$f":"IF(E385=E411,0,E385)","v":0},{"$f":"IF(F385=F411,0,F385)","v":0},{"$f":"IF(G385=G411,0,G385)","v":0},{"$f":"IF(H385=H411,0,H385)","v":0},{"$f":"IF(I385=I411,0,I385)","v":0},{"$f":"IF(J385=J411,0,J385)","v":0},{"$f":"IF(K385=K411,0,K385)","v":0},{"$f":"IF(L385=L411,0,L385)","v":0},{"$f":"IF(M385=M411,0,M385)","v":0},{"$f":"IF(N385=N411,0,N385)","v":0},{"$f":"IF(O385=O411,0,O385)","v":0},{"$f":"IF(P385=P411,0,P385)","v":0},{"$f":"IF(Q385=Q411,0,Q385)","v":0},{"$f":"IF(R385=R411,0,R385)","v":0},{"$f":"IF(S385=S411,0,S385)","v":0},{"$f":"IF(T385=T411,0,T385)","v":0},{"$f":"IF(U385=U411,0,U385)","v":0},{"$f":"IF(V385=V411,0,V385)","v":0},{"$f":"IF(W385=W411,0,W385)","v":0},{"$f":"IF(X385=X411,0,X385)","v":0},{"$f":"IF(Y385=Y411,0,Y385)","v":0},{"$f":"IF(Z385=Z411,0,Z385)","v":0},{"$f":"IF(AA385=AA411,0,AA385)","v":0},{"$f":"IF(AB385=AB411,0,AB385)","v":0},{"$f":"IF(AC385=AC411,0,AC385)","v":0},{"$f":"IF(AD385=AD411,0,AD385)","v":0},{"$f":"IF(AE385=AE411,0,AE385)","v":0},{"$f":"IF(AF385=AF411,0,AF385)","v":0},{"$f":"IF(AG385=AG411,0,AG385)","v":0},{"$f":"IF(AH385=AH411,0,AH385)","v":0},{"$f":"IF(AI385=AI411,0,AI385)","v":0},{"$f":"IF(AJ385=AJ411,0,AJ385)","v":0},{"$f":"IF(AK385=AK411,0,AK385)","v":0},{"$f":"IF(AL385=AL411,0,AL385)","v":0},{"$f":"IF(AM385=AM411,0,AM385)","v":0},{"$f":"IF(AN385=AN411,0,AN385)","v":0},{"$f":"IF(AO385=AO411,0,AO385)","v":0},{"$f":"IF(AP385=AP411,0,AP385)","v":0},{"$f":"IF(AQ385=AQ411,0,AQ385)","v":0},{"$f":"IF(AR385=AR411,0,AR385)","v":0},{"$f":"IF(AS385=AS411,0,AS385)","v":0},{"$f":"IF(AT385=AT411,0,AT385)","v":0},{"$f":"IF(AU385=AU411,0,AU385)","v":0},{"$f":"IF(AV385=AV411,0,AV385)","v":0},{"$f":"IF(AW385=AW411,0,AW385)","v":0},{"$f":"IF(AX385=AX411,0,AX385)","v":0},{"$f":"IF(AY385=AY411,0,AY385)","v":0},{"$f":"IF(AZ385=AZ411,0,AZ385)","v":0},{"$f":"IF(BA385=BA411,0,BA385)","v":0},{"$f":"IF(BB385=BB411,0,BB385)","v":0},{"$f":"IF(BC385=BC411,0,BC385)","v":0},{"$f":"IF(BD385=BD411,0,BD385)","v":0},{"$f":"IF(BE385=BE411,0,BE385)","v":0},{"$f":"IF(BF385=BF411,0,BF385)","v":0},{"$f":"IF(BG385=BG411,0,BG385)","v":0},{"$f":"IF(BH385=BH411,0,BH385)","v":0},{"$f":"IF(BI385=BI411,0,BI385)","v":0},{"$f":"IF(BJ385=BJ411,0,BJ385)","v":0},{"$f":"IF(BK385=BK411,0,BK385)","v":0},{"$f":"IF(BL385=BL411,0,BL385)","v":0},{"$f":"IF(BM385=BM411,0,BM385)","v":0},{"$f":"IF(BN385=BN411,0,BN385)","v":0},{"$f":"IF(BO385=BO411,0,BO385)","v":0},{"$f":"IF(BP385=BP411,0,BP385)","v":0},{"$f":"IF(BQ385=BQ411,0,BQ385)","v":0},{"$f":"IF(BR385=BR411,0,BR385)","v":0},{"$f":"IF(BS385=BS411,0,BS385)","v":0},{"$f":"IF(BT385=BT411,0,BT385)","v":0},{"$f":"IF(BU385=BU411,0,BU385)","v":0},{"$f":"IF(BV385=BV411,0,BV385)","v":0},{"$f":"IF(BW385=BW411,0,BW385)","v":0},{"$f":"IF(BX385=BX411,0,BX385)","v":0},{"$f":"IF(BY385=BY411,0,BY385)","v":0},{"$f":"IF(BZ385=BZ411,0,BZ385)","v":0},{"$f":"IF(CA385=CA411,0,CA385)","v":0},{"$f":"IF(CB385=CB411,0,CB385)","v":0},{"$f":"IF(CC385=CC411,0,CC385)","v":0},{"$f":"IF(CD385=CD411,0,CD385)","v":0},{"$f":"IF(CE385=CE411,0,CE385)","v":0},{"$f":"IF(CF385=CF411,0,CF385)","v":0},{"$f":"IF(CG385=CG411,0,CG385)","v":0},{"$f":"IF(CH385=CH411,0,CH385)","v":0},{"$f":"IF(CI385=CI411,0,CI385)","v":0},{"$f":"IF(CJ385=CJ411,0,CJ385)","v":0},{"$f":"IF(CK385=CK411,0,CK385)","v":0},{"$f":"IF(CL385=CL411,0,CL385)","v":0},{"$f":"IF(CM385=CM411,0,CM385)","v":0},{"$f":"IF(CN385=CN411,0,CN385)","v":0},{"$f":"IF(CO385=CO411,0,CO385)","v":0},{"$f":"IF(CP385=CP411,0,CP385)","v":0},{"$f":"IF(CQ385=CQ411,0,CQ385)","v":0},{"$f":"IF(CR385=CR411,0,CR385)","v":0},{"$f":"IF(CS385=CS411,0,CS385)","v":0},{"$f":"IF(CT385=CT411,0,CT385)","v":0},{"$f":"IF(CU385=CU411,0,CU385)","v":0},{"$f":"AA411","v":0},{"$f":"AA412","v":0},1]
[75,{"$f":"'RECOGIDA DATOS'!AG78","v":0},{"$f":"IF(B386=B411,0,B386)","v":0},{"$f":"IF(C386=C411,0,C386)","v":0},{"$f":"IF(D386=D411,0,D386)","v":0},{"$f":"IF(E386=E411,0,E386)","v":0},{"$f":"IF(F386=F411,0,F386)","v":0},{"$f":"IF(G386=G411,0,G386)","v":0},{"$f":"IF(H386=H411,0,H386)","v":0},{"$f":"IF(I386=I411,0,I386)","v":0},{"$f":"IF(J386=J411,0,J386)","v":0},{"$f":"IF(K386=K411,0,K386)","v":0},{"$f":"IF(L386=L411,0,L386)","v":0},{"$f":"IF(M386=M411,0,M386)","v":0},{"$f":"IF(N386=N411,0,N386)","v":0},{"$f":"IF(O386=O411,0,O386)","v":0},{"$f":"IF(P386=P411,0,P386)","v":0},{"$f":"IF(Q386=Q411,0,Q386)","v":0},{"$f":"IF(R386=R411,0,R386)","v":0},{"$f":"IF(S386=S411,0,S386)","v":0},{"$f":"IF(T386=T411,0,T386)","v":0},{"$f":"IF(U386=U411,0,U386)","v":0},{"$f":"IF(V386=V411,0,V386)","v":0},{"$f":"IF(W386=W411,0,W386)","v":0},{"$f":"IF(X386=X411,0,X386)","v":0},{"$f":"IF(Y386=Y411,0,Y386)","v":0},{"$f":"IF(Z386=Z411,0,Z386)","v":0},{"$f":"IF(AA386=AA411,0,AA386)","v":0},{"$f":"IF(AB386=AB411,0,AB386)","v":0},{"$f":"IF(AC386=AC411,0,AC386)","v":0},{"$f":"IF(AD386=AD411,0,AD386)","v":0},{"$f":"IF(AE386=AE411,0,AE386)","v":0},{"$f":"IF(AF386=AF411,0,AF386)","v":0},{"$f":"IF(AG386=AG411,0,AG386)","v":0},{"$f":"IF(AH386=AH411,0,AH386)","v":0},{"$f":"IF(AI386=AI411,0,AI386)","v":0},{"$f":"IF(AJ386=AJ411,0,AJ386)","v":0},{"$f":"IF(AK386=AK411,0,AK386)","v":0},{"$f":"IF(AL386=AL411,0,AL386)","v":0},{"$f":"IF(AM386=AM411,0,AM386)","v":0},{"$f":"IF(AN386=AN411,0,AN386)","v":0},{"$f":"IF(AO386=AO411,0,AO386)","v":0},{"$f":"IF(AP386=AP411,0,AP386)","v":0},{"$f":"IF(AQ386=AQ411,0,AQ386)","v":0},{"$f":"IF(AR386=AR411,0,AR386)","v":0},{"$f":"IF(AS386=AS411,0,AS386)","v":0},{"$f":"IF(AT386=AT411,0,AT386)","v":0},{"$f":"IF(AU386=AU411,0,AU386)","v":0},{"$f":"IF(AV386=AV411,0,AV386)","v":0},{"$f":"IF(AW386=AW411,0,AW386)","v":0},{"$f":"IF(AX386=AX411,0,AX386)","v":0},{"$f":"IF(AY386=AY411,0,AY386)","v":0},{"$f":"IF(AZ386=AZ411,0,AZ386)","v":0},{"$f":"IF(BA386=BA411,0,BA386)","v":0},{"$f":"IF(BB386=BB411,0,BB386)","v":0},{"$f":"IF(BC386=BC411,0,BC386)","v":0},{"$f":"IF(BD386=BD411,0,BD386)","v":0},{"$f":"IF(BE386=BE411,0,BE386)","v":0},{"$f":"IF(BF386=BF411,0,BF386)","v":0},{"$f":"IF(BG386=BG411,0,BG386)","v":0},{"$f":"IF(BH386=BH411,0,BH386)","v":0},{"$f":"IF(BI386=BI411,0,BI386)","v":0},{"$f":"IF(BJ386=BJ411,0,BJ386)","v":0},{"$f":"IF(BK386=BK411,0,BK386)","v":0},{"$f":"IF(BL386=BL411,0,BL386)","v":0},{"$f":"IF(BM386=BM411,0,BM386)","v":0},{"$f":"IF(BN386=BN411,0,BN386)","v":0},{"$f":"IF(BO386=BO411,0,BO386)","v":0},{"$f":"IF(BP386=BP411,0,BP386)","v":0},{"$f":"IF(BQ386=BQ411,0,BQ386)","v":0},{"$f":"IF(BR386=BR411,0,BR386)","v":0},{"$f":"IF(BS386=BS411,0,BS386)","v":0},{"$f":"IF(BT386=BT411,0,BT386)","v":0},{"$f":"IF(BU386=BU411,0,BU386)","v":0},{"$f":"IF(BV386=BV411,0,BV386)","v":0},{"$f":"IF(BW386=BW411,0,BW386)","v":0},{"$f":"IF(BX386=BX411,0,BX386)","v":0},{"$f":"IF(BY386=BY411,0,BY386)","v":0},{"$f":"IF(BZ386=BZ411,0,BZ386)","v":0},{"$f":"IF(CA386=CA411,0,CA386)","v":0},{"$f":"IF(CB386=CB411,0,CB386)","v":0},{"$f":"IF(CC386=CC411,0,CC386)","v":0},{"$f":"IF(CD386=CD411,0,CD386)","v":0},{"$f":"IF(CE386=CE411,0,CE386)","v":0},{"$f":"IF(CF386=CF411,0,CF386)","v":0},{"$f":"IF(CG386=CG411,0,CG386)","v":0},{"$f":"IF(CH386=CH411,0,CH386)","v":0},{"$f":"IF(CI386=CI411,0,CI386)","v":0},{"$f":"IF(CJ386=CJ411,0,CJ386)","v":0},{"$f":"IF(CK386=CK411,0,CK386)","v":0},{"$f":"IF(CL386=CL411,0,CL386)","v":0},{"$f":"IF(CM386=CM411,0,CM386)","v":0},{"$f":"IF(CN386=CN411,0,CN386)","v":0},{"$f":"IF(CO386=CO411,0,CO386)","v":0},{"$f":"IF(CP386=CP411,0,CP386)","v":0},{"$f":"IF(CQ386=CQ411,0,CQ386)","v":0},{"$f":"IF(CR386=CR411,0,CR386)","v":0},{"$f":"IF(CS386=CS411,0,CS386)","v":0},{"$f":"IF(CT386=CT411,0,CT386)","v":0},{"$f":"IF(CU386=CU411,0,CU386)","v":0},{"$f":"Z411","v":0},{"$f":"Z412","v":0},1]
[76,{"$f":"'RECOGIDA DATOS'!AG79","v":0},{"$f":"IF(B387=B411,0,B387)","v":0},{"$f":"IF(C387=C411,0,C387)","v":0},{"$f":"IF(D387=D411,0,D387)","v":0},{"$f":"IF(E387=E411,0,E387)","v":0},{"$f":"IF(F387=F411,0,F387)","v":0},{"$f":"IF(G387=G411,0,G387)","v":0},{"$f":"IF(H387=H411,0,H387)","v":0},{"$f":"IF(I387=I411,0,I387)","v":0},{"$f":"IF(J387=J411,0,J387)","v":0},{"$f":"IF(K387=K411,0,K387)","v":0},{"$f":"IF(L387=L411,0,L387)","v":0},{"$f":"IF(M387=M411,0,M387)","v":0},{"$f":"IF(N387=N411,0,N387)","v":0},{"$f":"IF(O387=O411,0,O387)","v":0},{"$f":"IF(P387=P411,0,P387)","v":0},{"$f":"IF(Q387=Q411,0,Q387)","v":0},{"$f":"IF(R387=R411,0,R387)","v":0},{"$f":"IF(S387=S411,0,S387)","v":0},{"$f":"IF(T387=T411,0,T387)","v":0},{"$f":"IF(U387=U411,0,U387)","v":0},{"$f":"IF(V387=V411,0,V387)","v":0},{"$f":"IF(W387=W411,0,W387)","v":0},{"$f":"IF(X387=X411,0,X387)","v":0},{"$f":"IF(Y387=Y411,0,Y387)","v":0},{"$f":"IF(Z387=Z411,0,Z387)","v":0},{"$f":"IF(AA387=AA411,0,AA387)","v":0},{"$f":"IF(AB387=AB411,0,AB387)","v":0},{"$f":"IF(AC387=AC411,0,AC387)","v":0},{"$f":"IF(AD387=AD411,0,AD387)","v":0},{"$f":"IF(AE387=AE411,0,AE387)","v":0},{"$f":"IF(AF387=AF411,0,AF387)","v":0},{"$f":"IF(AG387=AG411,0,AG387)","v":0},{"$f":"IF(AH387=AH411,0,AH387)","v":0},{"$f":"IF(AI387=AI411,0,AI387)","v":0},{"$f":"IF(AJ387=AJ411,0,AJ387)","v":0},{"$f":"IF(AK387=AK411,0,AK387)","v":0},{"$f":"IF(AL387=AL411,0,AL387)","v":0},{"$f":"IF(AM387=AM411,0,AM387)","v":0},{"$f":"IF(AN387=AN411,0,AN387)","v":0},{"$f":"IF(AO387=AO411,0,AO387)","v":0},{"$f":"IF(AP387=AP411,0,AP387)","v":0},{"$f":"IF(AQ387=AQ411,0,AQ387)","v":0},{"$f":"IF(AR387=AR411,0,AR387)","v":0},{"$f":"IF(AS387=AS411,0,AS387)","v":0},{"$f":"IF(AT387=AT411,0,AT387)","v":0},{"$f":"IF(AU387=AU411,0,AU387)","v":0},{"$f":"IF(AV387=AV411,0,AV387)","v":0},{"$f":"IF(AW387=AW411,0,AW387)","v":0},{"$f":"IF(AX387=AX411,0,AX387)","v":0},{"$f":"IF(AY387=AY411,0,AY387)","v":0},{"$f":"IF(AZ387=AZ411,0,AZ387)","v":0},{"$f":"IF(BA387=BA411,0,BA387)","v":0},{"$f":"IF(BB387=BB411,0,BB387)","v":0},{"$f":"IF(BC387=BC411,0,BC387)","v":0},{"$f":"IF(BD387=BD411,0,BD387)","v":0},{"$f":"IF(BE387=BE411,0,BE387)","v":0},{"$f":"IF(BF387=BF411,0,BF387)","v":0},{"$f":"IF(BG387=BG411,0,BG387)","v":0},{"$f":"IF(BH387=BH411,0,BH387)","v":0},{"$f":"IF(BI387=BI411,0,BI387)","v":0},{"$f":"IF(BJ387=BJ411,0,BJ387)","v":0},{"$f":"IF(BK387=BK411,0,BK387)","v":0},{"$f":"IF(BL387=BL411,0,BL387)","v":0},{"$f":"IF(BM387=BM411,0,BM387)","v":0},{"$f":"IF(BN387=BN411,0,BN387)","v":0},{"$f":"IF(BO387=BO411,0,BO387)","v":0},{"$f":"IF(BP387=BP411,0,BP387)","v":0},{"$f":"IF(BQ387=BQ411,0,BQ387)","v":0},{"$f":"IF(BR387=BR411,0,BR387)","v":0},{"$f":"IF(BS387=BS411,0,BS387)","v":0},{"$f":"IF(BT387=BT411,0,BT387)","v":0},{"$f":"IF(BU387=BU411,0,BU387)","v":0},{"$f":"IF(BV387=BV411,0,BV387)","v":0},{"$f":"IF(BW387=BW411,0,BW387)","v":0},{"$f":"IF(BX387=BX411,0,BX387)","v":0},{"$f":"IF(BY387=BY411,0,BY387)","v":0},{"$f":"IF(BZ387=BZ411,0,BZ387)","v":0},{"$f":"IF(CA387=CA411,0,CA387)","v":0},{"$f":"IF(CB387=CB411,0,CB387)","v":0},{"$f":"IF(CC387=CC411,0,CC387)","v":0},{"$f":"IF(CD387=CD411,0,CD387)","v":0},{"$f":"IF(CE387=CE411,0,CE387)","v":0},{"$f":"IF(CF387=CF411,0,CF387)","v":0},{"$f":"IF(CG387=CG411,0,CG387)","v":0},{"$f":"IF(CH387=CH411,0,CH387)","v":0},{"$f":"IF(CI387=CI411,0,CI387)","v":0},{"$f":"IF(CJ387=CJ411,0,CJ387)","v":0},{"$f":"IF(CK387=CK411,0,CK387)","v":0},{"$f":"IF(CL387=CL411,0,CL387)","v":0},{"$f":"IF(CM387=CM411,0,CM387)","v":0},{"$f":"IF(CN387=CN411,0,CN387)","v":0},{"$f":"IF(CO387=CO411,0,CO387)","v":0},{"$f":"IF(CP387=CP411,0,CP387)","v":0},{"$f":"IF(CQ387=CQ411,0,CQ387)","v":0},{"$f":"IF(CR387=CR411,0,CR387)","v":0},{"$f":"IF(CS387=CS411,0,CS387)","v":0},{"$f":"IF(CT387=CT411,0,CT387)","v":0},{"$f":"IF(CU387=CU411,0,CU387)","v":0},{"$f":"Y411","v":0},{"$f":"Y412","v":0},1]
[77,{"$f":"'RECOGIDA DATOS'!AG80","v":0},{"$f":"IF(B388=B411,0,B388)","v":0},{"$f":"IF(C388=C411,0,C388)","v":0},{"$f":"IF(D388=D411,0,D388)","v":0},{"$f":"IF(E388=E411,0,E388)","v":0},{"$f":"IF(F388=F411,0,F388)","v":0},{"$f":"IF(G388=G411,0,G388)","v":0},{"$f":"IF(H388=H411,0,H388)","v":0},{"$f":"IF(I388=I411,0,I388)","v":0},{"$f":"IF(J388=J411,0,J388)","v":0},{"$f":"IF(K388=K411,0,K388)","v":0},{"$f":"IF(L388=L411,0,L388)","v":0},{"$f":"IF(M388=M411,0,M388)","v":0},{"$f":"IF(N388=N411,0,N388)","v":0},{"$f":"IF(O388=O411,0,O388)","v":0},{"$f":"IF(P388=P411,0,P388)","v":0},{"$f":"IF(Q388=Q411,0,Q388)","v":0},{"$f":"IF(R388=R411,0,R388)","v":0},{"$f":"IF(S388=S411,0,S388)","v":0},{"$f":"IF(T388=T411,0,T388)","v":0},{"$f":"IF(U388=U411,0,U388)","v":0},{"$f":"IF(V388=V411,0,V388)","v":0},{"$f":"IF(W388=W411,0,W388)","v":0},{"$f":"IF(X388=X411,0,X388)","v":0},{"$f":"IF(Y388=Y411,0,Y388)","v":0},{"$f":"IF(Z388=Z411,0,Z388)","v":0},{"$f":"IF(AA388=AA411,0,AA388)","v":0},{"$f":"IF(AB388=AB411,0,AB388)","v":0},{"$f":"IF(AC388=AC411,0,AC388)","v":0},{"$f":"IF(AD388=AD411,0,AD388)","v":0},{"$f":"IF(AE388=AE411,0,AE388)","v":0},{"$f":"IF(AF388=AF411,0,AF388)","v":0},{"$f":"IF(AG388=AG411,0,AG388)","v":0},{"$f":"IF(AH388=AH411,0,AH388)","v":0},{"$f":"IF(AI388=AI411,0,AI388)","v":0},{"$f":"IF(AJ388=AJ411,0,AJ388)","v":0},{"$f":"IF(AK388=AK411,0,AK388)","v":0},{"$f":"IF(AL388=AL411,0,AL388)","v":0},{"$f":"IF(AM388=AM411,0,AM388)","v":0},{"$f":"IF(AN388=AN411,0,AN388)","v":0},{"$f":"IF(AO388=AO411,0,AO388)","v":0},{"$f":"IF(AP388=AP411,0,AP388)","v":0},{"$f":"IF(AQ388=AQ411,0,AQ388)","v":0},{"$f":"IF(AR388=AR411,0,AR388)","v":0},{"$f":"IF(AS388=AS411,0,AS388)","v":0},{"$f":"IF(AT388=AT411,0,AT388)","v":0},{"$f":"IF(AU388=AU411,0,AU388)","v":0},{"$f":"IF(AV388=AV411,0,AV388)","v":0},{"$f":"IF(AW388=AW411,0,AW388)","v":0},{"$f":"IF(AX388=AX411,0,AX388)","v":0},{"$f":"IF(AY388=AY411,0,AY388)","v":0},{"$f":"IF(AZ388=AZ411,0,AZ388)","v":0},{"$f":"IF(BA388=BA411,0,BA388)","v":0},{"$f":"IF(BB388=BB411,0,BB388)","v":0},{"$f":"IF(BC388=BC411,0,BC388)","v":0},{"$f":"IF(BD388=BD411,0,BD388)","v":0},{"$f":"IF(BE388=BE411,0,BE388)","v":0},{"$f":"IF(BF388=BF411,0,BF388)","v":0},{"$f":"IF(BG388=BG411,0,BG388)","v":0},{"$f":"IF(BH388=BH411,0,BH388)","v":0},{"$f":"IF(BI388=BI411,0,BI388)","v":0},{"$f":"IF(BJ388=BJ411,0,BJ388)","v":0},{"$f":"IF(BK388=BK411,0,BK388)","v":0},{"$f":"IF(BL388=BL411,0,BL388)","v":0},{"$f":"IF(BM388=BM411,0,BM388)","v":0},{"$f":"IF(BN388=BN411,0,BN388)","v":0},{"$f":"IF(BO388=BO411,0,BO388)","v":0},{"$f":"IF(BP388=BP411,0,BP388)","v":0},{"$f":"IF(BQ388=BQ411,0,BQ388)","v":0},{"$f":"IF(BR388=BR411,0,BR388)","v":0},{"$f":"IF(BS388=BS411,0,BS388)","v":0},{"$f":"IF(BT388=BT411,0,BT388)","v":0},{"$f":"IF(BU388=BU411,0,BU388)","v":0},{"$f":"IF(BV388=BV411,0,BV388)","v":0},{"$f":"IF(BW388=BW411,0,BW388)","v":0},{"$f":"IF(BX388=BX411,0,BX388)","v":0},{"$f":"IF(BY388=BY411,0,BY388)","v":0},{"$f":"IF(BZ388=BZ411,0,BZ388)","v":0},{"$f":"IF(CA388=CA411,0,CA388)","v":0},{"$f":"IF(CB388=CB411,0,CB388)","v":0},{"$f":"IF(CC388=CC411,0,CC388)","v":0},{"$f":"IF(CD388=CD411,0,CD388)","v":0},{"$f":"IF(CE388=CE411,0,CE388)","v":0},{"$f":"IF(CF388=CF411,0,CF388)","v":0},{"$f":"IF(CG388=CG411,0,CG388)","v":0},{"$f":"IF(CH388=CH411,0,CH388)","v":0},{"$f":"IF(CI388=CI411,0,CI388)","v":0},{"$f":"IF(CJ388=CJ411,0,CJ388)","v":0},{"$f":"IF(CK388=CK411,0,CK388)","v":0},{"$f":"IF(CL388=CL411,0,CL388)","v":0},{"$f":"IF(CM388=CM411,0,CM388)","v":0},{"$f":"IF(CN388=CN411,0,CN388)","v":0},{"$f":"IF(CO388=CO411,0,CO388)","v":0},{"$f":"IF(CP388=CP411,0,CP388)","v":0},{"$f":"IF(CQ388=CQ411,0,CQ388)","v":0},{"$f":"IF(CR388=CR411,0,CR388)","v":0},{"$f":"IF(CS388=CS411,0,CS388)","v":0},{"$f":"IF(CT388=CT411,0,CT388)","v":0},{"$f":"IF(CU388=CU411,0,CU388)","v":0},{"$f":"X411","v":0},{"$f":"X412","v":0},1]
[78,{"$f":"'RECOGIDA DATOS'!AG81","v":0},{"$f":"IF(B389=B411,0,B389)","v":0},{"$f":"IF(C389=C411,0,C389)","v":0},{"$f":"IF(D389=D411,0,D389)","v":0},{"$f":"IF(E389=E411,0,E389)","v":0},{"$f":"IF(F389=F411,0,F389)","v":0},{"$f":"IF(G389=G411,0,G389)","v":0},{"$f":"IF(H389=H411,0,H389)","v":0},{"$f":"IF(I389=I411,0,I389)","v":0},{"$f":"IF(J389=J411,0,J389)","v":0},{"$f":"IF(K389=K411,0,K389)","v":0},{"$f":"IF(L389=L411,0,L389)","v":0},{"$f":"IF(M389=M411,0,M389)","v":0},{"$f":"IF(N389=N411,0,N389)","v":0},{"$f":"IF(O389=O411,0,O389)","v":0},{"$f":"IF(P389=P411,0,P389)","v":0},{"$f":"IF(Q389=Q411,0,Q389)","v":0},{"$f":"IF(R389=R411,0,R389)","v":0},{"$f":"IF(S389=S411,0,S389)","v":0},{"$f":"IF(T389=T411,0,T389)","v":0},{"$f":"IF(U389=U411,0,U389)","v":0},{"$f":"IF(V389=V411,0,V389)","v":0},{"$f":"IF(W389=W411,0,W389)","v":0},{"$f":"IF(X389=X411,0,X389)","v":0},{"$f":"IF(Y389=Y411,0,Y389)","v":0},{"$f":"IF(Z389=Z411,0,Z389)","v":0},{"$f":"IF(AA389=AA411,0,AA389)","v":0},{"$f":"IF(AB389=AB411,0,AB389)","v":0},{"$f":"IF(AC389=AC411,0,AC389)","v":0},{"$f":"IF(AD389=AD411,0,AD389)","v":0},{"$f":"IF(AE389=AE411,0,AE389)","v":0},{"$f":"IF(AF389=AF411,0,AF389)","v":0},{"$f":"IF(AG389=AG411,0,AG389)","v":0},{"$f":"IF(AH389=AH411,0,AH389)","v":0},{"$f":"IF(AI389=AI411,0,AI389)","v":0},{"$f":"IF(AJ389=AJ411,0,AJ389)","v":0},{"$f":"IF(AK389=AK411,0,AK389)","v":0},{"$f":"IF(AL389=AL411,0,AL389)","v":0},{"$f":"IF(AM389=AM411,0,AM389)","v":0},{"$f":"IF(AN389=AN411,0,AN389)","v":0},{"$f":"IF(AO389=AO411,0,AO389)","v":0},{"$f":"IF(AP389=AP411,0,AP389)","v":0},{"$f":"IF(AQ389=AQ411,0,AQ389)","v":0},{"$f":"IF(AR389=AR411,0,AR389)","v":0},{"$f":"IF(AS389=AS411,0,AS389)","v":0},{"$f":"IF(AT389=AT411,0,AT389)","v":0},{"$f":"IF(AU389=AU411,0,AU389)","v":0},{"$f":"IF(AV389=AV411,0,AV389)","v":0},{"$f":"IF(AW389=AW411,0,AW389)","v":0},{"$f":"IF(AX389=AX411,0,AX389)","v":0},{"$f":"IF(AY389=AY411,0,AY389)","v":0},{"$f":"IF(AZ389=AZ411,0,AZ389)","v":0},{"$f":"IF(BA389=BA411,0,BA389)","v":0},{"$f":"IF(BB389=BB411,0,BB389)","v":0},{"$f":"IF(BC389=BC411,0,BC389)","v":0},{"$f":"IF(BD389=BD411,0,BD389)","v":0},{"$f":"IF(BE389=BE411,0,BE389)","v":0},{"$f":"IF(BF389=BF411,0,BF389)","v":0},{"$f":"IF(BG389=BG411,0,BG389)","v":0},{"$f":"IF(BH389=BH411,0,BH389)","v":0},{"$f":"IF(BI389=BI411,0,BI389)","v":0},{"$f":"IF(BJ389=BJ411,0,BJ389)","v":0},{"$f":"IF(BK389=BK411,0,BK389)","v":0},{"$f":"IF(BL389=BL411,0,BL389)","v":0},{"$f":"IF(BM389=BM411,0,BM389)","v":0},{"$f":"IF(BN389=BN411,0,BN389)","v":0},{"$f":"IF(BO389=BO411,0,BO389)","v":0},{"$f":"IF(BP389=BP411,0,BP389)","v":0},{"$f":"IF(BQ389=BQ411,0,BQ389)","v":0},{"$f":"IF(BR389=BR411,0,BR389)","v":0},{"$f":"IF(BS389=BS411,0,BS389)","v":0},{"$f":"IF(BT389=BT411,0,BT389)","v":0},{"$f":"IF(BU389=BU411,0,BU389)","v":0},{"$f":"IF(BV389=BV411,0,BV389)","v":0},{"$f":"IF(BW389=BW411,0,BW389)","v":0},{"$f":"IF(BX389=BX411,0,BX389)","v":0},{"$f":"IF(BY389=BY411,0,BY389)","v":0},{"$f":"IF(BZ389=BZ411,0,BZ389)","v":0},{"$f":"IF(CA389=CA411,0,CA389)","v":0},{"$f":"IF(CB389=CB411,0,CB389)","v":0},{"$f":"IF(CC389=CC411,0,CC389)","v":0},{"$f":"IF(CD389=CD411,0,CD389)","v":0},{"$f":"IF(CE389=CE411,0,CE389)","v":0},{"$f":"IF(CF389=CF411,0,CF389)","v":0},{"$f":"IF(CG389=CG411,0,CG389)","v":0},{"$f":"IF(CH389=CH411,0,CH389)","v":0},{"$f":"IF(CI389=CI411,0,CI389)","v":0},{"$f":"IF(CJ389=CJ411,0,CJ389)","v":0},{"$f":"IF(CK389=CK411,0,CK389)","v":0},{"$f":"IF(CL389=CL411,0,CL389)","v":0},{"$f":"IF(CM389=CM411,0,CM389)","v":0},{"$f":"IF(CN389=CN411,0,CN389)","v":0},{"$f":"IF(CO389=CO411,0,CO389)","v":0},{"$f":"IF(CP389=CP411,0,CP389)","v":0},{"$f":"IF(CQ389=CQ411,0,CQ389)","v":0},{"$f":"IF(CR389=CR411,0,CR389)","v":0},{"$f":"IF(CS389=CS411,0,CS389)","v":0},{"$f":"IF(CT389=CT411,0,CT389)","v":0},{"$f":"IF(CU389=CU411,0,CU389)","v":0},{"$f":"W411","v":0},{"$f":"W412","v":0},1]
[79,{"$f":"'RECOGIDA DATOS'!AG82","v":0},{"$f":"IF(B390=B411,0,B390)","v":0},{"$f":"IF(C390=C411,0,C390)","v":0},{"$f":"IF(D390=D411,0,D390)","v":0},{"$f":"IF(E390=E411,0,E390)","v":0},{"$f":"IF(F390=F411,0,F390)","v":0},{"$f":"IF(G390=G411,0,G390)","v":0},{"$f":"IF(H390=H411,0,H390)","v":0},{"$f":"IF(I390=I411,0,I390)","v":0},{"$f":"IF(J390=J411,0,J390)","v":0},{"$f":"IF(K390=K411,0,K390)","v":0},{"$f":"IF(L390=L411,0,L390)","v":0},{"$f":"IF(M390=M411,0,M390)","v":0},{"$f":"IF(N390=N411,0,N390)","v":0},{"$f":"IF(O390=O411,0,O390)","v":0},{"$f":"IF(P390=P411,0,P390)","v":0},{"$f":"IF(Q390=Q411,0,Q390)","v":0},{"$f":"IF(R390=R411,0,R390)","v":0},{"$f":"IF(S390=S411,0,S390)","v":0},{"$f":"IF(T390=T411,0,T390)","v":0},{"$f":"IF(U390=U411,0,U390)","v":0},{"$f":"IF(V390=V411,0,V390)","v":0},{"$f":"IF(W390=W411,0,W390)","v":0},{"$f":"IF(X390=X411,0,X390)","v":0},{"$f":"IF(Y390=Y411,0,Y390)","v":0},{"$f":"IF(Z390=Z411,0,Z390)","v":0},{"$f":"IF(AA390=AA411,0,AA390)","v":0},{"$f":"IF(AB390=AB411,0,AB390)","v":0},{"$f":"IF(AC390=AC411,0,AC390)","v":0},{"$f":"IF(AD390=AD411,0,AD390)","v":0},{"$f":"IF(AE390=AE411,0,AE390)","v":0},{"$f":"IF(AF390=AF411,0,AF390)","v":0},{"$f":"IF(AG390=AG411,0,AG390)","v":0},{"$f":"IF(AH390=AH411,0,AH390)","v":0},{"$f":"IF(AI390=AI411,0,AI390)","v":0},{"$f":"IF(AJ390=AJ411,0,AJ390)","v":0},{"$f":"IF(AK390=AK411,0,AK390)","v":0},{"$f":"IF(AL390=AL411,0,AL390)","v":0},{"$f":"IF(AM390=AM411,0,AM390)","v":0},{"$f":"IF(AN390=AN411,0,AN390)","v":0},{"$f":"IF(AO390=AO411,0,AO390)","v":0},{"$f":"IF(AP390=AP411,0,AP390)","v":0},{"$f":"IF(AQ390=AQ411,0,AQ390)","v":0},{"$f":"IF(AR390=AR411,0,AR390)","v":0},{"$f":"IF(AS390=AS411,0,AS390)","v":0},{"$f":"IF(AT390=AT411,0,AT390)","v":0},{"$f":"IF(AU390=AU411,0,AU390)","v":0},{"$f":"IF(AV390=AV411,0,AV390)","v":0},{"$f":"IF(AW390=AW411,0,AW390)","v":0},{"$f":"IF(AX390=AX411,0,AX390)","v":0},{"$f":"IF(AY390=AY411,0,AY390)","v":0},{"$f":"IF(AZ390=AZ411,0,AZ390)","v":0},{"$f":"IF(BA390=BA411,0,BA390)","v":0},{"$f":"IF(BB390=BB411,0,BB390)","v":0},{"$f":"IF(BC390=BC411,0,BC390)","v":0},{"$f":"IF(BD390=BD411,0,BD390)","v":0},{"$f":"IF(BE390=BE411,0,BE390)","v":0},{"$f":"IF(BF390=BF411,0,BF390)","v":0},{"$f":"IF(BG390=BG411,0,BG390)","v":0},{"$f":"IF(BH390=BH411,0,BH390)","v":0},{"$f":"IF(BI390=BI411,0,BI390)","v":0},{"$f":"IF(BJ390=BJ411,0,BJ390)","v":0},{"$f":"IF(BK390=BK411,0,BK390)","v":0},{"$f":"IF(BL390=BL411,0,BL390)","v":0},{"$f":"IF(BM390=BM411,0,BM390)","v":0},{"$f":"IF(BN390=BN411,0,BN390)","v":0},{"$f":"IF(BO390=BO411,0,BO390)","v":0},{"$f":"IF(BP390=BP411,0,BP390)","v":0},{"$f":"IF(BQ390=BQ411,0,BQ390)","v":0},{"$f":"IF(BR390=BR411,0,BR390)","v":0},{"$f":"IF(BS390=BS411,0,BS390)","v":0},{"$f":"IF(BT390=BT411,0,BT390)","v":0},{"$f":"IF(BU390=BU411,0,BU390)","v":0},{"$f":"IF(BV390=BV411,0,BV390)","v":0},{"$f":"IF(BW390=BW411,0,BW390)","v":0},{"$f":"IF(BX390=BX411,0,BX390)","v":0},{"$f":"IF(BY390=BY411,0,BY390)","v":0},{"$f":"IF(BZ390=BZ411,0,BZ390)","v":0},{"$f":"IF(CA390=CA411,0,CA390)","v":0},{"$f":"IF(CB390=CB411,0,CB390)","v":0},{"$f":"IF(CC390=CC411,0,CC390)","v":0},{"$f":"IF(CD390=CD411,0,CD390)","v":0},{"$f":"IF(CE390=CE411,0,CE390)","v":0},{"$f":"IF(CF390=CF411,0,CF390)","v":0},{"$f":"IF(CG390=CG411,0,CG390)","v":0},{"$f":"IF(CH390=CH411,0,CH390)","v":0},{"$f":"IF(CI390=CI411,0,CI390)","v":0},{"$f":"IF(CJ390=CJ411,0,CJ390)","v":0},{"$f":"IF(CK390=CK411,0,CK390)","v":0},{"$f":"IF(CL390=CL411,0,CL390)","v":0},{"$f":"IF(CM390=CM411,0,CM390)","v":0},{"$f":"IF(CN390=CN411,0,CN390)","v":0},{"$f":"IF(CO390=CO411,0,CO390)","v":0},{"$f":"IF(CP390=CP411,0,CP390)","v":0},{"$f":"IF(CQ390=CQ411,0,CQ390)","v":0},{"$f":"IF(CR390=CR411,0,CR390)","v":0},{"$f":"IF(CS390=CS411,0,CS390)","v":0},{"$f":"IF(CT390=CT411,0,CT390)","v":0},{"$f":"IF(CU390=CU411,0,CU390)","v":0},{"$f":"V411","v":0},{"$f":"V412","v":0},1]
[80,{"$f":"'RECOGIDA DATOS'!AG83","v":0},{"$f":"IF(B391=B411,0,B391)","v":0},{"$f":"IF(C391=C411,0,C391)","v":0},{"$f":"IF(D391=D411,0,D391)","v":0},{"$f":"IF(E391=E411,0,E391)","v":0},{"$f":"IF(F391=F411,0,F391)","v":0},{"$f":"IF(G391=G411,0,G391)","v":0},{"$f":"IF(H391=H411,0,H391)","v":0},{"$f":"IF(I391=I411,0,I391)","v":0},{"$f":"IF(J391=J411,0,J391)","v":0},{"$f":"IF(K391=K411,0,K391)","v":0},{"$f":"IF(L391=L411,0,L391)","v":0},{"$f":"IF(M391=M411,0,M391)","v":0},{"$f":"IF(N391=N411,0,N391)","v":0},{"$f":"IF(O391=O411,0,O391)","v":0},{"$f":"IF(P391=P411,0,P391)","v":0},{"$f":"IF(Q391=Q411,0,Q391)","v":0},{"$f":"IF(R391=R411,0,R391)","v":0},{"$f":"IF(S391=S411,0,S391)","v":0},{"$f":"IF(T391=T411,0,T391)","v":0},{"$f":"IF(U391=U411,0,U391)","v":0},{"$f":"IF(V391=V411,0,V391)","v":0},{"$f":"IF(W391=W411,0,W391)","v":0},{"$f":"IF(X391=X411,0,X391)","v":0},{"$f":"IF(Y391=Y411,0,Y391)","v":0},{"$f":"IF(Z391=Z411,0,Z391)","v":0},{"$f":"IF(AA391=AA411,0,AA391)","v":0},{"$f":"IF(AB391=AB411,0,AB391)","v":0},{"$f":"IF(AC391=AC411,0,AC391)","v":0},{"$f":"IF(AD391=AD411,0,AD391)","v":0},{"$f":"IF(AE391=AE411,0,AE391)","v":0},{"$f":"IF(AF391=AF411,0,AF391)","v":0},{"$f":"IF(AG391=AG411,0,AG391)","v":0},{"$f":"IF(AH391=AH411,0,AH391)","v":0},{"$f":"IF(AI391=AI411,0,AI391)","v":0},{"$f":"IF(AJ391=AJ411,0,AJ391)","v":0},{"$f":"IF(AK391=AK411,0,AK391)","v":0},{"$f":"IF(AL391=AL411,0,AL391)","v":0},{"$f":"IF(AM391=AM411,0,AM391)","v":0},{"$f":"IF(AN391=AN411,0,AN391)","v":0},{"$f":"IF(AO391=AO411,0,AO391)","v":0},{"$f":"IF(AP391=AP411,0,AP391)","v":0},{"$f":"IF(AQ391=AQ411,0,AQ391)","v":0},{"$f":"IF(AR391=AR411,0,AR391)","v":0},{"$f":"IF(AS391=AS411,0,AS391)","v":0},{"$f":"IF(AT391=AT411,0,AT391)","v":0},{"$f":"IF(AU391=AU411,0,AU391)","v":0},{"$f":"IF(AV391=AV411,0,AV391)","v":0},{"$f":"IF(AW391=AW411,0,AW391)","v":0},{"$f":"IF(AX391=AX411,0,AX391)","v":0},{"$f":"IF(AY391=AY411,0,AY391)","v":0},{"$f":"IF(AZ391=AZ411,0,AZ391)","v":0},{"$f":"IF(BA391=BA411,0,BA391)","v":0},{"$f":"IF(BB391=BB411,0,BB391)","v":0},{"$f":"IF(BC391=BC411,0,BC391)","v":0},{"$f":"IF(BD391=BD411,0,BD391)","v":0},{"$f":"IF(BE391=BE411,0,BE391)","v":0},{"$f":"IF(BF391=BF411,0,BF391)","v":0},{"$f":"IF(BG391=BG411,0,BG391)","v":0},{"$f":"IF(BH391=BH411,0,BH391)","v":0},{"$f":"IF(BI391=BI411,0,BI391)","v":0},{"$f":"IF(BJ391=BJ411,0,BJ391)","v":0},{"$f":"IF(BK391=BK411,0,BK391)","v":0},{"$f":"IF(BL391=BL411,0,BL391)","v":0},{"$f":"IF(BM391=BM411,0,BM391)","v":0},{"$f":"IF(BN391=BN411,0,BN391)","v":0},{"$f":"IF(BO391=BO411,0,BO391)","v":0},{"$f":"IF(BP391=BP411,0,BP391)","v":0},{"$f":"IF(BQ391=BQ411,0,BQ391)","v":0},{"$f":"IF(BR391=BR411,0,BR391)","v":0},{"$f":"IF(BS391=BS411,0,BS391)","v":0},{"$f":"IF(BT391=BT411,0,BT391)","v":0},{"$f":"IF(BU391=BU411,0,BU391)","v":0},{"$f":"IF(BV391=BV411,0,BV391)","v":0},{"$f":"IF(BW391=BW411,0,BW391)","v":0},{"$f":"IF(BX391=BX411,0,BX391)","v":0},{"$f":"IF(BY391=BY411,0,BY391)","v":0},{"$f":"IF(BZ391=BZ411,0,BZ391)","v":0},{"$f":"IF(CA391=CA411,0,CA391)","v":0},{"$f":"IF(CB391=CB411,0,CB391)","v":0},{"$f":"IF(CC391=CC411,0,CC391)","v":0},{"$f":"IF(CD391=CD411,0,CD391)","v":0},{"$f":"IF(CE391=CE411,0,CE391)","v":0},{"$f":"IF(CF391=CF411,0,CF391)","v":0},{"$f":"IF(CG391=CG411,0,CG391)","v":0},{"$f":"IF(CH391=CH411,0,CH391)","v":0},{"$f":"IF(CI391=CI411,0,CI391)","v":0},{"$f":"IF(CJ391=CJ411,0,CJ391)","v":0},{"$f":"IF(CK391=CK411,0,CK391)","v":0},{"$f":"IF(CL391=CL411,0,CL391)","v":0},{"$f":"IF(CM391=CM411,0,CM391)","v":0},{"$f":"IF(CN391=CN411,0,CN391)","v":0},{"$f":"IF(CO391=CO411,0,CO391)","v":0},{"$f":"IF(CP391=CP411,0,CP391)","v":0},{"$f":"IF(CQ391=CQ411,0,CQ391)","v":0},{"$f":"IF(CR391=CR411,0,CR391)","v":0},{"$f":"IF(CS391=CS411,0,CS391)","v":0},{"$f":"IF(CT391=CT411,0,CT391)","v":0},{"$f":"IF(CU391=CU411,0,CU391)","v":0},{"$f":"U411","v":0},{"$f":"U412","v":0},1]
[81,{"$f":"'RECOGIDA DATOS'!AG84","v":0},{"$f":"IF(B392=B411,0,B392)","v":0},{"$f":"IF(C392=C411,0,C392)","v":0},{"$f":"IF(D392=D411,0,D392)","v":0},{"$f":"IF(E392=E411,0,E392)","v":0},{"$f":"IF(F392=F411,0,F392)","v":0},{"$f":"IF(G392=G411,0,G392)","v":0},{"$f":"IF(H392=H411,0,H392)","v":0},{"$f":"IF(I392=I411,0,I392)","v":0},{"$f":"IF(J392=J411,0,J392)","v":0},{"$f":"IF(K392=K411,0,K392)","v":0},{"$f":"IF(L392=L411,0,L392)","v":0},{"$f":"IF(M392=M411,0,M392)","v":0},{"$f":"IF(N392=N411,0,N392)","v":0},{"$f":"IF(O392=O411,0,O392)","v":0},{"$f":"IF(P392=P411,0,P392)","v":0},{"$f":"IF(Q392=Q411,0,Q392)","v":0},{"$f":"IF(R392=R411,0,R392)","v":0},{"$f":"IF(S392=S411,0,S392)","v":0},{"$f":"IF(T392=T411,0,T392)","v":0},{"$f":"IF(U392=U411,0,U392)","v":0},{"$f":"IF(V392=V411,0,V392)","v":0},{"$f":"IF(W392=W411,0,W392)","v":0},{"$f":"IF(X392=X411,0,X392)","v":0},{"$f":"IF(Y392=Y411,0,Y392)","v":0},{"$f":"IF(Z392=Z411,0,Z392)","v":0},{"$f":"IF(AA392=AA411,0,AA392)","v":0},{"$f":"IF(AB392=AB411,0,AB392)","v":0},{"$f":"IF(AC392=AC411,0,AC392)","v":0},{"$f":"IF(AD392=AD411,0,AD392)","v":0},{"$f":"IF(AE392=AE411,0,AE392)","v":0},{"$f":"IF(AF392=AF411,0,AF392)","v":0},{"$f":"IF(AG392=AG411,0,AG392)","v":0},{"$f":"IF(AH392=AH411,0,AH392)","v":0},{"$f":"IF(AI392=AI411,0,AI392)","v":0},{"$f":"IF(AJ392=AJ411,0,AJ392)","v":0},{"$f":"IF(AK392=AK411,0,AK392)","v":0},{"$f":"IF(AL392=AL411,0,AL392)","v":0},{"$f":"IF(AM392=AM411,0,AM392)","v":0},{"$f":"IF(AN392=AN411,0,AN392)","v":0},{"$f":"IF(AO392=AO411,0,AO392)","v":0},{"$f":"IF(AP392=AP411,0,AP392)","v":0},{"$f":"IF(AQ392=AQ411,0,AQ392)","v":0},{"$f":"IF(AR392=AR411,0,AR392)","v":0},{"$f":"IF(AS392=AS411,0,AS392)","v":0},{"$f":"IF(AT392=AT411,0,AT392)","v":0},{"$f":"IF(AU392=AU411,0,AU392)","v":0},{"$f":"IF(AV392=AV411,0,AV392)","v":0},{"$f":"IF(AW392=AW411,0,AW392)","v":0},{"$f":"IF(AX392=AX411,0,AX392)","v":0},{"$f":"IF(AY392=AY411,0,AY392)","v":0},{"$f":"IF(AZ392=AZ411,0,AZ392)","v":0},{"$f":"IF(BA392=BA411,0,BA392)","v":0},{"$f":"IF(BB392=BB411,0,BB392)","v":0},{"$f":"IF(BC392=BC411,0,BC392)","v":0},{"$f":"IF(BD392=BD411,0,BD392)","v":0},{"$f":"IF(BE392=BE411,0,BE392)","v":0},{"$f":"IF(BF392=BF411,0,BF392)","v":0},{"$f":"IF(BG392=BG411,0,BG392)","v":0},{"$f":"IF(BH392=BH411,0,BH392)","v":0},{"$f":"IF(BI392=BI411,0,BI392)","v":0},{"$f":"IF(BJ392=BJ411,0,BJ392)","v":0},{"$f":"IF(BK392=BK411,0,BK392)","v":0},{"$f":"IF(BL392=BL411,0,BL392)","v":0},{"$f":"IF(BM392=BM411,0,BM392)","v":0},{"$f":"IF(BN392=BN411,0,BN392)","v":0},{"$f":"IF(BO392=BO411,0,BO392)","v":0},{"$f":"IF(BP392=BP411,0,BP392)","v":0},{"$f":"IF(BQ392=BQ411,0,BQ392)","v":0},{"$f":"IF(BR392=BR411,0,BR392)","v":0},{"$f":"IF(BS392=BS411,0,BS392)","v":0},{"$f":"IF(BT392=BT411,0,BT392)","v":0},{"$f":"IF(BU392=BU411,0,BU392)","v":0},{"$f":"IF(BV392=BV411,0,BV392)","v":0},{"$f":"IF(BW392=BW411,0,BW392)","v":0},{"$f":"IF(BX392=BX411,0,BX392)","v":0},{"$f":"IF(BY392=BY411,0,BY392)","v":0},{"$f":"IF(BZ392=BZ411,0,BZ392)","v":0},{"$f":"IF(CA392=CA411,0,CA392)","v":0},{"$f":"IF(CB392=CB411,0,CB392)","v":0},{"$f":"IF(CC392=CC411,0,CC392)","v":0},{"$f":"IF(CD392=CD411,0,CD392)","v":0},{"$f":"IF(CE392=CE411,0,CE392)","v":0},{"$f":"IF(CF392=CF411,0,CF392)","v":0},{"$f":"IF(CG392=CG411,0,CG392)","v":0},{"$f":"IF(CH392=CH411,0,CH392)","v":0},{"$f":"IF(CI392=CI411,0,CI392)","v":0},{"$f":"IF(CJ392=CJ411,0,CJ392)","v":0},{"$f":"IF(CK392=CK411,0,CK392)","v":0},{"$f":"IF(CL392=CL411,0,CL392)","v":0},{"$f":"IF(CM392=CM411,0,CM392)","v":0},{"$f":"IF(CN392=CN411,0,CN392)","v":0},{"$f":"IF(CO392=CO411,0,CO392)","v":0},{"$f":"IF(CP392=CP411,0,CP392)","v":0},{"$f":"IF(CQ392=CQ411,0,CQ392)","v":0},{"$f":"IF(CR392=CR411,0,CR392)","v":0},{"$f":"IF(CS392=CS411,0,CS392)","v":0},{"$f":"IF(CT392=CT411,0,CT392)","v":0},{"$f":"IF(CU392=CU411,0,CU392)","v":0},{"$f":"T411","v":0},{"$f":"T412","v":0},1]
[82,{"$f":"'RECOGIDA DATOS'!AG85","v":0},{"$f":"IF(B393=B411,0,B393)","v":0},{"$f":"IF(C393=C411,0,C393)","v":0},{"$f":"IF(D393=D411,0,D393)","v":0},{"$f":"IF(E393=E411,0,E393)","v":0},{"$f":"IF(F393=F411,0,F393)","v":0},{"$f":"IF(G393=G411,0,G393)","v":0},{"$f":"IF(H393=H411,0,H393)","v":0},{"$f":"IF(I393=I411,0,I393)","v":0},{"$f":"IF(J393=J411,0,J393)","v":0},{"$f":"IF(K393=K411,0,K393)","v":0},{"$f":"IF(L393=L411,0,L393)","v":0},{"$f":"IF(M393=M411,0,M393)","v":0},{"$f":"IF(N393=N411,0,N393)","v":0},{"$f":"IF(O393=O411,0,O393)","v":0},{"$f":"IF(P393=P411,0,P393)","v":0},{"$f":"IF(Q393=Q411,0,Q393)","v":0},{"$f":"IF(R393=R411,0,R393)","v":0},{"$f":"IF(S393=S411,0,S393)","v":0},{"$f":"IF(T393=T411,0,T393)","v":0},{"$f":"IF(U393=U411,0,U393)","v":0},{"$f":"IF(V393=V411,0,V393)","v":0},{"$f":"IF(W393=W411,0,W393)","v":0},{"$f":"IF(X393=X411,0,X393)","v":0},{"$f":"IF(Y393=Y411,0,Y393)","v":0},{"$f":"IF(Z393=Z411,0,Z393)","v":0},{"$f":"IF(AA393=AA411,0,AA393)","v":0},{"$f":"IF(AB393=AB411,0,AB393)","v":0},{"$f":"IF(AC393=AC411,0,AC393)","v":0},{"$f":"IF(AD393=AD411,0,AD393)","v":0},{"$f":"IF(AE393=AE411,0,AE393)","v":0},{"$f":"IF(AF393=AF411,0,AF393)","v":0},{"$f":"IF(AG393=AG411,0,AG393)","v":0},{"$f":"IF(AH393=AH411,0,AH393)","v":0},{"$f":"IF(AI393=AI411,0,AI393)","v":0},{"$f":"IF(AJ393=AJ411,0,AJ393)","v":0},{"$f":"IF(AK393=AK411,0,AK393)","v":0},{"$f":"IF(AL393=AL411,0,AL393)","v":0},{"$f":"IF(AM393=AM411,0,AM393)","v":0},{"$f":"IF(AN393=AN411,0,AN393)","v":0},{"$f":"IF(AO393=AO411,0,AO393)","v":0},{"$f":"IF(AP393=AP411,0,AP393)","v":0},{"$f":"IF(AQ393=AQ411,0,AQ393)","v":0},{"$f":"IF(AR393=AR411,0,AR393)","v":0},{"$f":"IF(AS393=AS411,0,AS393)","v":0},{"$f":"IF(AT393=AT411,0,AT393)","v":0},{"$f":"IF(AU393=AU411,0,AU393)","v":0},{"$f":"IF(AV393=AV411,0,AV393)","v":0},{"$f":"IF(AW393=AW411,0,AW393)","v":0},{"$f":"IF(AX393=AX411,0,AX393)","v":0},{"$f":"IF(AY393=AY411,0,AY393)","v":0},{"$f":"IF(AZ393=AZ411,0,AZ393)","v":0},{"$f":"IF(BA393=BA411,0,BA393)","v":0},{"$f":"IF(BB393=BB411,0,BB393)","v":0},{"$f":"IF(BC393=BC411,0,BC393)","v":0},{"$f":"IF(BD393=BD411,0,BD393)","v":0},{"$f":"IF(BE393=BE411,0,BE393)","v":0},{"$f":"IF(BF393=BF411,0,BF393)","v":0},{"$f":"IF(BG393=BG411,0,BG393)","v":0},{"$f":"IF(BH393=BH411,0,BH393)","v":0},{"$f":"IF(BI393=BI411,0,BI393)","v":0},{"$f":"IF(BJ393=BJ411,0,BJ393)","v":0},{"$f":"IF(BK393=BK411,0,BK393)","v":0},{"$f":"IF(BL393=BL411,0,BL393)","v":0},{"$f":"IF(BM393=BM411,0,BM393)","v":0},{"$f":"IF(BN393=BN411,0,BN393)","v":0},{"$f":"IF(BO393=BO411,0,BO393)","v":0},{"$f":"IF(BP393=BP411,0,BP393)","v":0},{"$f":"IF(BQ393=BQ411,0,BQ393)","v":0},{"$f":"IF(BR393=BR411,0,BR393)","v":0},{"$f":"IF(BS393=BS411,0,BS393)","v":0},{"$f":"IF(BT393=BT411,0,BT393)","v":0},{"$f":"IF(BU393=BU411,0,BU393)","v":0},{"$f":"IF(BV393=BV411,0,BV393)","v":0},{"$f":"IF(BW393=BW411,0,BW393)","v":0},{"$f":"IF(BX393=BX411,0,BX393)","v":0},{"$f":"IF(BY393=BY411,0,BY393)","v":0},{"$f":"IF(BZ393=BZ411,0,BZ393)","v":0},{"$f":"IF(CA393=CA411,0,CA393)","v":0},{"$f":"IF(CB393=CB411,0,CB393)","v":0},{"$f":"IF(CC393=CC411,0,CC393)","v":0},{"$f":"IF(CD393=CD411,0,CD393)","v":0},{"$f":"IF(CE393=CE411,0,CE393)","v":0},{"$f":"IF(CF393=CF411,0,CF393)","v":0},{"$f":"IF(CG393=CG411,0,CG393)","v":0},{"$f":"IF(CH393=CH411,0,CH393)","v":0},{"$f":"IF(CI393=CI411,0,CI393)","v":0},{"$f":"IF(CJ393=CJ411,0,CJ393)","v":0},{"$f":"IF(CK393=CK411,0,CK393)","v":0},{"$f":"IF(CL393=CL411,0,CL393)","v":0},{"$f":"IF(CM393=CM411,0,CM393)","v":0},{"$f":"IF(CN393=CN411,0,CN393)","v":0},{"$f":"IF(CO393=CO411,0,CO393)","v":0},{"$f":"IF(CP393=CP411,0,CP393)","v":0},{"$f":"IF(CQ393=CQ411,0,CQ393)","v":0},{"$f":"IF(CR393=CR411,0,CR393)","v":0},{"$f":"IF(CS393=CS411,0,CS393)","v":0},{"$f":"IF(CT393=CT411,0,CT393)","v":0},{"$f":"IF(CU393=CU411,0,CU393)","v":0},{"$f":"S411","v":0},{"$f":"S412","v":0},{"$f":"CX394+CY394","v":1}]
[83,{"$f":"'RECOGIDA DATOS'!AG86","v":0},{"$f":"IF(B394=B411,0,B394)","v":0},{"$f":"IF(C394=C411,0,C394)","v":0},{"$f":"IF(D394=D411,0,D394)","v":0},{"$f":"IF(E394=E411,0,E394)","v":0},{"$f":"IF(F394=F411,0,F394)","v":0},{"$f":"IF(G394=G411,0,G394)","v":0},{"$f":"IF(H394=H411,0,H394)","v":0},{"$f":"IF(I394=I411,0,I394)","v":0},{"$f":"IF(J394=J411,0,J394)","v":0},{"$f":"IF(K394=K411,0,K394)","v":0},{"$f":"IF(L394=L411,0,L394)","v":0},{"$f":"IF(M394=M411,0,M394)","v":0},{"$f":"IF(N394=N411,0,N394)","v":0},{"$f":"IF(O394=O411,0,O394)","v":0},{"$f":"IF(P394=P411,0,P394)","v":0},{"$f":"IF(Q394=Q411,0,Q394)","v":0},{"$f":"IF(R394=R411,0,R394)","v":0},{"$f":"IF(S394=S411,0,S394)","v":0},{"$f":"IF(T394=T411,0,T394)","v":0},{"$f":"IF(U394=U411,0,U394)","v":0},{"$f":"IF(V394=V411,0,V394)","v":0},{"$f":"IF(W394=W411,0,W394)","v":0},{"$f":"IF(X394=X411,0,X394)","v":0},{"$f":"IF(Y394=Y411,0,Y394)","v":0},{"$f":"IF(Z394=Z411,0,Z394)","v":0},{"$f":"IF(AA394=AA411,0,AA394)","v":0},{"$f":"IF(AB394=AB411,0,AB394)","v":0},{"$f":"IF(AC394=AC411,0,AC394)","v":0},{"$f":"IF(AD394=AD411,0,AD394)","v":0},{"$f":"IF(AE394=AE411,0,AE394)","v":0},{"$f":"IF(AF394=AF411,0,AF394)","v":0},{"$f":"IF(AG394=AG411,0,AG394)","v":0},{"$f":"IF(AH394=AH411,0,AH394)","v":0},{"$f":"IF(AI394=AI411,0,AI394)","v":0},{"$f":"IF(AJ394=AJ411,0,AJ394)","v":0},{"$f":"IF(AK394=AK411,0,AK394)","v":0},{"$f":"IF(AL394=AL411,0,AL394)","v":0},{"$f":"IF(AM394=AM411,0,AM394)","v":0},{"$f":"IF(AN394=AN411,0,AN394)","v":0},{"$f":"IF(AO394=AO411,0,AO394)","v":0},{"$f":"IF(AP394=AP411,0,AP394)","v":0},{"$f":"IF(AQ394=AQ411,0,AQ394)","v":0},{"$f":"IF(AR394=AR411,0,AR394)","v":0},{"$f":"IF(AS394=AS411,0,AS394)","v":0},{"$f":"IF(AT394=AT411,0,AT394)","v":0},{"$f":"IF(AU394=AU411,0,AU394)","v":0},{"$f":"IF(AV394=AV411,0,AV394)","v":0},{"$f":"IF(AW394=AW411,0,AW394)","v":0},{"$f":"IF(AX394=AX411,0,AX394)","v":0},{"$f":"IF(AY394=AY411,0,AY394)","v":0},{"$f":"IF(AZ394=AZ411,0,AZ394)","v":0},{"$f":"IF(BA394=BA411,0,BA394)","v":0},{"$f":"IF(BB394=BB411,0,BB394)","v":0},{"$f":"IF(BC394=BC411,0,BC394)","v":0},{"$f":"IF(BD394=BD411,0,BD394)","v":0},{"$f":"IF(BE394=BE411,0,BE394)","v":0},{"$f":"IF(BF394=BF411,0,BF394)","v":0},{"$f":"IF(BG394=BG411,0,BG394)","v":0},{"$f":"IF(BH394=BH411,0,BH394)","v":0},{"$f":"IF(BI394=BI411,0,BI394)","v":0},{"$f":"IF(BJ394=BJ411,0,BJ394)","v":0},{"$f":"IF(BK394=BK411,0,BK394)","v":0},{"$f":"IF(BL394=BL411,0,BL394)","v":0},{"$f":"IF(BM394=BM411,0,BM394)","v":0},{"$f":"IF(BN394=BN411,0,BN394)","v":0},{"$f":"IF(BO394=BO411,0,BO394)","v":0},{"$f":"IF(BP394=BP411,0,BP394)","v":0},{"$f":"IF(BQ394=BQ411,0,BQ394)","v":0},{"$f":"IF(BR394=BR411,0,BR394)","v":0},{"$f":"IF(BS394=BS411,0,BS394)","v":0},{"$f":"IF(BT394=BT411,0,BT394)","v":0},{"$f":"IF(BU394=BU411,0,BU394)","v":0},{"$f":"IF(BV394=BV411,0,BV394)","v":0},{"$f":"IF(BW394=BW411,0,BW394)","v":0},{"$f":"IF(BX394=BX411,0,BX394)","v":0},{"$f":"IF(BY394=BY411,0,BY394)","v":0},{"$f":"IF(BZ394=BZ411,0,BZ394)","v":0},{"$f":"IF(CA394=CA411,0,CA394)","v":0},{"$f":"IF(CB394=CB411,0,CB394)","v":0},{"$f":"IF(CC394=CC411,0,CC394)","v":0},{"$f":"IF(CD394=CD411,0,CD394)","v":0},{"$f":"IF(CE394=CE411,0,CE394)","v":0},{"$f":"IF(CF394=CF411,0,CF394)","v":0},{"$f":"IF(CG394=CG411,0,CG394)","v":0},{"$f":"IF(CH394=CH411,0,CH394)","v":0},{"$f":"IF(CI394=CI411,0,CI394)","v":0},{"$f":"IF(CJ394=CJ411,0,CJ394)","v":0},{"$f":"IF(CK394=CK411,0,CK394)","v":0},{"$f":"IF(CL394=CL411,0,CL394)","v":0},{"$f":"IF(CM394=CM411,0,CM394)","v":0},{"$f":"IF(CN394=CN411,0,CN394)","v":0},{"$f":"IF(CO394=CO411,0,CO394)","v":0},{"$f":"IF(CP394=CP411,0,CP394)","v":0},{"$f":"IF(CQ394=CQ411,0,CQ394)","v":0},{"$f":"IF(CR394=CR411,0,CR394)","v":0},{"$f":"IF(CS394=CS411,0,CS394)","v":0},{"$f":"IF(CT394=CT411,0,CT394)","v":0},{"$f":"IF(CU394=CU411,0,CU394)","v":0},{"$f":"R411","v":0},{"$f":"R412","v":0},1]
[84,{"$f":"'RECOGIDA DATOS'!AG87","v":0},{"$f":"IF(B395=B411,0,B395)","v":0},{"$f":"IF(C395=C411,0,C395)","v":0},{"$f":"IF(D395=D411,0,D395)","v":0},{"$f":"IF(E395=E411,0,E395)","v":0},{"$f":"IF(F395=F411,0,F395)","v":0},{"$f":"IF(G395=G411,0,G395)","v":0},{"$f":"IF(H395=H411,0,H395)","v":0},{"$f":"IF(I395=I411,0,I395)","v":0},{"$f":"IF(J395=J411,0,J395)","v":0},{"$f":"IF(K395=K411,0,K395)","v":0},{"$f":"IF(L395=L411,0,L395)","v":0},{"$f":"IF(M395=M411,0,M395)","v":0},{"$f":"IF(N395=N411,0,N395)","v":0},{"$f":"IF(O395=O411,0,O395)","v":0},{"$f":"IF(P395=P411,0,P395)","v":0},{"$f":"IF(Q395=Q411,0,Q395)","v":0},{"$f":"IF(R395=R411,0,R395)","v":0},{"$f":"IF(S395=S411,0,S395)","v":0},{"$f":"IF(T395=T411,0,T395)","v":0},{"$f":"IF(U395=U411,0,U395)","v":0},{"$f":"IF(V395=V411,0,V395)","v":0},{"$f":"IF(W395=W411,0,W395)","v":0},{"$f":"IF(X395=X411,0,X395)","v":0},{"$f":"IF(Y395=Y411,0,Y395)","v":0},{"$f":"IF(Z395=Z411,0,Z395)","v":0},{"$f":"IF(AA395=AA411,0,AA395)","v":0},{"$f":"IF(AB395=AB411,0,AB395)","v":0},{"$f":"IF(AC395=AC411,0,AC395)","v":0},{"$f":"IF(AD395=AD411,0,AD395)","v":0},{"$f":"IF(AE395=AE411,0,AE395)","v":0},{"$f":"IF(AF395=AF411,0,AF395)","v":0},{"$f":"IF(AG395=AG411,0,AG395)","v":0},{"$f":"IF(AH395=AH411,0,AH395)","v":0},{"$f":"IF(AI395=AI411,0,AI395)","v":0},{"$f":"IF(AJ395=AJ411,0,AJ395)","v":0},{"$f":"IF(AK395=AK411,0,AK395)","v":0},{"$f":"IF(AL395=AL411,0,AL395)","v":0},{"$f":"IF(AM395=AM411,0,AM395)","v":0},{"$f":"IF(AN395=AN411,0,AN395)","v":0},{"$f":"IF(AO395=AO411,0,AO395)","v":0},{"$f":"IF(AP395=AP411,0,AP395)","v":0},{"$f":"IF(AQ395=AQ411,0,AQ395)","v":0},{"$f":"IF(AR395=AR411,0,AR395)","v":0},{"$f":"IF(AS395=AS411,0,AS395)","v":0},{"$f":"IF(AT395=AT411,0,AT395)","v":0},{"$f":"IF(AU395=AU411,0,AU395)","v":0},{"$f":"IF(AV395=AV411,0,AV395)","v":0},{"$f":"IF(AW395=AW411,0,AW395)","v":0},{"$f":"IF(AX395=AX411,0,AX395)","v":0},{"$f":"IF(AY395=AY411,0,AY395)","v":0},{"$f":"IF(AZ395=AZ411,0,AZ395)","v":0},{"$f":"IF(BA395=BA411,0,BA395)","v":0},{"$f":"IF(BB395=BB411,0,BB395)","v":0},{"$f":"IF(BC395=BC411,0,BC395)","v":0},{"$f":"IF(BD395=BD411,0,BD395)","v":0},{"$f":"IF(BE395=BE411,0,BE395)","v":0},{"$f":"IF(BF395=BF411,0,BF395)","v":0},{"$f":"IF(BG395=BG411,0,BG395)","v":0},{"$f":"IF(BH395=BH411,0,BH395)","v":0},{"$f":"IF(BI395=BI411,0,BI395)","v":0},{"$f":"IF(BJ395=BJ411,0,BJ395)","v":0},{"$f":"IF(BK395=BK411,0,BK395)","v":0},{"$f":"IF(BL395=BL411,0,BL395)","v":0},{"$f":"IF(BM395=BM411,0,BM395)","v":0},{"$f":"IF(BN395=BN411,0,BN395)","v":0},{"$f":"IF(BO395=BO411,0,BO395)","v":0},{"$f":"IF(BP395=BP411,0,BP395)","v":0},{"$f":"IF(BQ395=BQ411,0,BQ395)","v":0},{"$f":"IF(BR395=BR411,0,BR395)","v":0},{"$f":"IF(BS395=BS411,0,BS395)","v":0},{"$f":"IF(BT395=BT411,0,BT395)","v":0},{"$f":"IF(BU395=BU411,0,BU395)","v":0},{"$f":"IF(BV395=BV411,0,BV395)","v":0},{"$f":"IF(BW395=BW411,0,BW395)","v":0},{"$f":"IF(BX395=BX411,0,BX395)","v":0},{"$f":"IF(BY395=BY411,0,BY395)","v":0},{"$f":"IF(BZ395=BZ411,0,BZ395)","v":0},{"$f":"IF(CA395=CA411,0,CA395)","v":0},{"$f":"IF(CB395=CB411,0,CB395)","v":0},{"$f":"IF(CC395=CC411,0,CC395)","v":0},{"$f":"IF(CD395=CD411,0,CD395)","v":0},{"$f":"IF(CE395=CE411,0,CE395)","v":0},{"$f":"IF(CF395=CF411,0,CF395)","v":0},{"$f":"IF(CG395=CG411,0,CG395)","v":0},{"$f":"IF(CH395=CH411,0,CH395)","v":0},{"$f":"IF(CI395=CI411,0,CI395)","v":0},{"$f":"IF(CJ395=CJ411,0,CJ395)","v":0},{"$f":"IF(CK395=CK411,0,CK395)","v":0},{"$f":"IF(CL395=CL411,0,CL395)","v":0},{"$f":"IF(CM395=CM411,0,CM395)","v":0},{"$f":"IF(CN395=CN411,0,CN395)","v":0},{"$f":"IF(CO395=CO411,0,CO395)","v":0},{"$f":"IF(CP395=CP411,0,CP395)","v":0},{"$f":"IF(CQ395=CQ411,0,CQ395)","v":0},{"$f":"IF(CR395=CR411,0,CR395)","v":0},{"$f":"IF(CS395=CS411,0,CS395)","v":0},{"$f":"IF(CT395=CT411,0,CT395)","v":0},{"$f":"IF(CU395=CU411,0,CU395)","v":0},{"$f":"Q411","v":0},{"$f":"Q412","v":0},1]
[85,{"$f":"'RECOGIDA DATOS'!AG88","v":0},{"$f":"IF(B396=B411,0,B396)","v":0},{"$f":"IF(C396=C411,0,C396)","v":0},{"$f":"IF(D396=D411,0,D396)","v":0},{"$f":"IF(E396=E411,0,E396)","v":0},{"$f":"IF(F396=F411,0,F396)","v":0},{"$f":"IF(G396=G411,0,G396)","v":0},{"$f":"IF(H396=H411,0,H396)","v":0},{"$f":"IF(I396=I411,0,I396)","v":0},{"$f":"IF(J396=J411,0,J396)","v":0},{"$f":"IF(K396=K411,0,K396)","v":0},{"$f":"IF(L396=L411,0,L396)","v":0},{"$f":"IF(M396=M411,0,M396)","v":0},{"$f":"IF(N396=N411,0,N396)","v":0},{"$f":"IF(O396=O411,0,O396)","v":0},{"$f":"IF(P396=P411,0,P396)","v":0},{"$f":"IF(Q396=Q411,0,Q396)","v":0},{"$f":"IF(R396=R411,0,R396)","v":0},{"$f":"IF(S396=S411,0,S396)","v":0},{"$f":"IF(T396=T411,0,T396)","v":0},{"$f":"IF(U396=U411,0,U396)","v":0},{"$f":"IF(V396=V411,0,V396)","v":0},{"$f":"IF(W396=W411,0,W396)","v":0},{"$f":"IF(X396=X411,0,X396)","v":0},{"$f":"IF(Y396=Y411,0,Y396)","v":0},{"$f":"IF(Z396=Z411,0,Z396)","v":0},{"$f":"IF(AA396=AA411,0,AA396)","v":0},{"$f":"IF(AB396=AB411,0,AB396)","v":0},{"$f":"IF(AC396=AC411,0,AC396)","v":0},{"$f":"IF(AD396=AD411,0,AD396)","v":0},{"$f":"IF(AE396=AE411,0,AE396)","v":0},{"$f":"IF(AF396=AF411,0,AF396)","v":0},{"$f":"IF(AG396=AG411,0,AG396)","v":0},{"$f":"IF(AH396=AH411,0,AH396)","v":0},{"$f":"IF(AI396=AI411,0,AI396)","v":0},{"$f":"IF(AJ396=AJ411,0,AJ396)","v":0},{"$f":"IF(AK396=AK411,0,AK396)","v":0},{"$f":"IF(AL396=AL411,0,AL396)","v":0},{"$f":"IF(AM396=AM411,0,AM396)","v":0},{"$f":"IF(AN396=AN411,0,AN396)","v":0},{"$f":"IF(AO396=AO411,0,AO396)","v":0},{"$f":"IF(AP396=AP411,0,AP396)","v":0},{"$f":"IF(AQ396=AQ411,0,AQ396)","v":0},{"$f":"IF(AR396=AR411,0,AR396)","v":0},{"$f":"IF(AS396=AS411,0,AS396)","v":0},{"$f":"IF(AT396=AT411,0,AT396)","v":0},{"$f":"IF(AU396=AU411,0,AU396)","v":0},{"$f":"IF(AV396=AV411,0,AV396)","v":0},{"$f":"IF(AW396=AW411,0,AW396)","v":0},{"$f":"IF(AX396=AX411,0,AX396)","v":0},{"$f":"IF(AY396=AY411,0,AY396)","v":0},{"$f":"IF(AZ396=AZ411,0,AZ396)","v":0},{"$f":"IF(BA396=BA411,0,BA396)","v":0},{"$f":"IF(BB396=BB411,0,BB396)","v":0},{"$f":"IF(BC396=BC411,0,BC396)","v":0},{"$f":"IF(BD396=BD411,0,BD396)","v":0},{"$f":"IF(BE396=BE411,0,BE396)","v":0},{"$f":"IF(BF396=BF411,0,BF396)","v":0},{"$f":"IF(BG396=BG411,0,BG396)","v":0},{"$f":"IF(BH396=BH411,0,BH396)","v":0},{"$f":"IF(BI396=BI411,0,BI396)","v":0},{"$f":"IF(BJ396=BJ411,0,BJ396)","v":0},{"$f":"IF(BK396=BK411,0,BK396)","v":0},{"$f":"IF(BL396=BL411,0,BL396)","v":0},{"$f":"IF(BM396=BM411,0,BM396)","v":0},{"$f":"IF(BN396=BN411,0,BN396)","v":0},{"$f":"IF(BO396=BO411,0,BO396)","v":0},{"$f":"IF(BP396=BP411,0,BP396)","v":0},{"$f":"IF(BQ396=BQ411,0,BQ396)","v":0},{"$f":"IF(BR396=BR411,0,BR396)","v":0},{"$f":"IF(BS396=BS411,0,BS396)","v":0},{"$f":"IF(BT396=BT411,0,BT396)","v":0},{"$f":"IF(BU396=BU411,0,BU396)","v":0},{"$f":"IF(BV396=BV411,0,BV396)","v":0},{"$f":"IF(BW396=BW411,0,BW396)","v":0},{"$f":"IF(BX396=BX411,0,BX396)","v":0},{"$f":"IF(BY396=BY411,0,BY396)","v":0},{"$f":"IF(BZ396=BZ411,0,BZ396)","v":0},{"$f":"IF(CA396=CA411,0,CA396)","v":0},{"$f":"IF(CB396=CB411,0,CB396)","v":0},{"$f":"IF(CC396=CC411,0,CC396)","v":0},{"$f":"IF(CD396=CD411,0,CD396)","v":0},{"$f":"IF(CE396=CE411,0,CE396)","v":0},{"$f":"IF(CF396=CF411,0,CF396)","v":0},{"$f":"IF(CG396=CG411,0,CG396)","v":0},{"$f":"IF(CH396=CH411,0,CH396)","v":0},{"$f":"IF(CI396=CI411,0,CI396)","v":0},{"$f":"IF(CJ396=CJ411,0,CJ396)","v":0},{"$f":"IF(CK396=CK411,0,CK396)","v":0},{"$f":"IF(CL396=CL411,0,CL396)","v":0},{"$f":"IF(CM396=CM411,0,CM396)","v":0},{"$f":"IF(CN396=CN411,0,CN396)","v":0},{"$f":"IF(CO396=CO411,0,CO396)","v":0},{"$f":"IF(CP396=CP411,0,CP396)","v":0},{"$f":"IF(CQ396=CQ411,0,CQ396)","v":0},{"$f":"IF(CR396=CR411,0,CR396)","v":0},{"$f":"IF(CS396=CS411,0,CS396)","v":0},{"$f":"IF(CT396=CT411,0,CT396)","v":0},{"$f":"IF(CU396=CU411,0,CU396)","v":0},{"$f":"P411","v":0},{"$f":"P412","v":0},1]
[86,{"$f":"'RECOGIDA DATOS'!AG89","v":0},{"$f":"IF(B397=B411,0,B397)","v":0},{"$f":"IF(C397=C411,0,C397)","v":0},{"$f":"IF(D397=D411,0,D397)","v":0},{"$f":"IF(E397=E411,0,E397)","v":0},{"$f":"IF(F397=F411,0,F397)","v":0},{"$f":"IF(G397=G411,0,G397)","v":0},{"$f":"IF(H397=H411,0,H397)","v":0},{"$f":"IF(I397=I411,0,I397)","v":0},{"$f":"IF(J397=J411,0,J397)","v":0},{"$f":"IF(K397=K411,0,K397)","v":0},{"$f":"IF(L397=L411,0,L397)","v":0},{"$f":"IF(M397=M411,0,M397)","v":0},{"$f":"IF(N397=N411,0,N397)","v":0},{"$f":"IF(O397=O411,0,O397)","v":0},{"$f":"IF(P397=P411,0,P397)","v":0},{"$f":"IF(Q397=Q411,0,Q397)","v":0},{"$f":"IF(R397=R411,0,R397)","v":0},{"$f":"IF(S397=S411,0,S397)","v":0},{"$f":"IF(T397=T411,0,T397)","v":0},{"$f":"IF(U397=U411,0,U397)","v":0},{"$f":"IF(V397=V411,0,V397)","v":0},{"$f":"IF(W397=W411,0,W397)","v":0},{"$f":"IF(X397=X411,0,X397)","v":0},{"$f":"IF(Y397=Y411,0,Y397)","v":0},{"$f":"IF(Z397=Z411,0,Z397)","v":0},{"$f":"IF(AA397=AA411,0,AA397)","v":0},{"$f":"IF(AB397=AB411,0,AB397)","v":0},{"$f":"IF(AC397=AC411,0,AC397)","v":0},{"$f":"IF(AD397=AD411,0,AD397)","v":0},{"$f":"IF(AE397=AE411,0,AE397)","v":0},{"$f":"IF(AF397=AF411,0,AF397)","v":0},{"$f":"IF(AG397=AG411,0,AG397)","v":0},{"$f":"IF(AH397=AH411,0,AH397)","v":0},{"$f":"IF(AI397=AI411,0,AI397)","v":0},{"$f":"IF(AJ397=AJ411,0,AJ397)","v":0},{"$f":"IF(AK397=AK411,0,AK397)","v":0},{"$f":"IF(AL397=AL411,0,AL397)","v":0},{"$f":"IF(AM397=AM411,0,AM397)","v":0},{"$f":"IF(AN397=AN411,0,AN397)","v":0},{"$f":"IF(AO397=AO411,0,AO397)","v":0},{"$f":"IF(AP397=AP411,0,AP397)","v":0},{"$f":"IF(AQ397=AQ411,0,AQ397)","v":0},{"$f":"IF(AR397=AR411,0,AR397)","v":0},{"$f":"IF(AS397=AS411,0,AS397)","v":0},{"$f":"IF(AT397=AT411,0,AT397)","v":0},{"$f":"IF(AU397=AU411,0,AU397)","v":0},{"$f":"IF(AV397=AV411,0,AV397)","v":0},{"$f":"IF(AW397=AW411,0,AW397)","v":0},{"$f":"IF(AX397=AX411,0,AX397)","v":0},{"$f":"IF(AY397=AY411,0,AY397)","v":0},{"$f":"IF(AZ397=AZ411,0,AZ397)","v":0},{"$f":"IF(BA397=BA411,0,BA397)","v":0},{"$f":"IF(BB397=BB411,0,BB397)","v":0},{"$f":"IF(BC397=BC411,0,BC397)","v":0},{"$f":"IF(BD397=BD411,0,BD397)","v":0},{"$f":"IF(BE397=BE411,0,BE397)","v":0},{"$f":"IF(BF397=BF411,0,BF397)","v":0},{"$f":"IF(BG397=BG411,0,BG397)","v":0},{"$f":"IF(BH397=BH411,0,BH397)","v":0},{"$f":"IF(BI397=BI411,0,BI397)","v":0},{"$f":"IF(BJ397=BJ411,0,BJ397)","v":0},{"$f":"IF(BK397=BK411,0,BK397)","v":0},{"$f":"IF(BL397=BL411,0,BL397)","v":0},{"$f":"IF(BM397=BM411,0,BM397)","v":0},{"$f":"IF(BN397=BN411,0,BN397)","v":0},{"$f":"IF(BO397=BO411,0,BO397)","v":0},{"$f":"IF(BP397=BP411,0,BP397)","v":0},{"$f":"IF(BQ397=BQ411,0,BQ397)","v":0},{"$f":"IF(BR397=BR411,0,BR397)","v":0},{"$f":"IF(BS397=BS411,0,BS397)","v":0},{"$f":"IF(BT397=BT411,0,BT397)","v":0},{"$f":"IF(BU397=BU411,0,BU397)","v":0},{"$f":"IF(BV397=BV411,0,BV397)","v":0},{"$f":"IF(BW397=BW411,0,BW397)","v":0},{"$f":"IF(BX397=BX411,0,BX397)","v":0},{"$f":"IF(BY397=BY411,0,BY397)","v":0},{"$f":"IF(BZ397=BZ411,0,BZ397)","v":0},{"$f":"IF(CA397=CA411,0,CA397)","v":0},{"$f":"IF(CB397=CB411,0,CB397)","v":0},{"$f":"IF(CC397=CC411,0,CC397)","v":0},{"$f":"IF(CD397=CD411,0,CD397)","v":0},{"$f":"IF(CE397=CE411,0,CE397)","v":0},{"$f":"IF(CF397=CF411,0,CF397)","v":0},{"$f":"IF(CG397=CG411,0,CG397)","v":0},{"$f":"IF(CH397=CH411,0,CH397)","v":0},{"$f":"IF(CI397=CI411,0,CI397)","v":0},{"$f":"IF(CJ397=CJ411,0,CJ397)","v":0},{"$f":"IF(CK397=CK411,0,CK397)","v":0},{"$f":"IF(CL397=CL411,0,CL397)","v":0},{"$f":"IF(CM397=CM411,0,CM397)","v":0},{"$f":"IF(CN397=CN411,0,CN397)","v":0},{"$f":"IF(CO397=CO411,0,CO397)","v":0},{"$f":"IF(CP397=CP411,0,CP397)","v":0},{"$f":"IF(CQ397=CQ411,0,CQ397)","v":0},{"$f":"IF(CR397=CR411,0,CR397)","v":0},{"$f":"IF(CS397=CS411,0,CS397)","v":0},{"$f":"IF(CT397=CT411,0,CT397)","v":0},{"$f":"IF(CU397=CU411,0,CU397)","v":0},{"$f":"O411","v":0},{"$f":"O412","v":0},1]
[87,{"$f":"'RECOGIDA DATOS'!AG90","v":0},{"$f":"IF(B398=B411,0,B398)","v":0},{"$f":"IF(C398=C411,0,C398)","v":0},{"$f":"IF(D398=D411,0,D398)","v":0},{"$f":"IF(E398=E411,0,E398)","v":0},{"$f":"IF(F398=F411,0,F398)","v":0},{"$f":"IF(G398=G411,0,G398)","v":0},{"$f":"IF(H398=H411,0,H398)","v":0},{"$f":"IF(I398=I411,0,I398)","v":0},{"$f":"IF(J398=J411,0,J398)","v":0},{"$f":"IF(K398=K411,0,K398)","v":0},{"$f":"IF(L398=L411,0,L398)","v":0},{"$f":"IF(M398=M411,0,M398)","v":0},{"$f":"IF(N398=N411,0,N398)","v":0},{"$f":"IF(O398=O411,0,O398)","v":0},{"$f":"IF(P398=P411,0,P398)","v":0},{"$f":"IF(Q398=Q411,0,Q398)","v":0},{"$f":"IF(R398=R411,0,R398)","v":0},{"$f":"IF(S398=S411,0,S398)","v":0},{"$f":"IF(T398=T411,0,T398)","v":0},{"$f":"IF(U398=U411,0,U398)","v":0},{"$f":"IF(V398=V411,0,V398)","v":0},{"$f":"IF(W398=W411,0,W398)","v":0},{"$f":"IF(X398=X411,0,X398)","v":0},{"$f":"IF(Y398=Y411,0,Y398)","v":0},{"$f":"IF(Z398=Z411,0,Z398)","v":0},{"$f":"IF(AA398=AA411,0,AA398)","v":0},{"$f":"IF(AB398=AB411,0,AB398)","v":0},{"$f":"IF(AC398=AC411,0,AC398)","v":0},{"$f":"IF(AD398=AD411,0,AD398)","v":0},{"$f":"IF(AE398=AE411,0,AE398)","v":0},{"$f":"IF(AF398=AF411,0,AF398)","v":0},{"$f":"IF(AG398=AG411,0,AG398)","v":0},{"$f":"IF(AH398=AH411,0,AH398)","v":0},{"$f":"IF(AI398=AI411,0,AI398)","v":0},{"$f":"IF(AJ398=AJ411,0,AJ398)","v":0},{"$f":"IF(AK398=AK411,0,AK398)","v":0},{"$f":"IF(AL398=AL411,0,AL398)","v":0},{"$f":"IF(AM398=AM411,0,AM398)","v":0},{"$f":"IF(AN398=AN411,0,AN398)","v":0},{"$f":"IF(AO398=AO411,0,AO398)","v":0},{"$f":"IF(AP398=AP411,0,AP398)","v":0},{"$f":"IF(AQ398=AQ411,0,AQ398)","v":0},{"$f":"IF(AR398=AR411,0,AR398)","v":0},{"$f":"IF(AS398=AS411,0,AS398)","v":0},{"$f":"IF(AT398=AT411,0,AT398)","v":0},{"$f":"IF(AU398=AU411,0,AU398)","v":0},{"$f":"IF(AV398=AV411,0,AV398)","v":0},{"$f":"IF(AW398=AW411,0,AW398)","v":0},{"$f":"IF(AX398=AX411,0,AX398)","v":0},{"$f":"IF(AY398=AY411,0,AY398)","v":0},{"$f":"IF(AZ398=AZ411,0,AZ398)","v":0},{"$f":"IF(BA398=BA411,0,BA398)","v":0},{"$f":"IF(BB398=BB411,0,BB398)","v":0},{"$f":"IF(BC398=BC411,0,BC398)","v":0},{"$f":"IF(BD398=BD411,0,BD398)","v":0},{"$f":"IF(BE398=BE411,0,BE398)","v":0},{"$f":"IF(BF398=BF411,0,BF398)","v":0},{"$f":"IF(BG398=BG411,0,BG398)","v":0},{"$f":"IF(BH398=BH411,0,BH398)","v":0},{"$f":"IF(BI398=BI411,0,BI398)","v":0},{"$f":"IF(BJ398=BJ411,0,BJ398)","v":0},{"$f":"IF(BK398=BK411,0,BK398)","v":0},{"$f":"IF(BL398=BL411,0,BL398)","v":0},{"$f":"IF(BM398=BM411,0,BM398)","v":0},{"$f":"IF(BN398=BN411,0,BN398)","v":0},{"$f":"IF(BO398=BO411,0,BO398)","v":0},{"$f":"IF(BP398=BP411,0,BP398)","v":0},{"$f":"IF(BQ398=BQ411,0,BQ398)","v":0},{"$f":"IF(BR398=BR411,0,BR398)","v":0},{"$f":"IF(BS398=BS411,0,BS398)","v":0},{"$f":"IF(BT398=BT411,0,BT398)","v":0},{"$f":"IF(BU398=BU411,0,BU398)","v":0},{"$f":"IF(BV398=BV411,0,BV398)","v":0},{"$f":"IF(BW398=BW411,0,BW398)","v":0},{"$f":"IF(BX398=BX411,0,BX398)","v":0},{"$f":"IF(BY398=BY411,0,BY398)","v":0},{"$f":"IF(BZ398=BZ411,0,BZ398)","v":0},{"$f":"IF(CA398=CA411,0,CA398)","v":0},{"$f":"IF(CB398=CB411,0,CB398)","v":0},{"$f":"IF(CC398=CC411,0,CC398)","v":0},{"$f":"IF(CD398=CD411,0,CD398)","v":0},{"$f":"IF(CE398=CE411,0,CE398)","v":0},{"$f":"IF(CF398=CF411,0,CF398)","v":0},{"$f":"IF(CG398=CG411,0,CG398)","v":0},{"$f":"IF(CH398=CH411,0,CH398)","v":0},{"$f":"IF(CI398=CI411,0,CI398)","v":0},{"$f":"IF(CJ398=CJ411,0,CJ398)","v":0},{"$f":"IF(CK398=CK411,0,CK398)","v":0},{"$f":"IF(CL398=CL411,0,CL398)","v":0},{"$f":"IF(CM398=CM411,0,CM398)","v":0},{"$f":"IF(CN398=CN411,0,CN398)","v":0},{"$f":"IF(CO398=CO411,0,CO398)","v":0},{"$f":"IF(CP398=CP411,0,CP398)","v":0},{"$f":"IF(CQ398=CQ411,0,CQ398)","v":0},{"$f":"IF(CR398=CR411,0,CR398)","v":0},{"$f":"IF(CS398=CS411,0,CS398)","v":0},{"$f":"IF(CT398=CT411,0,CT398)","v":0},{"$f":"IF(CU398=CU411,0,CU398)","v":0},{"$f":"N411","v":0},{"$f":"N412","v":0},1]
[88,{"$f":"'RECOGIDA DATOS'!AG91","v":0},{"$f":"IF(B399=B411,0,B399)","v":0},{"$f":"IF(C399=C411,0,C399)","v":0},{"$f":"IF(D399=D411,0,D399)","v":0},{"$f":"IF(E399=E411,0,E399)","v":0},{"$f":"IF(F399=F411,0,F399)","v":0},{"$f":"IF(G399=G411,0,G399)","v":0},{"$f":"IF(H399=H411,0,H399)","v":0},{"$f":"IF(I399=I411,0,I399)","v":0},{"$f":"IF(J399=J411,0,J399)","v":0},{"$f":"IF(K399=K411,0,K399)","v":0},{"$f":"IF(L399=L411,0,L399)","v":0},{"$f":"IF(M399=M411,0,M399)","v":0},{"$f":"IF(N399=N411,0,N399)","v":0},{"$f":"IF(O399=O411,0,O399)","v":0},{"$f":"IF(P399=P411,0,P399)","v":0},{"$f":"IF(Q399=Q411,0,Q399)","v":0},{"$f":"IF(R399=R411,0,R399)","v":0},{"$f":"IF(S399=S411,0,S399)","v":0},{"$f":"IF(T399=T411,0,T399)","v":0},{"$f":"IF(U399=U411,0,U399)","v":0},{"$f":"IF(V399=V411,0,V399)","v":0},{"$f":"IF(W399=W411,0,W399)","v":0},{"$f":"IF(X399=X411,0,X399)","v":0},{"$f":"IF(Y399=Y411,0,Y399)","v":0},{"$f":"IF(Z399=Z411,0,Z399)","v":0},{"$f":"IF(AA399=AA411,0,AA399)","v":0},{"$f":"IF(AB399=AB411,0,AB399)","v":0},{"$f":"IF(AC399=AC411,0,AC399)","v":0},{"$f":"IF(AD399=AD411,0,AD399)","v":0},{"$f":"IF(AE399=AE411,0,AE399)","v":0},{"$f":"IF(AF399=AF411,0,AF399)","v":0},{"$f":"IF(AG399=AG411,0,AG399)","v":0},{"$f":"IF(AH399=AH411,0,AH399)","v":0},{"$f":"IF(AI399=AI411,0,AI399)","v":0},{"$f":"IF(AJ399=AJ411,0,AJ399)","v":0},{"$f":"IF(AK399=AK411,0,AK399)","v":0},{"$f":"IF(AL399=AL411,0,AL399)","v":0},{"$f":"IF(AM399=AM411,0,AM399)","v":0},{"$f":"IF(AN399=AN411,0,AN399)","v":0},{"$f":"IF(AO399=AO411,0,AO399)","v":0},{"$f":"IF(AP399=AP411,0,AP399)","v":0},{"$f":"IF(AQ399=AQ411,0,AQ399)","v":0},{"$f":"IF(AR399=AR411,0,AR399)","v":0},{"$f":"IF(AS399=AS411,0,AS399)","v":0},{"$f":"IF(AT399=AT411,0,AT399)","v":0},{"$f":"IF(AU399=AU411,0,AU399)","v":0},{"$f":"IF(AV399=AV411,0,AV399)","v":0},{"$f":"IF(AW399=AW411,0,AW399)","v":0},{"$f":"IF(AX399=AX411,0,AX399)","v":0},{"$f":"IF(AY399=AY411,0,AY399)","v":0},{"$f":"IF(AZ399=AZ411,0,AZ399)","v":0},{"$f":"IF(BA399=BA411,0,BA399)","v":0},{"$f":"IF(BB399=BB411,0,BB399)","v":0},{"$f":"IF(BC399=BC411,0,BC399)","v":0},{"$f":"IF(BD399=BD411,0,BD399)","v":0},{"$f":"IF(BE399=BE411,0,BE399)","v":0},{"$f":"IF(BF399=BF411,0,BF399)","v":0},{"$f":"IF(BG399=BG411,0,BG399)","v":0},{"$f":"IF(BH399=BH411,0,BH399)","v":0},{"$f":"IF(BI399=BI411,0,BI399)","v":0},{"$f":"IF(BJ399=BJ411,0,BJ399)","v":0},{"$f":"IF(BK399=BK411,0,BK399)","v":0},{"$f":"IF(BL399=BL411,0,BL399)","v":0},{"$f":"IF(BM399=BM411,0,BM399)","v":0},{"$f":"IF(BN399=BN411,0,BN399)","v":0},{"$f":"IF(BO399=BO411,0,BO399)","v":0},{"$f":"IF(BP399=BP411,0,BP399)","v":0},{"$f":"IF(BQ399=BQ411,0,BQ399)","v":0},{"$f":"IF(BR399=BR411,0,BR399)","v":0},{"$f":"IF(BS399=BS411,0,BS399)","v":0},{"$f":"IF(BT399=BT411,0,BT399)","v":0},{"$f":"IF(BU399=BU411,0,BU399)","v":0},{"$f":"IF(BV399=BV411,0,BV399)","v":0},{"$f":"IF(BW399=BW411,0,BW399)","v":0},{"$f":"IF(BX399=BX411,0,BX399)","v":0},{"$f":"IF(BY399=BY411,0,BY399)","v":0},{"$f":"IF(BZ399=BZ411,0,BZ399)","v":0},{"$f":"IF(CA399=CA411,0,CA399)","v":0},{"$f":"IF(CB399=CB411,0,CB399)","v":0},{"$f":"IF(CC399=CC411,0,CC399)","v":0},{"$f":"IF(CD399=CD411,0,CD399)","v":0},{"$f":"IF(CE399=CE411,0,CE399)","v":0},{"$f":"IF(CF399=CF411,0,CF399)","v":0},{"$f":"IF(CG399=CG411,0,CG399)","v":0},{"$f":"IF(CH399=CH411,0,CH399)","v":0},{"$f":"IF(CI399=CI411,0,CI399)","v":0},{"$f":"IF(CJ399=CJ411,0,CJ399)","v":0},{"$f":"IF(CK399=CK411,0,CK399)","v":0},{"$f":"IF(CL399=CL411,0,CL399)","v":0},{"$f":"IF(CM399=CM411,0,CM399)","v":0},{"$f":"IF(CN399=CN411,0,CN399)","v":0},{"$f":"IF(CO399=CO411,0,CO399)","v":0},{"$f":"IF(CP399=CP411,0,CP399)","v":0},{"$f":"IF(CQ399=CQ411,0,CQ399)","v":0},{"$f":"IF(CR399=CR411,0,CR399)","v":0},{"$f":"IF(CS399=CS411,0,CS399)","v":0},{"$f":"IF(CT399=CT411,0,CT399)","v":0},{"$f":"IF(CU399=CU411,0,CU399)","v":0},{"$f":"M411","v":0},{"$f":"M412","v":0},1]
[89,{"$f":"'RECOGIDA DATOS'!AG92","v":0},{"$f":"IF(B400=B411,0,B400)","v":0},{"$f":"IF(C400=C411,0,C400)","v":0},{"$f":"IF(D400=D411,0,D400)","v":0},{"$f":"IF(E400=E411,0,E400)","v":0},{"$f":"IF(F400=F411,0,F400)","v":0},{"$f":"IF(G400=G411,0,G400)","v":0},{"$f":"IF(H400=H411,0,H400)","v":0},{"$f":"IF(I400=I411,0,I400)","v":0},{"$f":"IF(J400=J411,0,J400)","v":0},{"$f":"IF(K400=K411,0,K400)","v":0},{"$f":"IF(L400=L411,0,L400)","v":0},{"$f":"IF(M400=M411,0,M400)","v":0},{"$f":"IF(N400=N411,0,N400)","v":0},{"$f":"IF(O400=O411,0,O400)","v":0},{"$f":"IF(P400=P411,0,P400)","v":0},{"$f":"IF(Q400=Q411,0,Q400)","v":0},{"$f":"IF(R400=R411,0,R400)","v":0},{"$f":"IF(S400=S411,0,S400)","v":0},{"$f":"IF(T400=T411,0,T400)","v":0},{"$f":"IF(U400=U411,0,U400)","v":0},{"$f":"IF(V400=V411,0,V400)","v":0},{"$f":"IF(W400=W411,0,W400)","v":0},{"$f":"IF(X400=X411,0,X400)","v":0},{"$f":"IF(Y400=Y411,0,Y400)","v":0},{"$f":"IF(Z400=Z411,0,Z400)","v":0},{"$f":"IF(AA400=AA411,0,AA400)","v":0},{"$f":"IF(AB400=AB411,0,AB400)","v":0},{"$f":"IF(AC400=AC411,0,AC400)","v":0},{"$f":"IF(AD400=AD411,0,AD400)","v":0},{"$f":"IF(AE400=AE411,0,AE400)","v":0},{"$f":"IF(AF400=AF411,0,AF400)","v":0},{"$f":"IF(AG400=AG411,0,AG400)","v":0},{"$f":"IF(AH400=AH411,0,AH400)","v":0},{"$f":"IF(AI400=AI411,0,AI400)","v":0},{"$f":"IF(AJ400=AJ411,0,AJ400)","v":0},{"$f":"IF(AK400=AK411,0,AK400)","v":0},{"$f":"IF(AL400=AL411,0,AL400)","v":0},{"$f":"IF(AM400=AM411,0,AM400)","v":0},{"$f":"IF(AN400=AN411,0,AN400)","v":0},{"$f":"IF(AO400=AO411,0,AO400)","v":0},{"$f":"IF(AP400=AP411,0,AP400)","v":0},{"$f":"IF(AQ400=AQ411,0,AQ400)","v":0},{"$f":"IF(AR400=AR411,0,AR400)","v":0},{"$f":"IF(AS400=AS411,0,AS400)","v":0},{"$f":"IF(AT400=AT411,0,AT400)","v":0},{"$f":"IF(AU400=AU411,0,AU400)","v":0},{"$f":"IF(AV400=AV411,0,AV400)","v":0},{"$f":"IF(AW400=AW411,0,AW400)","v":0},{"$f":"IF(AX400=AX411,0,AX400)","v":0},{"$f":"IF(AY400=AY411,0,AY400)","v":0},{"$f":"IF(AZ400=AZ411,0,AZ400)","v":0},{"$f":"IF(BA400=BA411,0,BA400)","v":0},{"$f":"IF(BB400=BB411,0,BB400)","v":0},{"$f":"IF(BC400=BC411,0,BC400)","v":0},{"$f":"IF(BD400=BD411,0,BD400)","v":0},{"$f":"IF(BE400=BE411,0,BE400)","v":0},{"$f":"IF(BF400=BF411,0,BF400)","v":0},{"$f":"IF(BG400=BG411,0,BG400)","v":0},{"$f":"IF(BH400=BH411,0,BH400)","v":0},{"$f":"IF(BI400=BI411,0,BI400)","v":0},{"$f":"IF(BJ400=BJ411,0,BJ400)","v":0},{"$f":"IF(BK400=BK411,0,BK400)","v":0},{"$f":"IF(BL400=BL411,0,BL400)","v":0},{"$f":"IF(BM400=BM411,0,BM400)","v":0},{"$f":"IF(BN400=BN411,0,BN400)","v":0},{"$f":"IF(BO400=BO411,0,BO400)","v":0},{"$f":"IF(BP400=BP411,0,BP400)","v":0},{"$f":"IF(BQ400=BQ411,0,BQ400)","v":0},{"$f":"IF(BR400=BR411,0,BR400)","v":0},{"$f":"IF(BS400=BS411,0,BS400)","v":0},{"$f":"IF(BT400=BT411,0,BT400)","v":0},{"$f":"IF(BU400=BU411,0,BU400)","v":0},{"$f":"IF(BV400=BV411,0,BV400)","v":0},{"$f":"IF(BW400=BW411,0,BW400)","v":0},{"$f":"IF(BX400=BX411,0,BX400)","v":0},{"$f":"IF(BY400=BY411,0,BY400)","v":0},{"$f":"IF(BZ400=BZ411,0,BZ400)","v":0},{"$f":"IF(CA400=CA411,0,CA400)","v":0},{"$f":"IF(CB400=CB411,0,CB400)","v":0},{"$f":"IF(CC400=CC411,0,CC400)","v":0},{"$f":"IF(CD400=CD411,0,CD400)","v":0},{"$f":"IF(CE400=CE411,0,CE400)","v":0},{"$f":"IF(CF400=CF411,0,CF400)","v":0},{"$f":"IF(CG400=CG411,0,CG400)","v":0},{"$f":"IF(CH400=CH411,0,CH400)","v":0},{"$f":"IF(CI400=CI411,0,CI400)","v":0},{"$f":"IF(CJ400=CJ411,0,CJ400)","v":0},{"$f":"IF(CK400=CK411,0,CK400)","v":0},{"$f":"IF(CL400=CL411,0,CL400)","v":0},{"$f":"IF(CM400=CM411,0,CM400)","v":0},{"$f":"IF(CN400=CN411,0,CN400)","v":0},{"$f":"IF(CO400=CO411,0,CO400)","v":0},{"$f":"IF(CP400=CP411,0,CP400)","v":0},{"$f":"IF(CQ400=CQ411,0,CQ400)","v":0},{"$f":"IF(CR400=CR411,0,CR400)","v":0},{"$f":"IF(CS400=CS411,0,CS400)","v":0},{"$f":"IF(CT400=CT411,0,CT400)","v":0},{"$f":"IF(CU400=CU411,0,CU400)","v":0},{"$f":"L411","v":0},{"$f":"L412","v":0},1]
[90,{"$f":"'RECOGIDA DATOS'!AG93","v":0},{"$f":"IF(B401=B411,0,B401)","v":0},{"$f":"IF(C401=C411,0,C401)","v":0},{"$f":"IF(D401=D411,0,D401)","v":0},{"$f":"IF(E401=E411,0,E401)","v":0},{"$f":"IF(F401=F411,0,F401)","v":0},{"$f":"IF(G401=G411,0,G401)","v":0},{"$f":"IF(H401=H411,0,H401)","v":0},{"$f":"IF(I401=I411,0,I401)","v":0},{"$f":"IF(J401=J411,0,J401)","v":0},{"$f":"IF(K401=K411,0,K401)","v":0},{"$f":"IF(L401=L411,0,L401)","v":0},{"$f":"IF(M401=M411,0,M401)","v":0},{"$f":"IF(N401=N411,0,N401)","v":0},{"$f":"IF(O401=O411,0,O401)","v":0},{"$f":"IF(P401=P411,0,P401)","v":0},{"$f":"IF(Q401=Q411,0,Q401)","v":0},{"$f":"IF(R401=R411,0,R401)","v":0},{"$f":"IF(S401=S411,0,S401)","v":0},{"$f":"IF(T401=T411,0,T401)","v":0},{"$f":"IF(U401=U411,0,U401)","v":0},{"$f":"IF(V401=V411,0,V401)","v":0},{"$f":"IF(W401=W411,0,W401)","v":0},{"$f":"IF(X401=X411,0,X401)","v":0},{"$f":"IF(Y401=Y411,0,Y401)","v":0},{"$f":"IF(Z401=Z411,0,Z401)","v":0},{"$f":"IF(AA401=AA411,0,AA401)","v":0},{"$f":"IF(AB401=AB411,0,AB401)","v":0},{"$f":"IF(AC401=AC411,0,AC401)","v":0},{"$f":"IF(AD401=AD411,0,AD401)","v":0},{"$f":"IF(AE401=AE411,0,AE401)","v":0},{"$f":"IF(AF401=AF411,0,AF401)","v":0},{"$f":"IF(AG401=AG411,0,AG401)","v":0},{"$f":"IF(AH401=AH411,0,AH401)","v":0},{"$f":"IF(AI401=AI411,0,AI401)","v":0},{"$f":"IF(AJ401=AJ411,0,AJ401)","v":0},{"$f":"IF(AK401=AK411,0,AK401)","v":0},{"$f":"IF(AL401=AL411,0,AL401)","v":0},{"$f":"IF(AM401=AM411,0,AM401)","v":0},{"$f":"IF(AN401=AN411,0,AN401)","v":0},{"$f":"IF(AO401=AO411,0,AO401)","v":0},{"$f":"IF(AP401=AP411,0,AP401)","v":0},{"$f":"IF(AQ401=AQ411,0,AQ401)","v":0},{"$f":"IF(AR401=AR411,0,AR401)","v":0},{"$f":"IF(AS401=AS411,0,AS401)","v":0},{"$f":"IF(AT401=AT411,0,AT401)","v":0},{"$f":"IF(AU401=AU411,0,AU401)","v":0},{"$f":"IF(AV401=AV411,0,AV401)","v":0},{"$f":"IF(AW401=AW411,0,AW401)","v":0},{"$f":"IF(AX401=AX411,0,AX401)","v":0},{"$f":"IF(AY401=AY411,0,AY401)","v":0},{"$f":"IF(AZ401=AZ411,0,AZ401)","v":0},{"$f":"IF(BA401=BA411,0,BA401)","v":0},{"$f":"IF(BB401=BB411,0,BB401)","v":0},{"$f":"IF(BC401=BC411,0,BC401)","v":0},{"$f":"IF(BD401=BD411,0,BD401)","v":0},{"$f":"IF(BE401=BE411,0,BE401)","v":0},{"$f":"IF(BF401=BF411,0,BF401)","v":0},{"$f":"IF(BG401=BG411,0,BG401)","v":0},{"$f":"IF(BH401=BH411,0,BH401)","v":0},{"$f":"IF(BI401=BI411,0,BI401)","v":0},{"$f":"IF(BJ401=BJ411,0,BJ401)","v":0},{"$f":"IF(BK401=BK411,0,BK401)","v":0},{"$f":"IF(BL401=BL411,0,BL401)","v":0},{"$f":"IF(BM401=BM411,0,BM401)","v":0},{"$f":"IF(BN401=BN411,0,BN401)","v":0},{"$f":"IF(BO401=BO411,0,BO401)","v":0},{"$f":"IF(BP401=BP411,0,BP401)","v":0},{"$f":"IF(BQ401=BQ411,0,BQ401)","v":0},{"$f":"IF(BR401=BR411,0,BR401)","v":0},{"$f":"IF(BS401=BS411,0,BS401)","v":0},{"$f":"IF(BT401=BT411,0,BT401)","v":0},{"$f":"IF(BU401=BU411,0,BU401)","v":0},{"$f":"IF(BV401=BV411,0,BV401)","v":0},{"$f":"IF(BW401=BW411,0,BW401)","v":0},{"$f":"IF(BX401=BX411,0,BX401)","v":0},{"$f":"IF(BY401=BY411,0,BY401)","v":0},{"$f":"IF(BZ401=BZ411,0,BZ401)","v":0},{"$f":"IF(CA401=CA411,0,CA401)","v":0},{"$f":"IF(CB401=CB411,0,CB401)","v":0},{"$f":"IF(CC401=CC411,0,CC401)","v":0},{"$f":"IF(CD401=CD411,0,CD401)","v":0},{"$f":"IF(CE401=CE411,0,CE401)","v":0},{"$f":"IF(CF401=CF411,0,CF401)","v":0},{"$f":"IF(CG401=CG411,0,CG401)","v":0},{"$f":"IF(CH401=CH411,0,CH401)","v":0},{"$f":"IF(CI401=CI411,0,CI401)","v":0},{"$f":"IF(CJ401=CJ411,0,CJ401)","v":0},{"$f":"IF(CK401=CK411,0,CK401)","v":0},{"$f":"IF(CL401=CL411,0,CL401)","v":0},{"$f":"IF(CM401=CM411,0,CM401)","v":0},{"$f":"IF(CN401=CN411,0,CN401)","v":0},{"$f":"IF(CO401=CO411,0,CO401)","v":0},{"$f":"IF(CP401=CP411,0,CP401)","v":0},{"$f":"IF(CQ401=CQ411,0,CQ401)","v":0},{"$f":"IF(CR401=CR411,0,CR401)","v":0},{"$f":"IF(CS401=CS411,0,CS401)","v":0},{"$f":"IF(CT401=CT411,0,CT401)","v":0},{"$f":"IF(CU401=CU411,0,CU401)","v":0},{"$f":"K411","v":0},{"$f":"K412","v":0},1]
[91,{"$f":"'RECOGIDA DATOS'!AG94","v":0},{"$f":"IF(B402=B411,0,B402)","v":0},{"$f":"IF(C402=C411,0,C402)","v":0},{"$f":"IF(D402=D411,0,D402)","v":0},{"$f":"IF(E402=E411,0,E402)","v":0},{"$f":"IF(F402=F411,0,F402)","v":0},{"$f":"IF(G402=G411,0,G402)","v":0},{"$f":"IF(H402=H411,0,H402)","v":0},{"$f":"IF(I402=I411,0,I402)","v":0},{"$f":"IF(J402=J411,0,J402)","v":0},{"$f":"IF(K402=K411,0,K402)","v":0},{"$f":"IF(L402=L411,0,L402)","v":0},{"$f":"IF(M402=M411,0,M402)","v":0},{"$f":"IF(N402=N411,0,N402)","v":0},{"$f":"IF(O402=O411,0,O402)","v":0},{"$f":"IF(P402=P411,0,P402)","v":0},{"$f":"IF(Q402=Q411,0,Q402)","v":0},{"$f":"IF(R402=R411,0,R402)","v":0},{"$f":"IF(S402=S411,0,S402)","v":0},{"$f":"IF(T402=T411,0,T402)","v":0},{"$f":"IF(U402=U411,0,U402)","v":0},{"$f":"IF(V402=V411,0,V402)","v":0},{"$f":"IF(W402=W411,0,W402)","v":0},{"$f":"IF(X402=X411,0,X402)","v":0},{"$f":"IF(Y402=Y411,0,Y402)","v":0},{"$f":"IF(Z402=Z411,0,Z402)","v":0},{"$f":"IF(AA402=AA411,0,AA402)","v":0},{"$f":"IF(AB402=AB411,0,AB402)","v":0},{"$f":"IF(AC402=AC411,0,AC402)","v":0},{"$f":"IF(AD402=AD411,0,AD402)","v":0},{"$f":"IF(AE402=AE411,0,AE402)","v":0},{"$f":"IF(AF402=AF411,0,AF402)","v":0},{"$f":"IF(AG402=AG411,0,AG402)","v":0},{"$f":"IF(AH402=AH411,0,AH402)","v":0},{"$f":"IF(AI402=AI411,0,AI402)","v":0},{"$f":"IF(AJ402=AJ411,0,AJ402)","v":0},{"$f":"IF(AK402=AK411,0,AK402)","v":0},{"$f":"IF(AL402=AL411,0,AL402)","v":0},{"$f":"IF(AM402=AM411,0,AM402)","v":0},{"$f":"IF(AN402=AN411,0,AN402)","v":0},{"$f":"IF(AO402=AO411,0,AO402)","v":0},{"$f":"IF(AP402=AP411,0,AP402)","v":0},{"$f":"IF(AQ402=AQ411,0,AQ402)","v":0},{"$f":"IF(AR402=AR411,0,AR402)","v":0},{"$f":"IF(AS402=AS411,0,AS402)","v":0},{"$f":"IF(AT402=AT411,0,AT402)","v":0},{"$f":"IF(AU402=AU411,0,AU402)","v":0},{"$f":"IF(AV402=AV411,0,AV402)","v":0},{"$f":"IF(AW402=AW411,0,AW402)","v":0},{"$f":"IF(AX402=AX411,0,AX402)","v":0},{"$f":"IF(AY402=AY411,0,AY402)","v":0},{"$f":"IF(AZ402=AZ411,0,AZ402)","v":0},{"$f":"IF(BA402=BA411,0,BA402)","v":0},{"$f":"IF(BB402=BB411,0,BB402)","v":0},{"$f":"IF(BC402=BC411,0,BC402)","v":0},{"$f":"IF(BD402=BD411,0,BD402)","v":0},{"$f":"IF(BE402=BE411,0,BE402)","v":0},{"$f":"IF(BF402=BF411,0,BF402)","v":0},{"$f":"IF(BG402=BG411,0,BG402)","v":0},{"$f":"IF(BH402=BH411,0,BH402)","v":0},{"$f":"IF(BI402=BI411,0,BI402)","v":0},{"$f":"IF(BJ402=BJ411,0,BJ402)","v":0},{"$f":"IF(BK402=BK411,0,BK402)","v":0},{"$f":"IF(BL402=BL411,0,BL402)","v":0},{"$f":"IF(BM402=BM411,0,BM402)","v":0},{"$f":"IF(BN402=BN411,0,BN402)","v":0},{"$f":"IF(BO402=BO411,0,BO402)","v":0},{"$f":"IF(BP402=BP411,0,BP402)","v":0},{"$f":"IF(BQ402=BQ411,0,BQ402)","v":0},{"$f":"IF(BR402=BR411,0,BR402)","v":0},{"$f":"IF(BS402=BS411,0,BS402)","v":0},{"$f":"IF(BT402=BT411,0,BT402)","v":0},{"$f":"IF(BU402=BU411,0,BU402)","v":0},{"$f":"IF(BV402=BV411,0,BV402)","v":0},{"$f":"IF(BW402=BW411,0,BW402)","v":0},{"$f":"IF(BX402=BX411,0,BX402)","v":0},{"$f":"IF(BY402=BY411,0,BY402)","v":0},{"$f":"IF(BZ402=BZ411,0,BZ402)","v":0},{"$f":"IF(CA402=CA411,0,CA402)","v":0},{"$f":"IF(CB402=CB411,0,CB402)","v":0},{"$f":"IF(CC402=CC411,0,CC402)","v":0},{"$f":"IF(CD402=CD411,0,CD402)","v":0},{"$f":"IF(CE402=CE411,0,CE402)","v":0},{"$f":"IF(CF402=CF411,0,CF402)","v":0},{"$f":"IF(CG402=CG411,0,CG402)","v":0},{"$f":"IF(CH402=CH411,0,CH402)","v":0},{"$f":"IF(CI402=CI411,0,CI402)","v":0},{"$f":"IF(CJ402=CJ411,0,CJ402)","v":0},{"$f":"IF(CK402=CK411,0,CK402)","v":0},{"$f":"IF(CL402=CL411,0,CL402)","v":0},{"$f":"IF(CM402=CM411,0,CM402)","v":0},{"$f":"IF(CN402=CN411,0,CN402)","v":0},{"$f":"IF(CO402=CO411,0,CO402)","v":0},{"$f":"IF(CP402=CP411,0,CP402)","v":0},{"$f":"IF(CQ402=CQ411,0,CQ402)","v":0},{"$f":"IF(CR402=CR411,0,CR402)","v":0},{"$f":"IF(CS402=CS411,0,CS402)","v":0},{"$f":"IF(CT402=CT411,0,CT402)","v":0},{"$f":"IF(CU402=CU411,0,CU402)","v":0},{"$f":"J411","v":0},{"$f":"J412","v":0},1]
[92,{"$f":"'RECOGIDA DATOS'!AG95","v":0},{"$f":"IF(B403=B411,0,B403)","v":0},{"$f":"IF(C403=C411,0,C403)","v":0},{"$f":"IF(D403=D411,0,D403)","v":0},{"$f":"IF(E403=E411,0,E403)","v":0},{"$f":"IF(F403=F411,0,F403)","v":0},{"$f":"IF(G403=G411,0,G403)","v":0},{"$f":"IF(H403=H411,0,H403)","v":0},{"$f":"IF(I403=I411,0,I403)","v":0},{"$f":"IF(J403=J411,0,J403)","v":0},{"$f":"IF(K403=K411,0,K403)","v":0},{"$f":"IF(L403=L411,0,L403)","v":0},{"$f":"IF(M403=M411,0,M403)","v":0},{"$f":"IF(N403=N411,0,N403)","v":0},{"$f":"IF(O403=O411,0,O403)","v":0},{"$f":"IF(P403=P411,0,P403)","v":0},{"$f":"IF(Q403=Q411,0,Q403)","v":0},{"$f":"IF(R403=R411,0,R403)","v":0},{"$f":"IF(S403=S411,0,S403)","v":0},{"$f":"IF(T403=T411,0,T403)","v":0},{"$f":"IF(U403=U411,0,U403)","v":0},{"$f":"IF(V403=V411,0,V403)","v":0},{"$f":"IF(W403=W411,0,W403)","v":0},{"$f":"IF(X403=X411,0,X403)","v":0},{"$f":"IF(Y403=Y411,0,Y403)","v":0},{"$f":"IF(Z403=Z411,0,Z403)","v":0},{"$f":"IF(AA403=AA411,0,AA403)","v":0},{"$f":"IF(AB403=AB411,0,AB403)","v":0},{"$f":"IF(AC403=AC411,0,AC403)","v":0},{"$f":"IF(AD403=AD411,0,AD403)","v":0},{"$f":"IF(AE403=AE411,0,AE403)","v":0},{"$f":"IF(AF403=AF411,0,AF403)","v":0},{"$f":"IF(AG403=AG411,0,AG403)","v":0},{"$f":"IF(AH403=AH411,0,AH403)","v":0},{"$f":"IF(AI403=AI411,0,AI403)","v":0},{"$f":"IF(AJ403=AJ411,0,AJ403)","v":0},{"$f":"IF(AK403=AK411,0,AK403)","v":0},{"$f":"IF(AL403=AL411,0,AL403)","v":0},{"$f":"IF(AM403=AM411,0,AM403)","v":0},{"$f":"IF(AN403=AN411,0,AN403)","v":0},{"$f":"IF(AO403=AO411,0,AO403)","v":0},{"$f":"IF(AP403=AP411,0,AP403)","v":0},{"$f":"IF(AQ403=AQ411,0,AQ403)","v":0},{"$f":"IF(AR403=AR411,0,AR403)","v":0},{"$f":"IF(AS403=AS411,0,AS403)","v":0},{"$f":"IF(AT403=AT411,0,AT403)","v":0},{"$f":"IF(AU403=AU411,0,AU403)","v":0},{"$f":"IF(AV403=AV411,0,AV403)","v":0},{"$f":"IF(AW403=AW411,0,AW403)","v":0},{"$f":"IF(AX403=AX411,0,AX403)","v":0},{"$f":"IF(AY403=AY411,0,AY403)","v":0},{"$f":"IF(AZ403=AZ411,0,AZ403)","v":0},{"$f":"IF(BA403=BA411,0,BA403)","v":0},{"$f":"IF(BB403=BB411,0,BB403)","v":0},{"$f":"IF(BC403=BC411,0,BC403)","v":0},{"$f":"IF(BD403=BD411,0,BD403)","v":0},{"$f":"IF(BE403=BE411,0,BE403)","v":0},{"$f":"IF(BF403=BF411,0,BF403)","v":0},{"$f":"IF(BG403=BG411,0,BG403)","v":0},{"$f":"IF(BH403=BH411,0,BH403)","v":0},{"$f":"IF(BI403=BI411,0,BI403)","v":0},{"$f":"IF(BJ403=BJ411,0,BJ403)","v":0},{"$f":"IF(BK403=BK411,0,BK403)","v":0},{"$f":"IF(BL403=BL411,0,BL403)","v":0},{"$f":"IF(BM403=BM411,0,BM403)","v":0},{"$f":"IF(BN403=BN411,0,BN403)","v":0},{"$f":"IF(BO403=BO411,0,BO403)","v":0},{"$f":"IF(BP403=BP411,0,BP403)","v":0},{"$f":"IF(BQ403=BQ411,0,BQ403)","v":0},{"$f":"IF(BR403=BR411,0,BR403)","v":0},{"$f":"IF(BS403=BS411,0,BS403)","v":0},{"$f":"IF(BT403=BT411,0,BT403)","v":0},{"$f":"IF(BU403=BU411,0,BU403)","v":0},{"$f":"IF(BV403=BV411,0,BV403)","v":0},{"$f":"IF(BW403=BW411,0,BW403)","v":0},{"$f":"IF(BX403=BX411,0,BX403)","v":0},{"$f":"IF(BY403=BY411,0,BY403)","v":0},{"$f":"IF(BZ403=BZ411,0,BZ403)","v":0},{"$f":"IF(CA403=CA411,0,CA403)","v":0},{"$f":"IF(CB403=CB411,0,CB403)","v":0},{"$f":"IF(CC403=CC411,0,CC403)","v":0},{"$f":"IF(CD403=CD411,0,CD403)","v":0},{"$f":"IF(CE403=CE411,0,CE403)","v":0},{"$f":"IF(CF403=CF411,0,CF403)","v":0},{"$f":"IF(CG403=CG411,0,CG403)","v":0},{"$f":"IF(CH403=CH411,0,CH403)","v":0},{"$f":"IF(CI403=CI411,0,CI403)","v":0},{"$f":"IF(CJ403=CJ411,0,CJ403)","v":0},{"$f":"IF(CK403=CK411,0,CK403)","v":0},{"$f":"IF(CL403=CL411,0,CL403)","v":0},{"$f":"IF(CM403=CM411,0,CM403)","v":0},{"$f":"IF(CN403=CN411,0,CN403)","v":0},{"$f":"IF(CO403=CO411,0,CO403)","v":0},{"$f":"IF(CP403=CP411,0,CP403)","v":0},{"$f":"IF(CQ403=CQ411,0,CQ403)","v":0},{"$f":"IF(CR403=CR411,0,CR403)","v":0},{"$f":"IF(CS403=CS411,0,CS403)","v":0},{"$f":"IF(CT403=CT411,0,CT403)","v":0},{"$f":"IF(CU403=CU411,0,CU403)","v":0},{"$f":"I411","v":0},{"$f":"I412","v":0},1]
[93,{"$f":"'RECOGIDA DATOS'!AG96","v":0},{"$f":"IF(B404=B411,0,B404)","v":0},{"$f":"IF(C404=C411,0,C404)","v":0},{"$f":"IF(D404=D411,0,D404)","v":0},{"$f":"IF(E404=E411,0,E404)","v":0},{"$f":"IF(F404=F411,0,F404)","v":0},{"$f":"IF(G404=G411,0,G404)","v":0},{"$f":"IF(H404=H411,0,H404)","v":0},{"$f":"IF(I404=I411,0,I404)","v":0},{"$f":"IF(J404=J411,0,J404)","v":0},{"$f":"IF(K404=K411,0,K404)","v":0},{"$f":"IF(L404=L411,0,L404)","v":0},{"$f":"IF(M404=M411,0,M404)","v":0},{"$f":"IF(N404=N411,0,N404)","v":0},{"$f":"IF(O404=O411,0,O404)","v":0},{"$f":"IF(P404=P411,0,P404)","v":0},{"$f":"IF(Q404=Q411,0,Q404)","v":0},{"$f":"IF(R404=R411,0,R404)","v":0},{"$f":"IF(S404=S411,0,S404)","v":0},{"$f":"IF(T404=T411,0,T404)","v":0},{"$f":"IF(U404=U411,0,U404)","v":0},{"$f":"IF(V404=V411,0,V404)","v":0},{"$f":"IF(W404=W411,0,W404)","v":0},{"$f":"IF(X404=X411,0,X404)","v":0},{"$f":"IF(Y404=Y411,0,Y404)","v":0},{"$f":"IF(Z404=Z411,0,Z404)","v":0},{"$f":"IF(AA404=AA411,0,AA404)","v":0},{"$f":"IF(AB404=AB411,0,AB404)","v":0},{"$f":"IF(AC404=AC411,0,AC404)","v":0},{"$f":"IF(AD404=AD411,0,AD404)","v":0},{"$f":"IF(AE404=AE411,0,AE404)","v":0},{"$f":"IF(AF404=AF411,0,AF404)","v":0},{"$f":"IF(AG404=AG411,0,AG404)","v":0},{"$f":"IF(AH404=AH411,0,AH404)","v":0},{"$f":"IF(AI404=AI411,0,AI404)","v":0},{"$f":"IF(AJ404=AJ411,0,AJ404)","v":0},{"$f":"IF(AK404=AK411,0,AK404)","v":0},{"$f":"IF(AL404=AL411,0,AL404)","v":0},{"$f":"IF(AM404=AM411,0,AM404)","v":0},{"$f":"IF(AN404=AN411,0,AN404)","v":0},{"$f":"IF(AO404=AO411,0,AO404)","v":0},{"$f":"IF(AP404=AP411,0,AP404)","v":0},{"$f":"IF(AQ404=AQ411,0,AQ404)","v":0},{"$f":"IF(AR404=AR411,0,AR404)","v":0},{"$f":"IF(AS404=AS411,0,AS404)","v":0},{"$f":"IF(AT404=AT411,0,AT404)","v":0},{"$f":"IF(AU404=AU411,0,AU404)","v":0},{"$f":"IF(AV404=AV411,0,AV404)","v":0},{"$f":"IF(AW404=AW411,0,AW404)","v":0},{"$f":"IF(AX404=AX411,0,AX404)","v":0},{"$f":"IF(AY404=AY411,0,AY404)","v":0},{"$f":"IF(AZ404=AZ411,0,AZ404)","v":0},{"$f":"IF(BA404=BA411,0,BA404)","v":0},{"$f":"IF(BB404=BB411,0,BB404)","v":0},{"$f":"IF(BC404=BC411,0,BC404)","v":0},{"$f":"IF(BD404=BD411,0,BD404)","v":0},{"$f":"IF(BE404=BE411,0,BE404)","v":0},{"$f":"IF(BF404=BF411,0,BF404)","v":0},{"$f":"IF(BG404=BG411,0,BG404)","v":0},{"$f":"IF(BH404=BH411,0,BH404)","v":0},{"$f":"IF(BI404=BI411,0,BI404)","v":0},{"$f":"IF(BJ404=BJ411,0,BJ404)","v":0},{"$f":"IF(BK404=BK411,0,BK404)","v":0},{"$f":"IF(BL404=BL411,0,BL404)","v":0},{"$f":"IF(BM404=BM411,0,BM404)","v":0},{"$f":"IF(BN404=BN411,0,BN404)","v":0},{"$f":"IF(BO404=BO411,0,BO404)","v":0},{"$f":"IF(BP404=BP411,0,BP404)","v":0},{"$f":"IF(BQ404=BQ411,0,BQ404)","v":0},{"$f":"IF(BR404=BR411,0,BR404)","v":0},{"$f":"IF(BS404=BS411,0,BS404)","v":0},{"$f":"IF(BT404=BT411,0,BT404)","v":0},{"$f":"IF(BU404=BU411,0,BU404)","v":0},{"$f":"IF(BV404=BV411,0,BV404)","v":0},{"$f":"IF(BW404=BW411,0,BW404)","v":0},{"$f":"IF(BX404=BX411,0,BX404)","v":0},{"$f":"IF(BY404=BY411,0,BY404)","v":0},{"$f":"IF(BZ404=BZ411,0,BZ404)","v":0},{"$f":"IF(CA404=CA411,0,CA404)","v":0},{"$f":"IF(CB404=CB411,0,CB404)","v":0},{"$f":"IF(CC404=CC411,0,CC404)","v":0},{"$f":"IF(CD404=CD411,0,CD404)","v":0},{"$f":"IF(CE404=CE411,0,CE404)","v":0},{"$f":"IF(CF404=CF411,0,CF404)","v":0},{"$f":"IF(CG404=CG411,0,CG404)","v":0},{"$f":"IF(CH404=CH411,0,CH404)","v":0},{"$f":"IF(CI404=CI411,0,CI404)","v":0},{"$f":"IF(CJ404=CJ411,0,CJ404)","v":0},{"$f":"IF(CK404=CK411,0,CK404)","v":0},{"$f":"IF(CL404=CL411,0,CL404)","v":0},{"$f":"IF(CM404=CM411,0,CM404)","v":0},{"$f":"IF(CN404=CN411,0,CN404)","v":0},{"$f":"IF(CO404=CO411,0,CO404)","v":0},{"$f":"IF(CP404=CP411,0,CP404)","v":0},{"$f":"IF(CQ404=CQ411,0,CQ404)","v":0},{"$f":"IF(CR404=CR411,0,CR404)","v":0},{"$f":"IF(CS404=CS411,0,CS404)","v":0},{"$f":"IF(CT404=CT411,0,CT404)","v":0},{"$f":"IF(CU404=CU411,0,CU404)","v":0},{"$f":"H411","v":0},{"$f":"H412","v":0},1]
[94,{"$f":"'RECOGIDA DATOS'!AG97","v":0},{"$f":"IF(B405=B411,0,B405)","v":0},{"$f":"IF(C405=C411,0,C405)","v":0},{"$f":"IF(D405=D411,0,D405)","v":0},{"$f":"IF(E405=E411,0,E405)","v":0},{"$f":"IF(F405=F411,0,F405)","v":0},{"$f":"IF(G405=G411,0,G405)","v":0},{"$f":"IF(H405=H411,0,H405)","v":0},{"$f":"IF(I405=I411,0,I405)","v":0},{"$f":"IF(J405=J411,0,J405)","v":0},{"$f":"IF(K405=K411,0,K405)","v":0},{"$f":"IF(L405=L411,0,L405)","v":0},{"$f":"IF(M405=M411,0,M405)","v":0},{"$f":"IF(N405=N411,0,N405)","v":0},{"$f":"IF(O405=O411,0,O405)","v":0},{"$f":"IF(P405=P411,0,P405)","v":0},{"$f":"IF(Q405=Q411,0,Q405)","v":0},{"$f":"IF(R405=R411,0,R405)","v":0},{"$f":"IF(S405=S411,0,S405)","v":0},{"$f":"IF(T405=T411,0,T405)","v":0},{"$f":"IF(U405=U411,0,U405)","v":0},{"$f":"IF(V405=V411,0,V405)","v":0},{"$f":"IF(W405=W411,0,W405)","v":0},{"$f":"IF(X405=X411,0,X405)","v":0},{"$f":"IF(Y405=Y411,0,Y405)","v":0},{"$f":"IF(Z405=Z411,0,Z405)","v":0},{"$f":"IF(AA405=AA411,0,AA405)","v":0},{"$f":"IF(AB405=AB411,0,AB405)","v":0},{"$f":"IF(AC405=AC411,0,AC405)","v":0},{"$f":"IF(AD405=AD411,0,AD405)","v":0},{"$f":"IF(AE405=AE411,0,AE405)","v":0},{"$f":"IF(AF405=AF411,0,AF405)","v":0},{"$f":"IF(AG405=AG411,0,AG405)","v":0},{"$f":"IF(AH405=AH411,0,AH405)","v":0},{"$f":"IF(AI405=AI411,0,AI405)","v":0},{"$f":"IF(AJ405=AJ411,0,AJ405)","v":0},{"$f":"IF(AK405=AK411,0,AK405)","v":0},{"$f":"IF(AL405=AL411,0,AL405)","v":0},{"$f":"IF(AM405=AM411,0,AM405)","v":0},{"$f":"IF(AN405=AN411,0,AN405)","v":0},{"$f":"IF(AO405=AO411,0,AO405)","v":0},{"$f":"IF(AP405=AP411,0,AP405)","v":0},{"$f":"IF(AQ405=AQ411,0,AQ405)","v":0},{"$f":"IF(AR405=AR411,0,AR405)","v":0},{"$f":"IF(AS405=AS411,0,AS405)","v":0},{"$f":"IF(AT405=AT411,0,AT405)","v":0},{"$f":"IF(AU405=AU411,0,AU405)","v":0},{"$f":"IF(AV405=AV411,0,AV405)","v":0},{"$f":"IF(AW405=AW411,0,AW405)","v":0},{"$f":"IF(AX405=AX411,0,AX405)","v":0},{"$f":"IF(AY405=AY411,0,AY405)","v":0},{"$f":"IF(AZ405=AZ411,0,AZ405)","v":0},{"$f":"IF(BA405=BA411,0,BA405)","v":0},{"$f":"IF(BB405=BB411,0,BB405)","v":0},{"$f":"IF(BC405=BC411,0,BC405)","v":0},{"$f":"IF(BD405=BD411,0,BD405)","v":0},{"$f":"IF(BE405=BE411,0,BE405)","v":0},{"$f":"IF(BF405=BF411,0,BF405)","v":0},{"$f":"IF(BG405=BG411,0,BG405)","v":0},{"$f":"IF(BH405=BH411,0,BH405)","v":0},{"$f":"IF(BI405=BI411,0,BI405)","v":0},{"$f":"IF(BJ405=BJ411,0,BJ405)","v":0},{"$f":"IF(BK405=BK411,0,BK405)","v":0},{"$f":"IF(BL405=BL411,0,BL405)","v":0},{"$f":"IF(BM405=BM411,0,BM405)","v":0},{"$f":"IF(BN405=BN411,0,BN405)","v":0},{"$f":"IF(BO405=BO411,0,BO405)","v":0},{"$f":"IF(BP405=BP411,0,BP405)","v":0},{"$f":"IF(BQ405=BQ411,0,BQ405)","v":0},{"$f":"IF(BR405=BR411,0,BR405)","v":0},{"$f":"IF(BS405=BS411,0,BS405)","v":0},{"$f":"IF(BT405=BT411,0,BT405)","v":0},{"$f":"IF(BU405=BU411,0,BU405)","v":0},{"$f":"IF(BV405=BV411,0,BV405)","v":0},{"$f":"IF(BW405=BW411,0,BW405)","v":0},{"$f":"IF(BX405=BX411,0,BX405)","v":0},{"$f":"IF(BY405=BY411,0,BY405)","v":0},{"$f":"IF(BZ405=BZ411,0,BZ405)","v":0},{"$f":"IF(CA405=CA411,0,CA405)","v":0},{"$f":"IF(CB405=CB411,0,CB405)","v":0},{"$f":"IF(CC405=CC411,0,CC405)","v":0},{"$f":"IF(CD405=CD411,0,CD405)","v":0},{"$f":"IF(CE405=CE411,0,CE405)","v":0},{"$f":"IF(CF405=CF411,0,CF405)","v":0},{"$f":"IF(CG405=CG411,0,CG405)","v":0},{"$f":"IF(CH405=CH411,0,CH405)","v":0},{"$f":"IF(CI405=CI411,0,CI405)","v":0},{"$f":"IF(CJ405=CJ411,0,CJ405)","v":0},{"$f":"IF(CK405=CK411,0,CK405)","v":0},{"$f":"IF(CL405=CL411,0,CL405)","v":0},{"$f":"IF(CM405=CM411,0,CM405)","v":0},{"$f":"IF(CN405=CN411,0,CN405)","v":0},{"$f":"IF(CO405=CO411,0,CO405)","v":0},{"$f":"IF(CP405=CP411,0,CP405)","v":0},{"$f":"IF(CQ405=CQ411,0,CQ405)","v":0},{"$f":"IF(CR405=CR411,0,CR405)","v":0},{"$f":"IF(CS405=CS411,0,CS405)","v":0},{"$f":"IF(CT405=CT411,0,CT405)","v":0},{"$f":"IF(CU405=CU411,0,CU405)","v":0},{"$f":"G411","v":0},{"$f":"G412","v":0},1]
[95,{"$f":"'RECOGIDA DATOS'!AG98","v":0},{"$f":"IF(B406=B411,0,B406)","v":0},{"$f":"IF(C406=C411,0,C406)","v":0},{"$f":"IF(D406=D411,0,D406)","v":0},{"$f":"IF(E406=E411,0,E406)","v":0},{"$f":"IF(F406=F411,0,F406)","v":0},{"$f":"IF(G406=G411,0,G406)","v":0},{"$f":"IF(H406=H411,0,H406)","v":0},{"$f":"IF(I406=I411,0,I406)","v":0},{"$f":"IF(J406=J411,0,J406)","v":0},{"$f":"IF(K406=K411,0,K406)","v":0},{"$f":"IF(L406=L411,0,L406)","v":0},{"$f":"IF(M406=M411,0,M406)","v":0},{"$f":"IF(N406=N411,0,N406)","v":0},{"$f":"IF(O406=O411,0,O406)","v":0},{"$f":"IF(P406=P411,0,P406)","v":0},{"$f":"IF(Q406=Q411,0,Q406)","v":0},{"$f":"IF(R406=R411,0,R406)","v":0},{"$f":"IF(S406=S411,0,S406)","v":0},{"$f":"IF(T406=T411,0,T406)","v":0},{"$f":"IF(U406=U411,0,U406)","v":0},{"$f":"IF(V406=V411,0,V406)","v":0},{"$f":"IF(W406=W411,0,W406)","v":0},{"$f":"IF(X406=X411,0,X406)","v":0},{"$f":"IF(Y406=Y411,0,Y406)","v":0},{"$f":"IF(Z406=Z411,0,Z406)","v":0},{"$f":"IF(AA406=AA411,0,AA406)","v":0},{"$f":"IF(AB406=AB411,0,AB406)","v":0},{"$f":"IF(AC406=AC411,0,AC406)","v":0},{"$f":"IF(AD406=AD411,0,AD406)","v":0},{"$f":"IF(AE406=AE411,0,AE406)","v":0},{"$f":"IF(AF406=AF411,0,AF406)","v":0},{"$f":"IF(AG406=AG411,0,AG406)","v":0},{"$f":"IF(AH406=AH411,0,AH406)","v":0},{"$f":"IF(AI406=AI411,0,AI406)","v":0},{"$f":"IF(AJ406=AJ411,0,AJ406)","v":0},{"$f":"IF(AK406=AK411,0,AK406)","v":0},{"$f":"IF(AL406=AL411,0,AL406)","v":0},{"$f":"IF(AM406=AM411,0,AM406)","v":0},{"$f":"IF(AN406=AN411,0,AN406)","v":0},{"$f":"IF(AO406=AO411,0,AO406)","v":0},{"$f":"IF(AP406=AP411,0,AP406)","v":0},{"$f":"IF(AQ406=AQ411,0,AQ406)","v":0},{"$f":"IF(AR406=AR411,0,AR406)","v":0},{"$f":"IF(AS406=AS411,0,AS406)","v":0},{"$f":"IF(AT406=AT411,0,AT406)","v":0},{"$f":"IF(AU406=AU411,0,AU406)","v":0},{"$f":"IF(AV406=AV411,0,AV406)","v":0},{"$f":"IF(AW406=AW411,0,AW406)","v":0},{"$f":"IF(AX406=AX411,0,AX406)","v":0},{"$f":"IF(AY406=AY411,0,AY406)","v":0},{"$f":"IF(AZ406=AZ411,0,AZ406)","v":0},{"$f":"IF(BA406=BA411,0,BA406)","v":0},{"$f":"IF(BB406=BB411,0,BB406)","v":0},{"$f":"IF(BC406=BC411,0,BC406)","v":0},{"$f":"IF(BD406=BD411,0,BD406)","v":0},{"$f":"IF(BE406=BE411,0,BE406)","v":0},{"$f":"IF(BF406=BF411,0,BF406)","v":0},{"$f":"IF(BG406=BG411,0,BG406)","v":0},{"$f":"IF(BH406=BH411,0,BH406)","v":0},{"$f":"IF(BI406=BI411,0,BI406)","v":0},{"$f":"IF(BJ406=BJ411,0,BJ406)","v":0},{"$f":"IF(BK406=BK411,0,BK406)","v":0},{"$f":"IF(BL406=BL411,0,BL406)","v":0},{"$f":"IF(BM406=BM411,0,BM406)","v":0},{"$f":"IF(BN406=BN411,0,BN406)","v":0},{"$f":"IF(BO406=BO411,0,BO406)","v":0},{"$f":"IF(BP406=BP411,0,BP406)","v":0},{"$f":"IF(BQ406=BQ411,0,BQ406)","v":0},{"$f":"IF(BR406=BR411,0,BR406)","v":0},{"$f":"IF(BS406=BS411,0,BS406)","v":0},{"$f":"IF(BT406=BT411,0,BT406)","v":0},{"$f":"IF(BU406=BU411,0,BU406)","v":0},{"$f":"IF(BV406=BV411,0,BV406)","v":0},{"$f":"IF(BW406=BW411,0,BW406)","v":0},{"$f":"IF(BX406=BX411,0,BX406)","v":0},{"$f":"IF(BY406=BY411,0,BY406)","v":0},{"$f":"IF(BZ406=BZ411,0,BZ406)","v":0},{"$f":"IF(CA406=CA411,0,CA406)","v":0},{"$f":"IF(CB406=CB411,0,CB406)","v":0},{"$f":"IF(CC406=CC411,0,CC406)","v":0},{"$f":"IF(CD406=CD411,0,CD406)","v":0},{"$f":"IF(CE406=CE411,0,CE406)","v":0},{"$f":"IF(CF406=CF411,0,CF406)","v":0},{"$f":"IF(CG406=CG411,0,CG406)","v":0},{"$f":"IF(CH406=CH411,0,CH406)","v":0},{"$f":"IF(CI406=CI411,0,CI406)","v":0},{"$f":"IF(CJ406=CJ411,0,CJ406)","v":0},{"$f":"IF(CK406=CK411,0,CK406)","v":0},{"$f":"IF(CL406=CL411,0,CL406)","v":0},{"$f":"IF(CM406=CM411,0,CM406)","v":0},{"$f":"IF(CN406=CN411,0,CN406)","v":0},{"$f":"IF(CO406=CO411,0,CO406)","v":0},{"$f":"IF(CP406=CP411,0,CP406)","v":0},{"$f":"IF(CQ406=CQ411,0,CQ406)","v":0},{"$f":"IF(CR406=CR411,0,CR406)","v":0},{"$f":"IF(CS406=CS411,0,CS406)","v":0},{"$f":"IF(CT406=CT411,0,CT406)","v":0},{"$f":"IF(CU406=CU411,0,CU406)","v":0},{"$f":"F411","v":0},{"$f":"F412","v":0},1]
[96,{"$f":"'RECOGIDA DATOS'!AG99","v":0},{"$f":"IF(B407=B411,0,B407)","v":0},{"$f":"IF(C407=C411,0,C407)","v":0},{"$f":"IF(D407=D411,0,D407)","v":0},{"$f":"IF(E407=E411,0,E407)","v":0},{"$f":"IF(F407=F411,0,F407)","v":0},{"$f":"IF(G407=G411,0,G407)","v":0},{"$f":"IF(H407=H411,0,H407)","v":0},{"$f":"IF(I407=I411,0,I407)","v":0},{"$f":"IF(J407=J411,0,J407)","v":0},{"$f":"IF(K407=K411,0,K407)","v":0},{"$f":"IF(L407=L411,0,L407)","v":0},{"$f":"IF(M407=M411,0,M407)","v":0},{"$f":"IF(N407=N411,0,N407)","v":0},{"$f":"IF(O407=O411,0,O407)","v":0},{"$f":"IF(P407=P411,0,P407)","v":0},{"$f":"IF(Q407=Q411,0,Q407)","v":0},{"$f":"IF(R407=R411,0,R407)","v":0},{"$f":"IF(S407=S411,0,S407)","v":0},{"$f":"IF(T407=T411,0,T407)","v":0},{"$f":"IF(U407=U411,0,U407)","v":0},{"$f":"IF(V407=V411,0,V407)","v":0},{"$f":"IF(W407=W411,0,W407)","v":0},{"$f":"IF(X407=X411,0,X407)","v":0},{"$f":"IF(Y407=Y411,0,Y407)","v":0},{"$f":"IF(Z407=Z411,0,Z407)","v":0},{"$f":"IF(AA407=AA411,0,AA407)","v":0},{"$f":"IF(AB407=AB411,0,AB407)","v":0},{"$f":"IF(AC407=AC411,0,AC407)","v":0},{"$f":"IF(AD407=AD411,0,AD407)","v":0},{"$f":"IF(AE407=AE411,0,AE407)","v":0},{"$f":"IF(AF407=AF411,0,AF407)","v":0},{"$f":"IF(AG407=AG411,0,AG407)","v":0},{"$f":"IF(AH407=AH411,0,AH407)","v":0},{"$f":"IF(AI407=AI411,0,AI407)","v":0},{"$f":"IF(AJ407=AJ411,0,AJ407)","v":0},{"$f":"IF(AK407=AK411,0,AK407)","v":0},{"$f":"IF(AL407=AL411,0,AL407)","v":0},{"$f":"IF(AM407=AM411,0,AM407)","v":0},{"$f":"IF(AN407=AN411,0,AN407)","v":0},{"$f":"IF(AO407=AO411,0,AO407)","v":0},{"$f":"IF(AP407=AP411,0,AP407)","v":0},{"$f":"IF(AQ407=AQ411,0,AQ407)","v":0},{"$f":"IF(AR407=AR411,0,AR407)","v":0},{"$f":"IF(AS407=AS411,0,AS407)","v":0},{"$f":"IF(AT407=AT411,0,AT407)","v":0},{"$f":"IF(AU407=AU411,0,AU407)","v":0},{"$f":"IF(AV407=AV411,0,AV407)","v":0},{"$f":"IF(AW407=AW411,0,AW407)","v":0},{"$f":"IF(AX407=AX411,0,AX407)","v":0},{"$f":"IF(AY407=AY411,0,AY407)","v":0},{"$f":"IF(AZ407=AZ411,0,AZ407)","v":0},{"$f":"IF(BA407=BA411,0,BA407)","v":0},{"$f":"IF(BB407=BB411,0,BB407)","v":0},{"$f":"IF(BC407=BC411,0,BC407)","v":0},{"$f":"IF(BD407=BD411,0,BD407)","v":0},{"$f":"IF(BE407=BE411,0,BE407)","v":0},{"$f":"IF(BF407=BF411,0,BF407)","v":0},{"$f":"IF(BG407=BG411,0,BG407)","v":0},{"$f":"IF(BH407=BH411,0,BH407)","v":0},{"$f":"IF(BI407=BI411,0,BI407)","v":0},{"$f":"IF(BJ407=BJ411,0,BJ407)","v":0},{"$f":"IF(BK407=BK411,0,BK407)","v":0},{"$f":"IF(BL407=BL411,0,BL407)","v":0},{"$f":"IF(BM407=BM411,0,BM407)","v":0},{"$f":"IF(BN407=BN411,0,BN407)","v":0},{"$f":"IF(BO407=BO411,0,BO407)","v":0},{"$f":"IF(BP407=BP411,0,BP407)","v":0},{"$f":"IF(BQ407=BQ411,0,BQ407)","v":0},{"$f":"IF(BR407=BR411,0,BR407)","v":0},{"$f":"IF(BS407=BS411,0,BS407)","v":0},{"$f":"IF(BT407=BT411,0,BT407)","v":0},{"$f":"IF(BU407=BU411,0,BU407)","v":0},{"$f":"IF(BV407=BV411,0,BV407)","v":0},{"$f":"IF(BW407=BW411,0,BW407)","v":0},{"$f":"IF(BX407=BX411,0,BX407)","v":0},{"$f":"IF(BY407=BY411,0,BY407)","v":0},{"$f":"IF(BZ407=BZ411,0,BZ407)","v":0},{"$f":"IF(CA407=CA411,0,CA407)","v":0},{"$f":"IF(CB407=CB411,0,CB407)","v":0},{"$f":"IF(CC407=CC411,0,CC407)","v":0},{"$f":"IF(CD407=CD411,0,CD407)","v":0},{"$f":"IF(CE407=CE411,0,CE407)","v":0},{"$f":"IF(CF407=CF411,0,CF407)","v":0},{"$f":"IF(CG407=CG411,0,CG407)","v":0},{"$f":"IF(CH407=CH411,0,CH407)","v":0},{"$f":"IF(CI407=CI411,0,CI407)","v":0},{"$f":"IF(CJ407=CJ411,0,CJ407)","v":0},{"$f":"IF(CK407=CK411,0,CK407)","v":0},{"$f":"IF(CL407=CL411,0,CL407)","v":0},{"$f":"IF(CM407=CM411,0,CM407)","v":0},{"$f":"IF(CN407=CN411,0,CN407)","v":0},{"$f":"IF(CO407=CO411,0,CO407)","v":0},{"$f":"IF(CP407=CP411,0,CP407)","v":0},{"$f":"IF(CQ407=CQ411,0,CQ407)","v":0},{"$f":"IF(CR407=CR411,0,CR407)","v":0},{"$f":"IF(CS407=CS411,0,CS407)","v":0},{"$f":"IF(CT407=CT411,0,CT407)","v":0},{"$f":"IF(CU407=CU411,0,CU407)","v":0},{"$f":"E411","v":0},{"$f":"E412","v":0},1]
[97,{"$f":"'RECOGIDA DATOS'!AG100","v":0},{"$f":"IF(B408=B411,0,B408)","v":0},{"$f":"IF(C408=C411,0,C408)","v":0},{"$f":"IF(D408=D411,0,D408)","v":0},{"$f":"IF(E408=E411,0,E408)","v":0},{"$f":"IF(F408=F411,0,F408)","v":0},{"$f":"IF(G408=G411,0,G408)","v":0},{"$f":"IF(H408=H411,0,H408)","v":0},{"$f":"IF(I408=I411,0,I408)","v":0},{"$f":"IF(J408=J411,0,J408)","v":0},{"$f":"IF(K408=K411,0,K408)","v":0},{"$f":"IF(L408=L411,0,L408)","v":0},{"$f":"IF(M408=M411,0,M408)","v":0},{"$f":"IF(N408=N411,0,N408)","v":0},{"$f":"IF(O408=O411,0,O408)","v":0},{"$f":"IF(P408=P411,0,P408)","v":0},{"$f":"IF(Q408=Q411,0,Q408)","v":0},{"$f":"IF(R408=R411,0,R408)","v":0},{"$f":"IF(S408=S411,0,S408)","v":0},{"$f":"IF(T408=T411,0,T408)","v":0},{"$f":"IF(U408=U411,0,U408)","v":0},{"$f":"IF(V408=V411,0,V408)","v":0},{"$f":"IF(W408=W411,0,W408)","v":0},{"$f":"IF(X408=X411,0,X408)","v":0},{"$f":"IF(Y408=Y411,0,Y408)","v":0},{"$f":"IF(Z408=Z411,0,Z408)","v":0},{"$f":"IF(AA408=AA411,0,AA408)","v":0},{"$f":"IF(AB408=AB411,0,AB408)","v":0},{"$f":"IF(AC408=AC411,0,AC408)","v":0},{"$f":"IF(AD408=AD411,0,AD408)","v":0},{"$f":"IF(AE408=AE411,0,AE408)","v":0},{"$f":"IF(AF408=AF411,0,AF408)","v":0},{"$f":"IF(AG408=AG411,0,AG408)","v":0},{"$f":"IF(AH408=AH411,0,AH408)","v":0},{"$f":"IF(AI408=AI411,0,AI408)","v":0},{"$f":"IF(AJ408=AJ411,0,AJ408)","v":0},{"$f":"IF(AK408=AK411,0,AK408)","v":0},{"$f":"IF(AL408=AL411,0,AL408)","v":0},{"$f":"IF(AM408=AM411,0,AM408)","v":0},{"$f":"IF(AN408=AN411,0,AN408)","v":0},{"$f":"IF(AO408=AO411,0,AO408)","v":0},{"$f":"IF(AP408=AP411,0,AP408)","v":0},{"$f":"IF(AQ408=AQ411,0,AQ408)","v":0},{"$f":"IF(AR408=AR411,0,AR408)","v":0},{"$f":"IF(AS408=AS411,0,AS408)","v":0},{"$f":"IF(AT408=AT411,0,AT408)","v":0},{"$f":"IF(AU408=AU411,0,AU408)","v":0},{"$f":"IF(AV408=AV411,0,AV408)","v":0},{"$f":"IF(AW408=AW411,0,AW408)","v":0},{"$f":"IF(AX408=AX411,0,AX408)","v":0},{"$f":"IF(AY408=AY411,0,AY408)","v":0},{"$f":"IF(AZ408=AZ411,0,AZ408)","v":0},{"$f":"IF(BA408=BA411,0,BA408)","v":0},{"$f":"IF(BB408=BB411,0,BB408)","v":0},{"$f":"IF(BC408=BC411,0,BC408)","v":0},{"$f":"IF(BD408=BD411,0,BD408)","v":0},{"$f":"IF(BE408=BE411,0,BE408)","v":0},{"$f":"IF(BF408=BF411,0,BF408)","v":0},{"$f":"IF(BG408=BG411,0,BG408)","v":0},{"$f":"IF(BH408=BH411,0,BH408)","v":0},{"$f":"IF(BI408=BI411,0,BI408)","v":0},{"$f":"IF(BJ408=BJ411,0,BJ408)","v":0},{"$f":"IF(BK408=BK411,0,BK408)","v":0},{"$f":"IF(BL408=BL411,0,BL408)","v":0},{"$f":"IF(BM408=BM411,0,BM408)","v":0},{"$f":"IF(BN408=BN411,0,BN408)","v":0},{"$f":"IF(BO408=BO411,0,BO408)","v":0},{"$f":"IF(BP408=BP411,0,BP408)","v":0},{"$f":"IF(BQ408=BQ411,0,BQ408)","v":0},{"$f":"IF(BR408=BR411,0,BR408)","v":0},{"$f":"IF(BS408=BS411,0,BS408)","v":0},{"$f":"IF(BT408=BT411,0,BT408)","v":0},{"$f":"IF(BU408=BU411,0,BU408)","v":0},{"$f":"IF(BV408=BV411,0,BV408)","v":0},{"$f":"IF(BW408=BW411,0,BW408)","v":0},{"$f":"IF(BX408=BX411,0,BX408)","v":0},{"$f":"IF(BY408=BY411,0,BY408)","v":0},{"$f":"IF(BZ408=BZ411,0,BZ408)","v":0},{"$f":"IF(CA408=CA411,0,CA408)","v":0},{"$f":"IF(CB408=CB411,0,CB408)","v":0},{"$f":"IF(CC408=CC411,0,CC408)","v":0},{"$f":"IF(CD408=CD411,0,CD408)","v":0},{"$f":"IF(CE408=CE411,0,CE408)","v":0},{"$f":"IF(CF408=CF411,0,CF408)","v":0},{"$f":"IF(CG408=CG411,0,CG408)","v":0},{"$f":"IF(CH408=CH411,0,CH408)","v":0},{"$f":"IF(CI408=CI411,0,CI408)","v":0},{"$f":"IF(CJ408=CJ411,0,CJ408)","v":0},{"$f":"IF(CK408=CK411,0,CK408)","v":0},{"$f":"IF(CL408=CL411,0,CL408)","v":0},{"$f":"IF(CM408=CM411,0,CM408)","v":0},{"$f":"IF(CN408=CN411,0,CN408)","v":0},{"$f":"IF(CO408=CO411,0,CO408)","v":0},{"$f":"IF(CP408=CP411,0,CP408)","v":0},{"$f":"IF(CQ408=CQ411,0,CQ408)","v":0},{"$f":"IF(CR408=CR411,0,CR408)","v":0},{"$f":"IF(CS408=CS411,0,CS408)","v":0},{"$f":"IF(CT408=CT411,0,CT408)","v":0},{"$f":"IF(CU408=CU411,0,CU408)","v":0},{"$f":"D411","v":0},{"$f":"D412","v":0},1]
[98,{"$f":"'RECOGIDA DATOS'!AG101","v":0},{"$f":"IF(B409=B411,0,B409)","v":0},{"$f":"IF(C409=C411,0,C409)","v":0},{"$f":"IF(D409=D411,0,D409)","v":0},{"$f":"IF(E409=E411,0,E409)","v":0},{"$f":"IF(F409=F411,0,F409)","v":0},{"$f":"IF(G409=G411,0,G409)","v":0},{"$f":"IF(H409=H411,0,H409)","v":0},{"$f":"IF(I409=I411,0,I409)","v":0},{"$f":"IF(J409=J411,0,J409)","v":0},{"$f":"IF(K409=K411,0,K409)","v":0},{"$f":"IF(L409=L411,0,L409)","v":0},{"$f":"IF(M409=M411,0,M409)","v":0},{"$f":"IF(N409=N411,0,N409)","v":0},{"$f":"IF(O409=O411,0,O409)","v":0},{"$f":"IF(P409=P411,0,P409)","v":0},{"$f":"IF(Q409=Q411,0,Q409)","v":0},{"$f":"IF(R409=R411,0,R409)","v":0},{"$f":"IF(S409=S411,0,S409)","v":0},{"$f":"IF(T409=T411,0,T409)","v":0},{"$f":"IF(U409=U411,0,U409)","v":0},{"$f":"IF(V409=V411,0,V409)","v":0},{"$f":"IF(W409=W411,0,W409)","v":0},{"$f":"IF(X409=X411,0,X409)","v":0},{"$f":"IF(Y409=Y411,0,Y409)","v":0},{"$f":"IF(Z409=Z411,0,Z409)","v":0},{"$f":"IF(AA409=AA411,0,AA409)","v":0},{"$f":"IF(AB409=AB411,0,AB409)","v":0},{"$f":"IF(AC409=AC411,0,AC409)","v":0},{"$f":"IF(AD409=AD411,0,AD409)","v":0},{"$f":"IF(AE409=AE411,0,AE409)","v":0},{"$f":"IF(AF409=AF411,0,AF409)","v":0},{"$f":"IF(AG409=AG411,0,AG409)","v":0},{"$f":"IF(AH409=AH411,0,AH409)","v":0},{"$f":"IF(AI409=AI411,0,AI409)","v":0},{"$f":"IF(AJ409=AJ411,0,AJ409)","v":0},{"$f":"IF(AK409=AK411,0,AK409)","v":0},{"$f":"IF(AL409=AL411,0,AL409)","v":0},{"$f":"IF(AM409=AM411,0,AM409)","v":0},{"$f":"IF(AN409=AN411,0,AN409)","v":0},{"$f":"IF(AO409=AO411,0,AO409)","v":0},{"$f":"IF(AP409=AP411,0,AP409)","v":0},{"$f":"IF(AQ409=AQ411,0,AQ409)","v":0},{"$f":"IF(AR409=AR411,0,AR409)","v":0},{"$f":"IF(AS409=AS411,0,AS409)","v":0},{"$f":"IF(AT409=AT411,0,AT409)","v":0},{"$f":"IF(AU409=AU411,0,AU409)","v":0},{"$f":"IF(AV409=AV411,0,AV409)","v":0},{"$f":"IF(AW409=AW411,0,AW409)","v":0},{"$f":"IF(AX409=AX411,0,AX409)","v":0},{"$f":"IF(AY409=AY411,0,AY409)","v":0},{"$f":"IF(AZ409=AZ411,0,AZ409)","v":0},{"$f":"IF(BA409=BA411,0,BA409)","v":0},{"$f":"IF(BB409=BB411,0,BB409)","v":0},{"$f":"IF(BC409=BC411,0,BC409)","v":0},{"$f":"IF(BD409=BD411,0,BD409)","v":0},{"$f":"IF(BE409=BE411,0,BE409)","v":0},{"$f":"IF(BF409=BF411,0,BF409)","v":0},{"$f":"IF(BG409=BG411,0,BG409)","v":0},{"$f":"IF(BH409=BH411,0,BH409)","v":0},{"$f":"IF(BI409=BI411,0,BI409)","v":0},{"$f":"IF(BJ409=BJ411,0,BJ409)","v":0},{"$f":"IF(BK409=BK411,0,BK409)","v":0},{"$f":"IF(BL409=BL411,0,BL409)","v":0},{"$f":"IF(BM409=BM411,0,BM409)","v":0},{"$f":"IF(BN409=BN411,0,BN409)","v":0},{"$f":"IF(BO409=BO411,0,BO409)","v":0},{"$f":"IF(BP409=BP411,0,BP409)","v":0},{"$f":"IF(BQ409=BQ411,0,BQ409)","v":0},{"$f":"IF(BR409=BR411,0,BR409)","v":0},{"$f":"IF(BS409=BS411,0,BS409)","v":0},{"$f":"IF(BT409=BT411,0,BT409)","v":0},{"$f":"IF(BU409=BU411,0,BU409)","v":0},{"$f":"IF(BV409=BV411,0,BV409)","v":0},{"$f":"IF(BW409=BW411,0,BW409)","v":0},{"$f":"IF(BX409=BX411,0,BX409)","v":0},{"$f":"IF(BY409=BY411,0,BY409)","v":0},{"$f":"IF(BZ409=BZ411,0,BZ409)","v":0},{"$f":"IF(CA409=CA411,0,CA409)","v":0},{"$f":"IF(CB409=CB411,0,CB409)","v":0},{"$f":"IF(CC409=CC411,0,CC409)","v":0},{"$f":"IF(CD409=CD411,0,CD409)","v":0},{"$f":"IF(CE409=CE411,0,CE409)","v":0},{"$f":"IF(CF409=CF411,0,CF409)","v":0},{"$f":"IF(CG409=CG411,0,CG409)","v":0},{"$f":"IF(CH409=CH411,0,CH409)","v":0},{"$f":"IF(CI409=CI411,0,CI409)","v":0},{"$f":"IF(CJ409=CJ411,0,CJ409)","v":0},{"$f":"IF(CK409=CK411,0,CK409)","v":0},{"$f":"IF(CL409=CL411,0,CL409)","v":0},{"$f":"IF(CM409=CM411,0,CM409)","v":0},{"$f":"IF(CN409=CN411,0,CN409)","v":0},{"$f":"IF(CO409=CO411,0,CO409)","v":0},{"$f":"IF(CP409=CP411,0,CP409)","v":0},{"$f":"IF(CQ409=CQ411,0,CQ409)","v":0},{"$f":"IF(CR409=CR411,0,CR409)","v":0},{"$f":"IF(CS409=CS411,0,CS409)","v":0},{"$f":"IF(CT409=CT411,0,CT409)","v":0},{"$f":"IF(CU409=CU411,0,CU409)","v":0},{"$f":"C411","v":0},{"$f":"C412","v":0},1]
[99,{"$f":"'RECOGIDA DATOS'!AG102","v":0},{"$f":"IF(B410=B411,0,B410)","v":0},{"$f":"IF(C410=C411,0,C410)","v":0},{"$f":"IF(D410=D411,0,D410)","v":0},{"$f":"IF(E410=E411,0,E410)","v":0},{"$f":"IF(F410=F411,0,F410)","v":0},{"$f":"IF(G410=G411,0,G410)","v":0},{"$f":"IF(H410=H411,0,H410)","v":0},{"$f":"IF(I410=I411,0,I410)","v":0},{"$f":"IF(J410=J411,0,J410)","v":0},{"$f":"IF(K410=K411,0,K410)","v":0},{"$f":"IF(L410=L411,0,L410)","v":0},{"$f":"IF(M410=M411,0,M410)","v":0},{"$f":"IF(N410=N411,0,N410)","v":0},{"$f":"IF(O410=O411,0,O410)","v":0},{"$f":"IF(P410=P411,0,P410)","v":0},{"$f":"IF(Q410=Q411,0,Q410)","v":0},{"$f":"IF(R410=R411,0,R410)","v":0},{"$f":"IF(S410=S411,0,S410)","v":0},{"$f":"IF(T410=T411,0,T410)","v":0},{"$f":"IF(U410=U411,0,U410)","v":0},{"$f":"IF(V410=V411,0,V410)","v":0},{"$f":"IF(W410=W411,0,W410)","v":0},{"$f":"IF(X410=X411,0,X410)","v":0},{"$f":"IF(Y410=Y411,0,Y410)","v":0},{"$f":"IF(Z410=Z411,0,Z410)","v":0},{"$f":"IF(AA410=AA411,0,AA410)","v":0},{"$f":"IF(AB410=AB411,0,AB410)","v":0},{"$f":"IF(AC410=AC411,0,AC410)","v":0},{"$f":"IF(AD410=AD411,0,AD410)","v":0},{"$f":"IF(AE410=AE411,0,AE410)","v":0},{"$f":"IF(AF410=AF411,0,AF410)","v":0},{"$f":"IF(AG410=AG411,0,AG410)","v":0},{"$f":"IF(AH410=AH411,0,AH410)","v":0},{"$f":"IF(AI410=AI411,0,AI410)","v":0},{"$f":"IF(AJ410=AJ411,0,AJ410)","v":0},{"$f":"IF(AK410=AK411,0,AK410)","v":0},{"$f":"IF(AL410=AL411,0,AL410)","v":0},{"$f":"IF(AM410=AM411,0,AM410)","v":0},{"$f":"IF(AN410=AN411,0,AN410)","v":0},{"$f":"IF(AO410=AO411,0,AO410)","v":0},{"$f":"IF(AP410=AP411,0,AP410)","v":0},{"$f":"IF(AQ410=AQ411,0,AQ410)","v":0},{"$f":"IF(AR410=AR411,0,AR410)","v":0},{"$f":"IF(AS410=AS411,0,AS410)","v":0},{"$f":"IF(AT410=AT411,0,AT410)","v":0},{"$f":"IF(AU410=AU411,0,AU410)","v":0},{"$f":"IF(AV410=AV411,0,AV410)","v":0},{"$f":"IF(AW410=AW411,0,AW410)","v":0},{"$f":"IF(AX410=AX411,0,AX410)","v":0},{"$f":"IF(AY410=AY411,0,AY410)","v":0},{"$f":"IF(AZ410=AZ411,0,AZ410)","v":0},{"$f":"IF(BA410=BA411,0,BA410)","v":0},{"$f":"IF(BB410=BB411,0,BB410)","v":0},{"$f":"IF(BC410=BC411,0,BC410)","v":0},{"$f":"IF(BD410=BD411,0,BD410)","v":0},{"$f":"IF(BE410=BE411,0,BE410)","v":0},{"$f":"IF(BF410=BF411,0,BF410)","v":0},{"$f":"IF(BG410=BG411,0,BG410)","v":0},{"$f":"IF(BH410=BH411,0,BH410)","v":0},{"$f":"IF(BI410=BI411,0,BI410)","v":0},{"$f":"IF(BJ410=BJ411,0,BJ410)","v":0},{"$f":"IF(BK410=BK411,0,BK410)","v":0},{"$f":"IF(BL410=BL411,0,BL410)","v":0},{"$f":"IF(BM410=BM411,0,BM410)","v":0},{"$f":"IF(BN410=BN411,0,BN410)","v":0},{"$f":"IF(BO410=BO411,0,BO410)","v":0},{"$f":"IF(BP410=BP411,0,BP410)","v":0},{"$f":"IF(BQ410=BQ411,0,BQ410)","v":0},{"$f":"IF(BR410=BR411,0,BR410)","v":0},{"$f":"IF(BS410=BS411,0,BS410)","v":0},{"$f":"IF(BT410=BT411,0,BT410)","v":0},{"$f":"IF(BU410=BU411,0,BU410)","v":0},{"$f":"IF(BV410=BV411,0,BV410)","v":0},{"$f":"IF(BW410=BW411,0,BW410)","v":0},{"$f":"IF(BX410=BX411,0,BX410)","v":0},{"$f":"IF(BY410=BY411,0,BY410)","v":0},{"$f":"IF(BZ410=BZ411,0,BZ410)","v":0},{"$f":"IF(CA410=CA411,0,CA410)","v":0},{"$f":"IF(CB410=CB411,0,CB410)","v":0},{"$f":"IF(CC410=CC411,0,CC410)","v":0},{"$f":"IF(CD410=CD411,0,CD410)","v":0},{"$f":"IF(CE410=CE411,0,CE410)","v":0},{"$f":"IF(CF410=CF411,0,CF410)","v":0},{"$f":"IF(CG410=CG411,0,CG410)","v":0},{"$f":"IF(CH410=CH411,0,CH410)","v":0},{"$f":"IF(CI410=CI411,0,CI410)","v":0},{"$f":"IF(CJ410=CJ411,0,CJ410)","v":0},{"$f":"IF(CK410=CK411,0,CK410)","v":0},{"$f":"IF(CL410=CL411,0,CL410)","v":0},{"$f":"IF(CM410=CM411,0,CM410)","v":0},{"$f":"IF(CN410=CN411,0,CN410)","v":0},{"$f":"IF(CO410=CO411,0,CO410)","v":0},{"$f":"IF(CP410=CP411,0,CP410)","v":0},{"$f":"IF(CQ410=CQ411,0,CQ410)","v":0},{"$f":"IF(CR410=CR411,0,CR410)","v":0},{"$f":"IF(CS410=CS411,0,CS410)","v":0},{"$f":"IF(CT410=CT411,0,CT410)","v":0},{"$f":"IF(CU410=CU411,0,CU410)","v":0},{"$f":"B411","v":0},{"$f":"B412","v":0},1]
[null,{"$f":"MAX(B312:B410)","v":0},{"$f":"MAX(C312:C410)","v":0},0,0,0,0,0,0,0,0,0,0,0,0,0,0,0,0,0,0,0,0,0,0,0,0,0,0,0,0,0,0,0,0,0,0,0,0,0,0,0,0,0,0,0,0,0,0,0,0,0,0,0,0,0,0,0,0,0,0,0,0,0,0,0,{"$f":"MAX(BO312:BO410)","v":0},0,0,0,0,0,0,0,0,0,0,0,0,0,0,0,0,0,0,0,0,0,0,0,0,0,0,0,0,0,0,0,0,0]
[null,{"$f":"IF(B411=0,0,COUNTIF(B312:B410,B411))","v":0},{"$f":"IF(C411=0,0,COUNTIF(C312:C410,C411))","v":0},0,0,0,0,0,0,0,0,0,0,0,0,0,0,0,0,0,0,0,0,0,0,0,0,0,0,0,0,0,0,0,0,0,0,0,0,0,0,0,0,0,0,0,0,0,0,0,0,0,0,0,0,0,0,0,0,0,0,0,0,0,0,0,{"$f":"IF(BO411=0,0,COUNTIF(BO312:BO410,BO411))","v":0},0,0,0,0,0,0,0,0,0,0,0,0,0,0,0,0,0,0,0,0,0,0,0,0,0,0,0,0,0,0,0,0,0]

{"sheet":"HOJA DE CAMPO","index":3,"n_rows":105,"n_cols":15,"rows_kept":105,"cut":false,"hidden":false,"merged":[[3,4,3,9],[1,3,1,14],[2,4,2,9],[2,11,2,13]]}
[]
[null,null,null,"Real Federación Española de Atletismo"]
[null,null,null,"Competición:",{"$f":"IF(INSCRIPCIÓN!E2=\"\",\"\",INSCRIPCIÓN!E2)","v":""},null,null,null,null,null,"Lugar:",{"$f":"IF(INSCRIPCIÓN!E3=\"\",\"\",INSCRIPCIÓN!E3)","v":""}]
[null,null,null,"Prueba:",{"$f":"IF(INSCRIPCIÓN!E4=\"\",\"\",INSCRIPCIÓN!E4)","v":""},null,null,null,null,null,"Fecha:",{"$f":"IF(INSCRIPCIÓN!E5=\"\",\"\",INSCRIPCIÓN!E5)","v":""},"Hora:",{"$f":"IF(INSCRIPCIÓN!G5=\"\",\"\",INSCRIPCIÓN!G5)","v":""}]
[]
[null,"Orden","Licencia","Atleta","Año","Club","Dorsal",1,2,3,4,5,6,"Mejor marca","Puesto"]
[null,{"$f":"IF(INSCRIPCIÓN!B8=\"\",\"\",INSCRIPCIÓN!B8)","v":""},{"$f":"'RECOGIDA DATOS'!D4","v":""},{"$f":"'RECOGIDA DATOS'!C4","v":""},{"$f":"'RECOGIDA DATOS'!E4","v":""},{"$f":"'RECOGIDA DATOS'!F4","v":""},{"$f":"'RECOGIDA DATOS'!G4","v":""},{"$f":"IF('RECOGIDA DATOS'!H4=\"\",\"\",'RECOGIDA DATOS'!H4)","v":""},{"$f":"IF('RECOGIDA DATOS'!I4=\"\",\"\",'RECOGIDA DATOS'!I4)","v":""},{"$f":"IF('RECOGIDA DATOS'!J4=\"\",\"\",'RECOGIDA DATOS'!J4)","v":""},{"$f":"IF('RECOGIDA DATOS'!K4=\"\",\"\",'RECOGIDA DATOS'!K4)","v":""},{"$f":"IF('RECOGIDA DATOS'!L4=\"\",\"\",'RECOGIDA DATOS'!L4)","v":""},{"$f":"IF('RECOGIDA DATOS'!M4=\"\",\"\",'RECOGIDA DATOS'!M4)","v":""},{"$f":"'RECOGIDA DATOS'!CZ4","v":""},{"$f":"'RECOGIDA DATOS'!DA4","v":""}]
[null,{"$f":"IF(INSCRIPCIÓN!B9=\"\",\"\",INSCRIPCIÓN!B9)","v":""},{"$f":"'RECOGIDA DATOS'!D5","v":""},{"$f":"'RECOGIDA DATOS'!C5","v":""},{"$f":"'RECOGIDA DATOS'!E5","v":""},{"$f":"'RECOGIDA DATOS'!F5","v":""},{"$f":"'RECOGIDA DATOS'!G5","v":""},{"$f":"IF('RECOGIDA DATOS'!H5=\"\",\"\",'RECOGIDA DATOS'!H5)","v":""},{"$f":"IF('RECOGIDA DATOS'!I5=\"\",\"\",'RECOGIDA DATOS'!I5)","v":""},{"$f":"IF('RECOGIDA DATOS'!J5=\"\",\"\",'RECOGIDA DATOS'!J5)","v":""},{"$f":"IF('RECOGIDA DATOS'!K5=\"\",\"\",'RECOGIDA DATOS'!K5)","v":""},{"$f":"IF('RECOGIDA DATOS'!L5=\"\",\"\",'RECOGIDA DATOS'!L5)","v":""},{"$f":"IF('RECOGIDA DATOS'!M5=\"\",\"\",'RECOGIDA DATOS'!M5)","v":""},{"$f":"'RECOGIDA DATOS'!CZ5","v":""},{"$f":"'RECOGIDA DATOS'!DA5","v":""}]
[null,{"$f":"IF(INSCRIPCIÓN!B10=\"\",\"\",INSCRIPCIÓN!B10)","v":""},{"$f":"'RECOGIDA DATOS'!D6","v":""},{"$f":"'RECOGIDA DATOS'!C6","v":""},{"$f":"'RECOGIDA DATOS'!E6","v":""},{"$f":"'RECOGIDA DATOS'!F6","v":""},{"$f":"'RECOGIDA DATOS'!G6","v":""},{"$f":"IF('RECOGIDA DATOS'!H6=\"\",\"\",'RECOGIDA DATOS'!H6)","v":""},{"$f":"IF('RECOGIDA DATOS'!I6=\"\",\"\",'RECOGIDA DATOS'!I6)","v":""},{"$f":"IF('RECOGIDA DATOS'!J6=\"\",\"\",'RECOGIDA DATOS'!J6)","v":""},{"$f":"IF('RECOGIDA DATOS'!K6=\"\",\"\",'RECOGIDA DATOS'!K6)","v":""},{"$f":"IF('RECOGIDA DATOS'!L6=\"\",\"\",'RECOGIDA DATOS'!L6)","v":""},{"$f":"IF('RECOGIDA DATOS'!M6=\"\",\"\",'RECOGIDA DATOS'!M6)","v":""},{"$f":"'RECOGIDA DATOS'!CZ6","v":""},{"$f":"'RECOGIDA DATOS'!DA6","v":""}]
[null,{"$f":"IF(INSCRIPCIÓN!B11=\"\",\"\",INSCRIPCIÓN!B11)","v":""},{"$f":"'RECOGIDA DATOS'!D7","v":""},{"$f":"'RECOGIDA DATOS'!C7","v":""},{"$f":"'RECOGIDA DATOS'!E7","v":""},{"$f":"'RECOGIDA DATOS'!F7","v":""},{"$f":"'RECOGIDA DATOS'!G7","v":""},{"$f":"IF('RECOGIDA DATOS'!H7=\"\",\"\",'RECOGIDA DATOS'!H7)","v":""},{"$f":"IF('RECOGIDA DATOS'!I7=\"\",\"\",'RECOGIDA DATOS'!I7)","v":""},{"$f":"IF('RECOGIDA DATOS'!J7=\"\",\"\",'RECOGIDA DATOS'!J7)","v":""},{"$f":"IF('RECOGIDA DATOS'!K7=\"\",\"\",'RECOGIDA DATOS'!K7)","v":""},{"$f":"IF('RECOGIDA DATOS'!L7=\"\",\"\",'RECOGIDA DATOS'!L7)","v":""},{"$f":"IF('RECOGIDA DATOS'!M7=\"\",\"\",'RECOGIDA DATOS'!M7)","v":""},{"$f":"'RECOGIDA DATOS'!CZ7","v":""},{"$f":"'RECOGIDA DATOS'!DA7","v":""}]
[null,{"$f":"IF(INSCRIPCIÓN!B12=\"\",\"\",INSCRIPCIÓN!B12)","v":""},{"$f":"'RECOGIDA DATOS'!D8","v":""},{"$f":"'RECOGIDA DATOS'!C8","v":""},{"$f":"'RECOGIDA DATOS'!E8","v":""},{"$f":"'RECOGIDA DATOS'!F8","v":""},{"$f":"'RECOGIDA DATOS'!G8","v":""},{"$f":"IF('RECOGIDA DATOS'!H8=\"\",\"\",'RECOGIDA DATOS'!H8)","v":""},{"$f":"IF('RECOGIDA DATOS'!I8=\"\",\"\",'RECOGIDA DATOS'!I8)","v":""},{"$f":"IF('RECOGIDA DATOS'!J8=\"\",\"\",'RECOGIDA DATOS'!J8)","v":""},{"$f":"IF('RECOGIDA DATOS'!K8=\"\",\"\",'RECOGIDA DATOS'!K8)","v":""},{"$f":"IF('RECOGIDA DATOS'!L8=\"\",\"\",'RECOGIDA DATOS'!L8)","v":""},{"$f":"IF('RECOGIDA DATOS'!M8=\"\",\"\",'RECOGIDA DATOS'!M8)","v":""},{"$f":"'RECOGIDA DATOS'!CZ8","v":""},{"$f":"'RECOGIDA DATOS'!DA8","v":""}]
[null,{"$f":"IF(INSCRIPCIÓN!B13=\"\",\"\",INSCRIPCIÓN!B13)","v":""},{"$f":"'RECOGIDA DATOS'!D9","v":""},{"$f":"'RECOGIDA DATOS'!C9","v":""},{"$f":"'RECOGIDA DATOS'!E9","v":""},{"$f":"'RECOGIDA DATOS'!F9","v":""},{"$f":"'RECOGIDA DATOS'!G9","v":""},{"$f":"IF('RECOGIDA DATOS'!H9=\"\",\"\",'RECOGIDA DATOS'!H9)","v":""},{"$f":"IF('RECOGIDA DATOS'!I9=\"\",\"\",'RECOGIDA DATOS'!I9)","v":""},{"$f":"IF('RECOGIDA DATOS'!J9=\"\",\"\",'RECOGIDA DATOS'!J9)","v":""},{"$f":"IF('RECOGIDA DATOS'!K9=\"\",\"\",'RECOGIDA DATOS'!K9)","v":""},{"$f":"IF('RECOGIDA DATOS'!L9=\"\",\"\",'RECOGIDA DATOS'!L9)","v":""},{"$f":"IF('RECOGIDA DATOS'!M9=\"\",\"\",'RECOGIDA DATOS'!M9)","v":""},{"$f":"'RECOGIDA DATOS'!CZ9","v":""},{"$f":"'RECOGIDA DATOS'!DA9","v":""}]
[null,{"$f":"IF(INSCRIPCIÓN!B14=\"\",\"\",INSCRIPCIÓN!B14)","v":""},{"$f":"'RECOGIDA DATOS'!D10","v":""},{"$f":"'RECOGIDA DATOS'!C10","v":""},{"$f":"'RECOGIDA DATOS'!E10","v":""},{"$f":"'RECOGIDA DATOS'!F10","v":""},{"$f":"'RECOGIDA DATOS'!G10","v":""},{"$f":"IF('RECOGIDA DATOS'!H10=\"\",\"\",'RECOGIDA DATOS'!H10)","v":""},{"$f":"IF('RECOGIDA DATOS'!I10=\"\",\"\",'RECOGIDA DATOS'!I10)","v":""},{"$f":"IF('RECOGIDA DATOS'!J10=\"\",\"\",'RECOGIDA DATOS'!J10)","v":""},{"$f":"IF('RECOGIDA DATOS'!K10=\"\",\"\",'RECOGIDA DATOS'!K10)","v":""},{"$f":"IF('RECOGIDA DATOS'!L10=\"\",\"\",'RECOGIDA DATOS'!L10)","v":""},{"$f":"IF('RECOGIDA DATOS'!M10=\"\",\"\",'RECOGIDA DATOS'!M10)","v":""},{"$f":"'RECOGIDA DATOS'!CZ10","v":""},{"$f":"'RECOGIDA DATOS'!DA10","v":""}]
[null,{"$f":"IF(INSCRIPCIÓN!B15=\"\",\"\",INSCRIPCIÓN!B15)","v":""},{"$f":"'RECOGIDA DATOS'!D11","v":""},{"$f":"'RECOGIDA DATOS'!C11","v":""},{"$f":"'RECOGIDA DATOS'!E11","v":""},{"$f":"'RECOGIDA DATOS'!F11","v":""},{"$f":"'RECOGIDA DATOS'!G11","v":""},{"$f":"IF('RECOGIDA DATOS'!H11=\"\",\"\",'RECOGIDA DATOS'!H11)","v":""},{"$f":"IF('RECOGIDA DATOS'!I11=\"\",\"\",'RECOGIDA DATOS'!I11)","v":""},{"$f":"IF('RECOGIDA DATOS'!J11=\"\",\"\",'RECOGIDA DATOS'!J11)","v":""},{"$f":"IF('RECOGIDA DATOS'!K11=\"\",\"\",'RECOGIDA DATOS'!K11)","v":""},{"$f":"IF('RECOGIDA DATOS'!L11=\"\",\"\",'RECOGIDA DATOS'!L11)","v":""},{"$f":"IF('RECOGIDA DATOS'!M11=\"\",\"\",'RECOGIDA DATOS'!M11)","v":""},{"$f":"'RECOGIDA DATOS'!CZ11","v":""},{"$f":"'RECOGIDA DATOS'!DA11","v":""}]
[null,{"$f":"IF(INSCRIPCIÓN!B16=\"\",\"\",INSCRIPCIÓN!B16)","v":""},{"$f":"'RECOGIDA DATOS'!D12","v":""},{"$f":"'RECOGIDA DATOS'!C12","v":""},{"$f":"'RECOGIDA DATOS'!E12","v":""},{"$f":"'RECOGIDA DATOS'!F12","v":""},{"$f":"'RECOGIDA DATOS'!G12","v":""},{"$f":"IF('RECOGIDA DATOS'!H12=\"\",\"\",'RECOGIDA DATOS'!H12)","v":""},{"$f":"IF('RECOGIDA DATOS'!I12=\"\",\"\",'RECOGIDA DATOS'!I12)","v":""},{"$f":"IF('RECOGIDA DATOS'!J12=\"\",\"\",'RECOGIDA DATOS'!J12)","v":""},{"$f":"IF('RECOGIDA DATOS'!K12=\"\",\"\",'RECOGIDA DATOS'!K12)","v":""},{"$f":"IF('RECOGIDA DATOS'!L12=\"\",\"\",'RECOGIDA DATOS'!L12)","v":""},{"$f":"IF('RECOGIDA DATOS'!M12=\"\",\"\",'RECOGIDA DATOS'!M12)","v":""},{"$f":"'RECOGIDA DATOS'!CZ12","v":""},{"$f":"'RECOGIDA DATOS'!DA12","v":""}]
[null,{"$f":"IF(INSCRIPCIÓN!B17=\"\",\"\",INSCRIPCIÓN!B17)","v":""},{"$f":"'RECOGIDA DATOS'!D13","v":""},{"$f":"'RECOGIDA DATOS'!C13","v":""},{"$f":"'RECOGIDA DATOS'!E13","v":""},{"$f":"'RECOGIDA DATOS'!F13","v":""},{"$f":"'RECOGIDA DATOS'!G13","v":""},{"$f":"IF('RECOGIDA DATOS'!H13=\"\",\"\",'RECOGIDA DATOS'!H13)","v":""},{"$f":"IF('RECOGIDA DATOS'!I13=\"\",\"\",'RECOGIDA DATOS'!I13)","v":""},{"$f":"IF('RECOGIDA DATOS'!J13=\"\",\"\",'RECOGIDA DATOS'!J13)","v":""},{"$f":"IF('RECOGIDA DATOS'!K13=\"\",\"\",'RECOGIDA DATOS'!K13)","v":""},{"$f":"IF('RECOGIDA DATOS'!L13=\"\",\"\",'RECOGIDA DATOS'!L13)","v":""},{"$f":"IF('RECOGIDA DATOS'!M13=\"\",\"\",'RECOGIDA DATOS'!M13)","v":""},{"$f":"'RECOGIDA DATOS'!CZ13","v":""},{"$f":"'RECOGIDA DATOS'!DA13","v":""}]
[null,{"$f":"IF(INSCRIPCIÓN!B18=\"\",\"\",INSCRIPCIÓN!B18)","v":""},{"$f":"'RECOGIDA DATOS'!D14","v":""},{"$f":"'RECOGIDA DATOS'!C14","v":""},{"$f":"'RECOGIDA DATOS'!E14","v":""},{"$f":"'RECOGIDA DATOS'!F14","v":""},{"$f":"'RECOGIDA DATOS'!G14","v":""},{"$f":"IF('RECOGIDA DATOS'!H14=\"\",\"\",'RECOGIDA DATOS'!H14)","v":""},{"$f":"IF('RECOGIDA DATOS'!I14=\"\",\"\",'RECOGIDA DATOS'!I14)","v":""},{"$f":"IF('RECOGIDA DATOS'!J14=\"\",\"\",'RECOGIDA DATOS'!J14)","v":""},{"$f":"IF('RECOGIDA DATOS'!K14=\"\",\"\",'RECOGIDA DATOS'!K14)","v":""},{"$f":"IF('RECOGIDA DATOS'!L14=\"\",\"\",'RECOGIDA DATOS'!L14)","v":""},{"$f":"IF('RECOGIDA DATOS'!M14=\"\",\"\",'RECOGIDA DATOS'!M14)","v":""},{"$f":"'RECOGIDA DATOS'!CZ14","v":""},{"$f":"'RECOGIDA DATOS'!DA14","v":""}]
[null,{"$f":"IF(INSCRIPCIÓN!B19=\"\",\"\",INSCRIPCIÓN!B19)","v":""},{"$f":"'RECOGIDA DATOS'!D15","v":""},{"$f":"'RECOGIDA DATOS'!C15","v":""},{"$f":"'RECOGIDA DATOS'!E15","v":""},{"$f":"'RECOGIDA DATOS'!F15","v":""},{"$f":"'RECOGIDA DATOS'!G15","v":""},{"$f":"IF('RECOGIDA DATOS'!H15=\"\",\"\",'RECOGIDA DATOS'!H15)","v":""},{"$f":"IF('RECOGIDA DATOS'!I15=\"\",\"\",'RECOGIDA DATOS'!I15)","v":""},{"$f":"IF('RECOGIDA DATOS'!J15=\"\",\"\",'RECOGIDA DATOS'!J15)","v":""},{"$f":"IF('RECOGIDA DATOS'!K15=\"\",\"\",'RECOGIDA DATOS'!K15)","v":""},{"$f":"IF('RECOGIDA DATOS'!L15=\"\",\"\",'RECOGIDA DATOS'!L15)","v":""},{"$f":"IF('RECOGIDA DATOS'!M15=\"\",\"\",'RECOGIDA DATOS'!M15)","v":""},{"$f":"'RECOGIDA DATOS'!CZ15","v":""},{"$f":"'RECOGIDA DATOS'!DA15","v":""}]
[null,{"$f":"IF(INSCRIPCIÓN!B20=\"\",\"\",INSCRIPCIÓN!B20)","v":""},{"$f":"'RECOGIDA DATOS'!D16","v":""},{"$f":"'RECOGIDA DATOS'!C16","v":""},{"$f":"'RECOGIDA DATOS'!E16","v":""},{"$f":"'RECOGIDA DATOS'!F16","v":""},{"$f":"'RECOGIDA DATOS'!G16","v":""},{"$f":"IF('RECOGIDA DATOS'!H16=\"\",\"\",'RECOGIDA DATOS'!H16)","v":""},{"$f":"IF('RECOGIDA DATOS'!I16=\"\",\"\",'RECOGIDA DATOS'!I16)","v":""},{"$f":"IF('RECOGIDA DATOS'!J16=\"\",\"\",'RECOGIDA DATOS'!J16)","v":""},{"$f":"IF('RECOGIDA DATOS'!K16=\"\",\"\",'RECOGIDA DATOS'!K16)","v":""},{"$f":"IF('RECOGIDA DATOS'!L16=\"\",\"\",'RECOGIDA DATOS'!L16)","v":""},{"$f":"IF('RECOGIDA DATOS'!M16=\"\",\"\",'RECOGIDA DATOS'!M16)","v":""},{"$f":"'RECOGIDA DATOS'!CZ16","v":""},{"$f":"'RECOGIDA DATOS'!DA16","v":""}]
[null,{"$f":"IF(INSCRIPCIÓN!B21=\"\",\"\",INSCRIPCIÓN!B21)","v":""},{"$f":"'RECOGIDA DATOS'!D17","v":""},{"$f":"'RECOGIDA DATOS'!C17","v":""},{"$f":"'RECOGIDA DATOS'!E17","v":""},{"$f":"'RECOGIDA DATOS'!F17","v":""},{"$f":"'RECOGIDA DATOS'!G17","v":""},{"$f":"IF('RECOGIDA DATOS'!H17=\"\",\"\",'RECOGIDA DATOS'!H17)","v":""},{"$f":"IF('RECOGIDA DATOS'!I17=\"\",\"\",'RECOGIDA DATOS'!I17)","v":""},{"$f":"IF('RECOGIDA DATOS'!J17=\"\",\"\",'RECOGIDA DATOS'!J17)","v":""},{"$f":"IF('RECOGIDA DATOS'!K17=\"\",\"\",'RECOGIDA DATOS'!K17)","v":""},{"$f":"IF('RECOGIDA DATOS'!L17=\"\",\"\",'RECOGIDA DATOS'!L17)","v":""},{"$f":"IF('RECOGIDA DATOS'!M17=\"\",\"\",'RECOGIDA DATOS'!M17)","v":""},{"$f":"'RECOGIDA DATOS'!CZ17","v":""},{"$f":"'RECOGIDA DATOS'!DA17","v":""}]
[null,{"$f":"IF(INSCRIPCIÓN!B22=\"\",\"\",INSCRIPCIÓN!B22)","v":""},{"$f":"'RECOGIDA DATOS'!D18","v":""},{"$f":"'RECOGIDA DATOS'!C18","v":""},{"$f":"'RECOGIDA DATOS'!E18","v":""},{"$f":"'RECOGIDA DATOS'!F18","v":""},{"$f":"'RECOGIDA DATOS'!G18","v":""},{"$f":"IF('RECOGIDA DATOS'!H18=\"\",\"\",'RECOGIDA DATOS'!H18)","v":""},{"$f":"IF('RECOGIDA DATOS'!I18=\"\",\"\",'RECOGIDA DATOS'!I18)","v":""},{"$f":"IF('RECOGIDA DATOS'!J18=\"\",\"\",'RECOGIDA DATOS'!J18)","v":""},{"$f":"IF('RECOGIDA DATOS'!K18=\"\",\"\",'RECOGIDA DATOS'!K18)","v":""},{"$f":"IF('RECOGIDA DATOS'!L18=\"\",\"\",'RECOGIDA DATOS'!L18)","v":""},{"$f":"IF('RECOGIDA DATOS'!M18=\"\",\"\",'RECOGIDA DATOS'!M18)","v":""},{"$f":"'RECOGIDA DATOS'!CZ18","v":""},{"$f":"'RECOGIDA DATOS'!DA18","v":""}]
[null,{"$f":"IF(INSCRIPCIÓN!B23=\"\",\"\",INSCRIPCIÓN!B23)","v":""},{"$f":"'RECOGIDA DATOS'!D19","v":""},{"$f":"'RECOGIDA DATOS'!C19","v":""},{"$f":"'RECOGIDA DATOS'!E19","v":""},{"$f":"'RECOGIDA DATOS'!F19","v":""},{"$f":"'RECOGIDA DATOS'!G19","v":""},{"$f":"IF('RECOGIDA DATOS'!H19=\"\",\"\",'RECOGIDA DATOS'!H19)","v":""},{"$f":"IF('RECOGIDA DATOS'!I19=\"\",\"\",'RECOGIDA DATOS'!I19)","v":""},{"$f":"IF('RECOGIDA DATOS'!J19=\"\",\"\",'RECOGIDA DATOS'!J19)","v":""},{"$f":"IF('RECOGIDA DATOS'!K19=\"\",\"\",'RECOGIDA DATOS'!K19)","v":""},{"$f":"IF('RECOGIDA DATOS'!L19=\"\",\"\",'RECOGIDA DATOS'!L19)","v":""},{"$f":"IF('RECOGIDA DATOS'!M19=\"\",\"\",'RECOGIDA DATOS'!M19)","v":""},{"$f":"'RECOGIDA DATOS'!CZ19","v":""},{"$f":"'RECOGIDA DATOS'!DA19","v":""}]
[null,{"$f":"IF(INSCRIPCIÓN!B24=\"\",\"\",INSCRIPCIÓN!B24)","v":""},{"$f":"'RECOGIDA DATOS'!D20","v":""},{"$f":"'RECOGIDA DATOS'!C20","v":""},{"$f":"'RECOGIDA DATOS'!E20","v":""},{"$f":"'RECOGIDA DATOS'!F20","v":""},{"$f":"'RECOGIDA DATOS'!G20","v":""},{"$f":"IF('RECOGIDA DATOS'!H20=\"\",\"\",'RECOGIDA DATOS'!H20)","v":""},{"$f":"IF('RECOGIDA DATOS'!I20=\"\",\"\",'RECOGIDA DATOS'!I20)","v":""},{"$f":"IF('RECOGIDA DATOS'!J20=\"\",\"\",'RECOGIDA DATOS'!J20)","v":""},{"$f":"IF('RECOGIDA DATOS'!K20=\"\",\"\",'RECOGIDA DATOS'!K20)","v":""},{"$f":"IF('RECOGIDA DATOS'!L20=\"\",\"\",'RECOGIDA DATOS'!L20)","v":""},{"$f":"IF('RECOGIDA DATOS'!M20=\"\",\"\",'RECOGIDA DATOS'!M20)","v":""},{"$f":"'RECOGIDA DATOS'!CZ20","v":""},{"$f":"'RECOGIDA DATOS'!DA20","v":""}]
[null,{"$f":"IF(INSCRIPCIÓN!B25=\"\",\"\",INSCRIPCIÓN!B25)","v":""},{"$f":"'RECOGIDA DATOS'!D21","v":""},{"$f":"'RECOGIDA DATOS'!C21","v":""},{"$f":"'RECOGIDA DATOS'!E21","v":""},{"$f":"'RECOGIDA DATOS'!F21","v":""},{"$f":"'RECOGIDA DATOS'!G21","v":""},{"$f":"IF('RECOGIDA DATOS'!H21=\"\",\"\",'RECOGIDA DATOS'!H21)","v":""},{"$f":"IF('RECOGIDA DATOS'!I21=\"\",\"\",'RECOGIDA DATOS'!I21)","v":""},{"$f":"IF('RECOGIDA DATOS'!J21=\"\",\"\",'RECOGIDA DATOS'!J21)","v":""},{"$f":"IF('RECOGIDA DATOS'!K21=\"\",\"\",'RECOGIDA DATOS'!K21)","v":""},{"$f":"IF('RECOGIDA DATOS'!L21=\"\",\"\",'RECOGIDA DATOS'!L21)","v":""},{"$f":"IF('RECOGIDA DATOS'!M21=\"\",\"\",'RECOGIDA DATOS'!M21)","v":""},{"$f":"'RECOGIDA DATOS'!CZ21","v":""},{"$f":"'RECOGIDA DATOS'!DA21","v":""}]
[null,{"$f":"IF(INSCRIPCIÓN!B26=\"\",\"\",INSCRIPCIÓN!B26)","v":""},{"$f":"'RECOGIDA DATOS'!D22","v":""},{"$f":"'RECOGIDA DATOS'!C22","v":""},{"$f":"'RECOGIDA DATOS'!E22","v":""},{"$f":"'RECOGIDA DATOS'!F22","v":""},{"$f":"'RECOGIDA DATOS'!G22","v":""},{"$f":"IF('RECOGIDA DATOS'!H22=\"\",\"\",'RECOGIDA DATOS'!H22)","v":""},{"$f":"IF('RECOGIDA DATOS'!I22=\"\",\"\",'RECOGIDA DATOS'!I22)","v":""},{"$f":"IF('RECOGIDA DATOS'!J22=\"\",\"\",'RECOGIDA DATOS'!J22)","v":""},{"$f":"IF('RECOGIDA DATOS'!K22=\"\",\"\",'RECOGIDA DATOS'!K22)","v":""},{"$f":"IF('RECOGIDA DATOS'!L22=\"\",\"\",'RECOGIDA DATOS'!L22)","v":""},{"$f":"IF('RECOGIDA DATOS'!M22=\"\",\"\",'RECOGIDA DATOS'!M22)","v":""},{"$f":"'RECOGIDA DATOS'!CZ22","v":""},{"$f":"'RECOGIDA DATOS'!DA22","v":""}]
[null,{"$f":"IF(INSCRIPCIÓN!B27=\"\",\"\",INSCRIPCIÓN!B27)","v":""},{"$f":"'RECOGIDA DATOS'!D23","v":""},{"$f":"'RECOGIDA DATOS'!C23","v":""},{"$f":"'RECOGIDA DATOS'!E23","v":""},{"$f":"'RECOGIDA DATOS'!F23","v":""},{"$f":"'RECOGIDA DATOS'!G23","v":""},{"$f":"IF('RECOGIDA DATOS'!H23=\"\",\"\",'RECOGIDA DATOS'!H23)","v":""},{"$f":"IF('RECOGIDA DATOS'!I23=\"\",\"\",'RECOGIDA DATOS'!I23)","v":""},{"$f":"IF('RECOGIDA DATOS'!J23=\"\",\"\",'RECOGIDA DATOS'!J23)","v":""},{"$f":"IF('RECOGIDA DATOS'!K23=\"\",\"\",'RECOGIDA DATOS'!K23)","v":""},{"$f":"IF('RECOGIDA DATOS'!L23=\"\",\"\",'RECOGIDA DATOS'!L23)","v":""},{"$f":"IF('RECOGIDA DATOS'!M23=\"\",\"\",'RECOGIDA DATOS'!M23)","v":""},{"$f":"'RECOGIDA DATOS'!CZ23","v":""},{"$f":"'RECOGIDA DATOS'!DA23","v":""}]
[null,{"$f":"IF(INSCRIPCIÓN!B28=\"\",\"\",INSCRIPCIÓN!B28)","v":""},{"$f":"'RECOGIDA DATOS'!D24","v":""},{"$f":"'RECOGIDA DATOS'!C24","v":""},{"$f":"'RECOGIDA DATOS'!E24","v":""},{"$f":"'RECOGIDA DATOS'!F24","v":""},{"$f":"'RECOGIDA DATOS'!G24","v":""},{"$f":"IF('RECOGIDA DATOS'!H24=\"\",\"\",'RECOGIDA DATOS'!H24)","v":""},{"$f":"IF('RECOGIDA DATOS'!I24=\"\",\"\",'RECOGIDA DATOS'!I24)","v":""},{"$f":"IF('RECOGIDA DATOS'!J24=\"\",\"\",'RECOGIDA DATOS'!J24)","v":""},{"$f":"IF('RECOGIDA DATOS'!K24=\"\",\"\",'RECOGIDA DATOS'!K24)","v":""},{"$f":"IF('RECOGIDA DATOS'!L24=\"\",\"\",'RECOGIDA DATOS'!L24)","v":""},{"$f":"IF('RECOGIDA DATOS'!M24=\"\",\"\",'RECOGIDA DATOS'!M24)","v":""},{"$f":"'RECOGIDA DATOS'!CZ24","v":""},{"$f":"'RECOGIDA DATOS'!DA24","v":""}]
[null,{"$f":"IF(INSCRIPCIÓN!B29=\"\",\"\",INSCRIPCIÓN!B29)","v":""},{"$f":"'RECOGIDA DATOS'!D25","v":""},{"$f":"'RECOGIDA DATOS'!C25","v":""},{"$f":"'RECOGIDA DATOS'!E25","v":""},{"$f":"'RECOGIDA DATOS'!F25","v":""},{"$f":"'RECOGIDA DATOS'!G25","v":""},{"$f":"IF('RECOGIDA DATOS'!H25=\"\",\"\",'RECOGIDA DATOS'!H25)","v":""},{"$f":"IF('RECOGIDA DATOS'!I25=\"\",\"\",'RECOGIDA DATOS'!I25)","v":""},{"$f":"IF('RECOGIDA DATOS'!J25=\"\",\"\",'RECOGIDA DATOS'!J25)","v":""},{"$f":"IF('RECOGIDA DATOS'!K25=\"\",\"\",'RECOGIDA DATOS'!K25)","v":""},{"$f":"IF('RECOGIDA DATOS'!L25=\"\",\"\",'RECOGIDA DATOS'!L25)","v":""},{"$f":"IF('RECOGIDA DATOS'!M25=\"\",\"\",'RECOGIDA DATOS'!M25)","v":""},{"$f":"'RECOGIDA DATOS'!CZ25","v":""},{"$f":"'RECOGIDA DATOS'!DA25","v":""}]
[null,{"$f":"IF(INSCRIPCIÓN!B30=\"\",\"\",INSCRIPCIÓN!B30)","v":""},{"$f":"'RECOGIDA DATOS'!D26","v":""},{"$f":"'RECOGIDA DATOS'!C26","v":""},{"$f":"'RECOGIDA DATOS'!E26","v":""},{"$f":"'RECOGIDA DATOS'!F26","v":""},{"$f":"'RECOGIDA DATOS'!G26","v":""},{"$f":"IF('RECOGIDA DATOS'!H26=\"\",\"\",'RECOGIDA DATOS'!H26)","v":""},{"$f":"IF('RECOGIDA DATOS'!I26=\"\",\"\",'RECOGIDA DATOS'!I26)","v":""},{"$f":"IF('RECOGIDA DATOS'!J26=\"\",\"\",'RECOGIDA DATOS'!J26)","v":""},{"$f":"IF('RECOGIDA DATOS'!K26=\"\",\"\",'RECOGIDA DATOS'!K26)","v":""},{"$f":"IF('RECOGIDA DATOS'!L26=\"\",\"\",'RECOGIDA DATOS'!L26)","v":""},{"$f":"IF('RECOGIDA DATOS'!M26=\"\",\"\",'RECOGIDA DATOS'!M26)","v":""},{"$f":"'RECOGIDA DATOS'!CZ26","v":""},{"$f":"'RECOGIDA DATOS'!DA26","v":""}]
[null,{"$f":"IF(INSCRIPCIÓN!B31=\"\",\"\",INSCRIPCIÓN!B31)","v":""},{"$f":"'RECOGIDA DATOS'!D27","v":""},{"$f":"'RECOGIDA DATOS'!C27","v":""},{"$f":"'RECOGIDA DATOS'!E27","v":""},{"$f":"'RECOGIDA DATOS'!F27","v":""},{"$f":"'RECOGIDA DATOS'!G27","v":""},{"$f":"IF('RECOGIDA DATOS'!H27=\"\",\"\",'RECOGIDA DATOS'!H27)","v":""},{"$f":"IF('RECOGIDA DATOS'!I27=\"\",\"\",'RECOGIDA DATOS'!I27)","v":""},{"$f":"IF('RECOGIDA DATOS'!J27=\"\",\"\",'RECOGIDA DATOS'!J27)","v":""},{"$f":"IF('RECOGIDA DATOS'!K27=\"\",\"\",'RECOGIDA DATOS'!K27)","v":""},{"$f":"IF('RECOGIDA DATOS'!L27=\"\",\"\",'RECOGIDA DATOS'!L27)","v":""},{"$f":"IF('RECOGIDA DATOS'!M27=\"\",\"\",'RECOGIDA DATOS'!M27)","v":""},{"$f":"'RECOGIDA DATOS'!CZ27","v":""},{"$f":"'RECOGIDA DATOS'!DA27","v":""}]
[null,{"$f":"IF(INSCRIPCIÓN!B32=\"\",\"\",INSCRIPCIÓN!B32)","v":""},{"$f":"'RECOGIDA DATOS'!D28","v":""},{"$f":"'RECOGIDA DATOS'!C28","v":""},{"$f":"'RECOGIDA DATOS'!E28","v":""},{"$f":"'RECOGIDA DATOS'!F28","v":""},{"$f":"'RECOGIDA DATOS'!G28","v":""},{"$f":"IF('RECOGIDA DATOS'!H28=\"\",\"\",'RECOGIDA DATOS'!H28)","v":""},{"$f":"IF('RECOGIDA DATOS'!I28=\"\",\"\",'RECOGIDA DATOS'!I28)","v":""},{"$f":"IF('RECOGIDA DATOS'!J28=\"\",\"\",'RECOGIDA DATOS'!J28)","v":""},{"$f":"IF('RECOGIDA DATOS'!K28=\"\",\"\",'RECOGIDA DATOS'!K28)","v":""},{"$f":"IF('RECOGIDA DATOS'!L28=\"\",\"\",'RECOGIDA DATOS'!L28)","v":""},{"$f":"IF('RECOGIDA DATOS'!M28=\"\",\"\",'RECOGIDA DATOS'!M28)","v":""},{"$f":"'RECOGIDA DATOS'!CZ28","v":""},{"$f":"'RECOGIDA DATOS'!DA28","v":""}]
[null,{"$f":"IF(INSCRIPCIÓN!B33=\"\",\"\",INSCRIPCIÓN!B33)","v":""},{"$f":"'RECOGIDA DATOS'!D29","v":""},{"$f":"'RECOGIDA DATOS'!C29","v":""},{"$f":"'RECOGIDA DATOS'!E29","v":""},{"$f":"'RECOGIDA DATOS'!F29","v":""},{"$f":"'RECOGIDA DATOS'!G29","v":""},{"$f":"IF('RECOGIDA DATOS'!H29=\"\",\"\",'RECOGIDA DATOS'!H29)","v":""},{"$f":"IF('RECOGIDA DATOS'!I29=\"\",\"\",'RECOGIDA DATOS'!I29)","v":""},{"$f":"IF('RECOGIDA DATOS'!J29=\"\",\"\",'RECOGIDA DATOS'!J29)","v":""},{"$f":"IF('RECOGIDA DATOS'!K29=\"\",\"\",'RECOGIDA DATOS'!K29)","v":""},{"$f":"IF('RECOGIDA DATOS'!L29=\"\",\"\",'RECOGIDA DATOS'!L29)","v":""},{"$f":"IF('RECOGIDA DATOS'!M29=\"\",\"\",'RECOGIDA DATOS'!M29)","v":""},{"$f":"'RECOGIDA DATOS'!CZ29","v":""},{"$f":"'RECOGIDA DATOS'!DA29","v":""}]
[null,{"$f":"IF(INSCRIPCIÓN!B34=\"\",\"\",INSCRIPCIÓN!B34)","v":""},{"$f":"'RECOGIDA DATOS'!D30","v":""},{"$f":"'RECOGIDA DATOS'!C30","v":""},{"$f":"'RECOGIDA DATOS'!E30","v":""},{"$f":"'RECOGIDA DATOS'!F30","v":""},{"$f":"'RECOGIDA DATOS'!G30","v":""},{"$f":"IF('RECOGIDA DATOS'!H30=\"\",\"\",'RECOGIDA DATOS'!H30)","v":""},{"$f":"IF('RECOGIDA DATOS'!I30=\"\",\"\",'RECOGIDA DATOS'!I30)","v":""},{"$f":"IF('RECOGIDA DATOS'!J30=\"\",\"\",'RECOGIDA DATOS'!J30)","v":""},{"$f":"IF('RECOGIDA DATOS'!K30=\"\",\"\",'RECOGIDA DATOS'!K30)","v":""},{"$f":"IF('RECOGIDA DATOS'!L30=\"\",\"\",'RECOGIDA DATOS'!L30)","v":""},{"$f":"IF('RECOGIDA DATOS'!M30=\"\",\"\",'RECOGIDA DATOS'!M30)","v":""},{"$f":"'RECOGIDA DATOS'!CZ30","v":""},{"$f":"'RECOGIDA DATOS'!DA30","v":""}]
[null,{"$f":"IF(INSCRIPCIÓN!B35=\"\",\"\",INSCRIPCIÓN!B35)","v":""},{"$f":"'RECOGIDA DATOS'!D31","v":""},{"$f":"'RECOGIDA DATOS'!C31","v":""},{"$f":"'RECOGIDA DATOS'!E31","v":""},{"$f":"'RECOGIDA DATOS'!F31","v":""},{"$f":"'RECOGIDA DATOS'!G31","v":""},{"$f":"IF('RECOGIDA DATOS'!H31=\"\",\"\",'RECOGIDA DATOS'!H31)","v":""},{"$f":"IF('RECOGIDA DATOS'!I31=\"\",\"\",'RECOGIDA DATOS'!I31)","v":""},{"$f":"IF('RECOGIDA DATOS'!J31=\"\",\"\",'RECOGIDA DATOS'!J31)","v":""},{"$f":"IF('RECOGIDA DATOS'!K31=\"\",\"\",'RECOGIDA DATOS'!K31)","v":""},{"$f":"IF('RECOGIDA DATOS'!L31=\"\",\"\",'RECOGIDA DATOS'!L31)","v":""},{"$f":"IF('RECOGIDA DATOS'!M31=\"\",\"\",'RECOGIDA DATOS'!M31)","v":""},{"$f":"'RECOGIDA DATOS'!CZ31","v":""},{"$f":"'RECOGIDA DATOS'!DA31","v":""}]
[null,{"$f":"IF(INSCRIPCIÓN!B36=\"\",\"\",INSCRIPCIÓN!B36)","v":""},{"$f":"'RECOGIDA DATOS'!D32","v":""},{"$f":"'RECOGIDA DATOS'!C32","v":""},{"$f":"'RECOGIDA DATOS'!E32","v":""},{"$f":"'RECOGIDA DATOS'!F32","v":""},{"$f":"'RECOGIDA DATOS'!G32","v":""},{"$f":"IF('RECOGIDA DATOS'!H32=\"\",\"\",'RECOGIDA DATOS'!H32)","v":""},{"$f":"IF('RECOGIDA DATOS'!I32=\"\",\"\",'RECOGIDA DATOS'!I32)","v":""},{"$f":"IF('RECOGIDA DATOS'!J32=\"\",\"\",'RECOGIDA DATOS'!J32)","v":""},{"$f":"IF('RECOGIDA DATOS'!K32=\"\",\"\",'RECOGIDA DATOS'!K32)","v":""},{"$f":"IF('RECOGIDA DATOS'!L32=\"\",\"\",'RECOGIDA DATOS'!L32)","v":""},{"$f":"IF('RECOGIDA DATOS'!M32=\"\",\"\",'RECOGIDA DATOS'!M32)","v":""},{"$f":"'RECOGIDA DATOS'!CZ32","v":""},{"$f":"'RECOGIDA DATOS'!DA32","v":""}]
[null,{"$f":"IF(INSCRIPCIÓN!B37=\"\",\"\",INSCRIPCIÓN!B37)","v":""},{"$f":"'RECOGIDA DATOS'!D33","v":""},{"$f":"'RECOGIDA DATOS'!C33","v":""},{"$f":"'RECOGIDA DATOS'!E33","v":""},{"$f":"'RECOGIDA DATOS'!F33","v":""},{"$f":"'RECOGIDA DATOS'!G33","v":""},{"$f":"IF('RECOGIDA DATOS'!H33=\"\",\"\",'RECOGIDA DATOS'!H33)","v":""},{"$f":"IF('RECOGIDA DATOS'!I33=\"\",\"\",'RECOGIDA DATOS'!I33)","v":""},{"$f":"IF('RECOGIDA DATOS'!J33=\"\",\"\",'RECOGIDA DATOS'!J33)","v":""},{"$f":"IF('RECOGIDA DATOS'!K33=\"\",\"\",'RECOGIDA DATOS'!K33)","v":""},{"$f":"IF('RECOGIDA DATOS'!L33=\"\",\"\",'RECOGIDA DATOS'!L33)","v":""},{"$f":"IF('RECOGIDA DATOS'!M33=\"\",\"\",'RECOGIDA DATOS'!M33)","v":""},{"$f":"'RECOGIDA DATOS'!CZ33","v":""},{"$f":"'RECOGIDA DATOS'!DA33","v":""}]
[null,{"$f":"IF(INSCRIPCIÓN!B38=\"\",\"\",INSCRIPCIÓN!B38)","v":""},{"$f":"'RECOGIDA DATOS'!D34","v":""},{"$f":"'RECOGIDA DATOS'!C34","v":""},{"$f":"'RECOGIDA DATOS'!E34","v":""},{"$f":"'RECOGIDA DATOS'!F34","v":""},{"$f":"'RECOGIDA DATOS'!G34","v":""},{"$f":"IF('RECOGIDA DATOS'!H34=\"\",\"\",'RECOGIDA DATOS'!H34)","v":""},{"$f":"IF('RECOGIDA DATOS'!I34=\"\",\"\",'RECOGIDA DATOS'!I34)","v":""},{"$f":"IF('RECOGIDA DATOS'!J34=\"\",\"\",'RECOGIDA DATOS'!J34)","v":""},{"$f":"IF('RECOGIDA DATOS'!K34=\"\",\"\",'RECOGIDA DATOS'!K34)","v":""},{"$f":"IF('RECOGIDA DATOS'!L34=\"\",\"\",'RECOGIDA DATOS'!L34)","v":""},{"$f":"IF('RECOGIDA DATOS'!M34=\"\",\"\",'RECOGIDA DATOS'!M34)","v":""},{"$f":"'RECOGIDA DATOS'!CZ34","v":""},{"$f":"'RECOGIDA DATOS'!DA34","v":""}]
[null,{"$f":"IF(INSCRIPCIÓN!B39=\"\",\"\",INSCRIPCIÓN!B39)","v":""},{"$f":"'RECOGIDA DATOS'!D35","v":""},{"$f":"'RECOGIDA DATOS'!C35","v":""},{"$f":"'RECOGIDA DATOS'!E35","v":""},{"$f":"'RECOGIDA DATOS'!F35","v":""},{"$f":"'RECOGIDA DATOS'!G35","v":""},{"$f":"IF('RECOGIDA DATOS'!H35=\"\",\"\",'RECOGIDA DATOS'!H35)","v":""},{"$f":"IF('RECOGIDA DATOS'!I35=\"\",\"\",'RECOGIDA DATOS'!I35)","v":""},{"$f":"IF('RECOGIDA DATOS'!J35=\"\",\"\",'RECOGIDA DATOS'!J35)","v":""},{"$f":"IF('RECOGIDA DATOS'!K35=\"\",\"\",'RECOGIDA DATOS'!K35)","v":""},{"$f":"IF('RECOGIDA DATOS'!L35=\"\",\"\",'RECOGIDA DATOS'!L35)","v":""},{"$f":"IF('RECOGIDA DATOS'!M35=\"\",\"\",'RECOGIDA DATOS'!M35)","v":""},{"$f":"'RECOGIDA DATOS'!CZ35","v":""},{"$f":"'RECOGIDA DATOS'!DA35","v":""}]
[null,{"$f":"IF(INSCRIPCIÓN!B40=\"\",\"\",INSCRIPCIÓN!B40)","v":""},{"$f":"'RECOGIDA DATOS'!D36","v":""},{"$f":"'RECOGIDA DATOS'!C36","v":""},{"$f":"'RECOGIDA DATOS'!E36","v":""},{"$f":"'RECOGIDA DATOS'!F36","v":""},{"$f":"'RECOGIDA DATOS'!G36","v":""},{"$f":"IF('RECOGIDA DATOS'!H36=\"\",\"\",'RECOGIDA DATOS'!H36)","v":""},{"$f":"IF('RECOGIDA DATOS'!I36=\"\",\"\",'RECOGIDA DATOS'!I36)","v":""},{"$f":"IF('RECOGIDA DATOS'!J36=\"\",\"\",'RECOGIDA DATOS'!J36)","v":""},{"$f":"IF('RECOGIDA DATOS'!K36=\"\",\"\",'RECOGIDA DATOS'!K36)","v":""},{"$f":"IF('RECOGIDA DATOS'!L36=\"\",\"\",'RECOGIDA DATOS'!L36)","v":""},{"$f":"IF('RECOGIDA DATOS'!M36=\"\",\"\",'RECOGIDA DATOS'!M36)","v":""},{"$f":"'RECOGIDA DATOS'!CZ36","v":""},{"$f":"'RECOGIDA DATOS'!DA36","v":""}]
[null,{"$f":"IF(INSCRIPCIÓN!B41=\"\",\"\",INSCRIPCIÓN!B41)","v":""},{"$f":"'RECOGIDA DATOS'!D37","v":""},{"$f":"'RECOGIDA DATOS'!C37","v":""},{"$f":"'RECOGIDA DATOS'!E37","v":""},{"$f":"'RECOGIDA DATOS'!F37","v":""},{"$f":"'RECOGIDA DATOS'!G37","v":""},{"$f":"IF('RECOGIDA DATOS'!H37=\"\",\"\",'RECOGIDA DATOS'!H37)","v":""},{"$f":"IF('RECOGIDA DATOS'!I37=\"\",\"\",'RECOGIDA DATOS'!I37)","v":""},{"$f":"IF('RECOGIDA DATOS'!J37=\"\",\"\",'RECOGIDA DATOS'!J37)","v":""},{"$f":"IF('RECOGIDA DATOS'!K37=\"\",\"\",'RECOGIDA DATOS'!K37)","v":""},{"$f":"IF('RECOGIDA DATOS'!L37=\"\",\"\",'RECOGIDA DATOS'!L37)","v":""},{"$f":"IF('RECOGIDA DATOS'!M37=\"\",\"\",'RECOGIDA DATOS'!M37)","v":""},{"$f":"'RECOGIDA DATOS'!CZ37","v":""},{"$f":"'RECOGIDA DATOS'!DA37","v":""}]
[null,{"$f":"IF(INSCRIPCIÓN!B42=\"\",\"\",INSCRIPCIÓN!B42)","v":""},{"$f":"'RECOGIDA DATOS'!D38","v":""},{"$f":"'RECOGIDA DATOS'!C38","v":""},{"$f":"'RECOGIDA DATOS'!E38","v":""},{"$f":"'RECOGIDA DATOS'!F38","v":""},{"$f":"'RECOGIDA DATOS'!G38","v":""},{"$f":"IF('RECOGIDA DATOS'!H38=\"\",\"\",'RECOGIDA DATOS'!H38)","v":""},{"$f":"IF('RECOGIDA DATOS'!I38=\"\",\"\",'RECOGIDA DATOS'!I38)","v":""},{"$f":"IF('RECOGIDA DATOS'!J38=\"\",\"\",'RECOGIDA DATOS'!J38)","v":""},{"$f":"IF('RECOGIDA DATOS'!K38=\"\",\"\",'RECOGIDA DATOS'!K38)","v":""},{"$f":"IF('RECOGIDA DATOS'!L38=\"\",\"\",'RECOGIDA DATOS'!L38)","v":""},{"$f":"IF('RECOGIDA DATOS'!M38=\"\",\"\",'RECOGIDA DATOS'!M38)","v":""},{"$f":"'RECOGIDA DATOS'!CZ38","v":""},{"$f":"'RECOGIDA DATOS'!DA38","v":""}]
[null,{"$f":"IF(INSCRIPCIÓN!B43=\"\",\"\",INSCRIPCIÓN!B43)","v":""},{"$f":"'RECOGIDA DATOS'!D39","v":""},{"$f":"'RECOGIDA DATOS'!C39","v":""},{"$f":"'RECOGIDA DATOS'!E39","v":""},{"$f":"'RECOGIDA DATOS'!F39","v":""},{"$f":"'RECOGIDA DATOS'!G39","v":""},{"$f":"IF('RECOGIDA DATOS'!H39=\"\",\"\",'RECOGIDA DATOS'!H39)","v":""},{"$f":"IF('RECOGIDA DATOS'!I39=\"\",\"\",'RECOGIDA DATOS'!I39)","v":""},{"$f":"IF('RECOGIDA DATOS'!J39=\"\",\"\",'RECOGIDA DATOS'!J39)","v":""},{"$f":"IF('RECOGIDA DATOS'!K39=\"\",\"\",'RECOGIDA DATOS'!K39)","v":""},{"$f":"IF('RECOGIDA DATOS'!L39=\"\",\"\",'RECOGIDA DATOS'!L39)","v":""},{"$f":"IF('RECOGIDA DATOS'!M39=\"\",\"\",'RECOGIDA DATOS'!M39)","v":""},{"$f":"'RECOGIDA DATOS'!CZ39","v":""},{"$f":"'RECOGIDA DATOS'!DA39","v":""}]
[null,{"$f":"IF(INSCRIPCIÓN!B44=\"\",\"\",INSCRIPCIÓN!B44)","v":""},{"$f":"'RECOGIDA DATOS'!D40","v":""},{"$f":"'RECOGIDA DATOS'!C40","v":""},{"$f":"'RECOGIDA DATOS'!E40","v":""},{"$f":"'RECOGIDA DATOS'!F40","v":""},{"$f":"'RECOGIDA DATOS'!G40","v":""},{"$f":"IF('RECOGIDA DATOS'!H40=\"\",\"\",'RECOGIDA DATOS'!H40)","v":""},{"$f":"IF('RECOGIDA DATOS'!I40=\"\",\"\",'RECOGIDA DATOS'!I40)","v":""},{"$f":"IF('RECOGIDA DATOS'!J40=\"\",\"\",'RECOGIDA DATOS'!J40)","v":""},{"$f":"IF('RECOGIDA DATOS'!K40=\"\",\"\",'RECOGIDA DATOS'!K40)","v":""},{"$f":"IF('RECOGIDA DATOS'!L40=\"\",\"\",'RECOGIDA DATOS'!L40)","v":""},{"$f":"IF('RECOGIDA DATOS'!M40=\"\",\"\",'RECOGIDA DATOS'!M40)","v":""},{"$f":"'RECOGIDA DATOS'!CZ40","v":""},{"$f":"'RECOGIDA DATOS'!DA40","v":""}]
[null,{"$f":"IF(INSCRIPCIÓN!B45=\"\",\"\",INSCRIPCIÓN!B45)","v":""},{"$f":"'RECOGIDA DATOS'!D41","v":""},{"$f":"'RECOGIDA DATOS'!C41","v":""},{"$f":"'RECOGIDA DATOS'!E41","v":""},{"$f":"'RECOGIDA DATOS'!F41","v":""},{"$f":"'RECOGIDA DATOS'!G41","v":""},{"$f":"IF('RECOGIDA DATOS'!H41=\"\",\"\",'RECOGIDA DATOS'!H41)","v":""},{"$f":"IF('RECOGIDA DATOS'!I41=\"\",\"\",'RECOGIDA DATOS'!I41)","v":""},{"$f":"IF('RECOGIDA DATOS'!J41=\"\",\"\",'RECOGIDA DATOS'!J41)","v":""},{"$f":"IF('RECOGIDA DATOS'!K41=\"\",\"\",'RECOGIDA DATOS'!K41)","v":""},{"$f":"IF('RECOGIDA DATOS'!L41=\"\",\"\",'RECOGIDA DATOS'!L41)","v":""},{"$f":"IF('RECOGIDA DATOS'!M41=\"\",\"\",'RECOGIDA DATOS'!M41)","v":""},{"$f":"'RECOGIDA DATOS'!CZ41","v":""},{"$f":"'RECOGIDA DATOS'!DA41","v":""}]
[null,{"$f":"IF(INSCRIPCIÓN!B46=\"\",\"\",INSCRIPCIÓN!B46)","v":""},{"$f":"'RECOGIDA DATOS'!D42","v":""},{"$f":"'RECOGIDA DATOS'!C42","v":""},{"$f":"'RECOGIDA DATOS'!E42","v":""},{"$f":"'RECOGIDA DATOS'!F42","v":""},{"$f":"'RECOGIDA DATOS'!G42","v":""},{"$f":"IF('RECOGIDA DATOS'!H42=\"\",\"\",'RECOGIDA DATOS'!H42)","v":""},{"$f":"IF('RECOGIDA DATOS'!I42=\"\",\"\",'RECOGIDA DATOS'!I42)","v":""},{"$f":"IF('RECOGIDA DATOS'!J42=\"\",\"\",'RECOGIDA DATOS'!J42)","v":""},{"$f":"IF('RECOGIDA DATOS'!K42=\"\",\"\",'RECOGIDA DATOS'!K42)","v":""},{"$f":"IF('RECOGIDA DATOS'!L42=\"\",\"\",'RECOGIDA DATOS'!L42)","v":""},{"$f":"IF('RECOGIDA DATOS'!M42=\"\",\"\",'RECOGIDA DATOS'!M42)","v":""},{"$f":"'RECOGIDA DATOS'!CZ42","v":""},{"$f":"'RECOGIDA DATOS'!DA42","v":""}]
[null,{"$f":"IF(INSCRIPCIÓN!B47=\"\",\"\",INSCRIPCIÓN!B47)","v":""},{"$f":"'RECOGIDA DATOS'!D43","v":""},{"$f":"'RECOGIDA DATOS'!C43","v":""},{"$f":"'RECOGIDA DATOS'!E43","v":""},{"$f":"'RECOGIDA DATOS'!F43","v":""},{"$f":"'RECOGIDA DATOS'!G43","v":""},{"$f":"IF('RECOGIDA DATOS'!H43=\"\",\"\",'RECOGIDA DATOS'!H43)","v":""},{"$f":"IF('RECOGIDA DATOS'!I43=\"\",\"\",'RECOGIDA DATOS'!I43)","v":""},{"$f":"IF('RECOGIDA DATOS'!J43=\"\",\"\",'RECOGIDA DATOS'!J43)","v":""},{"$f":"IF('RECOGIDA DATOS'!K43=\"\",\"\",'RECOGIDA DATOS'!K43)","v":""},{"$f":"IF('RECOGIDA DATOS'!L43=\"\",\"\",'RECOGIDA DATOS'!L43)","v":""},{"$f":"IF('RECOGIDA DATOS'!M43=\"\",\"\",'RECOGIDA DATOS'!M43)","v":""},{"$f":"'RECOGIDA DATOS'!CZ43","v":""},{"$f":"'RECOGIDA DATOS'!DA43","v":""}]
[null,{"$f":"IF(INSCRIPCIÓN!B48=\"\",\"\",INSCRIPCIÓN!B48)","v":""},{"$f":"'RECOGIDA DATOS'!D44","v":""},{"$f":"'RECOGIDA DATOS'!C44","v":""},{"$f":"'RECOGIDA DATOS'!E44","v":""},{"$f":"'RECOGIDA DATOS'!F44","v":""},{"$f":"'RECOGIDA DATOS'!G44","v":""},{"$f":"IF('RECOGIDA DATOS'!H44=\"\",\"\",'RECOGIDA DATOS'!H44)","v":""},{"$f":"IF('RECOGIDA DATOS'!I44=\"\",\"\",'RECOGIDA DATOS'!I44)","v":""},{"$f":"IF('RECOGIDA DATOS'!J44=\"\",\"\",'RECOGIDA DATOS'!J44)","v":""},{"$f":"IF('RECOGIDA DATOS'!K44=\"\",\"\",'RECOGIDA DATOS'!K44)","v":""},{"$f":"IF('RECOGIDA DATOS'!L44=\"\",\"\",'RECOGIDA DATOS'!L44)","v":""},{"$f":"IF('RECOGIDA DATOS'!M44=\"\",\"\",'RECOGIDA DATOS'!M44)","v":""},{"$f":"'RECOGIDA DATOS'!CZ44","v":""},{"$f":"'RECOGIDA DATOS'!DA44","v":""}]
[null,{"$f":"IF(INSCRIPCIÓN!B49=\"\",\"\",INSCRIPCIÓN!B49)","v":""},{"$f":"'RECOGIDA DATOS'!D45","v":""},{"$f":"'RECOGIDA DATOS'!C45","v":""},{"$f":"'RECOGIDA DATOS'!E45","v":""},{"$f":"'RECOGIDA DATOS'!F45","v":""},{"$f":"'RECOGIDA DATOS'!G45","v":""},{"$f":"IF('RECOGIDA DATOS'!H45=\"\",\"\",'RECOGIDA DATOS'!H45)","v":""},{"$f":"IF('RECOGIDA DATOS'!I45=\"\",\"\",'RECOGIDA DATOS'!I45)","v":""},{"$f":"IF('RECOGIDA DATOS'!J45=\"\",\"\",'RECOGIDA DATOS'!J45)","v":""},{"$f":"IF('RECOGIDA DATOS'!K45=\"\",\"\",'RECOGIDA DATOS'!K45)","v":""},{"$f":"IF('RECOGIDA DATOS'!L45=\"\",\"\",'RECOGIDA DATOS'!L45)","v":""},{"$f":"IF('RECOGIDA DATOS'!M45=\"\",\"\",'RECOGIDA DATOS'!M45)","v":""},{"$f":"'RECOGIDA DATOS'!CZ45","v":""},{"$f":"'RECOGIDA DATOS'!DA45","v":""}]
[null,{"$f":"IF(INSCRIPCIÓN!B50=\"\",\"\",INSCRIPCIÓN!B50)","v":""},{"$f":"'RECOGIDA DATOS'!D46","v":""},{"$f":"'RECOGIDA DATOS'!C46","v":""},{"$f":"'RECOGIDA DATOS'!E46","v":""},{"$f":"'RECOGIDA DATOS'!F46","v":""},{"$f":"'RECOGIDA DATOS'!G46","v":""},{"$f":"IF('RECOGIDA DATOS'!H46=\"\",\"\",'RECOGIDA DATOS'!H46)","v":""},{"$f":"IF('RECOGIDA DATOS'!I46=\"\",\"\",'RECOGIDA DATOS'!I46)","v":""},{"$f":"IF('RECOGIDA DATOS'!J46=\"\",\"\",'RECOGIDA DATOS'!J46)","v":""},{"$f":"IF('RECOGIDA DATOS'!K46=\"\",\"\",'RECOGIDA DATOS'!K46)","v":""},{"$f":"IF('RECOGIDA DATOS'!L46=\"\",\"\",'RECOGIDA DATOS'!L46)","v":""},{"$f":"IF('RECOGIDA DATOS'!M46=\"\",\"\",'RECOGIDA DATOS'!M46)","v":""},{"$f":"'RECOGIDA DATOS'!CZ46","v":""},{"$f":"'RECOGIDA DATOS'!DA46","v":""}]
[null,{"$f":"IF(INSCRIPCIÓN!B51=\"\",\"\",INSCRIPCIÓN!B51)","v":""},{"$f":"'RECOGIDA DATOS'!D47","v":""},{"$f":"'RECOGIDA DATOS'!C47","v":""},{"$f":"'RECOGIDA DATOS'!E47","v":""},{"$f":"'RECOGIDA DATOS'!F47","v":""},{"$f":"'RECOGIDA DATOS'!G47","v":""},{"$f":"IF('RECOGIDA DATOS'!H47=\"\",\"\",'RECOGIDA DATOS'!H47)","v":""},{"$f":"IF('RECOGIDA DATOS'!I47=\"\",\"\",'RECOGIDA DATOS'!I47)","v":""},{"$f":"IF('RECOGIDA DATOS'!J47=\"\",\"\",'RECOGIDA DATOS'!J47)","v":""},{"$f":"IF('RECOGIDA DATOS'!K47=\"\",\"\",'RECOGIDA DATOS'!K47)","v":""},{"$f":"IF('RECOGIDA DATOS'!L47=\"\",\"\",'RECOGIDA DATOS'!L47)","v":""},{"$f":"IF('RECOGIDA DATOS'!M47=\"\",\"\",'RECOGIDA DATOS'!M47)","v":""},{"$f":"'RECOGIDA DATOS'!CZ47","v":""},{"$f":"'RECOGIDA DATOS'!DA47","v":""}]
[null,{"$f":"IF(INSCRIPCIÓN!B52=\"\",\"\",INSCRIPCIÓN!B52)","v":""},{"$f":"'RECOGIDA DATOS'!D48","v":""},{"$f":"'RECOGIDA DATOS'!C48","v":""},{"$f":"'RECOGIDA DATOS'!E48","v":""},{"$f":"'RECOGIDA DATOS'!F48","v":""},{"$f":"'RECOGIDA DATOS'!G48","v":""},{"$f":"IF('RECOGIDA DATOS'!H48=\"\",\"\",'RECOGIDA DATOS'!H48)","v":""},{"$f":"IF('RECOGIDA DATOS'!I48=\"\",\"\",'RECOGIDA DATOS'!I48)","v":""},{"$f":"IF('RECOGIDA DATOS'!J48=\"\",\"\",'RECOGIDA DATOS'!J48)","v":""},{"$f":"IF('RECOGIDA DATOS'!K48=\"\",\"\",'RECOGIDA DATOS'!K48)","v":""},{"$f":"IF('RECOGIDA DATOS'!L48=\"\",\"\",'RECOGIDA DATOS'!L48)","v":""},{"$f":"IF('RECOGIDA DATOS'!M48=\"\",\"\",'RECOGIDA DATOS'!M48)","v":""},{"$f":"'RECOGIDA DATOS'!CZ48","v":""},{"$f":"'RECOGIDA DATOS'!DA48","v":""}]
[null,{"$f":"IF(INSCRIPCIÓN!B53=\"\",\"\",INSCRIPCIÓN!B53)","v":""},{"$f":"'RECOGIDA DATOS'!D49","v":""},{"$f":"'RECOGIDA DATOS'!C49","v":""},{"$f":"'RECOGIDA DATOS'!E49","v":""},{"$f":"'RECOGIDA DATOS'!F49","v":""},{"$f":"'RECOGIDA DATOS'!G49","v":""},{"$f":"IF('RECOGIDA DATOS'!H49=\"\",\"\",'RECOGIDA DATOS'!H49)","v":""},{"$f":"IF('RECOGIDA DATOS'!I49=\"\",\"\",'RECOGIDA DATOS'!I49)","v":""},{"$f":"IF('RECOGIDA DATOS'!J49=\"\",\"\",'RECOGIDA DATOS'!J49)","v":""},{"$f":"IF('RECOGIDA DATOS'!K49=\"\",\"\",'RECOGIDA DATOS'!K49)","v":""},{"$f":"IF('RECOGIDA DATOS'!L49=\"\",\"\",'RECOGIDA DATOS'!L49)","v":""},{"$f":"IF('RECOGIDA DATOS'!M49=\"\",\"\",'RECOGIDA DATOS'!M49)","v":""},{"$f":"'RECOGIDA DATOS'!CZ49","v":""},{"$f":"'RECOGIDA DATOS'!DA49","v":""}]
[null,{"$f":"IF(INSCRIPCIÓN!B54=\"\",\"\",INSCRIPCIÓN!B54)","v":""},{"$f":"'RECOGIDA DATOS'!D50","v":""},{"$f":"'RECOGIDA DATOS'!C50","v":""},{"$f":"'RECOGIDA DATOS'!E50","v":""},{"$f":"'RECOGIDA DATOS'!F50","v":""},{"$f":"'RECOGIDA DATOS'!G50","v":""},{"$f":"IF('RECOGIDA DATOS'!H50=\"\",\"\",'RECOGIDA DATOS'!H50)","v":""},{"$f":"IF('RECOGIDA DATOS'!I50=\"\",\"\",'RECOGIDA DATOS'!I50)","v":""},{"$f":"IF('RECOGIDA DATOS'!J50=\"\",\"\",'RECOGIDA DATOS'!J50)","v":""},{"$f":"IF('RECOGIDA DATOS'!K50=\"\",\"\",'RECOGIDA DATOS'!K50)","v":""},{"$f":"IF('RECOGIDA DATOS'!L50=\"\",\"\",'RECOGIDA DATOS'!L50)","v":""},{"$f":"IF('RECOGIDA DATOS'!M50=\"\",\"\",'RECOGIDA DATOS'!M50)","v":""},{"$f":"'RECOGIDA DATOS'!CZ50","v":""},{"$f":"'RECOGIDA DATOS'!DA50","v":""}]
[null,{"$f":"IF(INSCRIPCIÓN!B55=\"\",\"\",INSCRIPCIÓN!B55)","v":""},{"$f":"'RECOGIDA DATOS'!D51","v":""},{"$f":"'RECOGIDA DATOS'!C51","v":""},{"$f":"'RECOGIDA DATOS'!E51","v":""},{"$f":"'RECOGIDA DATOS'!F51","v":""},{"$f":"'RECOGIDA DATOS'!G51","v":""},{"$f":"IF('RECOGIDA DATOS'!H51=\"\",\"\",'RECOGIDA DATOS'!H51)","v":""},{"$f":"IF('RECOGIDA DATOS'!I51=\"\",\"\",'RECOGIDA DATOS'!I51)","v":""},{"$f":"IF('RECOGIDA DATOS'!J51=\"\",\"\",'RECOGIDA DATOS'!J51)","v":""},{"$f":"IF('RECOGIDA DATOS'!K51=\"\",\"\",'RECOGIDA DATOS'!K51)","v":""},{"$f":"IF('RECOGIDA DATOS'!L51=\"\",\"\",'RECOGIDA DATOS'!L51)","v":""},{"$f":"IF('RECOGIDA DATOS'!M51=\"\",\"\",'RECOGIDA DATOS'!M51)","v":""},{"$f":"'RECOGIDA DATOS'!CZ51","v":""},{"$f":"'RECOGIDA DATOS'!DA51","v":""}]
[null,{"$f":"IF(INSCRIPCIÓN!B56=\"\",\"\",INSCRIPCIÓN!B56)","v":""},{"$f":"'RECOGIDA DATOS'!D52","v":""},{"$f":"'RECOGIDA DATOS'!C52","v":""},{"$f":"'RECOGIDA DATOS'!E52","v":""},{"$f":"'RECOGIDA DATOS'!F52","v":""},{"$f":"'RECOGIDA DATOS'!G52","v":""},{"$f":"IF('RECOGIDA DATOS'!H52=\"\",\"\",'RECOGIDA DATOS'!H52)","v":""},{"$f":"IF('RECOGIDA DATOS'!I52=\"\",\"\",'RECOGIDA DATOS'!I52)","v":""},{"$f":"IF('RECOGIDA DATOS'!J52=\"\",\"\",'RECOGIDA DATOS'!J52)","v":""},{"$f":"IF('RECOGIDA DATOS'!K52=\"\",\"\",'RECOGIDA DATOS'!K52)","v":""},{"$f":"IF('RECOGIDA DATOS'!L52=\"\",\"\",'RECOGIDA DATOS'!L52)","v":""},{"$f":"IF('RECOGIDA DATOS'!M52=\"\",\"\",'RECOGIDA DATOS'!M52)","v":""},{"$f":"'RECOGIDA DATOS'!CZ52","v":""},{"$f":"'RECOGIDA DATOS'!DA52","v":""}]
[null,{"$f":"IF(INSCRIPCIÓN!B57=\"\",\"\",INSCRIPCIÓN!B57)","v":""},{"$f":"'RECOGIDA DATOS'!D53","v":""},{"$f":"'RECOGIDA DATOS'!C53","v":""},{"$f":"'RECOGIDA DATOS'!E53","v":""},{"$f":"'RECOGIDA DATOS'!F53","v":""},{"$f":"'RECOGIDA DATOS'!G53","v":""},{"$f":"IF('RECOGIDA DATOS'!H53=\"\",\"\",'RECOGIDA DATOS'!H53)","v":""},{"$f":"IF('RECOGIDA DATOS'!I53=\"\",\"\",'RECOGIDA DATOS'!I53)","v":""},{"$f":"IF('RECOGIDA DATOS'!J53=\"\",\"\",'RECOGIDA DATOS'!J53)","v":""},{"$f":"IF('RECOGIDA DATOS'!K53=\"\",\"\",'RECOGIDA DATOS'!K53)","v":""},{"$f":"IF('RECOGIDA DATOS'!L53=\"\",\"\",'RECOGIDA DATOS'!L53)","v":""},{"$f":"IF('RECOGIDA DATOS'!M53=\"\",\"\",'RECOGIDA DATOS'!M53)","v":""},{"$f":"'RECOGIDA DATOS'!CZ53","v":""},{"$f":"'RECOGIDA DATOS'!DA53","v":""}]
[null,{"$f":"IF(INSCRIPCIÓN!B58=\"\",\"\",INSCRIPCIÓN!B58)","v":""},{"$f":"'RECOGIDA DATOS'!D54","v":""},{"$f":"'RECOGIDA DATOS'!C54","v":""},{"$f":"'RECOGIDA DATOS'!E54","v":""},{"$f":"'RECOGIDA DATOS'!F54","v":""},{"$f":"'RECOGIDA DATOS'!G54","v":""},{"$f":"IF('RECOGIDA DATOS'!H54=\"\",\"\",'RECOGIDA DATOS'!H54)","v":""},{"$f":"IF('RECOGIDA DATOS'!I54=\"\",\"\",'RECOGIDA DATOS'!I54)","v":""},{"$f":"IF('RECOGIDA DATOS'!J54=\"\",\"\",'RECOGIDA DATOS'!J54)","v":""},{"$f":"IF('RECOGIDA DATOS'!K54=\"\",\"\",'RECOGIDA DATOS'!K54)","v":""},{"$f":"IF('RECOGIDA DATOS'!L54=\"\",\"\",'RECOGIDA DATOS'!L54)","v":""},{"$f":"IF('RECOGIDA DATOS'!M54=\"\",\"\",'RECOGIDA DATOS'!M54)","v":""},{"$f":"'RECOGIDA DATOS'!CZ54","v":""},{"$f":"'RECOGIDA DATOS'!DA54","v":""}]
[null,{"$f":"IF(INSCRIPCIÓN!B59=\"\",\"\",INSCRIPCIÓN!B59)","v":""},{"$f":"'RECOGIDA DATOS'!D55","v":""},{"$f":"'RECOGIDA DATOS'!C55","v":""},{"$f":"'RECOGIDA DATOS'!E55","v":""},{"$f":"'RECOGIDA DATOS'!F55","v":""},{"$f":"'RECOGIDA DATOS'!G55","v":""},{"$f":"IF('RECOGIDA DATOS'!H55=\"\",\"\",'RECOGIDA DATOS'!H55)","v":""},{"$f":"IF('RECOGIDA DATOS'!I55=\"\",\"\",'RECOGIDA DATOS'!I55)","v":""},{"$f":"IF('RECOGIDA DATOS'!J55=\"\",\"\",'RECOGIDA DATOS'!J55)","v":""},{"$f":"IF('RECOGIDA DATOS'!K55=\"\",\"\",'RECOGIDA DATOS'!K55)","v":""},{"$f":"IF('RECOGIDA DATOS'!L55=\"\",\"\",'RECOGIDA DATOS'!L55)","v":""},{"$f":"IF('RECOGIDA DATOS'!M55=\"\",\"\",'RECOGIDA DATOS'!M55)","v":""},{"$f":"'RECOGIDA DATOS'!CZ55","v":""},{"$f":"'RECOGIDA DATOS'!DA55","v":""}]
[null,{"$f":"IF(INSCRIPCIÓN!B60=\"\",\"\",INSCRIPCIÓN!B60)","v":""},{"$f":"'RECOGIDA DATOS'!D56","v":""},{"$f":"'RECOGIDA DATOS'!C56","v":""},{"$f":"'RECOGIDA DATOS'!E56","v":""},{"$f":"'RECOGIDA DATOS'!F56","v":""},{"$f":"'RECOGIDA DATOS'!G56","v":""},{"$f":"IF('RECOGIDA DATOS'!H56=\"\",\"\",'RECOGIDA DATOS'!H56)","v":""},{"$f":"IF('RECOGIDA DATOS'!I56=\"\",\"\",'RECOGIDA DATOS'!I56)","v":""},{"$f":"IF('RECOGIDA DATOS'!J56=\"\",\"\",'RECOGIDA DATOS'!J56)","v":""},{"$f":"IF('RECOGIDA DATOS'!K56=\"\",\"\",'RECOGIDA DATOS'!K56)","v":""},{"$f":"IF('RECOGIDA DATOS'!L56=\"\",\"\",'RECOGIDA DATOS'!L56)","v":""},{"$f":"IF('RECOGIDA DATOS'!M56=\"\",\"\",'RECOGIDA DATOS'!M56)","v":""},{"$f":"'RECOGIDA DATOS'!CZ56","v":""},{"$f":"'RECOGIDA DATOS'!DA56","v":""}]
[null,{"$f":"IF(INSCRIPCIÓN!B61=\"\",\"\",INSCRIPCIÓN!B61)","v":""},{"$f":"'RECOGIDA DATOS'!D57","v":""},{"$f":"'RECOGIDA DATOS'!C57","v":""},{"$f":"'RECOGIDA DATOS'!E57","v":""},{"$f":"'RECOGIDA DATOS'!F57","v":""},{"$f":"'RECOGIDA DATOS'!G57","v":""},{"$f":"IF('RECOGIDA DATOS'!H57=\"\",\"\",'RECOGIDA DATOS'!H57)","v":""},{"$f":"IF('RECOGIDA DATOS'!I57=\"\",\"\",'RECOGIDA DATOS'!I57)","v":""},{"$f":"IF('RECOGIDA DATOS'!J57=\"\",\"\",'RECOGIDA DATOS'!J57)","v":""},{"$f":"IF('RECOGIDA DATOS'!K57=\"\",\"\",'RECOGIDA DATOS'!K57)","v":""},{"$f":"IF('RECOGIDA DATOS'!L57=\"\",\"\",'RECOGIDA DATOS'!L57)","v":""},{"$f":"IF('RECOGIDA DATOS'!M57=\"\",\"\",'RECOGIDA DATOS'!M57)","v":""},{"$f":"'RECOGIDA DATOS'!CZ57","v":""},{"$f":"'RECOGIDA DATOS'!DA57","v":""}]
[null,{"$f":"IF(INSCRIPCIÓN!B62=\"\",\"\",INSCRIPCIÓN!B62)","v":""},{"$f":"'RECOGIDA DATOS'!D58","v":""},{"$f":"'RECOGIDA DATOS'!C58","v":""},{"$f":"'RECOGIDA DATOS'!E58","v":""},{"$f":"'RECOGIDA DATOS'!F58","v":""},{"$f":"'RECOGIDA DATOS'!G58","v":""},{"$f":"IF('RECOGIDA DATOS'!H58=\"\",\"\",'RECOGIDA DATOS'!H58)","v":""},{"$f":"IF('RECOGIDA DATOS'!I58=\"\",\"\",'RECOGIDA DATOS'!I58)","v":""},{"$f":"IF('RECOGIDA DATOS'!J58=\"\",\"\",'RECOGIDA DATOS'!J58)","v":""},{"$f":"IF('RECOGIDA DATOS'!K58=\"\",\"\",'RECOGIDA DATOS'!K58)","v":""},{"$f":"IF('RECOGIDA DATOS'!L58=\"\",\"\",'RECOGIDA DATOS'!L58)","v":""},{"$f":"IF('RECOGIDA DATOS'!M58=\"\",\"\",'RECOGIDA DATOS'!M58)","v":""},{"$f":"'RECOGIDA DATOS'!CZ58","v":""},{"$f":"'RECOGIDA DATOS'!DA58","v":""}]
[null,{"$f":"IF(INSCRIPCIÓN!B63=\"\",\"\",INSCRIPCIÓN!B63)","v":""},{"$f":"'RECOGIDA DATOS'!D59","v":""},{"$f":"'RECOGIDA DATOS'!C59","v":""},{"$f":"'RECOGIDA DATOS'!E59","v":""},{"$f":"'RECOGIDA DATOS'!F59","v":""},{"$f":"'RECOGIDA DATOS'!G59","v":""},{"$f":"IF('RECOGIDA DATOS'!H59=\"\",\"\",'RECOGIDA DATOS'!H59)","v":""},{"$f":"IF('RECOGIDA DATOS'!I59=\"\",\"\",'RECOGIDA DATOS'!I59)","v":""},{"$f":"IF('RECOGIDA DATOS'!J59=\"\",\"\",'RECOGIDA DATOS'!J59)","v":""},{"$f":"IF('RECOGIDA DATOS'!K59=\"\",\"\",'RECOGIDA DATOS'!K59)","v":""},{"$f":"IF('RECOGIDA DATOS'!L59=\"\",\"\",'RECOGIDA DATOS'!L59)","v":""},{"$f":"IF('RECOGIDA DATOS'!M59=\"\",\"\",'RECOGIDA DATOS'!M59)","v":""},{"$f":"'RECOGIDA DATOS'!CZ59","v":""},{"$f":"'RECOGIDA DATOS'!DA59","v":""}]
[null,{"$f":"IF(INSCRIPCIÓN!B64=\"\",\"\",INSCRIPCIÓN!B64)","v":""},{"$f":"'RECOGIDA DATOS'!D60","v":""},{"$f":"'RECOGIDA DATOS'!C60","v":""},{"$f":"'RECOGIDA DATOS'!E60","v":""},{"$f":"'RECOGIDA DATOS'!F60","v":""},{"$f":"'RECOGIDA DATOS'!G60","v":""},{"$f":"IF('RECOGIDA DATOS'!H60=\"\",\"\",'RECOGIDA DATOS'!H60)","v":""},{"$f":"IF('RECOGIDA DATOS'!I60=\"\",\"\",'RECOGIDA DATOS'!I60)","v":""},{"$f":"IF('RECOGIDA DATOS'!J60=\"\",\"\",'RECOGIDA DATOS'!J60)","v":""},{"$f":"IF('RECOGIDA DATOS'!K60=\"\",\"\",'RECOGIDA DATOS'!K60)","v":""},{"$f":"IF('RECOGIDA DATOS'!L60=\"\",\"\",'RECOGIDA DATOS'!L60)","v":""},{"$f":"IF('RECOGIDA DATOS'!M60=\"\",\"\",'RECOGIDA DATOS'!M60)","v":""},{"$f":"'RECOGIDA DATOS'!CZ60","v":""},{"$f":"'RECOGIDA DATOS'!DA60","v":""}]
[null,{"$f":"IF(INSCRIPCIÓN!B65=\"\",\"\",INSCRIPCIÓN!B65)","v":""},{"$f":"'RECOGIDA DATOS'!D61","v":""},{"$f":"'RECOGIDA DATOS'!C61","v":""},{"$f":"'RECOGIDA DATOS'!E61","v":""},{"$f":"'RECOGIDA DATOS'!F61","v":""},{"$f":"'RECOGIDA DATOS'!G61","v":""},{"$f":"IF('RECOGIDA DATOS'!H61=\"\",\"\",'RECOGIDA DATOS'!H61)","v":""},{"$f":"IF('RECOGIDA DATOS'!I61=\"\",\"\",'RECOGIDA DATOS'!I61)","v":""},{"$f":"IF('RECOGIDA DATOS'!J61=\"\",\"\",'RECOGIDA DATOS'!J61)","v":""},{"$f":"IF('RECOGIDA DATOS'!K61=\"\",\"\",'RECOGIDA DATOS'!K61)","v":""},{"$f":"IF('RECOGIDA DATOS'!L61=\"\",\"\",'RECOGIDA DATOS'!L61)","v":""},{"$f":"IF('RECOGIDA DATOS'!M61=\"\",\"\",'RECOGIDA DATOS'!M61)","v":""},{"$f":"'RECOGIDA DATOS'!CZ61","v":""},{"$f":"'RECOGIDA DATOS'!DA61","v":""}]
[null,{"$f":"IF(INSCRIPCIÓN!B66=\"\",\"\",INSCRIPCIÓN!B66)","v":""},{"$f":"'RECOGIDA DATOS'!D62","v":""},{"$f":"'RECOGIDA DATOS'!C62","v":""},{"$f":"'RECOGIDA DATOS'!E62","v":""},{"$f":"'RECOGIDA DATOS'!F62","v":""},{"$f":"'RECOGIDA DATOS'!G62","v":""},{"$f":"IF('RECOGIDA DATOS'!H62=\"\",\"\",'RECOGIDA DATOS'!H62)","v":""},{"$f":"IF('RECOGIDA DATOS'!I62=\"\",\"\",'RECOGIDA DATOS'!I62)","v":""},{"$f":"IF('RECOGIDA DATOS'!J62=\"\",\"\",'RECOGIDA DATOS'!J62)","v":""},{"$f":"IF('RECOGIDA DATOS'!K62=\"\",\"\",'RECOGIDA DATOS'!K62)","v":""},{"$f":"IF('RECOGIDA DATOS'!L62=\"\",\"\",'RECOGIDA DATOS'!L62)","v":""},{"$f":"IF('RECOGIDA DATOS'!M62=\"\",\"\",'RECOGIDA DATOS'!M62)","v":""},{"$f":"'RECOGIDA DATOS'!CZ62","v":""},{"$f":"'RECOGIDA DATOS'!DA62","v":""}]
[null,{"$f":"IF(INSCRIPCIÓN!B67=\"\",\"\",INSCRIPCIÓN!B67)","v":""},{"$f":"'RECOGIDA DATOS'!D63","v":""},{"$f":"'RECOGIDA DATOS'!C63","v":""},{"$f":"'RECOGIDA DATOS'!E63","v":""},{"$f":"'RECOGIDA DATOS'!F63","v":""},{"$f":"'RECOGIDA DATOS'!G63","v":""},{"$f":"IF('RECOGIDA DATOS'!H63=\"\",\"\",'RECOGIDA DATOS'!H63)","v":""},{"$f":"IF('RECOGIDA DATOS'!I63=\"\",\"\",'RECOGIDA DATOS'!I63)","v":""},{"$f":"IF('RECOGIDA DATOS'!J63=\"\",\"\",'RECOGIDA DATOS'!J63)","v":""},{"$f":"IF('RECOGIDA DATOS'!K63=\"\",\"\",'RECOGIDA DATOS'!K63)","v":""},{"$f":"IF('RECOGIDA DATOS'!L63=\"\",\"\",'RECOGIDA DATOS'!L63)","v":""},{"$f":"IF('RECOGIDA DATOS'!M63=\"\",\"\",'RECOGIDA DATOS'!M63)","v":""},{"$f":"'RECOGIDA DATOS'!CZ63","v":""},{"$f":"'RECOGIDA DATOS'!DA63","v":""}]
[null,{"$f":"IF(INSCRIPCIÓN!B68=\"\",\"\",INSCRIPCIÓN!B68)","v":""},{"$f":"'RECOGIDA DATOS'!D64","v":""},{"$f":"'RECOGIDA DATOS'!C64","v":""},{"$f":"'RECOGIDA DATOS'!E64","v":""},{"$f":"'RECOGIDA DATOS'!F64","v":""},{"$f":"'RECOGIDA DATOS'!G64","v":""},{"$f":"IF('RECOGIDA DATOS'!H64=\"\",\"\",'RECOGIDA DATOS'!H64)","v":""},{"$f":"IF('RECOGIDA DATOS'!I64=\"\",\"\",'RECOGIDA DATOS'!I64)","v":""},{"$f":"IF('RECOGIDA DATOS'!J64=\"\",\"\",'RECOGIDA DATOS'!J64)","v":""},{"$f":"IF('RECOGIDA DATOS'!K64=\"\",\"\",'RECOGIDA DATOS'!K64)","v":""},{"$f":"IF('RECOGIDA DATOS'!L64=\"\",\"\",'RECOGIDA DATOS'!L64)","v":""},{"$f":"IF('RECOGIDA DATOS'!M64=\"\",\"\",'RECOGIDA DATOS'!M64)","v":""},{"$f":"'RECOGIDA DATOS'!CZ64","v":""},{"$f":"'RECOGIDA DATOS'!DA64","v":""}]
[null,{"$f":"IF(INSCRIPCIÓN!B69=\"\",\"\",INSCRIPCIÓN!B69)","v":""},{"$f":"'RECOGIDA DATOS'!D65","v":""},{"$f":"'RECOGIDA DATOS'!C65","v":""},{"$f":"'RECOGIDA DATOS'!E65","v":""},{"$f":"'RECOGIDA DATOS'!F65","v":""},{"$f":"'RECOGIDA DATOS'!G65","v":""},{"$f":"IF('RECOGIDA DATOS'!H65=\"\",\"\",'RECOGIDA DATOS'!H65)","v":""},{"$f":"IF('RECOGIDA DATOS'!I65=\"\",\"\",'RECOGIDA DATOS'!I65)","v":""},{"$f":"IF('RECOGIDA DATOS'!J65=\"\",\"\",'RECOGIDA DATOS'!J65)","v":""},{"$f":"IF('RECOGIDA DATOS'!K65=\"\",\"\",'RECOGIDA DATOS'!K65)","v":""},{"$f":"IF('RECOGIDA DATOS'!L65=\"\",\"\",'RECOGIDA DATOS'!L65)","v":""},{"$f":"IF('RECOGIDA DATOS'!M65=\"\",\"\",'RECOGIDA DATOS'!M65)","v":""},{"$f":"'RECOGIDA DATOS'!CZ65","v":""},{"$f":"'RECOGIDA DATOS'!DA65","v":""}]
[null,{"$f":"IF(INSCRIPCIÓN!B70=\"\",\"\",INSCRIPCIÓN!B70)","v":""},{"$f":"'RECOGIDA DATOS'!D66","v":""},{"$f":"'RECOGIDA DATOS'!C66","v":""},{"$f":"'RECOGIDA DATOS'!E66","v":""},{"$f":"'RECOGIDA DATOS'!F66","v":""},{"$f":"'RECOGIDA DATOS'!G66","v":""},{"$f":"IF('RECOGIDA DATOS'!H66=\"\",\"\",'RECOGIDA DATOS'!H66)","v":""},{"$f":"IF('RECOGIDA DATOS'!I66=\"\",\"\",'RECOGIDA DATOS'!I66)","v":""},{"$f":"IF('RECOGIDA DATOS'!J66=\"\",\"\",'RECOGIDA DATOS'!J66)","v":""},{"$f":"IF('RECOGIDA DATOS'!K66=\"\",\"\",'RECOGIDA DATOS'!K66)","v":""},{"$f":"IF('RECOGIDA DATOS'!L66=\"\",\"\",'RECOGIDA DATOS'!L66)","v":""},{"$f":"IF('RECOGIDA DATOS'!M66=\"\",\"\",'RECOGIDA DATOS'!M66)","v":""},{"$f":"'RECOGIDA DATOS'!CZ66","v":""},{"$f":"'RECOGIDA DATOS'!DA66","v":""}]
[null,{"$f":"IF(INSCRIPCIÓN!B71=\"\",\"\",INSCRIPCIÓN!B71)","v":""},{"$f":"'RECOGIDA DATOS'!D67","v":""},{"$f":"'RECOGIDA DATOS'!C67","v":""},{"$f":"'RECOGIDA DATOS'!E67","v":""},{"$f":"'RECOGIDA DATOS'!F67","v":""},{"$f":"'RECOGIDA DATOS'!G67","v":""},{"$f":"IF('RECOGIDA DATOS'!H67=\"\",\"\",'RECOGIDA DATOS'!H67)","v":""},{"$f":"IF('RECOGIDA DATOS'!I67=\"\",\"\",'RECOGIDA DATOS'!I67)","v":""},{"$f":"IF('RECOGIDA DATOS'!J67=\"\",\"\",'RECOGIDA DATOS'!J67)","v":""},{"$f":"IF('RECOGIDA DATOS'!K67=\"\",\"\",'RECOGIDA DATOS'!K67)","v":""},{"$f":"IF('RECOGIDA DATOS'!L67=\"\",\"\",'RECOGIDA DATOS'!L67)","v":""},{"$f":"IF('RECOGIDA DATOS'!M67=\"\",\"\",'RECOGIDA DATOS'!M67)","v":""},{"$f":"'RECOGIDA DATOS'!CZ67","v":""},{"$f":"'RECOGIDA DATOS'!DA67","v":""}]
[null,{"$f":"IF(INSCRIPCIÓN!B72=\"\",\"\",INSCRIPCIÓN!B72)","v":""},{"$f":"'RECOGIDA DATOS'!D68","v":""},{"$f":"'RECOGIDA DATOS'!C68","v":""},{"$f":"'RECOGIDA DATOS'!E68","v":""},{"$f":"'RECOGIDA DATOS'!F68","v":""},{"$f":"'RECOGIDA DATOS'!G68","v":""},{"$f":"IF('RECOGIDA DATOS'!H68=\"\",\"\",'RECOGIDA DATOS'!H68)","v":""},{"$f":"IF('RECOGIDA DATOS'!I68=\"\",\"\",'RECOGIDA DATOS'!I68)","v":""},{"$f":"IF('RECOGIDA DATOS'!J68=\"\",\"\",'RECOGIDA DATOS'!J68)","v":""},{"$f":"IF('RECOGIDA DATOS'!K68=\"\",\"\",'RECOGIDA DATOS'!K68)","v":""},{"$f":"IF('RECOGIDA DATOS'!L68=\"\",\"\",'RECOGIDA DATOS'!L68)","v":""},{"$f":"IF('RECOGIDA DATOS'!M68=\"\",\"\",'RECOGIDA DATOS'!M68)","v":""},{"$f":"'RECOGIDA DATOS'!CZ68","v":""},{"$f":"'RECOGIDA DATOS'!DA68","v":""}]
[null,{"$f":"IF(INSCRIPCIÓN!B73=\"\",\"\",INSCRIPCIÓN!B73)","v":""},{"$f":"'RECOGIDA DATOS'!D69","v":""},{"$f":"'RECOGIDA DATOS'!C69","v":""},{"$f":"'RECOGIDA DATOS'!E69","v":""},{"$f":"'RECOGIDA DATOS'!F69","v":""},{"$f":"'RECOGIDA DATOS'!G69","v":""},{"$f":"IF('RECOGIDA DATOS'!H69=\"\",\"\",'RECOGIDA DATOS'!H69)","v":""},{"$f":"IF('RECOGIDA DATOS'!I69=\"\",\"\",'RECOGIDA DATOS'!I69)","v":""},{"$f":"IF('RECOGIDA DATOS'!J69=\"\",\"\",'RECOGIDA DATOS'!J69)","v":""},{"$f":"IF('RECOGIDA DATOS'!K69=\"\",\"\",'RECOGIDA DATOS'!K69)","v":""},{"$f":"IF('RECOGIDA DATOS'!L69=\"\",\"\",'RECOGIDA DATOS'!L69)","v":""},{"$f":"IF('RECOGIDA DATOS'!M69=\"\",\"\",'RECOGIDA DATOS'!M69)","v":""},{"$f":"'RECOGIDA DATOS'!CZ69","v":""},{"$f":"'RECOGIDA DATOS'!DA69","v":""}]
[null,{"$f":"IF(INSCRIPCIÓN!B74=\"\",\"\",INSCRIPCIÓN!B74)","v":""},{"$f":"'RECOGIDA DATOS'!D70","v":""},{"$f":"'RECOGIDA DATOS'!C70","v":""},{"$f":"'RECOGIDA DATOS'!E70","v":""},{"$f":"'RECOGIDA DATOS'!F70","v":""},{"$f":"'RECOGIDA DATOS'!G70","v":""},{"$f":"IF('RECOGIDA DATOS'!H70=\"\",\"\",'RECOGIDA DATOS'!H70)","v":""},{"$f":"IF('RECOGIDA DATOS'!I70=\"\",\"\",'RECOGIDA DATOS'!I70)","v":""},{"$f":"IF('RECOGIDA DATOS'!J70=\"\",\"\",'RECOGIDA DATOS'!J70)","v":""},{"$f":"IF('RECOGIDA DATOS'!K70=\"\",\"\",'RECOGIDA DATOS'!K70)","v":""},{"$f":"IF('RECOGIDA DATOS'!L70=\"\",\"\",'RECOGIDA DATOS'!L70)","v":""},{"$f":"IF('RECOGIDA DATOS'!M70=\"\",\"\",'RECOGIDA DATOS'!M70)","v":""},{"$f":"'RECOGIDA DATOS'!CZ70","v":""},{"$f":"'RECOGIDA DATOS'!DA70","v":""}]
[null,{"$f":"IF(INSCRIPCIÓN!B75=\"\",\"\",INSCRIPCIÓN!B75)","v":""},{"$f":"'RECOGIDA DATOS'!D71","v":""},{"$f":"'RECOGIDA DATOS'!C71","v":""},{"$f":"'RECOGIDA DATOS'!E71","v":""},{"$f":"'RECOGIDA DATOS'!F71","v":""},{"$f":"'RECOGIDA DATOS'!G71","v":""},{"$f":"IF('RECOGIDA DATOS'!H71=\"\",\"\",'RECOGIDA DATOS'!H71)","v":""},{"$f":"IF('RECOGIDA DATOS'!I71=\"\",\"\",'RECOGIDA DATOS'!I71)","v":""},{"$f":"IF('RECOGIDA DATOS'!J71=\"\",\"\",'RECOGIDA DATOS'!J71)","v":""},{"$f":"IF('RECOGIDA DATOS'!K71=\"\",\"\",'RECOGIDA DATOS'!K71)","v":""},{"$f":"IF('RECOGIDA DATOS'!L71=\"\",\"\",'RECOGIDA DATOS'!L71)","v":""},{"$f":"IF('RECOGIDA DATOS'!M71=\"\",\"\",'RECOGIDA DATOS'!M71)","v":""},{"$f":"'RECOGIDA DATOS'!CZ71","v":""},{"$f":"'RECOGIDA DATOS'!DA71","v":""}]
[null,{"$f":"IF(INSCRIPCIÓN!B76=\"\",\"\",INSCRIPCIÓN!B76)","v":""},{"$f":"'RECOGIDA DATOS'!D72","v":""},{"$f":"'RECOGIDA DATOS'!C72","v":""},{"$f":"'RECOGIDA DATOS'!E72","v":""},{"$f":"'RECOGIDA DATOS'!F72","v":""},{"$f":"'RECOGIDA DATOS'!G72","v":""},{"$f":"IF('RECOGIDA DATOS'!H72=\"\",\"\",'RECOGIDA DATOS'!H72)","v":""},{"$f":"IF('RECOGIDA DATOS'!I72=\"\",\"\",'RECOGIDA DATOS'!I72)","v":""},{"$f":"IF('RECOGIDA DATOS'!J72=\"\",\"\",'RECOGIDA DATOS'!J72)","v":""},{"$f":"IF('RECOGIDA DATOS'!K72=\"\",\"\",'RECOGIDA DATOS'!K72)","v":""},{"$f":"IF('RECOGIDA DATOS'!L72=\"\",\"\",'RECOGIDA DATOS'!L72)","v":""},{"$f":"IF('RECOGIDA DATOS'!M72=\"\",\"\",'RECOGIDA DATOS'!M72)","v":""},{"$f":"'RECOGIDA DATOS'!CZ72","v":""},{"$f":"'RECOGIDA DATOS'!DA72","v":""}]
[null,{"$f":"IF(INSCRIPCIÓN!B77=\"\",\"\",INSCRIPCIÓN!B77)","v":""},{"$f":"'RECOGIDA DATOS'!D73","v":""},{"$f":"'RECOGIDA DATOS'!C73","v":""},{"$f":"'RECOGIDA DATOS'!E73","v":""},{"$f":"'RECOGIDA DATOS'!F73","v":""},{"$f":"'RECOGIDA DATOS'!G73","v":""},{"$f":"IF('RECOGIDA DATOS'!H73=\"\",\"\",'RECOGIDA DATOS'!H73)","v":""},{"$f":"IF('RECOGIDA DATOS'!I73=\"\",\"\",'RECOGIDA DATOS'!I73)","v":""},{"$f":"IF('RECOGIDA DATOS'!J73=\"\",\"\",'RECOGIDA DATOS'!J73)","v":""},{"$f":"IF('RECOGIDA DATOS'!K73=\"\",\"\",'RECOGIDA DATOS'!K73)","v":""},{"$f":"IF('RECOGIDA DATOS'!L73=\"\",\"\",'RECOGIDA DATOS'!L73)","v":""},{"$f":"IF('RECOGIDA DATOS'!M73=\"\",\"\",'RECOGIDA DATOS'!M73)","v":""},{"$f":"'RECOGIDA DATOS'!CZ73","v":""},{"$f":"'RECOGIDA DATOS'!DA73","v":""}]
[null,{"$f":"IF(INSCRIPCIÓN!B78=\"\",\"\",INSCRIPCIÓN!B78)","v":""},{"$f":"'RECOGIDA DATOS'!D74","v":""},{"$f":"'RECOGIDA DATOS'!C74","v":""},{"$f":"'RECOGIDA DATOS'!E74","v":""},{"$f":"'RECOGIDA DATOS'!F74","v":""},{"$f":"'RECOGIDA DATOS'!G74","v":""},{"$f":"IF('RECOGIDA DATOS'!H74=\"\",\"\",'RECOGIDA DATOS'!H74)","v":""},{"$f":"IF('RECOGIDA DATOS'!I74=\"\",\"\",'RECOGIDA DATOS'!I74)","v":""},{"$f":"IF('RECOGIDA DATOS'!J74=\"\",\"\",'RECOGIDA DATOS'!J74)","v":""},{"$f":"IF('RECOGIDA DATOS'!K74=\"\",\"\",'RECOGIDA DATOS'!K74)","v":""},{"$f":"IF('RECOGIDA DATOS'!L74=\"\",\"\",'RECOGIDA DATOS'!L74)","v":""},{"$f":"IF('RECOGIDA DATOS'!M74=\"\",\"\",'RECOGIDA DATOS'!M74)","v":""},{"$f":"'RECOGIDA DATOS'!CZ74","v":""},{"$f":"'RECOGIDA DATOS'!DA74","v":""}]
[null,{"$f":"IF(INSCRIPCIÓN!B79=\"\",\"\",INSCRIPCIÓN!B79)","v":""},{"$f":"'RECOGIDA DATOS'!D75","v":""},{"$f":"'RECOGIDA DATOS'!C75","v":""},{"$f":"'RECOGIDA DATOS'!E75","v":""},{"$f":"'RECOGIDA DATOS'!F75","v":""},{"$f":"'RECOGIDA DATOS'!G75","v":""},{"$f":"IF('RECOGIDA DATOS'!H75=\"\",\"\",'RECOGIDA DATOS'!H75)","v":""},{"$f":"IF('RECOGIDA DATOS'!I75=\"\",\"\",'RECOGIDA DATOS'!I75)","v":""},{"$f":"IF('RECOGIDA DATOS'!J75=\"\",\"\",'RECOGIDA DATOS'!J75)","v":""},{"$f":"IF('RECOGIDA DATOS'!K75=\"\",\"\",'RECOGIDA DATOS'!K75)","v":""},{"$f":"IF('RECOGIDA DATOS'!L75=\"\",\"\",'RECOGIDA DATOS'!L75)","v":""},{"$f":"IF('RECOGIDA DATOS'!M75=\"\",\"\",'RECOGIDA DATOS'!M75)","v":""},{"$f":"'RECOGIDA DATOS'!CZ75","v":""},{"$f":"'RECOGIDA DATOS'!DA75","v":""}]
[null,{"$f":"IF(INSCRIPCIÓN!B80=\"\",\"\",INSCRIPCIÓN!B80)","v":""},{"$f":"'RECOGIDA DATOS'!D76","v":""},{"$f":"'RECOGIDA DATOS'!C76","v":""},{"$f":"'RECOGIDA DATOS'!E76","v":""},{"$f":"'RECOGIDA DATOS'!F76","v":""},{"$f":"'RECOGIDA DATOS'!G76","v":""},{"$f":"IF('RECOGIDA DATOS'!H76=\"\",\"\",'RECOGIDA DATOS'!H76)","v":""},{"$f":"IF('RECOGIDA DATOS'!I76=\"\",\"\",'RECOGIDA DATOS'!I76)","v":""},{"$f":"IF('RECOGIDA DATOS'!J76=\"\",\"\",'RECOGIDA DATOS'!J76)","v":""},{"$f":"IF('RECOGIDA DATOS'!K76=\"\",\"\",'RECOGIDA DATOS'!K76)","v":""},{"$f":"IF('RECOGIDA DATOS'!L76=\"\",\"\",'RECOGIDA DATOS'!L76)","v":""},{"$f":"IF('RECOGIDA DATOS'!M76=\"\",\"\",'RECOGIDA DATOS'!M76)","v":""},{"$f":"'RECOGIDA DATOS'!CZ76","v":""},{"$f":"'RECOGIDA DATOS'!DA76","v":""}]
[null,{"$f":"IF(INSCRIPCIÓN!B81=\"\",\"\",INSCRIPCIÓN!B81)","v":""},{"$f":"'RECOGIDA DATOS'!D77","v":""},{"$f":"'RECOGIDA DATOS'!C77","v":""},{"$f":"'RECOGIDA DATOS'!E77","v":""},{"$f":"'RECOGIDA DATOS'!F77","v":""},{"$f":"'RECOGIDA DATOS'!G77","v":""},{"$f":"IF('RECOGIDA DATOS'!H77=\"\",\"\",'RECOGIDA DATOS'!H77)","v":""},{"$f":"IF('RECOGIDA DATOS'!I77=\"\",\"\",'RECOGIDA DATOS'!I77)","v":""},{"$f":"IF('RECOGIDA DATOS'!J77=\"\",\"\",'RECOGIDA DATOS'!J77)","v":""},{"$f":"IF('RECOGIDA DATOS'!K77=\"\",\"\",'RECOGIDA DATOS'!K77)","v":""},{"$f":"IF('RECOGIDA DATOS'!L77=\"\",\"\",'RECOGIDA DATOS'!L77)","v":""},{"$f":"IF('RECOGIDA DATOS'!M77=\"\",\"\",'RECOGIDA DATOS'!M77)","v":""},{"$f":"'RECOGIDA DATOS'!CZ77","v":""},{"$f":"'RECOGIDA DATOS'!DA77","v":""}]
[null,{"$f":"IF(INSCRIPCIÓN!B82=\"\",\"\",INSCRIPCIÓN!B82)","v":""},{"$f":"'RECOGIDA DATOS'!D78","v":""},{"$f":"'RECOGIDA DATOS'!C78","v":""},{"$f":"'RECOGIDA DATOS'!E78","v":""},{"$f":"'RECOGIDA DATOS'!F78","v":""},{"$f":"'RECOGIDA DATOS'!G78","v":""},{"$f":"IF('RECOGIDA DATOS'!H78=\"\",\"\",'RECOGIDA DATOS'!H78)","v":""},{"$f":"IF('RECOGIDA DATOS'!I78=\"\",\"\",'RECOGIDA DATOS'!I78)","v":""},{"$f":"IF('RECOGIDA DATOS'!J78=\"\",\"\",'RECOGIDA DATOS'!J78)","v":""},{"$f":"IF('RECOGIDA DATOS'!K78=\"\",\"\",'RECOGIDA DATOS'!K78)","v":""},{"$f":"IF('RECOGIDA DATOS'!L78=\"\",\"\",'RECOGIDA DATOS'!L78)","v":""},{"$f":"IF('RECOGIDA DATOS'!M78=\"\",\"\",'RECOGIDA DATOS'!M78)","v":""},{"$f":"'RECOGIDA DATOS'!CZ78","v":""},{"$f":"'RECOGIDA DATOS'!DA78","v":""}]
[null,{"$f":"IF(INSCRIPCIÓN!B83=\"\",\"\",INSCRIPCIÓN!B83)","v":""},{"$f":"'RECOGIDA DATOS'!D79","v":""},{"$f":"'RECOGIDA DATOS'!C79","v":""},{"$f":"'RECOGIDA DATOS'!E79","v":""},{"$f":"'RECOGIDA DATOS'!F79","v":""},{"$f":"'RECOGIDA DATOS'!G79","v":""},{"$f":"IF('RECOGIDA DATOS'!H79=\"\",\"\",'RECOGIDA DATOS'!H79)","v":""},{"$f":"IF('RECOGIDA DATOS'!I79=\"\",\"\",'RECOGIDA DATOS'!I79)","v":""},{"$f":"IF('RECOGIDA DATOS'!J79=\"\",\"\",'RECOGIDA DATOS'!J79)","v":""},{"$f":"IF('RECOGIDA DATOS'!K79=\"\",\"\",'RECOGIDA DATOS'!K79)","v":""},{"$f":"IF('RECOGIDA DATOS'!L79=\"\",\"\",'RECOGIDA DATOS'!L79)","v":""},{"$f":"IF('RECOGIDA DATOS'!M79=\"\",\"\",'RECOGIDA DATOS'!M79)","v":""},{"$f":"'RECOGIDA DATOS'!CZ79","v":""},{"$f":"'RECOGIDA DATOS'!DA79","v":""}]
[null,{"$f":"IF(INSCRIPCIÓN!B84=\"\",\"\",INSCRIPCIÓN!B84)","v":""},{"$f":"'RECOGIDA DATOS'!D80","v":""},{"$f":"'RECOGIDA DATOS'!C80","v":""},{"$f":"'RECOGIDA DATOS'!E80","v":""},{"$f":"'RECOGIDA DATOS'!F80","v":""},{"$f":"'RECOGIDA DATOS'!G80","v":""},{"$f":"IF('RECOGIDA DATOS'!H80=\"\",\"\",'RECOGIDA DATOS'!H80)","v":""},{"$f":"IF('RECOGIDA DATOS'!I80=\"\",\"\",'RECOGIDA DATOS'!I80)","v":""},{"$f":"IF('RECOGIDA DATOS'!J80=\"\",\"\",'RECOGIDA DATOS'!J80)","v":""},{"$f":"IF('RECOGIDA DATOS'!K80=\"\",\"\",'RECOGIDA DATOS'!K80)","v":""},{"$f":"IF('RECOGIDA DATOS'!L80=\"\",\"\",'RECOGIDA DATOS'!L80)","v":""},{"$f":"IF('RECOGIDA DATOS'!M80=\"\",\"\",'RECOGIDA DATOS'!M80)","v":""},{"$f":"'RECOGIDA DATOS'!CZ80","v":""},{"$f":"'RECOGIDA DATOS'!DA80","v":""}]
[null,{"$f":"IF(INSCRIPCIÓN!B85=\"\",\"\",INSCRIPCIÓN!B85)","v":""},{"$f":"'RECOGIDA DATOS'!D81","v":""},{"$f":"'RECOGIDA DATOS'!C81","v":""},{"$f":"'RECOGIDA DATOS'!E81","v":""},{"$f":"'RECOGIDA DATOS'!F81","v":""},{"$f":"'RECOGIDA DATOS'!G81","v":""},{"$f":"IF('RECOGIDA DATOS'!H81=\"\",\"\",'RECOGIDA DATOS'!H81)","v":""},{"$f":"IF('RECOGIDA DATOS'!I81=\"\",\"\",'RECOGIDA DATOS'!I81)","v":""},{"$f":"IF('RECOGIDA DATOS'!J81=\"\",\"\",'RECOGIDA DATOS'!J81)","v":""},{"$f":"IF('RECOGIDA DATOS'!K81=\"\",\"\",'RECOGIDA DATOS'!K81)","v":""},{"$f":"IF('RECOGIDA DATOS'!L81=\"\",\"\",'RECOGIDA DATOS'!L81)","v":""},{"$f":"IF('RECOGIDA DATOS'!M81=\"\",\"\",'RECOGIDA DATOS'!M81)","v":""},{"$f":"'RECOGIDA DATOS'!CZ81","v":""},{"$f":"'RECOGIDA DATOS'!DA81","v":""}]
[null,{"$f":"IF(INSCRIPCIÓN!B86=\"\",\"\",INSCRIPCIÓN!B86)","v":""},{"$f":"'RECOGIDA DATOS'!D82","v":""},{"$f":"'RECOGIDA DATOS'!C82","v":""},{"$f":"'RECOGIDA DATOS'!E82","v":""},{"$f":"'RECOGIDA DATOS'!F82","v":""},{"$f":"'RECOGIDA DATOS'!G82","v":""},{"$f":"IF('RECOGIDA DATOS'!H82=\"\",\"\",'RECOGIDA DATOS'!H82)","v":""},{"$f":"IF('RECOGIDA DATOS'!I82=\"\",\"\",'RECOGIDA DATOS'!I82)","v":""},{"$f":"IF('RECOGIDA DATOS'!J82=\"\",\"\",'RECOGIDA DATOS'!J82)","v":""},{"$f":"IF('RECOGIDA DATOS'!K82=\"\",\"\",'RECOGIDA DATOS'!K82)","v":""},{"$f":"IF('RECOGIDA DATOS'!L82=\"\",\"\",'RECOGIDA DATOS'!L82)","v":""},{"$f":"IF('RECOGIDA DATOS'!M82=\"\",\"\",'RECOGIDA DATOS'!M82)","v":""},{"$f":"'RECOGIDA DATOS'!CZ82","v":""},{"$f":"'RECOGIDA DATOS'!DA82","v":""}]
[null,{"$f":"IF(INSCRIPCIÓN!B87=\"\",\"\",INSCRIPCIÓN!B87)","v":""},{"$f":"'RECOGIDA DATOS'!D83","v":""},{"$f":"'RECOGIDA DATOS'!C83","v":""},{"$f":"'RECOGIDA DATOS'!E83","v":""},{"$f":"'RECOGIDA DATOS'!F83","v":""},{"$f":"'RECOGIDA DATOS'!G83","v":""},{"$f":"IF('RECOGIDA DATOS'!H83=\"\",\"\",'RECOGIDA DATOS'!H83)","v":""},{"$f":"IF('RECOGIDA DATOS'!I83=\"\",\"\",'RECOGIDA DATOS'!I83)","v":""},{"$f":"IF('RECOGIDA DATOS'!J83=\"\",\"\",'RECOGIDA DATOS'!J83)","v":""},{"$f":"IF('RECOGIDA DATOS'!K83=\"\",\"\",'RECOGIDA DATOS'!K83)","v":""},{"$f":"IF('RECOGIDA DATOS'!L83=\"\",\"\",'RECOGIDA DATOS'!L83)","v":""},{"$f":"IF('RECOGIDA DATOS'!M83=\"\",\"\",'RECOGIDA DATOS'!M83)","v":""},{"$f":"'RECOGIDA DATOS'!CZ83","v":""},{"$f":"'RECOGIDA DATOS'!DA83","v":""}]
[null,{"$f":"IF(INSCRIPCIÓN!B88=\"\",\"\",INSCRIPCIÓN!B88)","v":""},{"$f":"'RECOGIDA DATOS'!D84","v":""},{"$f":"'RECOGIDA DATOS'!C84","v":""},{"$f":"'RECOGIDA DATOS'!E84","v":""},{"$f":"'RECOGIDA DATOS'!F84","v":""},{"$f":"'RECOGIDA DATOS'!G84","v":""},{"$f":"IF('RECOGIDA DATOS'!H84=\"\",\"\",'RECOGIDA DATOS'!H84)","v":""},{"$f":"IF('RECOGIDA DATOS'!I84=\"\",\"\",'RECOGIDA DATOS'!I84)","v":""},{"$f":"IF('RECOGIDA DATOS'!J84=\"\",\"\",'RECOGIDA DATOS'!J84)","v":""},{"$f":"IF('RECOGIDA DATOS'!K84=\"\",\"\",'RECOGIDA DATOS'!K84)","v":""},{"$f":"IF('RECOGIDA DATOS'!L84=\"\",\"\",'RECOGIDA DATOS'!L84)","v":""},{"$f":"IF('RECOGIDA DATOS'!M84=\"\",\"\",'RECOGIDA DATOS'!M84)","v":""},{"$f":"'RECOGIDA DATOS'!CZ84","v":""},{"$f":"'RECOGIDA DATOS'!DA84","v":""}]
[null,{"$f":"IF(INSCRIPCIÓN!B89=\"\",\"\",INSCRIPCIÓN!B89)","v":""},{"$f":"'RECOGIDA DATOS'!D85","v":""},{"$f":"'RECOGIDA DATOS'!C85","v":""},{"$f":"'RECOGIDA DATOS'!E85","v":""},{"$f":"'RECOGIDA DATOS'!F85","v":""},{"$f":"'RECOGIDA DATOS'!G85","v":""},{"$f":"IF('RECOGIDA DATOS'!H85=\"\",\"\",'RECOGIDA DATOS'!H85)","v":""},{"$f":"IF('RECOGIDA DATOS'!I85=\"\",\"\",'RECOGIDA DATOS'!I85)","v":""},{"$f":"IF('RECOGIDA DATOS'!J85=\"\",\"\",'RECOGIDA DATOS'!J85)","v":""},{"$f":"IF('RECOGIDA DATOS'!K85=\"\",\"\",'RECOGIDA DATOS'!K85)","v":""},{"$f":"IF('RECOGIDA DATOS'!L85=\"\",\"\",'RECOGIDA DATOS'!L85)","v":""},{"$f":"IF('RECOGIDA DATOS'!M85=\"\",\"\",'RECOGIDA DATOS'!M85)","v":""},{"$f":"'RECOGIDA DATOS'!CZ85","v":""},{"$f":"'RECOGIDA DATOS'!DA85","v":""}]
[null,{"$f":"IF(INSCRIPCIÓN!B90=\"\",\"\",INSCRIPCIÓN!B90)","v":""},{"$f":"'RECOGIDA DATOS'!D86","v":""},{"$f":"'RECOGIDA DATOS'!C86","v":""},{"$f":"'RECOGIDA DATOS'!E86","v":""},{"$f":"'RECOGIDA DATOS'!F86","v":""},{"$f":"'RECOGIDA DATOS'!G86","v":""},{"$f":"IF('RECOGIDA DATOS'!H86=\"\",\"\",'RECOGIDA DATOS'!H86)","v":""},{"$f":"IF('RECOGIDA DATOS'!I86=\"\",\"\",'RECOGIDA DATOS'!I86)","v":""},{"$f":"IF('RECOGIDA DATOS'!J86=\"\",\"\",'RECOGIDA DATOS'!J86)","v":""},{"$f":"IF('RECOGIDA DATOS'!K86=\"\",\"\",'RECOGIDA DATOS'!K86)","v":""},{"$f":"IF('RECOGIDA DATOS'!L86=\"\",\"\",'RECOGIDA DATOS'!L86)","v":""},{"$f":"IF('RECOGIDA DATOS'!M86=\"\",\"\",'RECOGIDA DATOS'!M86)","v":""},{"$f":"'RECOGIDA DATOS'!CZ86","v":""},{"$f":"'RECOGIDA DATOS'!DA86","v":""}]
[null,{"$f":"IF(INSCRIPCIÓN!B91=\"\",\"\",INSCRIPCIÓN!B91)","v":""},{"$f":"'RECOGIDA DATOS'!D87","v":""},{"$f":"'RECOGIDA DATOS'!C87","v":""},{"$f":"'RECOGIDA DATOS'!E87","v":""},{"$f":"'RECOGIDA DATOS'!F87","v":""},{"$f":"'RECOGIDA DATOS'!G87","v":""},{"$f":"IF('RECOGIDA DATOS'!H87=\"\",\"\",'RECOGIDA DATOS'!H87)","v":""},{"$f":"IF('RECOGIDA DATOS'!I87=\"\",\"\",'RECOGIDA DATOS'!I87)","v":""},{"$f":"IF('RECOGIDA DATOS'!J87=\"\",\"\",'RECOGIDA DATOS'!J87)","v":""},{"$f":"IF('RECOGIDA DATOS'!K87=\"\",\"\",'RECOGIDA DATOS'!K87)","v":""},{"$f":"IF('RECOGIDA DATOS'!L87=\"\",\"\",'RECOGIDA DATOS'!L87)","v":""},{"$f":"IF('RECOGIDA DATOS'!M87=\"\",\"\",'RECOGIDA DATOS'!M87)","v":""},{"$f":"'RECOGIDA DATOS'!CZ87","v":""},{"$f":"'RECOGIDA DATOS'!DA87","v":""}]
[null,{"$f":"IF(INSCRIPCIÓN!B92=\"\",\"\",INSCRIPCIÓN!B92)","v":""},{"$f":"'RECOGIDA DATOS'!D88","v":""},{"$f":"'RECOGIDA DATOS'!C88","v":""},{"$f":"'RECOGIDA DATOS'!E88","v":""},{"$f":"'RECOGIDA DATOS'!F88","v":""},{"$f":"'RECOGIDA DATOS'!G88","v":""},{"$f":"IF('RECOGIDA DATOS'!H88=\"\",\"\",'RECOGIDA DATOS'!H88)","v":""},{"$f":"IF('RECOGIDA DATOS'!I88=\"\",\"\",'RECOGIDA DATOS'!I88)","v":""},{"$f":"IF('RECOGIDA DATOS'!J88=\"\",\"\",'RECOGIDA DATOS'!J88)","v":""},{"$f":"IF('RECOGIDA DATOS'!K88=\"\",\"\",'RECOGIDA DATOS'!K88)","v":""},{"$f":"IF('RECOGIDA DATOS'!L88=\"\",\"\",'RECOGIDA DATOS'!L88)","v":""},{"$f":"IF('RECOGIDA DATOS'!M88=\"\",\"\",'RECOGIDA DATOS'!M88)","v":""},{"$f":"'RECOGIDA DATOS'!CZ88","v":""},{"$f":"'RECOGIDA DATOS'!DA88","v":""}]
[null,{"$f":"IF(INSCRIPCIÓN!B93=\"\",\"\",INSCRIPCIÓN!B93)","v":""},{"$f":"'RECOGIDA DATOS'!D89","v":""},{"$f":"'RECOGIDA DATOS'!C89","v":""},{"$f":"'RECOGIDA DATOS'!E89","v":""},{"$f":"'RECOGIDA DATOS'!F89","v":""},{"$f":"'RECOGIDA DATOS'!G89","v":""},{"$f":"IF('RECOGIDA DATOS'!H89=\"\",\"\",'RECOGIDA DATOS'!H89)","v":""},{"$f":"IF('RECOGIDA DATOS'!I89=\"\",\"\",'RECOGIDA DATOS'!I89)","v":""},{"$f":"IF('RECOGIDA DATOS'!J89=\"\",\"\",'RECOGIDA DATOS'!J89)","v":""},{"$f":"IF('RECOGIDA DATOS'!K89=\"\",\"\",'RECOGIDA DATOS'!K89)","v":""},{"$f":"IF('RECOGIDA DATOS'!L89=\"\",\"\",'RECOGIDA DATOS'!L89)","v":""},{"$f":"IF('RECOGIDA DATOS'!M89=\"\",\"\",'RECOGIDA DATOS'!M89)","v":""},{"$f":"'RECOGIDA DATOS'!CZ89","v":""},{"$f":"'RECOGIDA DATOS'!DA89","v":""}]
[null,{"$f":"IF(INSCRIPCIÓN!B94=\"\",\"\",INSCRIPCIÓN!B94)","v":""},{"$f":"'RECOGIDA DATOS'!D90","v":""},{"$f":"'RECOGIDA DATOS'!C90","v":""},{"$f":"'RECOGIDA DATOS'!E90","v":""},{"$f":"'RECOGIDA DATOS'!F90","v":""},{"$f":"'RECOGIDA DATOS'!G90","v":""},{"$f":"IF('RECOGIDA DATOS'!H90=\"\",\"\",'RECOGIDA DATOS'!H90)","v":""},{"$f":"IF('RECOGIDA DATOS'!I90=\"\",\"\",'RECOGIDA DATOS'!I90)","v":""},{"$f":"IF('RECOGIDA DATOS'!J90=\"\",\"\",'RECOGIDA DATOS'!J90)","v":""},{"$f":"IF('RECOGIDA DATOS'!K90=\"\",\"\",'RECOGIDA DATOS'!K90)","v":""},{"$f":"IF('RECOGIDA DATOS'!L90=\"\",\"\",'RECOGIDA DATOS'!L90)","v":""},{"$f":"IF('RECOGIDA DATOS'!M90=\"\",\"\",'RECOGIDA DATOS'!M90)","v":""},{"$f":"'RECOGIDA DATOS'!CZ90","v":""},{"$f":"'RECOGIDA DATOS'!DA90","v":""}]
[null,{"$f":"IF(INSCRIPCIÓN!B95=\"\",\"\",INSCRIPCIÓN!B95)","v":""},{"$f":"'RECOGIDA DATOS'!D91","v":""},{"$f":"'RECOGIDA DATOS'!C91","v":""},{"$f":"'RECOGIDA DATOS'!E91","v":""},{"$f":"'RECOGIDA DATOS'!F91","v":""},{"$f":"'RECOGIDA DATOS'!G91","v":""},{"$f":"IF('RECOGIDA DATOS'!H91=\"\",\"\",'RECOGIDA DATOS'!H91)","v":""},{"$f":"IF('RECOGIDA DATOS'!I91=\"\",\"\",'RECOGIDA DATOS'!I91)","v":""},{"$f":"IF('RECOGIDA DATOS'!J91=\"\",\"\",'RECOGIDA DATOS'!J91)","v":""},{"$f":"IF('RECOGIDA DATOS'!K91=\"\",\"\",'RECOGIDA DATOS'!K91)","v":""},{"$f":"IF('RECOGIDA DATOS'!L91=\"\",\"\",'RECOGIDA DATOS'!L91)","v":""},{"$f":"IF('RECOGIDA DATOS'!M91=\"\",\"\",'RECOGIDA DATOS'!M91)","v":""},{"$f":"'RECOGIDA DATOS'!CZ91","v":""},{"$f":"'RECOGIDA DATOS'!DA91","v":""}]
[null,{"$f":"IF(INSCRIPCIÓN!B96=\"\",\"\",INSCRIPCIÓN!B96)","v":""},{"$f":"'RECOGIDA DATOS'!D92","v":""},{"$f":"'RECOGIDA DATOS'!C92","v":""},{"$f":"'RECOGIDA DATOS'!E92","v":""},{"$f":"'RECOGIDA DATOS'!F92","v":""},{"$f":"'RECOGIDA DATOS'!G92","v":""},{"$f":"IF('RECOGIDA DATOS'!H92=\"\",\"\",'RECOGIDA DATOS'!H92)","v":""},{"$f":"IF('RECOGIDA DATOS'!I92=\"\",\"\",'RECOGIDA DATOS'!I92)","v":""},{"$f":"IF('RECOGIDA DATOS'!J92=\"\",\"\",'RECOGIDA DATOS'!J92)","v":""},{"$f":"IF('RECOGIDA DATOS'!K92=\"\",\"\",'RECOGIDA DATOS'!K92)","v":""},{"$f":"IF('RECOGIDA DATOS'!L92=\"\",\"\",'RECOGIDA DATOS'!L92)","v":""},{"$f":"IF('RECOGIDA DATOS'!M92=\"\",\"\",'RECOGIDA DATOS'!M92)","v":""},{"$f":"'RECOGIDA DATOS'!CZ92","v":""},{"$f":"'RECOGIDA DATOS'!DA92","v":""}]
[null,{"$f":"IF(INSCRIPCIÓN!B97=\"\",\"\",INSCRIPCIÓN!B97)","v":""},{"$f":"'RECOGIDA DATOS'!D93","v":""},{"$f":"'RECOGIDA DATOS'!C93","v":""},{"$f":"'RECOGIDA DATOS'!E93","v":""},{"$f":"'RECOGIDA DATOS'!F93","v":""},{"$f":"'RECOGIDA DATOS'!G93","v":""},{"$f":"IF('RECOGIDA DATOS'!H93=\"\",\"\",'RECOGIDA DATOS'!H93)","v":""},{"$f":"IF('RECOGIDA DATOS'!I93=\"\",\"\",'RECOGIDA DATOS'!I93)","v":""},{"$f":"IF('RECOGIDA DATOS'!J93=\"\",\"\",'RECOGIDA DATOS'!J93)","v":""},{"$f":"IF('RECOGIDA DATOS'!K93=\"\",\"\",'RECOGIDA DATOS'!K93)","v":""},{"$f":"IF('RECOGIDA DATOS'!L93=\"\",\"\",'RECOGIDA DATOS'!L93)","v":""},{"$f":"IF('RECOGIDA DATOS'!M93=\"\",\"\",'RECOGIDA DATOS'!M93)","v":""},{"$f":"'RECOGIDA DATOS'!CZ93","v":""},{"$f":"'RECOGIDA DATOS'!DA93","v":""}]
[null,{"$f":"IF(INSCRIPCIÓN!B98=\"\",\"\",INSCRIPCIÓN!B98)","v":""},{"$f":"'RECOGIDA DATOS'!D94","v":""},{"$f":"'RECOGIDA DATOS'!C94","v":""},{"$f":"'RECOGIDA DATOS'!E94","v":""},{"$f":"'RECOGIDA DATOS'!F94","v":""},{"$f":"'RECOGIDA DATOS'!G94","v":""},{"$f":"IF('RECOGIDA DATOS'!H94=\"\",\"\",'RECOGIDA DATOS'!H94)","v":""},{"$f":"IF('RECOGIDA DATOS'!I94=\"\",\"\",'RECOGIDA DATOS'!I94)","v":""},{"$f":"IF('RECOGIDA DATOS'!J94=\"\",\"\",'RECOGIDA DATOS'!J94)","v":""},{"$f":"IF('RECOGIDA DATOS'!K94=\"\",\"\",'RECOGIDA DATOS'!K94)","v":""},{"$f":"IF('RECOGIDA DATOS'!L94=\"\",\"\",'RECOGIDA DATOS'!L94)","v":""},{"$f":"IF('RECOGIDA DATOS'!M94=\"\",\"\",'RECOGIDA DATOS'!M94)","v":""},{"$f":"'RECOGIDA DATOS'!CZ94","v":""},{"$f":"'RECOGIDA DATOS'!DA94","v":""}]
[null,{"$f":"IF(INSCRIPCIÓN!B99=\"\",\"\",INSCRIPCIÓN!B99)","v":""},{"$f":"'RECOGIDA DATOS'!D95","v":""},{"$f":"'RECOGIDA DATOS'!C95","v":""},{"$f":"'RECOGIDA DATOS'!E95","v":""},{"$f":"'RECOGIDA DATOS'!F95","v":""},{"$f":"'RECOGIDA DATOS'!G95","v":""},{"$f":"IF('RECOGIDA DATOS'!H95=\"\",\"\",'RECOGIDA DATOS'!H95)","v":""},{"$f":"IF('RECOGIDA DATOS'!I95=\"\",\"\",'RECOGIDA DATOS'!I95)","v":""},{"$f":"IF('RECOGIDA DATOS'!J95=\"\",\"\",'RECOGIDA DATOS'!J95)","v":""},{"$f":"IF('RECOGIDA DATOS'!K95=\"\",\"\",'RECOGIDA DATOS'!K95)","v":""},{"$f":"IF('RECOGIDA DATOS'!L95=\"\",\"\",'RECOGIDA DATOS'!L95)","v":""},{"$f":"IF('RECOGIDA DATOS'!M95=\"\",\"\",'RECOGIDA DATOS'!M95)","v":""},{"$f":"'RECOGIDA DATOS'!CZ95","v":""},{"$f":"'RECOGIDA DATOS'!DA95","v":""}]
[null,{"$f":"IF(INSCRIPCIÓN!B100=\"\",\"\",INSCRIPCIÓN!B100)","v":""},{"$f":"'RECOGIDA DATOS'!D96","v":""},{"$f":"'RECOGIDA DATOS'!C96","v":""},{"$f":"'RECOGIDA DATOS'!E96","v":""},{"$f":"'RECOGIDA DATOS'!F96","v":""},{"$f":"'RECOGIDA DATOS'!G96","v":""},{"$f":"IF('RECOGIDA DATOS'!H96=\"\",\"\",'RECOGIDA DATOS'!H96)","v":""},{"$f":"IF('RECOGIDA DATOS'!I96=\"\",\"\",'RECOGIDA DATOS'!I96)","v":""},{"$f":"IF('RECOGIDA DATOS'!J96=\"\",\"\",'RECOGIDA DATOS'!J96)","v":""},{"$f":"IF('RECOGIDA DATOS'!K96=\"\",\"\",'RECOGIDA DATOS'!K96)","v":""},{"$f":"IF('RECOGIDA DATOS'!L96=\"\",\"\",'RECOGIDA DATOS'!L96)","v":""},{"$f":"IF('RECOGIDA DATOS'!M96=\"\",\"\",'RECOGIDA DATOS'!M96)","v":""},{"$f":"'RECOGIDA DATOS'!CZ96","v":""},{"$f":"'RECOGIDA DATOS'!DA96","v":""}]
[null,{"$f":"IF(INSCRIPCIÓN!B101=\"\",\"\",INSCRIPCIÓN!B101)","v":""},{"$f":"'RECOGIDA DATOS'!D97","v":""},{"$f":"'RECOGIDA DATOS'!C97","v":""},{"$f":"'RECOGIDA DATOS'!E97","v":""},{"$f":"'RECOGIDA DATOS'!F97","v":""},{"$f":"'RECOGIDA DATOS'!G97","v":""},{"$f":"IF('RECOGIDA DATOS'!H97=\"\",\"\",'RECOGIDA DATOS'!H97)","v":""},{"$f":"IF('RECOGIDA DATOS'!I97=\"\",\"\",'RECOGIDA DATOS'!I97)","v":""},{"$f":"IF('RECOGIDA DATOS'!J97=\"\",\"\",'RECOGIDA DATOS'!J97)","v":""},{"$f":"IF('RECOGIDA DATOS'!K97=\"\",\"\",'RECOGIDA DATOS'!K97)","v":""},{"$f":"IF('RECOGIDA DATOS'!L97=\"\",\"\",'RECOGIDA DATOS'!L97)","v":""},{"$f":"IF('RECOGIDA DATOS'!M97=\"\",\"\",'RECOGIDA DATOS'!M97)","v":""},{"$f":"'RECOGIDA DATOS'!CZ97","v":""},{"$f":"'RECOGIDA DATOS'!DA97","v":""}]
[null,{"$f":"IF(INSCRIPCIÓN!B102=\"\",\"\",INSCRIPCIÓN!B102)","v":""},{"$f":"'RECOGIDA DATOS'!D98","v":""},{"$f":"'RECOGIDA DATOS'!C98","v":""},{"$f":"'RECOGIDA DATOS'!E98","v":""},{"$f":"'RECOGIDA DATOS'!F98","v":""},{"$f":"'RECOGIDA DATOS'!G98","v":""},{"$f":"IF('RECOGIDA DATOS'!H98=\"\",\"\",'RECOGIDA DATOS'!H98)","v":""},{"$f":"IF('RECOGIDA DATOS'!I98=\"\",\"\",'RECOGIDA DATOS'!I98)","v":""},{"$f":"IF('RECOGIDA DATOS'!J98=\"\",\"\",'RECOGIDA DATOS'!J98)","v":""},{"$f":"IF('RECOGIDA DATOS'!K98=\"\",\"\",'RECOGIDA DATOS'!K98)","v":""},{"$f":"IF('RECOGIDA DATOS'!L98=\"\",\"\",'RECOGIDA DATOS'!L98)","v":""},{"$f":"IF('RECOGIDA DATOS'!M98=\"\",\"\",'RECOGIDA DATOS'!M98)","v":""},{"$f":"'RECOGIDA DATOS'!CZ98","v":""},{"$f":"'RECOGIDA DATOS'!DA98","v":""}]
[null,{"$f":"IF(INSCRIPCIÓN!B103=\"\",\"\",INSCRIPCIÓN!B103)","v":""},{"$f":"'RECOGIDA DATOS'!D99","v":""},{"$f":"'RECOGIDA DATOS'!C99","v":""},{"$f":"'RECOGIDA DATOS'!E99","v":""},{"$f":"'RECOGIDA DATOS'!F99","v":""},{"$f":"'RECOGIDA DATOS'!G99","v":""},{"$f":"IF('RECOGIDA DATOS'!H99=\"\",\"\",'RECOGIDA DATOS'!H99)","v":""},{"$f":"IF('RECOGIDA DATOS'!I99=\"\",\"\",'RECOGIDA DATOS'!I99)","v":""},{"$f":"IF('RECOGIDA DATOS'!J99=\"\",\"\",'RECOGIDA DATOS'!J99)","v":""},{"$f":"IF('RECOGIDA DATOS'!K99=\"\",\"\",'RECOGIDA DATOS'!K99)","v":""},{"$f":"IF('RECOGIDA DATOS'!L99=\"\",\"\",'RECOGIDA DATOS'!L99)","v":""},{"$f":"IF('RECOGIDA DATOS'!M99=\"\",\"\",'RECOGIDA DATOS'!M99)","v":""},{"$f":"'RECOGIDA DATOS'!CZ99","v":""},{"$f":"'RECOGIDA DATOS'!DA99","v":""}]
[null,{"$f":"IF(INSCRIPCIÓN!B104=\"\",\"\",INSCRIPCIÓN!B104)","v":""},{"$f":"'RECOGIDA DATOS'!D100","v":""},{"$f":"'RECOGIDA DATOS'!C100","v":""},{"$f":"'RECOGIDA DATOS'!E100","v":""},{"$f":"'RECOGIDA DATOS'!F100","v":""},{"$f":"'RECOGIDA DATOS'!G100","v":""},{"$f":"IF('RECOGIDA DATOS'!H100=\"\",\"\",'RECOGIDA DATOS'!H100)","v":""},{"$f":"IF('RECOGIDA DATOS'!I100=\"\",\"\",'RECOGIDA DATOS'!I100)","v":""},{"$f":"IF('RECOGIDA DATOS'!J100=\"\",\"\",'RECOGIDA DATOS'!J100)","v":""},{"$f":"IF('RECOGIDA DATOS'!K100=\"\",\"\",'RECOGIDA DATOS'!K100)","v":""},{"$f":"IF('RECOGIDA DATOS'!L100=\"\",\"\",'RECOGIDA DATOS'!L100)","v":""},{"$f":"IF('RECOGIDA DATOS'!M100=\"\",\"\",'RECOGIDA DATOS'!M100)","v":""},{"$f":"'RECOGIDA DATOS'!CZ100","v":""},{"$f":"'RECOGIDA DATOS'!DA100","v":""}]
[null,{"$f":"IF(INSCRIPCIÓN!B105=\"\",\"\",INSCRIPCIÓN!B105)","v":""},{"$f":"'RECOGIDA DATOS'!D101","v":""},{"$f":"'RECOGIDA DATOS'!C101","v":""},{"$f":"'RECOGIDA DATOS'!E101","v":""},{"$f":"'RECOGIDA DATOS'!F101","v":""},{"$f":"'RECOGIDA DATOS'!G101","v":""},{"$f":"IF('RECOGIDA DATOS'!H101=\"\",\"\",'RECOGIDA DATOS'!H101)","v":""},{"$f":"IF('RECOGIDA DATOS'!I101=\"\",\"\",'RECOGIDA DATOS'!I101)","v":""},{"$f":"IF('RECOGIDA DATOS'!J101=\"\",\"\",'RECOGIDA DATOS'!J101)","v":""},{"$f":"IF('RECOGIDA DATOS'!K101=\"\",\"\",'RECOGIDA DATOS'!K101)","v":""},{"$f":"IF('RECOGIDA DATOS'!L101=\"\",\"\",'RECOGIDA DATOS'!L101)","v":""},{"$f":"IF('RECOGIDA DATOS'!M101=\"\",\"\",'RECOGIDA DATOS'!M101)","v":""},{"$f":"'RECOGIDA DATOS'!CZ101","v":""},{"$f":"'RECOGIDA DATOS'!DA101","v":""}]
[null,{"$f":"IF(INSCRIPCIÓN!B106=\"\",\"\",INSCRIPCIÓN!B106)","v":""},{"$f":"'RECOGIDA DATOS'!D102","v":""},{"$f":"'RECOGIDA DATOS'!C102","v":""},{"$f":"'RECOGIDA DATOS'!E102","v":""},{"$f":"'RECOGIDA DATOS'!F102","v":""},{"$f":"'RECOGIDA DATOS'!G102","v":""},{"$f":"IF('RECOGIDA DATOS'!H102=\"\",\"\",'RECOGIDA DATOS'!H102)","v":""},{"$f":"IF('RECOGIDA DATOS'!I102=\"\",\"\",'RECOGIDA DATOS'!I102)","v":""},{"$f":"IF('RECOGIDA DATOS'!J102=\"\",\"\",'RECOGIDA DATOS'!J102)","v":""},{"$f":"IF('RECOGIDA DATOS'!K102=\"\",\"\",'RECOGIDA DATOS'!K102)","v":""},{"$f":"IF('RECOGIDA DATOS'!L102=\"\",\"\",'RECOGIDA DATOS'!L102)","v":""},{"$f":"IF('RECOGIDA DATOS'!M102=\"\",\"\",'RECOGIDA DATOS'!M102)","v":""},{"$f":"'RECOGIDA DATOS'!CZ102","v":""},{"$f":"'RECOGIDA DATOS'!DA102","v":""}]