{"text_format":"1","workbook":"xlsx","n_sheets":48,"sheets":["Inicio","JAB.800","JAB.700","JAB.600","JAB.500","JAB.400","Imp. Jabalina","Imp. Disco","Imp. Martillo","Imp. Martillo Pesado","Imp. Peso","Imp. Listón","Imp. Testigo","Imp. uso artef.","DIS.2000","DIS.1750","DIS.1500","DIS.1000","DIS.800","DIS.750","MAR.7260","MAR.6000","MAR.5000","MAR.4000","MAR.3000","MAR.2000","MARP.15880","MARP.9080","MARP.11340","MARP.7260","MARP.5450","MARP.4000","PES.7260","PES.6000","PES.5000","PES.4000M","PES.4000H","PES.3000M","PES.3000H","PES.2000","LIS.ALT","LIS.PER","TESTIGOS","Justificante","% uso artefactos","% u.a.","Resumen","Ayuda"],"not_rendered":{"charts":0,"images":19,"macros":1,"external_links":0,"defined_names":81,"comments":0,"pivot_tables":0},"unopened":[],"bounds":{"document_bytes":16777216,"sheet_cells":100000,"rows_first":2000,"rows_last":500,"rows_between":2000,"halvings":0,"cell_chars":16384,"cell_head_chars":4096},"cells_cut":0,"cells_raw":0,"read":"whole","date_system":"1900"}

{"sheet":"Inicio","index":0,"n_rows":57,"n_cols":15,"rows_kept":57,"cut":false,"hidden":false,"merged":[[30,7,31,7],[12,9,13,9],[15,9,16,9],[18,9,19,9],[21,9,22,9],[24,9,25,9],[21,11,22,11],[21,10,22,10],[21,1,22,1],[15,10,16,10],[18,10,19,10],[21,5,22,5],[15,7,16,7],[18,7,19,7],[9,9,10,9],[24,3,25,3],[24,5,25,5],[24,7,25,7],[27,7,28,7],[21,3,22,3],[5,5,5,6],[21,7,22,7],[15,5,16,5],[18,5,19,5],[9,3,10,3],[9,7,10,7],[9,5,10,5],[12,5,13,5],[12,1,13,1],[15,1,16,1],[18,1,19,1],[0,1,0,14],[3,1,3,2],[5,1,5,2],[9,1,10,1],[9,11,10,11],[12,7,13,7],[3,3,3,10],[12,3,13,3],[15,3,16,3],[18,3,19,3],[9,10,10,10],[12,10,13,10],[18,11,19,11]]}
[null,"SELECCIÓN DE TIPOS DE ARTEFACTOS A HOMOLOGAR"]
[]
[]
[null,"Competición: ",null,null,null,null,null,null,null,null,null,null,"Fecha desde:",null,"hasta:"]
[]
[]
[null,"JABALINAS",null,"DISCOS",null,"MARTILLOS",null,"PESOS",null,"MAR. PES.",null,"TESTIGOS",null,"IMPRESOS"]
[]
[]
[null,"800 g",null,"2000 g",null,"7260 g",null,"7260 g",null,"15880 g",null,"Testigo",null,"Jabalina"]
[]
[null,null,null,null,null,null,null,null,null,null,null,null,null,"Disco"]
[null,"700 g",null,"1750 g",null,"6000 g",null,"6000 g",null,"11340 g"]
[null,null,null,null,null,null,null,null,null,null,null,null,null,"Martillo"]
[null,null,null,null,null,null,null,null,null,null,null,"LISTONES"]
[null,"600 g",null,"1500 g",null,"5000 g",null,"5000 g",null,"9080 g",null,null,null,"Mar. Pes."]
[]
[null,null,null,null,null,null,null,null,null,null,null,null,null,"Peso"]
[null,"500 g",null,"1000 g",null,"4000 g",null,"4000 g H",null,"7260 g",null,"Altura"]
[null,null,null,null,null,null,null,null,null,null,null,null,null,"Testigo"]
[]
[null,"400 g",null,"800 g",null,"3000 g",null,"4000 g M",null,"5450 g",null,"Pértiga",null,"Listón"]
[]
[null,null,null,null,null,null,null,null,null,null,null,null,null,"Uso artef."]
[null,null,null,"750 g",null,"2000 g",null,"3000 g H",null,"4000 g"]
[null,null,null,null,null,null,null,null,null,null,null,null,null,"Justific."]
[]
[null,null,null,null,null,null,null,"3000 g M"]
[]
[]
[null,null,null,null,null,null,null,"2000 g"]
[]
[null,false,null,false,null,false,null,false,null,false,null,false,null,false]
[]
[]
[null,false,null,false,null,false,null,false,null,false,null,false,null,false]
[]
[]
[null,false,null,false,null,false,null,false,null,false,null,false,null,false]
[]
[]
[null,false,null,false,null,false,null,false,null,false,null,false,null,false]
[]
[]
[null,false,null,false,null,false,null,false,null,false,null,false,null,false]
[]
[]
[null,null,null,false,null,false,null,false,null,false,null,null,null,false]
[]
[]
[null,null,null,null,null,null,null,false,null,null,null,null,null,false]
[]
[]
[null,null,null,null,null,null,null,false,null,null,null,null,null,false]
[]
[]
[null,null,null,null,null,null,null,null,null,null,null,null,null,false]

{"sheet":"JAB.800","index":1,"n_rows":164,"n_cols":98,"rows_kept":164,"cut":false,"hidden":true,"merged":[[7,20,7,21],[7,25,7,26],[7,14,7,15],[5,43,6,45],[5,46,6,48],[5,40,6,42],[5,14,6,16],[5,17,6,19],[5,20,6,22],[5,23,6,23],[5,24,6,24],[5,25,6,27],[5,28,6,29],[5,30,6,32],[5,33,6,35],[5,36,6,37],[5,38,6,39],[7,17,7,18],[7,0,8,0],[7,1,8,1],[7,5,7,6],[7,8,7,9],[7,11,7,12],[5,11,6,13],[5,0,6,0],[5,1,6,1],[5,2,6,2],[5,5,6,7],[5,8,6,10],[7,28,7,29],[7,30,7,31],[7,33,7,34],[0,0,4,1],[1,3,1,11],[3,30,3,31],[4,8,4,9],[4,11,4,12],[4,14,4,15],[4,17,4,18],[4,20,4,21],[4,33,4,34],[4,36,4,37],[4,38,4,39],[4,25,4,26],[4,28,4,29],[4,55,4,56],[4,58,4,59],[4,43,4,44],[4,46,4,47],[4,49,4,50],[4,52,4,53],[9,43,9,44],[9,46,9,47],[5,64,6,64],[5,49,6,51],[5,52,6,54],[5,55,6,57],[5,58,6,60],[5,61,6,61],[5,63,6,63],[9,64,10,64],[9,49,9,50],[9,52,9,53],[9,55,9,56],[9,58,9,59],[9,61,10,61],[9,63,10,63],[7,63,8,63],[7,64,8,64],[7,36,7,37],[7,38,7,39],[7,40,7,41],[7,43,7,44],[7,46,7,47],[7,49,7,50],[7,52,7,53],[7,55,7,56],[7,58,7,59],[7,61,8,61],[9,30,9,31],[9,33,9,34],[9,36,9,37],[9,38,9,39],[9,40,9,41],[9,0,10,0],[9,1,10,1],[9,5,9,6],[9,8,9,9],[9,28,9,29],[9,11,9,12],[9,14,9,15],[9,17,9,18],[9,20,9,21],[9,25,9,26]]}
[null,null,"HOMOLOGACIÓN DE ARTEFACTOS",null,null,null,null,null,null,null,null,null,null,null,null,null,null,null,null,null,null,null,null,null,null,null,null,null,null,null,null,null,null,null,null,null,null,null,null,null,null,null,null,null,null,null,null,null,null,null,null,null,null,null,null,null,null,null,null,null,null,null,null,null,null,null,null,null,10]
[null,null,"Competición:",{"$f":"IF(Inicio!D4=\"\",\"FALTA NOMBRE DE COMPETICIÓN\",Inicio!D4)","v":"FALTA NOMBRE DE COMPETICIÓN"},null,null,null,null,null,null,null,null,"X",null,null,null,null,null,null,null,null,null,null,null,null,null,null,null,null,null,null,null,null,null,null,null,null,null,null,null,null,null,null,null,null,null,null,null,null,null,null,null,null,null,null,null,null,null,null,null,null,null,null,null,null,"Instalación"]
[null,null,null,null,null,null,null,null,null,null,null,null,null,null,null,null,null,null,null,null,null,null,null,null,null,null,null,null,null,null,null,null,null,null,null,null,null,null,null,null,null,null,null,null,null,null,null,null,null,null,null,null,null,null,null,null,null,null,null,null,null,null,null,null,null,"Organización"]
[null,null,null,"JABALINA 800",null,null,null,null,null,null,null,null,null,null,null,null,null,null,null,null,null,null,null,null,null,null,null,null,null,null,null,null,null,null,null,null,null,null,null,null,null,null,null,null,null,null,null,null,null,null,null,null,null,null,null,null,null,null,null,null,null,null,null,null,null,"Particular"]
[null,null,null,null,null,null,null,null,"Longitud total",null,null,"Long. punta\na c.d.g.",null,null,"Long. cola\na c.d.g.",null,null,"Long. cabeza metálica",null,null,"Long. empuñadura",null,null,"½ L1","½ L2","Diámetro delante empuña-dura",null,null,"Diámetro detras empuña-dura",null,null,null,null,"Diámetro a 150 mm de la punta",null,null,"Diámetro al final de la cabeza",null,"Diámetro detrás de la cabeza",null,null,null,null,"Diámetro en 1/2 de L1",null,null,"Diámetro de la empuña-dura",null,null,"Diámetro en 1/2 de L2",null,null,"Diámetro a 150 mm de la cola",null,null,"Diámetro en la cola",null,null,"Ángulo en la punta",null,null,"Deficiencias                                       no relacionadas                                           con medidas"]
["Referencia","Válido","Propietario","Marca y modelo","Cert. IAAF","Peso",null,null,"L0",null,null,"L1",null,null,"L2",null,null,"L3",null,null,"L4",null,null,"L1","L2","D0",null,null,"D1",null,"D0-D1",null,null,"D2",null,null,"D3",null,"D4",null,"D3-D4",null,null,"D5",null,null,"D6",null,null,"D7",null,null,"D8",null,null,"D9",null,null,"Ángulo",null,null,"Observaciones",null,"Homologador","Fecha"]
[null,null,null,"Color","Art. Comb.",null,null,null,null,null,null,null,null,null,null,null,null,null,null,null,null,null,null,null,null,null,null,null,null,null,null,null,null,null,null,null,null,null,null,null,null,null,null,null,null,null,null,null,null,null,null,null,null,null,null,null,null,null,null,null,null,null,null,null,null,null,null,null,null,"VI","VO","VP","NVI","NVO","NVP","NVPI","NVPO","NVPP","NVMI","NVMO","NVMP","Peso","Long. total","Long. punta  c. de g.","Long. cola a c. de g.","Long. cab. met.","Long. emp.","Ø del. emp.","D0-D1","Ø 150mm p.","D3-D4","Ø ½ L1","Ø emp.","Ø ½ L2","Ø 150mm c.","Ø cola","Áng. punta","Observ."]
[1,{"$f":"IF(AND(A8<>\"\",C8<>\"\",D8<>\"\",BL8<>\"\",BM8<>\"\"),IF(SUM(H9,K9,N9,Q9,T9,W9,AB9,AG9,AJ9,AQ9,AT9,AW9,AZ9,BC9,BF9,BI9,BK9)>0,\"NO\",\"SI\"),\"\")","v":""},null,null,null,null,null,null,null,null,null,null,null,null,{"$f":"I8-L8","v":0},null,null,null,null,null,null,null,null,{"$f":"$L8/2","v":0},{"$f":"$O8/2","v":0},null,null,null,null,null,{"$f":"IF(OR(Z8=\"\",AC8=\"\"),\"\",IF(Z8-AC8=0,\"0\",Z8-AC8))","v":""},null,null,null,null,null,null,null,null,null,{"$f":"AK8-AM8","v":0},null,null,null,null,null,null,null,null,null,null,null,null,null,null,null,null,null,null,null,null,null,null,null,null,null,{"$f":"C9","v":0},{"$f":"D9","v":0},null,{"$f":"IF(AND(B8=\"SI\",C8=\"Instalación\"),1,\"\")","v":""},{"$f":"IF(AND(B8=\"SI\",C8=\"Organización\"),1,\"\")","v":""},{"$f":"IF(AND(B8=\"SI\",C8=\"Particular\"),1,\"\")","v":""},{"$f":"IF(AND(B8=\"NO\",C8=\"Instalación\"),1,\"\")","v":""},{"$f":"IF(AND(B8=\"NO\",C8=\"Organización\"),1,\"\")","v":""},{"$f":"IF(AND(B8=\"NO\",C8=\"Particular\"),1,\"\")","v":""},{"$f":"IF(AND(B8=\"NO\",C8=\"Instalación\",H9=1),1,\"\")","v":""},{"$f":"IF(AND(B8=\"NO\",C8=\"Organización\",H9=1),1,\"\")","v":""},{"$f":"IF(AND(B8=\"NO\",C8=\"Particular\",H9=1),1,\"\")","v":""},{"$f":"IF(AND(B8=\"NO\",C8=\"Instalación\"),IF(OR(K9=1,N9=1,Q9=1,T9=1,W9=1,AB9=1,AG9=1,AJ9=1,AQ9=1,AT9=1,AW9=1,AZ9=1,BC9=1,BF9=1,BI9=1),1,\"\"),\"\")","v":""},{"$f":"IF(AND(B8=\"NO\",C8=\"Organización\"),IF(OR(K9=1,N9=1,Q9=1,T9=1,W9=1,AB9=1,AG9=1,AJ9=1,AQ9=1,AT9=1,AW9=1,AZ9=1,BC9=1,BF9=1,BI9=1),1,\"\"),\"\")","v":""},{"$f":"IF(AND(B8=\"NO\",C8=\"Particular\"),IF(OR(K9=1,N9=1,Q9=1,T9=1,W9=1,AB9=1,AG9=1,AJ9=1,AQ9=1,AT9=1,AW9=1,AZ9=1,BC9=1,BF9=1,BI9=1),1,\"\"),\"\")","v":""},{"$f":"IF(AND(H9=1,F8<>\"\"),\"X\",\"\")","v":""},{"$f":"IF(AND(K9=1,I8<>\"\"),\"X\",\"\")","v":""},{"$f":"IF(AND(N9=1,L8<>\"\"),\"X\",\"\")","v":""},{"$f":"IF(AND(Q9=1,O8<>0),\"X\",\"\")","v":""},{"$f":"IF(AND(T9=1,R8<>\"\"),\"X\",\"\")","v":""},{"$f":"IF(AND(W9=1,U8<>\"\"),\"X\",\"\")","v":""},{"$f":"IF(AND(AB9=1,Z8<>\"\"),\"X\",\"\")","v":""},{"$f":"IF(AND(AG9=1,AE8<>\"\"),\"X\",\"\")","v":""},{"$f":"IF(AND(AJ9=1,AH8<>\"\"),\"X\",\"\")","v":""},{"$f":"IF(AND(AQ9=1,AO8<>\"\"),\"X\",\"\")","v":""},{"$f":"IF(AND(AT9=1,AR8<>\"\"),\"X\",\"\")","v":""},{"$f":"IF(AND(AW9=1,AU8<>\"\"),\"X\",\"\")","v":""},{"$f":"IF(AND(AZ9=1,AX8<>\"\"),\"X\",\"\")","v":""},{"$f":"IF(AND(BC9=1,BA8<>\"\"),\"X\",\"\")","v":""},{"$f":"IF(AND(BF9=1,BD8<>\"\"),\"X\",\"\")","v":""},{"$f":"IF(AND(BI9=1,BG8<>\"\"),\"X\",\"\")","v":""},{"$f":"IF(AND(BK9=1,BJ8<>\"\"),\"X\",\"\")","v":""}]
[null,null,null,null,null,800,"-",{"$f":"IF(OR(F8<F9,F8=\"\"),1,0)","v":1},2600,2700,{"$f":"IF(OR(I8<I9,I8>J9,I8=\"\"),1,0)","v":1},900,1060,{"$f":"IF(OR(L8<L9,L8>M9,L8=\"\"),1,0)","v":1},1540,1800,{"$f":"IF(OR(O8<O9,O8>P9,O8=\"\"),1,0)","v":1},250,330,{"$f":"IF(OR(R8<R9,R8>S9,R8=\"\"),1,0)","v":1},150,160,{"$f":"IF(OR(U8<U9,U8>V9,U8=\"\"),1,0)","v":1},null,null,25,30,{"$f":"IF(OR(Z8<Z9,Z8>AA9,Z8=\"\"),1,0)","v":1},null,null,"0",0.25,{"$f":"IF(AE8=\"0\",0,IF(OR(AE8<0,AE8>AF9,AE8=\"\"),1,0))","v":1},0,{"$f":"ROUND(0.8*Z8,2)","v":0},{"$f":"IF(OR(AH8>AI9,AH8=\"\"),1,0)","v":1},0,0,null,null,0,2.5,{"$f":"IF(OR(AO8>AP9,AO8=\"\"),1,0)","v":0},0,{"$f":"ROUND(0.9*Z8,2)","v":0},{"$f":"IF(OR(AR8>AS9,AR8=\"\"),1,0)","v":1},0,{"$f":"8+Z8","v":8},{"$f":"IF(OR(AU8>AV9,AU8=\"\"),1,0)","v":1},{"$f":"ROUND(0.9*Z8,2)","v":0},"-",{"$f":"IF(OR(AX8<AX9,AX8>AY9,AX8=\"\"),1,0)","v":1},{"$f":"ROUND(0.4*Z8,2)","v":0},"-",{"$f":"IF(OR(BA8<BA9,BA8>BB9,BA8=\"\"),1,0)","v":1},3.5,"-",{"$f":"IF(OR(BD8<BD9,BD8>BE9,BD8=\"\"),1,0)","v":1},0,40,{"$f":"IF(OR(BG8>BH9,BG8=\"\"),1,0)","v":1},null,{"$f":"IF(BJ8<>\"\",1,0)","v":0}]
[2,{"$f":"IF(AND(A10<>\"\",C10<>\"\",D10<>\"\",BL10<>\"\",BM10<>\"\"),IF(SUM(H11,K11,N11,Q11,T11,W11,AB11,AG11,AJ11,AQ11,AT11,AW11,AZ11,BC11,BF11,BI11,BK11)>0,\"NO\",\"SI\"),\"\")","v":""},null,null,null,null,null,null,null,null,null,null,null,null,{"$f":"I10-L10","v":0},null,null,null,null,null,null,null,null,{"$f":"$L10/2","v":0},{"$f":"$O10/2","v":0},null,null,null,null,null,{"$f":"IF(OR(Z10=\"\",AC10=\"\"),\"\",IF(Z10-AC10=0,\"0\",Z10-AC10))","v":""},null,null,null,null,null,null,null,null,null,{"$f":"AK10-AM10","v":0},null,null,null,null,null,null,null,null,null,null,null,null,null,null,null,null,null,null,null,null,null,null,null,null,null,{"$f":"C11","v":0},{"$f":"D11","v":0},null,{"$f":"IF(AND(B10=\"SI\",C10=\"Instalación\"),1,\"\")","v":""},{"$f":"IF(AND(B10=\"SI\",C10=\"Organización\"),1,\"\")","v":""},{"$f":"IF(AND(B10=\"SI\",C10=\"Particular\"),1,\"\")","v":""},{"$f":"IF(AND(B10=\"NO\",C10=\"Instalación\"),1,\"\")","v":""},{"$f":"IF(AND(B10=\"NO\",C10=\"Organización\"),1,\"\")","v":""},{"$f":"IF(AND(B10=\"NO\",C10=\"Particular\"),1,\"\")","v":""},{"$f":"IF(AND(B10=\"NO\",C10=\"Instalación\",H11=1),1,\"\")","v":""},{"$f":"IF(AND(B10=\"NO\",C10=\"Organización\",H11=1),1,\"\")","v":""},{"$f":"IF(AND(B10=\"NO\",C10=\"Particular\",H11=1),1,\"\")","v":""},{"$f":"IF(AND(B10=\"NO\",C10=\"Instalación\"),IF(OR(K11=1,N11=1,Q11=1,T11=1,W11=1,AB11=1,AG11=1,AJ11=1,AQ11=1,AT11=1,AW11=1,AZ11=1,BC11=1,BF11=1,BI11=1),1,\"\"),\"\")","v":""},{"$f":"IF(AND(B10=\"NO\",C10=\"Organización\"),IF(OR(K11=1,N11=1,Q11=1,T11=1,W11=1,AB11=1,AG11=1,AJ11=1,AQ11=1,AT11=1,AW11=1,AZ11=1,BC11=1,BF11=1,BI11=1),1,\"\"),\"\")","v":""},{"$f":"IF(AND(B10=\"NO\",C10=\"Particular\"),IF(OR(K11=1,N11=1,Q11=1,T11=1,W11=1,AB11=1,AG11=1,AJ11=1,AQ11=1,AT11=1,AW11=1,AZ11=1,BC11=1,BF11=1,BI11=1),1,\"\"),\"\")","v":""},{"$f":"IF(AND(H11=1,F10<>\"\"),\"X\",\"\")","v":""},{"$f":"IF(AND(K11=1,I10<>\"\"),\"X\",\"\")","v":""},{"$f":"IF(AND(N11=1,L10<>\"\"),\"X\",\"\")","v":""},{"$f":"IF(AND(Q11=1,O10<>0),\"X\",\"\")","v":""},{"$f":"IF(AND(T11=1,R10<>\"\"),\"X\",\"\")","v":""},{"$f":"IF(AND(W11=1,U10<>\"\"),\"X\",\"\")","v":""},{"$f":"IF(AND(AB11=1,Z10<>\"\"),\"X\",\"\")","v":""},{"$f":"IF(AND(AG11=1,AE10<>\"\"),\"X\",\"\")","v":""},{"$f":"IF(AND(AJ11=1,AH10<>\"\"),\"X\",\"\")","v":""},{"$f":"IF(AND(AQ11=1,AO10<>\"\"),\"X\",\"\")","v":""},{"$f":"IF(AND(AT11=1,AR10<>\"\"),\"X\",\"\")","v":""},{"$f":"IF(AND(AW11=1,AU10<>\"\"),\"X\",\"\")","v":""},{"$f":"IF(AND(AZ11=1,AX10<>\"\"),\"X\",\"\")","v":""},{"$f":"IF(AND(BC11=1,BA10<>\"\"),\"X\",\"\")","v":""},{"$f":"IF(AND(BF11=1,BD10<>\"\"),\"X\",\"\")","v":""},{"$f":"IF(AND(BI11=1,BG10<>\"\"),\"X\",\"\")","v":""},{"$f":"IF(AND(BK11=1,BJ10<>\"\"),\"X\",\"\")","v":""}]
[null,null,null,null,null,800,"-",{"$f":"IF(OR(F10<F11,F10=\"\"),1,0)","v":1},2600,2700,{"$f":"IF(OR(I10<I11,I10>J11,I10=\"\"),1,0)","v":1},900,1060,{"$f":"IF(OR(L10<L11,L10>M11,L10=\"\"),1,0)","v":1},1540,1800,{"$f":"IF(OR(O10<O11,O10>P11,O10=\"\"),1,0)","v":1},250,330,{"$f":"IF(OR(R10<R11,R10>S11,R10=\"\"),1,0)","v":1},150,160,{"$f":"IF(OR(U10<U11,U10>V11,U10=\"\"),1,0)","v":1},null,null,25,30,{"$f":"IF(OR(Z10<Z11,Z10>AA11,Z10=\"\"),1,0)","v":1},null,null,"0",0.25,{"$f":"IF(AE10=\"0\",0,IF(OR(AE10<0,AE10>AF11,AE10=\"\"),1,0))","v":1},0,{"$f":"ROUND(0.8*Z10,2)","v":0},{"$f":"IF(OR(AH10>AI11,AH10=\"\"),1,0)","v":1},0,0,null,null,0,2.5,{"$f":"IF(OR(AO10>AP11,AO10=\"\"),1,0)","v":0},0,{"$f":"ROUND(0.9*Z10,2)","v":0},{"$f":"IF(OR(AR10>AS11,AR10=\"\"),1,0)","v":1},0,{"$f":"8+Z10","v":8},{"$f":"IF(OR(AU10>AV11,AU10=\"\"),1,0)","v":1},{"$f":"ROUND(0.9*Z10,2)","v":0},"-",{"$f":"IF(OR(AX10<AX11,AX10>AY11,AX10=\"\"),1,0)","v":1},{"$f":"ROUND(0.4*Z10,2)","v":0},"-",{"$f":"IF(OR(BA10<BA11,BA10>BB11,BA10=\"\"),1,0)","v":1},3.5,"-",{"$f":"IF(OR(BD10<BD11,BD10>BE11,BD10=\"\"),1,0)","v":1},0,40,{"$f":"IF(OR(BG10>BH11,BG10=\"\"),1,0)","v":1},null,{"$f":"IF(BJ10<>\"\",1,0)","v":0}]
[]
[]
[]
[]
[]
[]
[]
[]
[]
[]
[]
[]
[]
[]
[]
[]
[]
[]
[]
[]
[]
[]
[]
[]
[]
[]
[]
[]
[]
[]
[]
[]
[]
[]
[]
[]
[]
[]
[]
[]
[]
[]
[]
[]
[]
[]
[]
[]
[]
[]
[]
[]
[]
[]
[]
[]
[]
[]
[]
[]
[]
[]
[]
[]
[]
[]
[]
[]
[]
[]
[]
[]
[]
[]
[]
[]
[]
[]
[]
[]
[]
[]
[]
[]
[]
[]
[]
[]
[]
[]
[]
[]
[]
[]
[]
[]
[]
[]
[]
[]
[]
[]
[]
[]
[]
[]
[]
[]
[]
[]
[]
[]
[]
[]
[]
[]
[]
[]
[]
[]
[]
[]
[]
[]
[]
[]
[]
[]
[]
[]
[]
[]
[]
[]
[]
[]
[]
[]
[]
[]
[]
[]
[]
[]
[]
[]
[]
[]
[]
[]
[]
[]
[null,null,null,null,null,null,null,null,null,null,null,null,null,null,null,null,null,null,null,null,null,null,null,null,null,null,null,null,null,null,null,null,null,null,null,null,null,null,null,null,null,null,null,null,null,null,null,null,null,null,null,null,null,null,null,null,null,null,null,null,null,null,null,null,null,null,null,null,null,{"$f":"SUM(BR8:BR163)","v":0},0,0,0,0,0,0,0,0,0,0,0]

{"sheet":"JAB.700","index":2,"n_rows":202,"n_cols":98,"rows_kept":202,"cut":false,"hidden":true,"merged":[[3,30,3,31],[4,8,4,9],[4,11,4,12],[4,14,4,15],[4,17,4,18],[4,20,4,21],[4,25,4,26],[4,28,4,29],[9,14,9,15],[9,17,9,18],[9,20,9,21],[0,0,4,1],[1,3,1,11],[9,0,10,0],[9,1,10,1],[9,5,9,6],[5,14,6,16],[5,17,6,19],[5,20,6,22],[7,17,7,18],[7,20,7,21],[9,8,9,9],[9,11,9,12],[7,25,7,26],[7,28,7,29],[5,23,6,23],[4,52,4,53],[4,55,4,56],[7,30,7,31],[7,33,7,34],[5,38,6,39],[5,28,6,29],[5,30,6,32],[5,33,6,35],[5,36,6,37],[5,24,6,24],[4,58,4,59],[5,0,6,0],[5,1,6,1],[5,2,6,2],[5,5,6,7],[5,8,6,10],[5,11,6,13],[4,33,4,34],[4,36,4,37],[4,38,4,39],[4,43,4,44],[4,46,4,47],[4,49,4,50],[5,25,6,27],[5,61,6,61],[5,63,6,63],[5,64,6,64],[7,0,8,0],[7,1,8,1],[7,5,7,6],[7,8,7,9],[7,11,7,12],[7,14,7,15],[5,43,6,45],[5,46,6,48],[5,49,6,51],[5,52,6,54],[5,55,6,57],[5,58,6,60],[5,40,6,42],[7,64,8,64],[7,36,7,37],[7,38,7,39],[7,40,7,41],[7,43,7,44],[7,46,7,47],[7,49,7,50],[7,63,8,63],[7,58,7,59],[7,61,8,61],[7,52,7,53],[7,55,7,56],[9,43,9,44],[9,46,9,47],[9,28,9,29],[9,25,9,26],[9,64,10,64],[9,49,9,50],[9,52,9,53],[9,55,9,56],[9,58,9,59],[9,61,10,61],[9,63,10,63],[9,30,9,31],[9,33,9,34],[9,36,9,37],[9,38,9,39],[9,40,9,41]]}
[null,null,"HOMOLOGACIÓN DE ARTEFACTOS",null,null,null,null,null,null,null,null,null,null,null,null,null,null,null,null,null,null,null,null,null,null,null,null,null,null,null,null,null,null,null,null,null,null,null,null,null,null,null,null,null,null,null,null,null,null,null,null,null,null,null,null,null,null,null,null,null,null,null,null,null,null,null,null,null,10]
[null,null,"Competición:",{"$f":"IF(Inicio!D4=\"\",\"FALTA NOMBRE DE COMPETICIÓN\",Inicio!D4)","v":"FALTA NOMBRE DE COMPETICIÓN"},null,null,null,null,null,null,null,null,"X",null,null,null,null,null,null,null,null,null,null,null,null,null,null,null,null,null,null,null,null,null,null,null,null,null,null,null,null,null,null,null,null,null,null,null,null,null,null,null,null,null,null,null,null,null,null,null,null,null,null,null,null,"Instalación"]
[null,null,null,null,null,null,null,null,null,null,null,null,null,null,null,null,null,null,null,null,null,null,null,null,null,null,null,null,null,null,null,null,null,null,null,null,null,null,null,null,null,null,null,null,null,null,null,null,null,null,null,null,null,null,null,null,null,null,null,null,null,null,null,null,null,"Organización"]
[null,null,null,"JABALINA 700",null,null,null,null,null,null,null,null,null,null,null,null,null,null,null,null,null,null,null,null,null,null,null,null,null,null,null,null,null,null,null,null,null,null,null,null,null,null,null,null,null,null,null,null,null,null,null,null,null,null,null,null,null,null,null,null,null,null,null,null,null,"Particular"]
[null,null,null,null,null,null,null,null,"Longitud total",null,null,"Long. punta\na c.d.g.",null,null,"Long. cola\na c.d.g.",null,null,"Long. cabeza metálica",null,null,"Long. empuñadura",null,null,"½ L1","½ L2","Diámetro delante empuña-dura",null,null,"Diámetro detras empuña-dura",null,null,null,null,"Diámetro a 150 mm de la punta",null,null,"Diámetro al final de la cabeza",null,"Diámetro detrás de la cabeza",null,null,null,null,"Diámetro en 1/2 de L1",null,null,"Diámetro de la empuña-dura",null,null,"Diámetro en 1/2 de L2",null,null,"Diámetro a 150 mm de la cola",null,null,"Diámetro en la cola",null,null,"Ángulo en la punta",null,null,"Deficiencias                                       no relacionadas                                           con medidas"]
["Referencia","Válido","Propietario","Marca y modelo","Cert. IAAF","Peso",null,null,"L0",null,null,"L1",null,null,"L2",null,null,"L3",null,null,"L4",null,null,"L1","L2","D0",null,null,"D1",null,"D0-D1",null,null,"D2",null,null,"D3",null,"D4",null,"D3-D4",null,null,"D5",null,null,"D6",null,null,"D7",null,null,"D8",null,null,"D9",null,null,"Ángulo",null,null,"Observaciones",null,"Homologador","Fecha"]
[null,null,null,"Color","Art. Comb.",null,null,null,null,null,null,null,null,null,null,null,null,null,null,null,null,null,null,null,null,null,null,null,null,null,null,null,null,null,null,null,null,null,null,null,null,null,null,null,null,null,null,null,null,null,null,null,null,null,null,null,null,null,null,null,null,null,null,null,null,null,null,null,null,"VI","VO","VP","NVI","NVO","NVP","NVPI","NVPO","NVPP","NVMI","NVMO","NVMP","Peso","Long. total","Long. punta a c. de g.","Long. cola a c. de g.","Long. cab. met.","Long. emp.","Ø del. emp.","D0-D1","Ø 150mm p.","D3-D4","Ø ½ L1","Ø emp.","Ø ½ L2","Ø 150mm c.","Ø cola","Áng. punta","Observ."]
[1,{"$f":"IF(AND(A8<>\"\",C8<>\"\",D8<>\"\",BL8<>\"\",BM8<>\"\"),IF(SUM(H9,K9,N9,Q9,T9,W9,AB9,AG9,AJ9,AQ9,AT9,AW9,AZ9,BC9,BF9,BI9,BK9)>0,\"NO\",\"SI\"),\"\")","v":""},null,null,null,null,null,null,null,null,null,null,null,null,{"$f":"I8-L8","v":0},null,null,null,null,null,null,null,null,{"$f":"$L8/2","v":0},{"$f":"$O8/2","v":0},null,null,null,null,null,{"$f":"IF(OR(Z8=\"\",AC8=\"\"),\"\",IF(Z8-AC8=0,\"0\",Z8-AC8))","v":""},null,null,null,null,null,null,null,null,null,{"$f":"AK8-AM8","v":0},null,null,null,null,null,null,null,null,null,null,null,null,null,null,null,null,null,null,null,null,null,null,null,null,null,{"$f":"C9","v":0},{"$f":"D9","v":0},null,{"$f":"IF(AND(B8=\"SI\",C8=\"Instalación\"),1,\"\")","v":""},{"$f":"IF(AND(B8=\"SI\",C8=\"Organización\"),1,\"\")","v":""},{"$f":"IF(AND(B8=\"SI\",C8=\"Particular\"),1,\"\")","v":""},{"$f":"IF(AND(B8=\"NO\",C8=\"Instalación\"),1,\"\")","v":""},{"$f":"IF(AND(B8=\"NO\",C8=\"Organización\"),1,\"\")","v":""},{"$f":"IF(AND(B8=\"NO\",C8=\"Particular\"),1,\"\")","v":""},{"$f":"IF(AND(B8=\"NO\",C8=\"Instalación\",H9=1),1,\"\")","v":""},{"$f":"IF(AND(B8=\"NO\",C8=\"Organización\",H9=1),1,\"\")","v":""},{"$f":"IF(AND(B8=\"NO\",C8=\"Particular\",H9=1),1,\"\")","v":""},{"$f":"IF(AND(B8=\"NO\",C8=\"Instalación\"),IF(OR(K9=1,N9=1,Q9=1,T9=1,W9=1,AB9=1,AG9=1,AJ9=1,AQ9=1,AT9=1,AW9=1,AZ9=1,BC9=1,BF9=1,BI9=1),1,\"\"),\"\")","v":""},{"$f":"IF(AND(B8=\"NO\",C8=\"Organización\"),IF(OR(K9=1,N9=1,Q9=1,T9=1,W9=1,AB9=1,AG9=1,AJ9=1,AQ9=1,AT9=1,AW9=1,AZ9=1,BC9=1,BF9=1,BI9=1),1,\"\"),\"\")","v":""},{"$f":"IF(AND(B8=\"NO\",C8=\"Particular\"),IF(OR(K9=1,N9=1,Q9=1,T9=1,W9=1,AB9=1,AG9=1,AJ9=1,AQ9=1,AT9=1,AW9=1,AZ9=1,BC9=1,BF9=1,BI9=1),1,\"\"),\"\")","v":""},{"$f":"IF(AND(H9=1,F8<>\"\"),\"X\",\"\")","v":""},{"$f":"IF(AND(K9=1,I8<>\"\"),\"X\",\"\")","v":""},{"$f":"IF(AND(N9=1,L8<>\"\"),\"X\",\"\")","v":""},{"$f":"IF(AND(Q9=1,O8<>0),\"X\",\"\")","v":""},{"$f":"IF(AND(T9=1,R8<>\"\"),\"X\",\"\")","v":""},{"$f":"IF(AND(W9=1,U8<>\"\"),\"X\",\"\")","v":""},{"$f":"IF(AND(AB9=1,Z8<>\"\"),\"X\",\"\")","v":""},{"$f":"IF(AND(AG9=1,AE8<>\"\"),\"X\",\"\")","v":""},{"$f":"IF(AND(AJ9=1,AH8<>\"\"),\"X\",\"\")","v":""},{"$f":"IF(AND(AQ9=1,AO8<>\"\"),\"X\",\"\")","v":""},{"$f":"IF(AND(AT9=1,AR8<>\"\"),\"X\",\"\")","v":""},{"$f":"IF(AND(AW9=1,AU8<>\"\"),\"X\",\"\")","v":""},{"$f":"IF(AND(AZ9=1,AX8<>\"\"),\"X\",\"\")","v":""},{"$f":"IF(AND(BC9=1,BA8<>\"\"),\"X\",\"\")","v":""},{"$f":"IF(AND(BF9=1,BD8<>\"\"),\"X\",\"\")","v":""},{"$f":"IF(AND(BI9=1,BG8<>\"\"),\"X\",\"\")","v":""},{"$f":"IF(AND(BK9=1,BJ8<>\"\"),\"X\",\"\")","v":""}]
[null,null,null,null,null,700,"-",{"$f":"IF(OR(F8<F9,F8=\"\"),1,0)","v":1},2300,2400,{"$f":"IF(OR(I8<I9,I8>J9,I8=\"\"),1,0)","v":1},860,1000,{"$f":"IF(OR(L8<L9,L8>M9,L8=\"\"),1,0)","v":1},1300,1540,{"$f":"IF(OR(O8<O9,O8>P9,O8=\"\"),1,0)","v":1},250,330,{"$f":"IF(OR(R8<R9,R8>S9,R8=\"\"),1,0)","v":1},150,160,{"$f":"IF(OR(U8<U9,U8>V9,U8=\"\"),1,0)","v":1},null,null,23,28,{"$f":"IF(OR(Z8<Z9,Z8>AA9,Z8=\"\"),1,0)","v":1},null,null,"0",0.25,{"$f":"IF(AE8=\"0\",0,IF(OR(AE8<0,AE8>AF9,AE8=\"\"),1,0))","v":1},0,{"$f":"ROUND(0.8*Z8,2)","v":0},{"$f":"IF(OR(AH8>AI9,AH8=\"\"),1,0)","v":1},0,0,null,null,0,2.5,{"$f":"IF(OR(AO8>AP9,AO8=\"\"),1,0)","v":0},0,{"$f":"ROUND(0.9*Z8,2)","v":0},{"$f":"IF(OR(AR8>AS9,AR8=\"\"),1,0)","v":1},0,{"$f":"8+Z8","v":8},{"$f":"IF(OR(AU8>AV9,AU8=\"\"),1,0)","v":1},{"$f":"ROUND(0.9*Z8,2)","v":0},"-",{"$f":"IF(OR(AX8<AX9,AX8>AY9,AX8=\"\"),1,0)","v":1},{"$f":"ROUND(0.4*Z8,2)","v":0},"-",{"$f":"IF(OR(BA8<BA9,BA8>BB9,BA8=\"\"),1,0)","v":1},3.5,"-",{"$f":"IF(OR(BD8<BD9,BD8>BE9,BD8=\"\"),1,0)","v":1},0,40,{"$f":"IF(OR(BG8>BH9,BG8=\"\"),1,0)","v":1},null,{"$f":"IF(BJ8<>\"\",1,0)","v":0}]
[2,{"$f":"IF(AND(A10<>\"\",C10<>\"\",D10<>\"\",BL10<>\"\",BM10<>\"\"),IF(SUM(H11,K11,N11,Q11,T11,W11,AB11,AG11,AJ11,AQ11,AT11,AW11,AZ11,BC11,BF11,BI11,BK11)>0,\"NO\",\"SI\"),\"\")","v":""},null,null,null,null,null,null,null,null,null,null,null,null,{"$f":"I10-L10","v":0},null,null,null,null,null,null,null,null,{"$f":"$L10/2","v":0},{"$f":"$O10/2","v":0},null,null,null,null,null,{"$f":"IF(OR(Z10=\"\",AC10=\"\"),\"\",IF(Z10-AC10=0,\"0\",Z10-AC10))","v":""},null,null,null,null,null,null,null,null,null,{"$f":"AK10-AM10","v":0},null,null,null,null,null,null,null,null,null,null,null,null,null,null,null,null,null,null,null,null,null,null,null,null,null,{"$f":"C11","v":0},{"$f":"D11","v":0},null,{"$f":"IF(AND(B10=\"SI\",C10=\"Instalación\"),1,\"\")","v":""},{"$f":"IF(AND(B10=\"SI\",C10=\"Organización\"),1,\"\")","v":""},{"$f":"IF(AND(B10=\"SI\",C10=\"Particular\"),1,\"\")","v":""},{"$f":"IF(AND(B10=\"NO\",C10=\"Instalación\"),1,\"\")","v":""},{"$f":"IF(AND(B10=\"NO\",C10=\"Organización\"),1,\"\")","v":""},{"$f":"IF(AND(B10=\"NO\",C10=\"Particular\"),1,\"\")","v":""},{"$f":"IF(AND(B10=\"NO\",C10=\"Instalación\",H11=1),1,\"\")","v":""},{"$f":"IF(AND(B10=\"NO\",C10=\"Organización\",H11=1),1,\"\")","v":""},{"$f":"IF(AND(B10=\"NO\",C10=\"Particular\",H11=1),1,\"\")","v":""},{"$f":"IF(AND(B10=\"NO\",C10=\"Instalación\"),IF(OR(K11=1,N11=1,Q11=1,T11=1,W11=1,AB11=1,AG11=1,AJ11=1,AQ11=1,AT11=1,AW11=1,AZ11=1,BC11=1,BF11=1,BI11=1),1,\"\"),\"\")","v":""},{"$f":"IF(AND(B10=\"NO\",C10=\"Organización\"),IF(OR(K11=1,N11=1,Q11=1,T11=1,W11=1,AB11=1,AG11=1,AJ11=1,AQ11=1,AT11=1,AW11=1,AZ11=1,BC11=1,BF11=1,BI11=1),1,\"\"),\"\")","v":""},{"$f":"IF(AND(B10=\"NO\",C10=\"Particular\"),IF(OR(K11=1,N11=1,Q11=1,T11=1,W11=1,AB11=1,AG11=1,AJ11=1,AQ11=1,AT11=1,AW11=1,AZ11=1,BC11=1,BF11=1,BI11=1),1,\"\"),\"\")","v":""},{"$f":"IF(AND(H11=1,F10<>\"\"),\"X\",\"\")","v":""},{"$f":"IF(AND(K11=1,I10<>\"\"),\"X\",\"\")","v":""},{"$f":"IF(AND(N11=1,L10<>\"\"),\"X\",\"\")","v":""},{"$f":"IF(AND(Q11=1,O10<>0),\"X\",\"\")","v":""},{"$f":"IF(AND(T11=1,R10<>\"\"),\"X\",\"\")","v":""},{"$f":"IF(AND(W11=1,U10<>\"\"),\"X\",\"\")","v":""},{"$f":"IF(AND(AB11=1,Z10<>\"\"),\"X\",\"\")","v":""},{"$f":"IF(AND(AG11=1,AE10<>\"\"),\"X\",\"\")","v":""},{"$f":"IF(AND(AJ11=1,AH10<>\"\"),\"X\",\"\")","v":""},{"$f":"IF(AND(AQ11=1,AO10<>\"\"),\"X\",\"\")","v":""},{"$f":"IF(AND(AT11=1,AR10<>\"\"),\"X\",\"\")","v":""},{"$f":"IF(AND(AW11=1,AU10<>\"\"),\"X\",\"\")","v":""},{"$f":"IF(AND(AZ11=1,AX10<>\"\"),\"X\",\"\")","v":""},{"$f":"IF(AND(BC11=1,BA10<>\"\"),\"X\",\"\")","v":""},{"$f":"IF(AND(BF11=1,BD10<>\"\"),\"X\",\"\")","v":""},{"$f":"IF(AND(BI11=1,BG10<>\"\"),\"X\",\"\")","v":""},{"$f":"IF(AND(BK11=1,BJ10<>\"\"),\"X\",\"\")","v":""}]
[null,null,null,null,null,700,"-",{"$f":"IF(OR(F10<F11,F10=\"\"),1,0)","v":1},2300,2400,{"$f":"IF(OR(I10<I11,I10>J11,I10=\"\"),1,0)","v":1},860,1000,{"$f":"IF(OR(L10<L11,L10>M11,L10=\"\"),1,0)","v":1},1300,1540,{"$f":"IF(OR(O10<O11,O10>P11,O10=\"\"),1,0)","v":1},250,330,{"$f":"IF(OR(R10<R11,R10>S11,R10=\"\"),1,0)","v":1},150,160,{"$f":"IF(OR(U10<U11,U10>V11,U10=\"\"),1,0)","v":1},null,null,23,28,{"$f":"IF(OR(Z10<Z11,Z10>AA11,Z10=\"\"),1,0)","v":1},null,null,"0",0.25,{"$f":"IF(AE10=\"0\",0,IF(OR(AE10<0,AE10>AF11,AE10=\"\"),1,0))","v":1},0,{"$f":"ROUND(0.8*Z10,2)","v":0},{"$f":"IF(OR(AH10>AI11,AH10=\"\"),1,0)","v":1},0,0,null,null,0,2.5,{"$f":"IF(OR(AO10>AP11,AO10=\"\"),1,0)","v":0},0,{"$f":"ROUND(0.9*Z10,2)","v":0},{"$f":"IF(OR(AR10>AS11,AR10=\"\"),1,0)","v":1},0,{"$f":"8+Z10","v":8},{"$f":"IF(OR(AU10>AV11,AU10=\"\"),1,0)","v":1},{"$f":"ROUND(0.9*Z10,2)","v":0},"-",{"$f":"IF(OR(AX10<AX11,AX10>AY11,AX10=\"\"),1,0)","v":1},{"$f":"ROUND(0.4*Z10,2)","v":0},"-",{"$f":"IF(OR(BA10<BA11,BA10>BB11,BA10=\"\"),1,0)","v":1},3.5,"-",{"$f":"IF(OR(BD10<BD11,BD10>BE11,BD10=\"\"),1,0)","v":1},0,40,{"$f":"IF(OR(BG10>BH11,BG10=\"\"),1,0)","v":1},null,{"$f":"IF(BJ10<>\"\",1,0)","v":0}]
[]
[]
[]
[]
[]
[]
[]
[]
[]
[]
[]
[]
[]
[]
[]
[]
[]
[]
[]
[]
[]
[]
[]
[]
[]
[]
[]
[]
[]
[]
[]
[]
[]
[]
[]
[]
[]
[]
[]
[]
[]
[]
[]
[]
[]
[]
[]
[]
[]
[]
[]
[]
[]
[]
[]
[]
[]
[]
[]
[]
[]
[]
[]
[]
[]
[]
[]
[]
[]
[]
[]
[]
[]
[]
[]
[]
[]
[]
[]
[]
[]
[]
[]
[]
[]
[]
[]
[]
[]
[]
[]
[]
[]
[]
[]
[]
[]
[]
[]
[]
[]
[]
[]
[]
[]
[]
[]
[]
[]
[]
[]
[]
[]
[]
[]
[]
[]
[]
[]
[]
[]
[]
[]
[]
[]
[]
[]
[]
[]
[]
[]
[]
[]
[]
[]
[]
[]
[]
[]
[]
[]
[]
[]
[]
[]
[]
[]
[]
[]
[]
[]
[]
[]
[]
[]
[]
[]
[]
[]
[]
[]
[]
[]
[]
[]
[]
[]
[]
[]
[]
[]
[]
[]
[]
[]
[]
[]
[]
[]
[]
[]
[]
[]
[]
[]
[]
[]
[]
[]
[]
[null,null,null,null,null,null,null,null,null,null,null,null,null,null,null,null,null,null,null,null,null,null,null,null,null,null,null,null,null,null,null,null,null,null,null,null,null,null,null,null,null,null,null,null,null,null,null,null,null,null,null,null,null,null,null,null,null,null,null,null,null,null,null,null,null,null,null,null,null,{"$f":"SUM(BR8:BR201)","v":0},0,0,0,0,0,0,0,0,0,0,0]

{"sheet":"JAB.600","index":3,"n_rows":196,"n_cols":98,"rows_kept":196,"cut":false,"hidden":true,"merged":[[9,28,9,29],[9,30,9,31],[9,33,9,34],[9,14,9,15],[0,0,4,1],[1,3,1,11],[3,30,3,31],[4,8,4,9],[4,11,4,12],[4,14,4,15],[4,17,4,18],[4,20,4,21],[4,25,4,26],[4,28,4,29],[9,17,9,18],[9,20,9,21],[9,25,9,26],[7,17,7,18],[7,20,7,21],[5,38,6,39],[4,52,4,53],[5,25,6,27],[5,28,6,29],[5,30,6,32],[7,25,7,26],[7,28,7,29],[7,30,7,31],[7,33,7,34],[9,36,9,37],[9,38,9,39],[9,40,9,41],[9,43,9,44],[4,55,4,56],[4,58,4,59],[5,0,6,0],[5,1,6,1],[5,2,6,2],[5,5,6,7],[5,8,6,10],[5,11,6,13],[4,33,4,34],[4,36,4,37],[4,38,4,39],[4,43,4,44],[4,46,4,47],[4,49,4,50],[5,33,6,35],[5,36,6,37],[5,14,6,16],[5,17,6,19],[5,20,6,22],[5,23,6,23],[5,24,6,24],[5,61,6,61],[5,63,6,63],[5,64,6,64],[7,0,8,0],[7,1,8,1],[7,5,7,6],[7,8,7,9],[7,11,7,12],[7,14,7,15],[5,43,6,45],[5,46,6,48],[5,49,6,51],[5,52,6,54],[5,55,6,57],[5,58,6,60],[5,40,6,42],[7,64,8,64],[7,36,7,37],[7,38,7,39],[7,40,7,41],[7,43,7,44],[7,46,7,47],[7,49,7,50],[7,63,8,63],[7,52,7,53],[7,55,7,56],[7,58,7,59],[7,61,8,61],[9,0,10,0],[9,1,10,1],[9,5,9,6],[9,8,9,9],[9,11,9,12],[9,46,9,47],[9,64,10,64],[9,49,9,50],[9,52,9,53],[9,55,9,56],[9,58,9,59],[9,61,10,61],[9,63,10,63]]}
[null,null,"HOMOLOGACIÓN DE ARTEFACTOS",null,null,null,null,null,null,null,null,null,null,null,null,null,null,null,null,null,null,null,null,null,null,null,null,null,null,null,null,null,null,null,null,null,null,null,null,null,null,null,null,null,null,null,null,null,null,null,null,null,null,null,null,null,null,null,null,null,null,null,null,null,null,null,null,null,10]
[null,null,"Competición:",{"$f":"IF(Inicio!D4=\"\",\"FALTA NOMBRE DE COMPETICIÓN\",Inicio!D4)","v":"FALTA NOMBRE DE COMPETICIÓN"},null,null,null,null,null,null,null,null,"X",null,null,null,null,null,null,null,null,null,null,null,null,null,null,null,null,null,null,null,null,null,null,null,null,null,null,null,null,null,null,null,null,null,null,null,null,null,null,null,null,null,null,null,null,null,null,null,null,null,null,null,null,"Instalación"]
[null,null,null,null,null,null,null,null,null,null,null,null,null,null,null,null,null,null,null,null,null,null,null,null,null,null,null,null,null,null,null,null,null,null,null,null,null,null,null,null,null,null,null,null,null,null,null,null,null,null,null,null,null,null,null,null,null,null,null,null,null,null,null,null,null,"Organización"]
[null,null,null,"JABALINA 600",null,null,null,null,null,null,null,null,null,null,null,null,null,null,null,null,null,null,null,null,null,null,null,null,null,null,null,null,null,null,null,null,null,null,null,null,null,null,null,null,null,null,null,null,null,null,null,null,null,null,null,null,null,null,null,null,null,null,null,null,null,"Particular"]
[null,null,null,null,null,null,null,null,"Longitud total",null,null,"Long. punta\na c.d.g.",null,null,"Long. cola\na c.d.g.",null,null,"Long. cabeza metálica",null,null,"Long. empuñadura",null,null,"½ L1","½ L2","Diámetro delante empuña-dura",null,null,"Diámetro detras empuña-dura",null,null,null,null,"Diámetro a 150 mm de la punta",null,null,"Diámetro al final de la cabeza",null,"Diámetro detrás de la cabeza",null,null,null,null,"Diámetro en 1/2 de L1",null,null,"Diámetro de la empuña-dura",null,null,"Diámetro en 1/2 de L2",null,null,"Diámetro a 150 mm de la cola",null,null,"Diámetro en la cola",null,null,"Ángulo en la punta",null,null,"Deficiencias                                       no relacionadas                                           con medidas"]
["Referencia","Válido","Propietario","Marca y modelo","Cert. IAAF","Peso",null,null,"L0",null,null,"L1",null,null,"L2",null,null,"L3",null,null,"L4",null,null,"L1","L2","D0",null,null,"D1",null,"D0-D1",null,null,"D2",null,null,"D3",null,"D4",null,"D3-D4",null,null,"D5",null,null,"D6",null,null,"D7",null,null,"D8",null,null,"D9",null,null,"Ángulo",null,null,"Observaciones",null,"Homologador","Fecha"]
[null,null,null,"Color","Art. Comb.",null,null,null,null,null,null,null,null,null,null,null,null,null,null,null,null,null,null,null,null,null,null,null,null,null,null,null,null,null,null,null,null,null,null,null,null,null,null,null,null,null,null,null,null,null,null,null,null,null,null,null,null,null,null,null,null,null,null,null,null,null,null,null,null,"VI","VO","VP","NVI","NVO","NVP","NVPI","NVPO","NVPP","NVMI","NVMO","NVMP","Peso","Long. total","Long. punta a c. de g.","Long. cola a c. de g.","Long. cab. met.","Long. emp.","Ø del. emp.","D0-D1","Ø 150mm p.","D3-D4","Ø ½ L1","Ø emp.","Ø ½ L2","Ø 150mm c.","Ø cola","Áng. punta","Observ."]
[1,{"$f":"IF(AND(A8<>\"\",C8<>\"\",D8<>\"\",BL8<>\"\",BM8<>\"\"),IF(SUM(H9,K9,N9,Q9,T9,W9,AB9,AG9,AJ9,AQ9,AT9,AW9,AZ9,BC9,BF9,BI9,BK9)>0,\"NO\",\"SI\"),\"\")","v":""},null,null,null,null,null,null,null,null,null,null,null,null,{"$f":"I8-L8","v":0},null,null,null,null,null,null,null,null,{"$f":"$L8/2","v":0},{"$f":"$O8/2","v":0},null,null,null,null,null,{"$f":"IF(OR(Z8=\"\",AC8=\"\"),\"\",IF(Z8-AC8=0,\"0\",Z8-AC8))","v":""},null,null,null,null,null,null,null,null,null,{"$f":"AK8-AM8","v":0},null,null,null,null,null,null,null,null,null,null,null,null,null,null,null,null,null,null,null,null,null,null,null,null,null,{"$f":"C9","v":0},{"$f":"D9","v":0},null,{"$f":"IF(AND(B8=\"SI\",C8=\"Instalación\"),1,\"\")","v":""},{"$f":"IF(AND(B8=\"SI\",C8=\"Organización\"),1,\"\")","v":""},{"$f":"IF(AND(B8=\"SI\",C8=\"Particular\"),1,\"\")","v":""},{"$f":"IF(AND(B8=\"NO\",C8=\"Instalación\"),1,\"\")","v":""},{"$f":"IF(AND(B8=\"NO\",C8=\"Organización\"),1,\"\")","v":""},{"$f":"IF(AND(B8=\"NO\",C8=\"Particular\"),1,\"\")","v":""},{"$f":"IF(AND(B8=\"NO\",C8=\"Instalación\",H9=1),1,\"\")","v":""},{"$f":"IF(AND(B8=\"NO\",C8=\"Organización\",H9=1),1,\"\")","v":""},{"$f":"IF(AND(B8=\"NO\",C8=\"Particular\",H9=1),1,\"\")","v":""},{"$f":"IF(AND(B8=\"NO\",C8=\"Instalación\"),IF(OR(K9=1,N9=1,Q9=1,T9=1,W9=1,AB9=1,AG9=1,AJ9=1,AQ9=1,AT9=1,AW9=1,AZ9=1,BC9=1,BF9=1,BI9=1),1,\"\"),\"\")","v":""},{"$f":"IF(AND(B8=\"NO\",C8=\"Organización\"),IF(OR(K9=1,N9=1,Q9=1,T9=1,W9=1,AB9=1,AG9=1,AJ9=1,AQ9=1,AT9=1,AW9=1,AZ9=1,BC9=1,BF9=1,BI9=1),1,\"\"),\"\")","v":""},{"$f":"IF(AND(B8=\"NO\",C8=\"Particular\"),IF(OR(K9=1,N9=1,Q9=1,T9=1,W9=1,AB9=1,AG9=1,AJ9=1,AQ9=1,AT9=1,AW9=1,AZ9=1,BC9=1,BF9=1,BI9=1),1,\"\"),\"\")","v":""},{"$f":"IF(AND(H9=1,F8<>\"\"),\"X\",\"\")","v":""},{"$f":"IF(AND(K9=1,I8<>\"\"),\"X\",\"\")","v":""},{"$f":"IF(AND(N9=1,L8<>\"\"),\"X\",\"\")","v":""},{"$f":"IF(AND(Q9=1,O8<>0),\"X\",\"\")","v":""},{"$f":"IF(AND(T9=1,R8<>\"\"),\"X\",\"\")","v":""},{"$f":"IF(AND(W9=1,U8<>\"\"),\"X\",\"\")","v":""},{"$f":"IF(AND(AB9=1,Z8<>\"\"),\"X\",\"\")","v":""},{"$f":"IF(AND(AG9=1,AE8<>\"\"),\"X\",\"\")","v":""},{"$f":"IF(AND(AJ9=1,AH8<>\"\"),\"X\",\"\")","v":""},{"$f":"IF(AND(AQ9=1,AO8<>\"\"),\"X\",\"\")","v":""},{"$f":"IF(AND(AT9=1,AR8<>\"\"),\"X\",\"\")","v":""},{"$f":"IF(AND(AW9=1,AU8<>\"\"),\"X\",\"\")","v":""},{"$f":"IF(AND(AZ9=1,AX8<>\"\"),\"X\",\"\")","v":""},{"$f":"IF(AND(BC9=1,BA8<>\"\"),\"X\",\"\")","v":""},{"$f":"IF(AND(BF9=1,BD8<>\"\"),\"X\",\"\")","v":""},{"$f":"IF(AND(BI9=1,BG8<>\"\"),\"X\",\"\")","v":""},{"$f":"IF(AND(BK9=1,BJ8<>\"\"),\"X\",\"\")","v":""}]
[null,null,null,null,null,600,"-",{"$f":"IF(OR(F8<F9,F8=\"\"),1,0)","v":1},2200,2300,{"$f":"IF(OR(I8<I9,I8>J9,I8=\"\"),1,0)","v":1},800,920,{"$f":"IF(OR(L8<L9,L8>M9,L8=\"\"),1,0)","v":1},1280,1500,{"$f":"IF(OR(O8<O9,O8>P9,O8=\"\"),1,0)","v":1},250,330,{"$f":"IF(OR(R8<R9,R8>S9,R8=\"\"),1,0)","v":1},140,150,{"$f":"IF(OR(U8<U9,U8>V9,U8=\"\"),1,0)","v":1},null,null,20,25,{"$f":"IF(OR(Z8<Z9,Z8>AA9,Z8=\"\"),1,0)","v":1},null,null,"0",0.25,{"$f":"IF(AE8=\"0\",0,IF(OR(AE8<0,AE8>AF9,AE8=\"\"),1,0))","v":1},0,{"$f":"ROUND(0.8*Z8,2)","v":0},{"$f":"IF(OR(AH8>AI9,AH8=\"\"),1,0)","v":1},0,0,null,null,0,2.5,{"$f":"IF(OR(AO8>AP9,AO8=\"\"),1,0)","v":0},0,{"$f":"ROUND(0.9*Z8,2)","v":0},{"$f":"IF(OR(AR8>AS9,AR8=\"\"),1,0)","v":1},0,{"$f":"8+Z8","v":8},{"$f":"IF(OR(AU8>AV9,AU8=\"\"),1,0)","v":1},{"$f":"ROUND(0.9*Z8,2)","v":0},"-",{"$f":"IF(OR(AX8<AX9,AX8>AY9,AX8=\"\"),1,0)","v":1},{"$f":"ROUND(0.4*Z8,2)","v":0},"-",{"$f":"IF(OR(BA8<BA9,BA8>BB9,BA8=\"\"),1,0)","v":1},3.5,"-",{"$f":"IF(OR(BD8<BD9,BD8>BE9,BD8=\"\"),1,0)","v":1},0,40,{"$f":"IF(OR(BG8>BH9,BG8=\"\"),1,0)","v":1},null,{"$f":"IF(BJ8<>\"\",1,0)","v":0}]
[2,{"$f":"IF(AND(A10<>\"\",C10<>\"\",D10<>\"\",BL10<>\"\",BM10<>\"\"),IF(SUM(H11,K11,N11,Q11,T11,W11,AB11,AG11,AJ11,AQ11,AT11,AW11,AZ11,BC11,BF11,BI11,BK11)>0,\"NO\",\"SI\"),\"\")","v":""},null,null,null,null,null,null,null,null,null,null,null,null,{"$f":"I10-L10","v":0},null,null,null,null,null,null,null,null,{"$f":"$L10/2","v":0},{"$f":"$O10/2","v":0},null,null,null,null,null,{"$f":"IF(OR(Z10=\"\",AC10=\"\"),\"\",IF(Z10-AC10=0,\"0\",Z10-AC10))","v":""},null,null,null,null,null,null,null,null,null,{"$f":"AK10-AM10","v":0},null,null,null,null,null,null,null,null,null,null,null,null,null,null,null,null,null,null,null,null,null,null,null,null,null,{"$f":"C11","v":0},{"$f":"D11","v":0},null,{"$f":"IF(AND(B10=\"SI\",C10=\"Instalación\"),1,\"\")","v":""},{"$f":"IF(AND(B10=\"SI\",C10=\"Organización\"),1,\"\")","v":""},{"$f":"IF(AND(B10=\"SI\",C10=\"Particular\"),1,\"\")","v":""},{"$f":"IF(AND(B10=\"NO\",C10=\"Instalación\"),1,\"\")","v":""},{"$f":"IF(AND(B10=\"NO\",C10=\"Organización\"),1,\"\")","v":""},{"$f":"IF(AND(B10=\"NO\",C10=\"Particular\"),1,\"\")","v":""},{"$f":"IF(AND(B10=\"NO\",C10=\"Instalación\",H11=1),1,\"\")","v":""},{"$f":"IF(AND(B10=\"NO\",C10=\"Organización\",H11=1),1,\"\")","v":""},{"$f":"IF(AND(B10=\"NO\",C10=\"Particular\",H11=1),1,\"\")","v":""},{"$f":"IF(AND(B10=\"NO\",C10=\"Instalación\"),IF(OR(K11=1,N11=1,Q11=1,T11=1,W11=1,AB11=1,AG11=1,AJ11=1,AQ11=1,AT11=1,AW11=1,AZ11=1,BC11=1,BF11=1,BI11=1),1,\"\"),\"\")","v":""},{"$f":"IF(AND(B10=\"NO\",C10=\"Organización\"),IF(OR(K11=1,N11=1,Q11=1,T11=1,W11=1,AB11=1,AG11=1,AJ11=1,AQ11=1,AT11=1,AW11=1,AZ11=1,BC11=1,BF11=1,BI11=1),1,\"\"),\"\")","v":""},{"$f":"IF(AND(B10=\"NO\",C10=\"Particular\"),IF(OR(K11=1,N11=1,Q11=1,T11=1,W11=1,AB11=1,AG11=1,AJ11=1,AQ11=1,AT11=1,AW11=1,AZ11=1,BC11=1,BF11=1,BI11=1),1,\"\"),\"\")","v":""},{"$f":"IF(AND(H11=1,F10<>\"\"),\"X\",\"\")","v":""},{"$f":"IF(AND(K11=1,I10<>\"\"),\"X\",\"\")","v":""},{"$f":"IF(AND(N11=1,L10<>\"\"),\"X\",\"\")","v":""},{"$f":"IF(AND(Q11=1,O10<>0),\"X\",\"\")","v":""},{"$f":"IF(AND(T11=1,R10<>\"\"),\"X\",\"\")","v":""},{"$f":"IF(AND(W11=1,U10<>\"\"),\"X\",\"\")","v":""},{"$f":"IF(AND(AB11=1,Z10<>\"\"),\"X\",\"\")","v":""},{"$f":"IF(AND(AG11=1,AE10<>\"\"),\"X\",\"\")","v":""},{"$f":"IF(AND(AJ11=1,AH10<>\"\"),\"X\",\"\")","v":""},{"$f":"IF(AND(AQ11=1,AO10<>\"\"),\"X\",\"\")","v":""},{"$f":"IF(AND(AT11=1,AR10<>\"\"),\"X\",\"\")","v":""},{"$f":"IF(AND(AW11=1,AU10<>\"\"),\"X\",\"\")","v":""},{"$f":"IF(AND(AZ11=1,AX10<>\"\"),\"X\",\"\")","v":""},{"$f":"IF(AND(BC11=1,BA10<>\"\"),\"X\",\"\")","v":""},{"$f":"IF(AND(BF11=1,BD10<>\"\"),\"X\",\"\")","v":""},{"$f":"IF(AND(BI11=1,BG10<>\"\"),\"X\",\"\")","v":""},{"$f":"IF(AND(BK11=1,BJ10<>\"\"),\"X\",\"\")","v":""}]
[null,null,null,null,null,600,"-",{"$f":"IF(OR(F10<F11,F10=\"\"),1,0)","v":1},2200,2300,{"$f":"IF(OR(I10<I11,I10>J11,I10=\"\"),1,0)","v":1},800,920,{"$f":"IF(OR(L10<L11,L10>M11,L10=\"\"),1,0)","v":1},1280,1500,{"$f":"IF(OR(O10<O11,O10>P11,O10=\"\"),1,0)","v":1},250,330,{"$f":"IF(OR(R10<R11,R10>S11,R10=\"\"),1,0)","v":1},140,150,{"$f":"IF(OR(U10<U11,U10>V11,U10=\"\"),1,0)","v":1},null,null,20,25,{"$f":"IF(OR(Z10<Z11,Z10>AA11,Z10=\"\"),1,0)","v":1},null,null,"0",0.25,{"$f":"IF(AE10=\"0\",0,IF(OR(AE10<0,AE10>AF11,AE10=\"\"),1,0))","v":1},0,{"$f":"ROUND(0.8*Z10,2)","v":0},{"$f":"IF(OR(AH10>AI11,AH10=\"\"),1,0)","v":1},0,0,null,null,0,2.5,{"$f":"IF(OR(AO10>AP11,AO10=\"\"),1,0)","v":0},0,{"$f":"ROUND(0.9*Z10,2)","v":0},{"$f":"IF(OR(AR10>AS11,AR10=\"\"),1,0)","v":1},0,{"$f":"8+Z10","v":8},{"$f":"IF(OR(AU10>AV11,AU10=\"\"),1,0)","v":1},{"$f":"ROUND(0.9*Z10,2)","v":0},"-",{"$f":"IF(OR(AX10<AX11,AX10>AY11,AX10=\"\"),1,0)","v":1},{"$f":"ROUND(0.4*Z10,2)","v":0},"-",{"$f":"IF(OR(BA10<BA11,BA10>BB11,BA10=\"\"),1,0)","v":1},3.5,"-",{"$f":"IF(OR(BD10<BD11,BD10>BE11,BD10=\"\"),1,0)","v":1},0,40,{"$f":"IF(OR(BG10>BH11,BG10=\"\"),1,0)","v":1},null,{"$f":"IF(BJ10<>\"\",1,0)","v":0}]
[]
[]
[]
[]
[]
[]
[]
[]
[]
[]
[]
[]
[]
[]
[]
[]
[]
[]
[]
[]
[]
[]
[]
[]
[]
[]
[]
[]
[]
[]
[]
[]
[]
[]
[]
[]
[]
[]
[]
[]
[]
[]
[]
[]
[]
[]
[]
[]
[]
[]
[]
[]
[]
[]
[]
[]
[]
[]
[]
[]
[]
[]
[]
[]
[]
[]
[]
[]
[]
[]
[]
[]
[]
[]
[]
[]
[]
[]
[]
[]
[]
[]
[]
[]
[]
[]
[]
[]
[]
[]
[]
[]
[]
[]
[]
[]
[]
[]
[]
[]
[]
[]
[]
[]
[]
[]
[]
[]
[]
[]
[]
[]
[]
[]
[]
[]
[]
[]
[]
[]
[]
[]
[]
[]
[]
[]
[]
[]
[]
[]
[]
[]
[]
[]
[]
[]
[]
[]
[]
[]
[]
[]
[]
[]
[]
[]
[]
[]
[]
[]
[]
[]
[]
[]
[]
[]
[]
[]
[]
[]
[]
[]
[]
[]
[]
[]
[]
[]
[]
[]
[]
[]
[]
[]
[]
[]
[]
[]
[]
[]
[]
[]
[]
[]
[null,null,null,null,null,null,null,null,null,null,null,null,null,null,null,null,null,null,null,null,null,null,null,null,null,null,null,null,null,null,null,null,null,null,null,null,null,null,null,null,null,null,null,null,null,null,null,null,null,null,null,null,null,null,null,null,null,null,null,null,null,null,null,null,null,null,null,null,null,{"$f":"SUM(BR8:BR195)","v":0},0,0,0,0,0,0,0,0,0,0,0]

{"sheet":"JAB.500","index":4,"n_rows":188,"n_cols":98,"rows_kept":188,"cut":false,"hidden":true,"merged":[[9,30,9,31],[9,33,9,34],[9,14,9,15],[9,17,9,18],[9,20,9,21],[9,25,9,26],[9,28,9,29],[9,0,10,0],[9,1,10,1],[9,5,9,6],[9,8,9,9],[9,11,9,12],[9,36,9,37],[9,38,9,39],[9,40,9,41],[9,43,9,44],[9,46,9,47],[7,43,7,44],[7,46,7,47],[7,49,7,50],[7,52,7,53],[7,55,7,56],[9,64,10,64],[9,49,9,50],[9,52,9,53],[5,63,6,63],[5,64,6,64],[5,55,6,57],[5,58,6,60],[5,61,6,61],[7,63,8,63],[7,64,8,64],[7,58,7,59],[7,61,8,61],[9,55,9,56],[9,58,9,59],[9,61,10,61],[9,63,10,63],[7,0,8,0],[7,1,8,1],[7,5,7,6],[7,8,7,9],[7,11,7,12],[7,14,7,15],[5,43,6,45],[5,46,6,48],[5,49,6,51],[5,52,6,54],[7,28,7,29],[7,20,7,21],[7,25,7,26],[5,33,6,35],[5,36,6,37],[7,30,7,31],[7,33,7,34],[7,17,7,18],[7,36,7,37],[7,38,7,39],[7,40,7,41],[4,58,4,59],[5,0,6,0],[5,1,6,1],[5,2,6,2],[5,5,6,7],[5,8,6,10],[5,11,6,13],[4,33,4,34],[4,36,4,37],[4,38,4,39],[4,43,4,44],[4,46,4,47],[4,49,4,50],[5,40,6,42],[5,14,6,16],[5,17,6,19],[4,52,4,53],[4,55,4,56],[5,20,6,22],[5,23,6,23],[5,24,6,24],[5,25,6,27],[5,28,6,29],[5,30,6,32],[5,38,6,39],[0,0,4,1],[1,3,1,11],[3,30,3,31],[4,8,4,9],[4,11,4,12],[4,14,4,15],[4,17,4,18],[4,20,4,21],[4,25,4,26],[4,28,4,29]]}
[null,null,"HOMOLOGACIÓN DE ARTEFACTOS",null,null,null,null,null,null,null,null,null,null,null,null,null,null,null,null,null,null,null,null,null,null,null,null,null,null,null,null,null,null,null,null,null,null,null,null,null,null,null,null,null,null,null,null,null,null,null,null,null,null,null,null,null,null,null,null,null,null,null,null,null,null,null,null,null,10]
[null,null,"Competición:",{"$f":"IF(Inicio!D4=\"\",\"FALTA NOMBRE DE COMPETICIÓN\",Inicio!D4)","v":"FALTA NOMBRE DE COMPETICIÓN"},null,null,null,null,null,null,null,null,"X",null,null,null,null,null,null,null,null,null,null,null,null,null,null,null,null,null,null,null,null,null,null,null,null,null,null,null,null,null,null,null,null,null,null,null,null,null,null,null,null,null,null,null,null,null,null,null,null,null,null,null,null,"Instalación"]
[null,null,null,null,null,null,null,null,null,null,null,null,null,null,null,null,null,null,null,null,null,null,null,null,null,null,null,null,null,null,null,null,null,null,null,null,null,null,null,null,null,null,null,null,null,null,null,null,null,null,null,null,null,null,null,null,null,null,null,null,null,null,null,null,null,"Organización"]
[null,null,null,"JABALINA 500",null,null,null,null,null,null,null,null,null,null,null,null,null,null,null,null,null,null,null,null,null,null,null,null,null,null,null,null,null,null,null,null,null,null,null,null,null,null,null,null,null,null,null,null,null,null,null,null,null,null,null,null,null,null,null,null,null,null,null,null,null,"Particular"]
[null,null,null,null,null,null,null,null,"Longitud total",null,null,"Long. punta\na c.d.g.",null,null,"Long. cola\na c.d.g.",null,null,"Long. cabeza metálica",null,null,"Long. empuñadura",null,null,"½ L1","½ L2","Diámetro delante empuña-dura",null,null,"Diámetro detras empuña-dura",null,null,null,null,"Diámetro a 150 mm de la punta",null,null,"Diámetro al final de la cabeza",null,"Diámetro detrás de la cabeza",null,null,null,null,"Diámetro en 1/2 de L1",null,null,"Diámetro de la empuña-dura",null,null,"Diámetro en 1/2 de L2",null,null,"Diámetro a 150 mm de la cola",null,null,"Diámetro en la cola",null,null,"Ángulo en la punta",null,null,"Deficiencias                                       no relacionadas                                           con medidas"]
["Referencia","Válido","Propietario","Marca y modelo","Cert. IAAF","Peso",null,null,"L0",null,null,"L1",null,null,"L2",null,null,"L3",null,null,"L4",null,null,"L1","L2","D0",null,null,"D1",null,"D0-D1",null,null,"D2",null,null,"D3",null,"D4",null,"D3-D4",null,null,"D5",null,null,"D6",null,null,"D7",null,null,"D8",null,null,"D9",null,null,"Ángulo",null,null,"Observaciones",null,"Homologador","Fecha"]
[null,null,null,"Color","Art. Comb.",null,null,null,null,null,null,null,null,null,null,null,null,null,null,null,null,null,null,null,null,null,null,null,null,null,null,null,null,null,null,null,null,null,null,null,null,null,null,null,null,null,null,null,null,null,null,null,null,null,null,null,null,null,null,null,null,null,null,null,null,null,null,null,null,"VI","VO","VP","NVI","NVO","NVP","NVPI","NVPO","NVPP","NVMI","NVMO","NVMP","Peso","Long. total","Long. punta a c. de g.","Long. cola a c. de g.","Long. cab. met.","Long. emp.","Ø del. emp.","D0-D1","Ø 150mm p.","D3-D4","Ø ½ L1","Ø emp.","Ø ½ L2","Ø 150mm c.","Ø cola","Áng. punta","Observ."]
[1,{"$f":"IF(AND(A8<>\"\",C8<>\"\",D8<>\"\",BL8<>\"\",BM8<>\"\"),IF(SUM(H9,K9,N9,Q9,T9,W9,AB9,AG9,AJ9,AQ9,AT9,AW9,AZ9,BC9,BF9,BI9,BK9)>0,\"NO\",\"SI\"),\"\")","v":""},null,null,null,null,null,null,null,null,null,null,null,null,{"$f":"I8-L8","v":0},null,null,null,null,null,null,null,null,{"$f":"$L8/2","v":0},{"$f":"$O8/2","v":0},null,null,null,null,null,{"$f":"IF(OR(Z8=\"\",AC8=\"\"),\"\",IF(Z8-AC8=0,\"0\",Z8-AC8))","v":""},null,null,null,null,null,null,null,null,null,{"$f":"AK8-AM8","v":0},null,null,null,null,null,null,null,null,null,null,null,null,null,null,null,null,null,null,null,null,null,null,null,null,null,{"$f":"C9","v":0},{"$f":"D9","v":0},null,{"$f":"IF(AND(B8=\"SI\",C8=\"Instalación\"),1,\"\")","v":""},{"$f":"IF(AND(B8=\"SI\",C8=\"Organización\"),1,\"\")","v":""},{"$f":"IF(AND(B8=\"SI\",C8=\"Particular\"),1,\"\")","v":""},{"$f":"IF(AND(B8=\"NO\",C8=\"Instalación\"),1,\"\")","v":""},{"$f":"IF(AND(B8=\"NO\",C8=\"Organización\"),1,\"\")","v":""},{"$f":"IF(AND(B8=\"NO\",C8=\"Particular\"),1,\"\")","v":""},{"$f":"IF(AND(B8=\"NO\",C8=\"Instalación\",H9=1),1,\"\")","v":""},{"$f":"IF(AND(B8=\"NO\",C8=\"Organización\",H9=1),1,\"\")","v":""},{"$f":"IF(AND(B8=\"NO\",C8=\"Particular\",H9=1),1,\"\")","v":""},{"$f":"IF(AND(B8=\"NO\",C8=\"Instalación\"),IF(OR(K9=1,N9=1,Q9=1,T9=1,W9=1,AB9=1,AG9=1,AJ9=1,AQ9=1,AT9=1,AW9=1,AZ9=1,BC9=1,BF9=1,BI9=1),1,\"\"),\"\")","v":""},{"$f":"IF(AND(B8=\"NO\",C8=\"Organización\"),IF(OR(K9=1,N9=1,Q9=1,T9=1,W9=1,AB9=1,AG9=1,AJ9=1,AQ9=1,AT9=1,AW9=1,AZ9=1,BC9=1,BF9=1,BI9=1),1,\"\"),\"\")","v":""},{"$f":"IF(AND(B8=\"NO\",C8=\"Particular\"),IF(OR(K9=1,N9=1,Q9=1,T9=1,W9=1,AB9=1,AG9=1,AJ9=1,AQ9=1,AT9=1,AW9=1,AZ9=1,BC9=1,BF9=1,BI9=1),1,\"\"),\"\")","v":""},{"$f":"IF(AND(H9=1,F8<>\"\"),\"X\",\"\")","v":""},{"$f":"IF(AND(K9=1,I8<>\"\"),\"X\",\"\")","v":""},{"$f":"IF(AND(N9=1,L8<>\"\"),\"X\",\"\")","v":""},{"$f":"IF(AND(Q9=1,O8<>0),\"X\",\"\")","v":""},{"$f":"IF(AND(T9=1,R8<>\"\"),\"X\",\"\")","v":""},{"$f":"IF(AND(W9=1,U8<>\"\"),\"X\",\"\")","v":""},{"$f":"IF(AND(AB9=1,Z8<>\"\"),\"X\",\"\")","v":""},{"$f":"IF(AND(AG9=1,AE8<>\"\"),\"X\",\"\")","v":""},{"$f":"IF(AND(AJ9=1,AH8<>\"\"),\"X\",\"\")","v":""},{"$f":"IF(AND(AQ9=1,AO8<>\"\"),\"X\",\"\")","v":""},{"$f":"IF(AND(AT9=1,AR8<>\"\"),\"X\",\"\")","v":""},{"$f":"IF(AND(AW9=1,AU8<>\"\"),\"X\",\"\")","v":""},{"$f":"IF(AND(AZ9=1,AX8<>\"\"),\"X\",\"\")","v":""},{"$f":"IF(AND(BC9=1,BA8<>\"\"),\"X\",\"\")","v":""},{"$f":"IF(AND(BF9=1,BD8<>\"\"),\"X\",\"\")","v":""},{"$f":"IF(AND(BI9=1,BG8<>\"\"),\"X\",\"\")","v":""},{"$f":"IF(AND(BK9=1,BJ8<>\"\"),\"X\",\"\")","v":""}]
[null,null,null,null,null,500,"-",{"$f":"IF(OR(F8<F9,F8=\"\"),1,0)","v":1},2000,2100,{"$f":"IF(OR(I8<I9,I8>J9,I8=\"\"),1,0)","v":1},780,880,{"$f":"IF(OR(L8<L9,L8>M9,L8=\"\"),1,0)","v":1},1120,1320,{"$f":"IF(OR(O8<O9,O8>P9,O8=\"\"),1,0)","v":1},220,270,{"$f":"IF(OR(R8<R9,R8>S9,R8=\"\"),1,0)","v":1},135,145,{"$f":"IF(OR(U8<U9,U8>V9,U8=\"\"),1,0)","v":1},null,null,20,24,{"$f":"IF(OR(Z8<Z9,Z8>AA9,Z8=\"\"),1,0)","v":1},null,null,"0",0.25,{"$f":"IF(AE8=\"0\",0,IF(OR(AE8<0,AE8>AF9,AE8=\"\"),1,0))","v":1},0,{"$f":"ROUND(0.8*Z8,2)","v":0},{"$f":"IF(OR(AH8>AI9,AH8=\"\"),1,0)","v":1},0,0,null,null,0,2.5,{"$f":"IF(OR(AO8>AP9,AO8=\"\"),1,0)","v":0},0,{"$f":"ROUND(0.9*Z8,2)","v":0},{"$f":"IF(OR(AR8>AS9,AR8=\"\"),1,0)","v":1},0,{"$f":"8+Z8","v":8},{"$f":"IF(OR(AU8>AV9,AU8=\"\"),1,0)","v":1},{"$f":"ROUND(0.9*Z8,2)","v":0},"-",{"$f":"IF(OR(AX8<AX9,AX8>AY9,AX8=\"\"),1,0)","v":1},{"$f":"ROUND(0.4*Z8,2)","v":0},"-",{"$f":"IF(OR(BA8<BA9,BA8>BB9,BA8=\"\"),1,0)","v":1},3.5,"-",{"$f":"IF(OR(BD8<BD9,BD8>BE9,BD8=\"\"),1,0)","v":1},0,40,{"$f":"IF(OR(BG8>BH9,BG8=\"\"),1,0)","v":1},null,{"$f":"IF(BJ8<>\"\",1,0)","v":0}]
[2,{"$f":"IF(AND(A10<>\"\",C10<>\"\",D10<>\"\",BL10<>\"\",BM10<>\"\"),IF(SUM(H11,K11,N11,Q11,T11,W11,AB11,AG11,AJ11,AQ11,AT11,AW11,AZ11,BC11,BF11,BI11,BK11)>0,\"NO\",\"SI\"),\"\")","v":""},null,null,null,null,null,null,null,null,null,null,null,null,{"$f":"I10-L10","v":0},null,null,null,null,null,null,null,null,{"$f":"$L10/2","v":0},{"$f":"$O10/2","v":0},null,null,null,null,null,{"$f":"IF(OR(Z10=\"\",AC10=\"\"),\"\",IF(Z10-AC10=0,\"0\",Z10-AC10))","v":""},null,null,null,null,null,null,null,null,null,{"$f":"AK10-AM10","v":0},null,null,null,null,null,null,null,null,null,null,null,null,null,null,null,null,null,null,null,null,null,null,null,null,null,{"$f":"C11","v":0},{"$f":"D11","v":0},null,{"$f":"IF(AND(B10=\"SI\",C10=\"Instalación\"),1,\"\")","v":""},{"$f":"IF(AND(B10=\"SI\",C10=\"Organización\"),1,\"\")","v":""},{"$f":"IF(AND(B10=\"SI\",C10=\"Particular\"),1,\"\")","v":""},{"$f":"IF(AND(B10=\"NO\",C10=\"Instalación\"),1,\"\")","v":""},{"$f":"IF(AND(B10=\"NO\",C10=\"Organización\"),1,\"\")","v":""},{"$f":"IF(AND(B10=\"NO\",C10=\"Particular\"),1,\"\")","v":""},{"$f":"IF(AND(B10=\"NO\",C10=\"Instalación\",H11=1),1,\"\")","v":""},{"$f":"IF(AND(B10=\"NO\",C10=\"Organización\",H11=1),1,\"\")","v":""},{"$f":"IF(AND(B10=\"NO\",C10=\"Particular\",H11=1),1,\"\")","v":""},{"$f":"IF(AND(B10=\"NO\",C10=\"Instalación\"),IF(OR(K11=1,N11=1,Q11=1,T11=1,W11=1,AB11=1,AG11=1,AJ11=1,AQ11=1,AT11=1,AW11=1,AZ11=1,BC11=1,BF11=1,BI11=1),1,\"\"),\"\")","v":""},{"$f":"IF(AND(B10=\"NO\",C10=\"Organización\"),IF(OR(K11=1,N11=1,Q11=1,T11=1,W11=1,AB11=1,AG11=1,AJ11=1,AQ11=1,AT11=1,AW11=1,AZ11=1,BC11=1,BF11=1,BI11=1),1,\"\"),\"\")","v":""},{"$f":"IF(AND(B10=\"NO\",C10=\"Particular\"),IF(OR(K11=1,N11=1,Q11=1,T11=1,W11=1,AB11=1,AG11=1,AJ11=1,AQ11=1,AT11=1,AW11=1,AZ11=1,BC11=1,BF11=1,BI11=1),1,\"\"),\"\")","v":""},{"$f":"IF(AND(H11=1,F10<>\"\"),\"X\",\"\")","v":""},{"$f":"IF(AND(K11=1,I10<>\"\"),\"X\",\"\")","v":""},{"$f":"IF(AND(N11=1,L10<>\"\"),\"X\",\"\")","v":""},{"$f":"IF(AND(Q11=1,O10<>0),\"X\",\"\")","v":""},{"$f":"IF(AND(T11=1,R10<>\"\"),\"X\",\"\")","v":""},{"$f":"IF(AND(W11=1,U10<>\"\"),\"X\",\"\")","v":""},{"$f":"IF(AND(AB11=1,Z10<>\"\"),\"X\",\"\")","v":""},{"$f":"IF(AND(AG11=1,AE10<>\"\"),\"X\",\"\")","v":""},{"$f":"IF(AND(AJ11=1,AH10<>\"\"),\"X\",\"\")","v":""},{"$f":"IF(AND(AQ11=1,AO10<>\"\"),\"X\",\"\")","v":""},{"$f":"IF(AND(AT11=1,AR10<>\"\"),\"X\",\"\")","v":""},{"$f":"IF(AND(AW11=1,AU10<>\"\"),\"X\",\"\")","v":""},{"$f":"IF(AND(AZ11=1,AX10<>\"\"),\"X\",\"\")","v":""},{"$f":"IF(AND(BC11=1,BA10<>\"\"),\"X\",\"\")","v":""},{"$f":"IF(AND(BF11=1,BD10<>\"\"),\"X\",\"\")","v":""},{"$f":"IF(AND(BI11=1,BG10<>\"\"),\"X\",\"\")","v":""},{"$f":"IF(AND(BK11=1,BJ10<>\"\"),\"X\",\"\")","v":""}]
[null,null,null,null,null,500,"-",{"$f":"IF(OR(F10<F11,F10=\"\"),1,0)","v":1},2000,2100,{"$f":"IF(OR(I10<I11,I10>J11,I10=\"\"),1,0)","v":1},780,880,{"$f":"IF(OR(L10<L11,L10>M11,L10=\"\"),1,0)","v":1},1120,1320,{"$f":"IF(OR(O10<O11,O10>P11,O10=\"\"),1,0)","v":1},220,270,{"$f":"IF(OR(R10<R11,R10>S11,R10=\"\"),1,0)","v":1},135,145,{"$f":"IF(OR(U10<U11,U10>V11,U10=\"\"),1,0)","v":1},null,null,20,24,{"$f":"IF(OR(Z10<Z11,Z10>AA11,Z10=\"\"),1,0)","v":1},null,null,"0",0.25,{"$f":"IF(AE10=\"0\",0,IF(OR(AE10<0,AE10>AF11,AE10=\"\"),1,0))","v":1},0,{"$f":"ROUND(0.8*Z10,2)","v":0},{"$f":"IF(OR(AH10>AI11,AH10=\"\"),1,0)","v":1},0,0,null,null,0,2.5,{"$f":"IF(OR(AO10>AP11,AO10=\"\"),1,0)","v":0},0,{"$f":"ROUND(0.9*Z10,2)","v":0},{"$f":"IF(OR(AR10>AS11,AR10=\"\"),1,0)","v":1},0,{"$f":"8+Z10","v":8},{"$f":"IF(OR(AU10>AV11,AU10=\"\"),1,0)","v":1},{"$f":"ROUND(0.9*Z10,2)","v":0},"-",{"$f":"IF(OR(AX10<AX11,AX10>AY11,AX10=\"\"),1,0)","v":1},{"$f":"ROUND(0.4*Z10,2)","v":0},"-",{"$f":"IF(OR(BA10<BA11,BA10>BB11,BA10=\"\"),1,0)","v":1},3.5,"-",{"$f":"IF(OR(BD10<BD11,BD10>BE11,BD10=\"\"),1,0)","v":1},0,40,{"$f":"IF(OR(BG10>BH11,BG10=\"\"),1,0)","v":1},null,{"$f":"IF(BJ10<>\"\",1,0)","v":0}]
[]
[]
[]
[]
[]
[]
[]
[]
[]
[]
[]
[]
[]
[]
[]
[]
[]
[]
[]
[]
[]
[]
[]
[]
[]
[]
[]
[]
[]
[]
[]
[]
[]
[]
[]
[]
[]
[]
[]
[]
[]
[]
[]
[]
[]
[]
[]
[]
[]
[]
[]
[]
[]
[]
[]
[]
[]
[]
[]
[]
[]
[]
[]
[]
[]
[]
[]
[]
[]
[]
[]
[]
[]
[]
[]
[]
[]
[]
[]
[]
[]
[]
[]
[]
[]
[]
[]
[]
[]
[]
[]
[]
[]
[]
[]
[]
[]
[]
[]
[]
[]
[]
[]
[]
[]
[]
[]
[]
[]
[]
[]
[]
[]
[]
[]
[]
[]
[]
[]
[]
[]
[]
[]
[]
[]
[]
[]
[]
[]
[]
[]
[]
[]
[]
[]
[]
[]
[]
[]
[]
[]
[]
[]
[]
[]
[]
[]
[]
[]
[]
[]
[]
[]
[]
[]
[]
[]
[]
[]
[]
[]
[]
[]
[]
[]
[]
[]
[]
[]
[]
[]
[]
[]
[]
[]
[]
[null,null,null,null,null,null,null,null,null,null,null,null,null,null,null,null,null,null,null,null,null,null,null,null,null,null,null,null,null,null,null,null,null,null,null,null,null,null,null,null,null,null,null,null,null,null,null,null,null,null,null,null,null,null,null,null,null,null,null,null,null,null,null,null,null,null,null,null,null,{"$f":"SUM(BR8:BR187)","v":0},0,0,0,0,0,0,0,0,0,0,0]

{"sheet":"JAB.400","index":5,"n_rows":202,"n_cols":98,"rows_kept":202,"cut":false,"hidden":true,"merged":[[4,52,4,53],[4,55,4,56],[4,58,4,59],[4,43,4,44],[4,46,4,47],[4,49,4,50],[4,33,4,34],[4,36,4,37],[4,38,4,39],[4,25,4,26],[4,28,4,29],[3,30,3,31],[4,8,4,9],[4,11,4,12],[4,14,4,15],[4,17,4,18],[4,20,4,21],[7,0,8,0],[7,1,8,1],[7,5,7,6],[7,8,7,9],[0,0,4,1],[1,3,1,11],[5,8,6,10],[5,11,6,13],[5,0,6,0],[5,1,6,1],[5,2,6,2],[5,5,6,7],[7,11,7,12],[7,14,7,15],[5,43,6,45],[5,46,6,48],[5,40,6,42],[5,14,6,16],[5,17,6,19],[5,20,6,22],[5,23,6,23],[5,24,6,24],[5,25,6,27],[5,28,6,29],[5,30,6,32],[5,33,6,35],[5,36,6,37],[5,38,6,39],[7,17,7,18],[7,63,8,63],[7,64,8,64],[7,36,7,37],[7,38,7,39],[7,40,7,41],[7,43,7,44],[7,46,7,47],[7,49,7,50],[7,52,7,53],[7,55,7,56],[7,58,7,59],[7,61,8,61],[5,61,6,61],[5,63,6,63],[5,64,6,64],[5,49,6,51],[5,52,6,54],[5,55,6,57],[5,58,6,60],[7,20,7,21],[7,25,7,26],[7,28,7,29],[7,30,7,31],[7,33,7,34],[9,43,9,44],[9,64,10,64],[9,49,9,50],[9,52,9,53],[9,55,9,56],[9,58,9,59],[9,61,10,61],[9,63,10,63],[9,46,9,47],[9,30,9,31],[9,33,9,34],[9,36,9,37],[9,38,9,39],[9,40,9,41],[9,0,10,0],[9,1,10,1],[9,5,9,6],[9,8,9,9],[9,28,9,29],[9,11,9,12],[9,14,9,15],[9,17,9,18],[9,20,9,21],[9,25,9,26]]}
[null,null,"HOMOLOGACIÓN DE ARTEFACTOS",null,null,null,null,null,null,null,null,null,null,null,null,null,null,null,null,null,null,null,null,null,null,null,null,null,null,null,null,null,null,null,null,null,null,null,null,null,null,null,null,null,null,null,null,null,null,null,null,null,null,null,null,null,null,null,null,null,null,null,null,null,null,null,null,null,10]
[null,null,"Competición:",{"$f":"IF(Inicio!D4=\"\",\"FALTA NOMBRE DE COMPETICIÓN\",Inicio!D4)","v":"FALTA NOMBRE DE COMPETICIÓN"},null,null,null,null,null,null,null,null,"X",null,null,null,null,null,null,null,null,null,null,null,null,null,null,null,null,null,null,null,null,null,null,null,null,null,null,null,null,null,null,null,null,null,null,null,null,null,null,null,null,null,null,null,null,null,null,null,null,null,null,null,null,"Instalación"]
[null,null,null,null,null,null,null,null,null,null,null,null,null,null,null,null,null,null,null,null,null,null,null,null,null,null,null,null,null,null,null,null,null,null,null,null,null,null,null,null,null,null,null,null,null,null,null,null,null,null,null,null,null,null,null,null,null,null,null,null,null,null,null,null,null,"Organización"]
[null,null,null,"JABALINA 400",null,null,null,null,null,null,null,null,null,null,null,null,null,null,null,null,null,null,null,null,null,null,null,null,null,null,null,null,null,null,null,null,null,null,null,null,null,null,null,null,null,null,null,null,null,null,null,null,null,null,null,null,null,null,null,null,null,null,null,null,null,"Particular"]
[null,null,null,null,null,null,null,null,"Longitud total",null,null,"Long. punta\na c.d.g.",null,null,"Long. cola\na c.d.g.",null,null,"Long. cabeza metálica",null,null,"Long. empuñadura",null,null,"½ L1","½ L2","Diámetro delante empuña-dura",null,null,"Diámetro detras empuña-dura",null,null,null,null,"Diámetro a 150 mm de la punta",null,null,"Diámetro al final de la cabeza",null,"Diámetro detrás de la cabeza",null,null,null,null,"Diámetro en 1/2 de L1",null,null,"Diámetro de la empuña-dura",null,null,"Diámetro en 1/2 de L2",null,null,"Diámetro a 150 mm de la cola",null,null,"Diámetro en la cola",null,null,"Ángulo en la punta",null,null,"Deficiencias                                       no relacionadas                                           con medidas"]
["Referencia","Válido","Propietario","Marca y modelo","Cert. IAAF","Peso",null,null,"L0",null,null,"L1",null,null,"L2",null,null,"L3",null,null,"L4",null,null,"L1","L2","D0",null,null,"D1",null,"D0-D1",null,null,"D2",null,null,"D3",null,"D4",null,"D3-D4",null,null,"D5",null,null,"D6",null,null,"D7",null,null,"D8",null,null,"D9",null,null,"Ángulo",null,null,"Observaciones",null,"Homologador","Fecha"]
[null,null,null,"Color","Art. Comb.",null,null,null,null,null,null,null,null,null,null,null,null,null,null,null,null,null,null,null,null,null,null,null,null,null,null,null,null,null,null,null,null,null,null,null,null,null,null,null,null,null,null,null,null,null,null,null,null,null,null,null,null,null,null,null,null,null,null,null,null,null,null,null,null,"VI","VO","VP","NVI","NVO","NVP","NVPI","NVPO","NVPP","NVMI","NVMO","NVMP","Peso","Long. total","Long. punta a c. de g.","Long. cola a c. de g.","Long. cab. met.","Long. emp.","Ø del. emp.","D0-D1","Ø 150mm p.","D3-D4","Ø ½ L1","Ø emp.","Ø ½ L2","Ø 150mm c.","Ø cola","Áng. punta","Observ."]
[1,{"$f":"IF(AND(A8<>\"\",C8<>\"\",D8<>\"\",BL8<>\"\",BM8<>\"\"),IF(SUM(H9,K9,N9,Q9,T9,W9,AB9,AG9,AJ9,AQ9,AT9,AW9,AZ9,BC9,BF9,BI9,BK9)>0,\"NO\",\"SI\"),\"\")","v":""},null,null,null,null,null,null,null,null,null,null,null,null,{"$f":"I8-L8","v":0},null,null,null,null,null,null,null,null,{"$f":"$L8/2","v":0},{"$f":"$O8/2","v":0},null,null,null,null,null,{"$f":"IF(OR(Z8=\"\",AC8=\"\"),\"\",IF(Z8-AC8=0,\"0\",Z8-AC8))","v":""},null,null,null,null,null,null,null,null,null,{"$f":"AK8-AM8","v":0},null,null,null,null,null,null,null,null,null,null,null,null,null,null,null,null,null,null,null,null,null,null,null,null,null,{"$f":"C9","v":0},{"$f":"D9","v":0},null,{"$f":"IF(AND(B8=\"SI\",C8=\"Instalación\"),1,\"\")","v":""},{"$f":"IF(AND(B8=\"SI\",C8=\"Organización\"),1,\"\")","v":""},{"$f":"IF(AND(B8=\"SI\",C8=\"Particular\"),1,\"\")","v":""},{"$f":"IF(AND(B8=\"NO\",C8=\"Instalación\"),1,\"\")","v":""},{"$f":"IF(AND(B8=\"NO\",C8=\"Organización\"),1,\"\")","v":""},{"$f":"IF(AND(B8=\"NO\",C8=\"Particular\"),1,\"\")","v":""},{"$f":"IF(AND(B8=\"NO\",C8=\"Instalación\",H9=1),1,\"\")","v":""},{"$f":"IF(AND(B8=\"NO\",C8=\"Organización\",H9=1),1,\"\")","v":""},{"$f":"IF(AND(B8=\"NO\",C8=\"Particular\",H9=1),1,\"\")","v":""},{"$f":"IF(AND(B8=\"NO\",C8=\"Instalación\"),IF(OR(K9=1,N9=1,Q9=1,T9=1,W9=1,AB9=1,AG9=1,AJ9=1,AQ9=1,AT9=1,AW9=1,AZ9=1,BC9=1,BF9=1,BI9=1),1,\"\"),\"\")","v":""},{"$f":"IF(AND(B8=\"NO\",C8=\"Organización\"),IF(OR(K9=1,N9=1,Q9=1,T9=1,W9=1,AB9=1,AG9=1,AJ9=1,AQ9=1,AT9=1,AW9=1,AZ9=1,BC9=1,BF9=1,BI9=1),1,\"\"),\"\")","v":""},{"$f":"IF(AND(B8=\"NO\",C8=\"Particular\"),IF(OR(K9=1,N9=1,Q9=1,T9=1,W9=1,AB9=1,AG9=1,AJ9=1,AQ9=1,AT9=1,AW9=1,AZ9=1,BC9=1,BF9=1,BI9=1),1,\"\"),\"\")","v":""},{"$f":"IF(AND(H9=1,F8<>\"\"),\"X\",\"\")","v":""},{"$f":"IF(AND(K9=1,I8<>\"\"),\"X\",\"\")","v":""},{"$f":"IF(AND(N9=1,L8<>\"\"),\"X\",\"\")","v":""},{"$f":"IF(AND(Q9=1,O8<>0),\"X\",\"\")","v":""},{"$f":"IF(AND(T9=1,R8<>\"\"),\"X\",\"\")","v":""},{"$f":"IF(AND(W9=1,U8<>\"\"),\"X\",\"\")","v":""},{"$f":"IF(AND(AB9=1,Z8<>\"\"),\"X\",\"\")","v":""},{"$f":"IF(AND(AG9=1,AE8<>\"\"),\"X\",\"\")","v":""},{"$f":"IF(AND(AJ9=1,AH8<>\"\"),\"X\",\"\")","v":""},{"$f":"IF(AND(AQ9=1,AO8<>\"\"),\"X\",\"\")","v":""},{"$f":"IF(AND(AT9=1,AR8<>\"\"),\"X\",\"\")","v":""},{"$f":"IF(AND(AW9=1,AU8<>\"\"),\"X\",\"\")","v":""},{"$f":"IF(AND(AZ9=1,AX8<>\"\"),\"X\",\"\")","v":""},{"$f":"IF(AND(BC9=1,BA8<>\"\"),\"X\",\"\")","v":""},{"$f":"IF(AND(BF9=1,BD8<>\"\"),\"X\",\"\")","v":""},{"$f":"IF(AND(BI9=1,BG8<>\"\"),\"X\",\"\")","v":""},{"$f":"IF(AND(BK9=1,BJ8<>\"\"),\"X\",\"\")","v":""}]
[null,null,null,null,null,400,"-",{"$f":"IF(OR(F8<F9,F8=\"\"),1,0)","v":1},1850,1950,{"$f":"IF(OR(I8<I9,I8>J9,I8=\"\"),1,0)","v":1},750,800,{"$f":"IF(OR(L8<L9,L8>M9,L8=\"\"),1,0)","v":1},1050,1200,{"$f":"IF(OR(O8<O9,O8>P9,O8=\"\"),1,0)","v":1},200,250,{"$f":"IF(OR(R8<R9,R8>S9,R8=\"\"),1,0)","v":1},130,140,{"$f":"IF(OR(U8<U9,U8>V9,U8=\"\"),1,0)","v":1},null,null,20,23,{"$f":"IF(OR(Z8<Z9,Z8>AA9,Z8=\"\"),1,0)","v":1},null,null,"0",0.25,{"$f":"IF(AE8=\"0\",0,IF(OR(AE8<0,AE8>AF9,AE8=\"\"),1,0))","v":1},0,{"$f":"ROUND(0.8*Z8,2)","v":0},{"$f":"IF(OR(AH8>AI9,AH8=\"\"),1,0)","v":1},0,0,null,null,0,2.5,{"$f":"IF(OR(AO8>AP9,AO8=\"\"),1,0)","v":0},0,{"$f":"ROUND(0.9*Z8,2)","v":0},{"$f":"IF(OR(AR8>AS9,AR8=\"\"),1,0)","v":1},0,{"$f":"8+Z8","v":8},{"$f":"IF(OR(AU8>AV9,AU8=\"\"),1,0)","v":1},{"$f":"ROUND(0.9*Z8,2)","v":0},"-",{"$f":"IF(OR(AX8<AX9,AX8>AY9,AX8=\"\"),1,0)","v":1},{"$f":"ROUND(0.4*Z8,2)","v":0},"-",{"$f":"IF(OR(BA8<BA9,BA8>BB9,BA8=\"\"),1,0)","v":1},3.5,"-",{"$f":"IF(OR(BD8<BD9,BD8>BE9,BD8=\"\"),1,0)","v":1},0,40,{"$f":"IF(OR(BG8>BH9,BG8=\"\"),1,0)","v":1}]
[2,{"$f":"IF(AND(A10<>\"\",C10<>\"\",D10<>\"\",BL10<>\"\",BM10<>\"\"),IF(SUM(H11,K11,N11,Q11,T11,W11,AB11,AG11,AJ11,AQ11,AT11,AW11,AZ11,BC11,BF11,BI11,BK11)>0,\"NO\",\"SI\"),\"\")","v":""},null,null,null,null,null,null,null,null,null,null,null,null,{"$f":"I10-L10","v":0},null,null,null,null,null,null,null,null,{"$f":"$L10/2","v":0},{"$f":"$O10/2","v":0},null,null,null,null,null,{"$f":"IF(OR(Z10=\"\",AC10=\"\"),\"\",IF(Z10-AC10=0,\"0\",Z10-AC10))","v":""},null,null,null,null,null,null,null,null,null,{"$f":"AK10-AM10","v":0},null,null,null,null,null,null,null,null,null,null,null,null,null,null,null,null,null,null,null,null,null,null,null,null,null,{"$f":"C11","v":0},{"$f":"D11","v":0},null,{"$f":"IF(AND(B10=\"SI\",C10=\"Instalación\"),1,\"\")","v":""},{"$f":"IF(AND(B10=\"SI\",C10=\"Organización\"),1,\"\")","v":""},{"$f":"IF(AND(B10=\"SI\",C10=\"Particular\"),1,\"\")","v":""},{"$f":"IF(AND(B10=\"NO\",C10=\"Instalación\"),1,\"\")","v":""},{"$f":"IF(AND(B10=\"NO\",C10=\"Organización\"),1,\"\")","v":""},{"$f":"IF(AND(B10=\"NO\",C10=\"Particular\"),1,\"\")","v":""},{"$f":"IF(AND(B10=\"NO\",C10=\"Instalación\",H11=1),1,\"\")","v":""},{"$f":"IF(AND(B10=\"NO\",C10=\"Organización\",H11=1),1,\"\")","v":""},{"$f":"IF(AND(B10=\"NO\",C10=\"Particular\",H11=1),1,\"\")","v":""},{"$f":"IF(AND(B10=\"NO\",C10=\"Instalación\"),IF(OR(K11=1,N11=1,Q11=1,T11=1,W11=1,AB11=1,AG11=1,AJ11=1,AQ11=1,AT11=1,AW11=1,AZ11=1,BC11=1,BF11=1,BI11=1),1,\"\"),\"\")","v":""},{"$f":"IF(AND(B10=\"NO\",C10=\"Organización\"),IF(OR(K11=1,N11=1,Q11=1,T11=1,W11=1,AB11=1,AG11=1,AJ11=1,AQ11=1,AT11=1,AW11=1,AZ11=1,BC11=1,BF11=1,BI11=1),1,\"\"),\"\")","v":""},{"$f":"IF(AND(B10=\"NO\",C10=\"Particular\"),IF(OR(K11=1,N11=1,Q11=1,T11=1,W11=1,AB11=1,AG11=1,AJ11=1,AQ11=1,AT11=1,AW11=1,AZ11=1,BC11=1,BF11=1,BI11=1),1,\"\"),\"\")","v":""},{"$f":"IF(AND(H11=1,F10<>\"\"),\"X\",\"\")","v":""},{"$f":"IF(AND(K11=1,I10<>\"\"),\"X\",\"\")","v":""},{"$f":"IF(AND(N11=1,L10<>\"\"),\"X\",\"\")","v":""},{"$f":"IF(AND(Q11=1,O10<>0),\"X\",\"\")","v":""},{"$f":"IF(AND(T11=1,R10<>\"\"),\"X\",\"\")","v":""},{"$f":"IF(AND(W11=1,U10<>\"\"),\"X\",\"\")","v":""},{"$f":"IF(AND(AB11=1,Z10<>\"\"),\"X\",\"\")","v":""},{"$f":"IF(AND(AG11=1,AE10<>\"\"),\"X\",\"\")","v":""},{"$f":"IF(AND(AJ11=1,AH10<>\"\"),\"X\",\"\")","v":""},{"$f":"IF(AND(AQ11=1,AO10<>\"\"),\"X\",\"\")","v":""},{"$f":"IF(AND(AT11=1,AR10<>\"\"),\"X\",\"\")","v":""},{"$f":"IF(AND(AW11=1,AU10<>\"\"),\"X\",\"\")","v":""},{"$f":"IF(AND(AZ11=1,AX10<>\"\"),\"X\",\"\")","v":""},{"$f":"IF(AND(BC11=1,BA10<>\"\"),\"X\",\"\")","v":""},{"$f":"IF(AND(BF11=1,BD10<>\"\"),\"X\",\"\")","v":""},{"$f":"IF(AND(BI11=1,BG10<>\"\"),\"X\",\"\")","v":""},{"$f":"IF(AND(BK11=1,BJ10<>\"\"),\"X\",\"\")","v":""}]
[null,null,null,null,null,400,"-",{"$f":"IF(OR(F10<F11,F10=\"\"),1,0)","v":1},1850,1950,{"$f":"IF(OR(I10<I11,I10>J11,I10=\"\"),1,0)","v":1},750,800,{"$f":"IF(OR(L10<L11,L10>M11,L10=\"\"),1,0)","v":1},1050,1200,{"$f":"IF(OR(O10<O11,O10>P11,O10=\"\"),1,0)","v":1},200,250,{"$f":"IF(OR(R10<R11,R10>S11,R10=\"\"),1,0)","v":1},130,140,{"$f":"IF(OR(U10<U11,U10>V11,U10=\"\"),1,0)","v":1},null,null,20,23,{"$f":"IF(OR(Z10<Z11,Z10>AA11,Z10=\"\"),1,0)","v":1},null,null,"0",0.25,{"$f":"IF(AE10=\"0\",0,IF(OR(AE10<0,AE10>AF11,AE10=\"\"),1,0))","v":1},0,{"$f":"ROUND(0.8*Z10,2)","v":0},{"$f":"IF(OR(AH10>AI11,AH10=\"\"),1,0)","v":1},0,0,null,null,0,2.5,{"$f":"IF(OR(AO10>AP11,AO10=\"\"),1,0)","v":0},0,{"$f":"ROUND(0.9*Z10,2)","v":0},{"$f":"IF(OR(AR10>AS11,AR10=\"\"),1,0)","v":1},0,{"$f":"8+Z10","v":8},{"$f":"IF(OR(AU10>AV11,AU10=\"\"),1,0)","v":1},{"$f":"ROUND(0.9*Z10,2)","v":0},"-",{"$f":"IF(OR(AX10<AX11,AX10>AY11,AX10=\"\"),1,0)","v":1},{"$f":"ROUND(0.4*Z10,2)","v":0},"-",{"$f":"IF(OR(BA10<BA11,BA10>BB11,BA10=\"\"),1,0)","v":1},3.5,"-",{"$f":"IF(OR(BD10<BD11,BD10>BE11,BD10=\"\"),1,0)","v":1},0,40,{"$f":"IF(OR(BG10>BH11,BG10=\"\"),1,0)","v":1}]
[]
[]
[]
[]
[]
[]
[]
[]
[]
[]
[]
[]
[]
[]
[]
[]
[]
[]
[]
[]
[]
[]
[]
[]
[]
[]
[]
[]
[]
[]
[]
[]
[]
[]
[]
[]
[]
[]
[]
[]
[]
[]
[]
[]
[]
[]
[]
[]
[]
[]
[]
[]
[]
[]
[]
[]
[]
[]
[]
[]
[]
[]
[]
[]
[]
[]
[]
[]
[]
[]
[]
[]
[]
[]
[]
[]
[]
[]
[]
[]
[]
[]
[]
[]
[]
[]
[]
[]
[]
[]
[]
[]
[]
[]
[]
[]
[]
[]
[]
[]
[]
[]
[]
[]
[]
[]
[]
[]
[]
[]
[]
[]
[]
[]
[]
[]
[]
[]
[]
[]
[]
[]
[]
[]
[]
[]
[]
[]
[]
[]
[]
[]
[]
[]
[]
[]
[]
[]
[]
[]
[]
[]
[]
[]
[]
[]
[]
[]
[]
[]
[]
[]
[]
[]
[]
[]
[]
[]
[]
[]
[]
[]
[]
[]
[]
[]
[]
[]
[]
[]
[]
[]
[]
[]
[]
[]
[]
[]
[]
[]
[]
[]
[]
[]
[]
[]
[]
[]
[]
[]
[null,null,null,null,null,null,null,null,null,null,null,null,null,null,null,null,null,null,null,null,null,null,null,null,null,null,null,null,null,null,null,null,null,null,null,null,null,null,null,null,null,null,null,null,null,null,null,null,null,null,null,null,null,null,null,null,null,null,null,null,null,null,null,null,null,null,null,null,null,{"$f":"SUM(BR8:BR201)","v":0},0,0,0,0,0,0,0,0,0,0,0]

{"sheet":"Imp. Jabalina","index":6,"n_rows":170,"n_cols":38,"rows_kept":170,"cut":false,"hidden":true,"merged":[[8,0,8,1],[8,15,8,18],[8,31,8,33],[1,5,1,30],[2,5,2,30],[4,0,4,35],[5,0,6,35],[10,0,10,1],[10,15,10,18],[10,31,10,33],[13,0,13,1],[13,15,13,18],[13,29,13,34],[15,0,15,1],[15,15,15,18],[15,30,15,33],[17,0,17,1],[17,15,17,18],[17,28,17,35],[31,0,31,1],[31,15,31,18],[21,0,21,1],[21,15,21,18],[23,0,23,1],[23,15,23,18],[25,0,25,1],[25,15,25,18],[27,0,27,1],[27,15,27,18],[29,0,29,1],[29,15,29,18],[35,0,35,1],[35,10,35,12],[35,15,35,18],[35,22,35,24],[33,0,33,1],[33,10,33,12],[33,15,33,18],[33,22,33,24],[43,27,43,29],[46,3,47,34],[37,0,37,1],[37,10,37,12],[37,15,37,18],[37,22,37,24],[39,0,39,1],[39,10,39,12],[39,15,39,18],[39,22,39,24],[41,0,41,1],[41,12,41,14],[43,0,43,1],[43,12,43,14],[70,32,70,34],[51,5,51,13],[51,16,51,24],[51,27,53,34],[53,5,53,16],[53,21,53,24],[55,9,55,24],[70,14,70,18],[70,19,70,23],[70,24,70,28],[70,29,70,31],[57,5,57,24],[59,3,59,15],[59,19,59,24],[59,29,59,32],[59,33,59,34],[72,29,72,31],[72,32,72,34],[71,4,71,13],[71,14,71,18],[71,19,71,23],[71,24,71,28],[71,29,71,31],[71,32,71,34],[72,4,72,13],[72,14,72,18],[72,19,72,23],[72,24,72,28],[74,29,74,31],[74,32,74,34],[73,4,73,13],[73,14,73,18],[73,19,73,23],[73,24,73,28],[73,29,73,31],[73,32,73,34],[74,4,74,13],[74,14,74,18],[74,19,74,23],[74,24,74,28],[76,29,76,31],[76,32,76,34],[75,4,75,13],[75,14,75,18],[75,19,75,23],[75,24,75,28],[75,29,75,31],[75,32,75,34],[76,4,76,13],[76,14,76,18],[76,19,76,23],[76,24,76,28],[78,29,78,31],[78,32,78,34],[77,4,77,13],[77,14,77,18],[77,19,77,23],[77,24,77,28],[77,29,77,31],[77,32,77,34],[78,4,78,13],[78,14,78,18],[78,19,78,23],[78,24,78,28],[80,29,80,31],[80,32,80,34],[79,4,79,13],[79,14,79,18],[79,19,79,23],[79,24,79,28],[79,29,79,31],[79,32,79,34],[80,4,80,13],[80,14,80,18],[80,19,80,23],[80,24,80,28],[81,4,81,13],[81,14,81,18],[81,19,81,23],[81,24,81,28],[84,14,84,18],[81,29,81,31],[81,32,81,34],[82,4,82,13],[82,14,82,18],[82,19,82,23],[82,24,82,28],[83,4,83,13],[83,14,83,18],[83,19,83,23],[83,24,83,28],[83,29,83,31],[83,32,83,34],[84,4,84,13],[82,29,82,31],[82,32,82,34],[84,19,84,23],[84,24,84,28],[86,29,86,31],[86,32,86,34],[85,4,85,13],[85,14,85,18],[85,19,85,23],[85,24,85,28],[85,29,85,31],[85,32,85,34],[84,29,84,31],[84,32,84,34],[88,14,88,18],[88,19,88,23],[88,24,88,28],[86,4,86,13],[86,14,86,18],[86,19,86,23],[86,24,86,28],[87,4,87,13],[87,14,87,18],[87,19,87,23],[87,24,87,28]]}
[]
[null,null,null,null,null,"Real Federación Española de Atletismo"]
[null,null,null,null,null,"Comité Nacional de Jueces"]
[]
["CERTIFICADO DE HOMOLOGACIÓN"]
[{"$f":"CONCATENATE(\"JABALINA \",AD76,\" gramos\")","v":"JABALINA  gramos"}]
[]
[]
["L1",null,"DISTANCIA desde la punta al C. de G.:",null,null,null,null,null,null,null,null,null,null,null,null,{"$f":"IF(ISERROR(VLOOKUP($AH$60,INDIRECT(CONCATENATE(AL71,\"!A8\")):INDIRECT(CONCATENATE(AL71,\"!BP207\")),1,FALSE)),\"\",(VLOOKUP($AH$60,INDIRECT(CONCATENATE(AL71,\"!A8\")):INDIRECT(CONCATENATE(AL71,\"!BP207\")),12,FALSE)))","v":""},null,null,null,"mm",null,{"$f":"IF(AD76=800,\"(de 900 a 1060 mm.)\",IF(AD76=700,\"(de 860 a 1000 mm.)\",IF(AD76=600,\"(de 800 a 920 mm.)\",IF(AD76=500,\"(de 780 a 880 mm.)\",IF(AD76=400,\"(de 750 a 800 mm.)\",\"\")))))","v":""},null,null,null,null,null,null,"  1/2  L1:",null,null,{"$f":"IF(ISERROR(VLOOKUP($AH$60,INDIRECT(CONCATENATE(AL71,\"!A8\")):INDIRECT(CONCATENATE(AL71,\"!BP207\")),1,FALSE)),\"\",(VLOOKUP($AH$60,INDIRECT(CONCATENATE(AL71,\"!A8\")):INDIRECT(CONCATENATE(AL71,\"!BP207\")),24,FALSE)))","v":""},null,null,"mm"]
[]
["L2",null,"DISTANCIA desde la cola al C. de G.:",null,null,null,null,null,null,null,null,null,null,null,null,{"$f":"IF(ISERROR(VLOOKUP($AH$60,INDIRECT(CONCATENATE(AL71,\"!A8\")):INDIRECT(CONCATENATE(AL71,\"!BP207\")),1,FALSE)),\"\",(VLOOKUP($AH$60,INDIRECT(CONCATENATE(AL71,\"!A8\")):INDIRECT(CONCATENATE(AL71,\"!BP207\")),15,FALSE)))","v":""},null,null,null,"mm",null,{"$f":"IF(AD76=800,\"(de 1540 a 1800 mm.)\",IF(AD76=700,\"(de 1280 a 1500 mm.)\",IF(AD76=600,\"(de 800 a 920 mm.)\",IF(AD76=500,\"(de 1120 a 1320 mm.)\",IF(AD76=400,\"(de 1050 a 1200 mm.)\",\"\")))))","v":""},null,null,null,null,null,null,"  1/2  L2:",null,null,{"$f":"IF(ISERROR(VLOOKUP($AH$60,INDIRECT(CONCATENATE(AL71,\"!A8\")):INDIRECT(CONCATENATE(AL71,\"!BP207\")),1,FALSE)),\"\",(VLOOKUP($AH$60,INDIRECT(CONCATENATE(AL71,\"!A8\")):INDIRECT(CONCATENATE(AL71,\"!BP207\")),25,FALSE)))","v":""},null,null,"mm"]
[]
[]
["L0",null,"LONGITUD TOTAL:",null,null,null,null,null,null,null,null,null,null,null,null,{"$f":"IF(ISERROR(VLOOKUP($AH$60,INDIRECT(CONCATENATE(AL71,\"!A8\")):INDIRECT(CONCATENATE(AL71,\"!BP207\")),1,FALSE)),\"\",(VLOOKUP($AH$60,INDIRECT(CONCATENATE(AL71,\"!A8\")):INDIRECT(CONCATENATE(AL71,\"!BP207\")),9,FALSE)))","v":""},null,null,null,"mm",null,{"$f":"IF(AD76=800,\"(de 2600 a 2700 mm.)\",IF(AD76=700,\"(de 2300 a 2400 mm.)\",IF(AD76=600,\"(de 2200 a 2300 mm.)\",IF(AD76=500,\"(de 2000 a 2100 mm.)\",IF(AD76=400,\"(de 1850 a 1950 mm.)\",\"\")))))","v":""},null,null,null,null,null,null,null,"PESO"]
[]
["L3",null,"LONGITUD de la cabeza metálica:",null,null,null,null,null,null,null,null,null,null,null,null,{"$f":"IF(ISERROR(VLOOKUP($AH$60,INDIRECT(CONCATENATE(AL71,\"!A8\")):INDIRECT(CONCATENATE(AL71,\"!BP207\")),1,FALSE)),\"\",(VLOOKUP($AH$60,INDIRECT(CONCATENATE(AL71,\"!A8\")):INDIRECT(CONCATENATE(AL71,\"!BP207\")),18,FALSE)))","v":""},null,null,null,"mm",null,{"$f":"IF(OR(AD76=800,AD76=700,AD76=600),\"(de 250 a 330 mm.)\",IF(AD76=500,\"(de 220 a 270 mm.)\",IF(AD76=400,\"(de 200 a 250 mm.)\",\"\")))","v":""},null,null,null,null,null,null,null,null,{"$f":"IF(ISERROR(VLOOKUP($AH$60,INDIRECT(CONCATENATE(AL71,\"!A8\")):INDIRECT(CONCATENATE(AL71,\"!BP207\")),1,FALSE)),\"\",(VLOOKUP($AH$60,INDIRECT(CONCATENATE(AL71,\"!A8\")):INDIRECT(CONCATENATE(AL71,\"!BP207\")),6,FALSE)))","v":""},null,null,null,"g"]
[]
["L4",null,"LONGITUD de la empuñadura:",null,null,null,null,null,null,null,null,null,null,null,null,{"$f":"IF(ISERROR(VLOOKUP($AH$60,INDIRECT(CONCATENATE(AL71,\"!A8\")):INDIRECT(CONCATENATE(AL71,\"!BP207\")),1,FALSE)),\"\",(VLOOKUP($AH$60,INDIRECT(CONCATENATE(AL71,\"!A8\")):INDIRECT(CONCATENATE(AL71,\"!BP207\")),21,FALSE)))","v":""},null,null,null,"mm",null,{"$f":"IF(OR(AD76=800,AD76=700),\"(de 150 a 160 mm.)\",IF(AD76=600,\"(de 140 a 150 mm.)\",IF(AD76=500,\"(de 135 a 145 mm.)\",IF(AD76=400,\"(de 130 a 140 mm.)\",\"\"))))","v":""},null,null,null,null,null,null,{"$f":"IF(AD76=800,\"(mínimo 800 g)\",IF(AD76=700,\"(mínimo 700 g)\",IF(AD76=600,\"(mínimo 600 g)\",IF(AD76=500,\"(mínimo 500 g)\",\"\"))))","v":""}]
[]
[]
[]
["D0",null,"DIÁMETRO delante de la empuñadura",null,null,null,null,null,null,null,null,null,null,null,null,{"$f":"IF(ISERROR(VLOOKUP($AH$60,INDIRECT(CONCATENATE(AL71,\"!A8\")):INDIRECT(CONCATENATE(AL71,\"!BP207\")),1,FALSE)),\"\",(VLOOKUP($AH$60,INDIRECT(CONCATENATE(AL71,\"!A8\")):INDIRECT(CONCATENATE(AL71,\"!BP207\")),26,FALSE)))","v":""},null,null,null,"mm",null,{"$f":"IF(AD76=800,\"(de 25 a 30 mm.)\",IF(AD76=700,\"(de 23 a 28 mm.)\",IF(AD76=600,\"(de 20 a 25 mm.)\",IF(AD76=500,\"(de 20 a 24 mm.)\",IF(AD76=400,\"(de 20 a 23 mm.)\",\"\")))))","v":""}]
[]
["D1",null,"DIÁMETRO detrás de la empuñadura",null,null,null,null,null,null,null,null,null,null,null,null,{"$f":"IF(ISERROR(VLOOKUP($AH$60,INDIRECT(CONCATENATE(AL71,\"!A8\")):INDIRECT(CONCATENATE(AL71,\"!BP207\")),1,FALSE)),\"\",(VLOOKUP($AH$60,INDIRECT(CONCATENATE(AL71,\"!A8\")):INDIRECT(CONCATENATE(AL71,\"!BP207\")),29,FALSE)))","v":""},null,null,null,"mm"]
[]
[null,null,null,null,null,null,null,null,null,null,"D0 - D1 :",null,null,null,null,{"$f":"IF(ISERROR(VLOOKUP($AH$60,INDIRECT(CONCATENATE(AL71,\"!A8\")):INDIRECT(CONCATENATE(AL71,\"!BP207\")),1,FALSE)),\"\",(VLOOKUP($AH$60,INDIRECT(CONCATENATE(AL71,\"!A8\")):INDIRECT(CONCATENATE(AL71,\"!BP207\")),31,FALSE)))","v":""},null,null,null,"mm (de 0 a 0,25 mm)   "]
[]
["D3",null,"DIÁMETRO al final de la cabeza",null,null,null,null,null,null,null,null,null,null,null,null,{"$f":"IF(ISERROR(VLOOKUP($AH$60,INDIRECT(CONCATENATE(AL71,\"!A8\")):INDIRECT(CONCATENATE(AL71,\"!BP207\")),1,FALSE)),\"\",(VLOOKUP($AH$60,INDIRECT(CONCATENATE(AL71,\"!A8\")):INDIRECT(CONCATENATE(AL71,\"!BP207\")),37,FALSE)))","v":""},null,null,null,"mm"]
[]
["D4",null,"DIÁMETRO detrás de la cabeza",null,null,null,null,null,null,null,null,null,null,null,null,{"$f":"IF(ISERROR(VLOOKUP($AH$60,INDIRECT(CONCATENATE(AL71,\"!A8\")):INDIRECT(CONCATENATE(AL71,\"!BP207\")),1,FALSE)),\"\",(VLOOKUP($AH$60,INDIRECT(CONCATENATE(AL71,\"!A8\")):INDIRECT(CONCATENATE(AL71,\"!BP207\")),39,FALSE)))","v":""},null,null,null,"mm"]
[]
[null,null,null,null,null,null,null,null,null,null,"D3 - D4 :",null,null,null,null,{"$f":"IF(ISERROR(VLOOKUP($AH$60,INDIRECT(CONCATENATE(AL71,\"!A8\")):INDIRECT(CONCATENATE(AL71,\"!BP207\")),1,FALSE)),\"\",(VLOOKUP($AH$60,INDIRECT(CONCATENATE(AL71,\"!A8\")):INDIRECT(CONCATENATE(AL71,\"!BP207\")),41,FALSE)))","v":""},null,null,null,"mm (máximo 2,5 mm -en 300 mm-)   "]
[]
["D5",null,"DIÁMETRO en 1/2 de L1:",null,null,null,null,null,null,null,{"$f":"IF(ISERROR(VLOOKUP($AH$60,INDIRECT(CONCATENATE(AL71,\"!A8\")):INDIRECT(CONCATENATE(AL71,\"!BP207\")),1,FALSE)),\"\",(VLOOKUP($AH$60,INDIRECT(CONCATENATE(AL71,\"!A8\")):INDIRECT(CONCATENATE(AL71,\"!BP207\")),44,FALSE)))","v":""},null,null,"x100/",null,{"$f":"IF(P$22=\"\",\"\",P$22)","v":""},null,null,null," (D0) =",null,null,{"$f":"IF(K34=\"\",\"\",IF(P34=\"\",\"\",ROUND(K34*100/P34,1)))","v":""},null,null,null,"%   (máximo 90% de D0)"]
[]
["D7",null,"DIÁMETRO en 1/2 de L2:",null,null,null,null,null,null,null,{"$f":"IF(ISERROR(VLOOKUP($AH$60,INDIRECT(CONCATENATE(AL71,\"!A8\")):INDIRECT(CONCATENATE(AL71,\"!BP207\")),1,FALSE)),\"\",(VLOOKUP($AH$60,INDIRECT(CONCATENATE(AL71,\"!A8\")):INDIRECT(CONCATENATE(AL71,\"!BP207\")),50,FALSE)))","v":""},null,null,"x100/",null,{"$f":"IF(P$22=\"\",\"\",P$22)","v":""},null,null,null," (D0) =",null,null,{"$f":"IF(K36=\"\",\"\",IF(P36=\"\",\"\",ROUND(K36*100/P36,1)))","v":""},null,null,null,"%   (mínimo 90% de D0)"]
[]
["D2",null,"f ","a 150 mm. de punta ",null,null,null,null,null,null,{"$f":"IF(ISERROR(VLOOKUP($AH$60,INDIRECT(CONCATENATE(AL71,\"!A8\")):INDIRECT(CONCATENATE(AL71,\"!BP207\")),1,FALSE)),\"\",(VLOOKUP($AH$60,INDIRECT(CONCATENATE(AL71,\"!A8\")):INDIRECT(CONCATENATE(AL71,\"!BP207\")),34,FALSE)))","v":""},null,null,"x100/",null,{"$f":"IF(P$22=\"\",\"\",P$22)","v":""},null,null,null," (D0) =",null,null,{"$f":"IF(K38=\"\",\"\",IF(P38=\"\",\"\",ROUND(K38*100/P38,1)))","v":""},null,null,null,"%   (máximo 80% de D0)"]
[]
["D8",null,"f ","a 150 mm. de cola",null,null,null,null,null,null,{"$f":"IF(ISERROR(VLOOKUP($AH$60,INDIRECT(CONCATENATE(AL71,\"!A8\")):INDIRECT(CONCATENATE(AL71,\"!BP207\")),1,FALSE)),\"\",(VLOOKUP($AH$60,INDIRECT(CONCATENATE(AL71,\"!A8\")):INDIRECT(CONCATENATE(AL71,\"!BP207\")),53,FALSE)))","v":""},null,null,"x100/",null,{"$f":"IF(P$22=\"\",\"\",P$22)","v":""},null,null,null," (D0) =",null,null,{"$f":"IF(K40=\"\",\"\",IF(P40=\"\",\"\",ROUND(K40*100/P40,1)))","v":""},null,null,null,"%   (mínimo 40% de D0)"]
[]
["D6",null,"DIÁMETRO de la empuñadura:",null,null,null,null,null,null,null,null,null,{"$f":"IF(ISERROR(VLOOKUP($AH$60,INDIRECT(CONCATENATE(AL71,\"!A8\")):INDIRECT(CONCATENATE(AL71,\"!BP207\")),1,FALSE)),\"\",(VLOOKUP($AH$60,INDIRECT(CONCATENATE(AL71,\"!A8\")):INDIRECT(CONCATENATE(AL71,\"!BP207\")),47,FALSE)))","v":""},null,null,"  (máximo D0 + 8 mm)",null,null,null,null,null,null,null,null,null,null,null,"Ángulo de la punta"]
[]
["D9",null,"DIÁMETRO en la cola:",null,null,null,null,null,null,null,null,null,{"$f":"IF(ISERROR(VLOOKUP($AH$60,INDIRECT(CONCATENATE(AL71,\"!A8\")):INDIRECT(CONCATENATE(AL71,\"!BP207\")),1,FALSE)),\"\",(VLOOKUP($AH$60,INDIRECT(CONCATENATE(AL71,\"!A8\")):INDIRECT(CONCATENATE(AL71,\"!BP207\")),56,FALSE)))","v":""},null,null," (mínimo 3,5 mm)",null,null,null,null,null,null,null,null,null,null,null,{"$f":"IF(ISERROR(VLOOKUP($AH$60,INDIRECT(CONCATENATE(AL71,\"!A8\")):INDIRECT(CONCATENATE(AL71,\"!BP207\")),1,FALSE)),\"\",(VLOOKUP($AH$60,INDIRECT(CONCATENATE(AL71,\"!A8\")):INDIRECT(CONCATENATE(AL71,\"!BP207\")),59,FALSE)))","v":""},null,null," º (máximo 40º)"]
[]
[null,null,"OBSERVACIONES:"]
[null,null,null,{"$f":"IF(ISERROR(VLOOKUP($AH$60,INDIRECT(CONCATENATE(AL71,\"!A8\")):INDIRECT(CONCATENATE(AL71,\"!BP207\")),1,FALSE)),\"\",IF(VLOOKUP($AH$60,INDIRECT(CONCATENATE(AL71,\"!A8\")):INDIRECT(CONCATENATE(AL71,\"!BP207\")),62,FALSE)=0,\"\",VLOOKUP($AH$60,INDIRECT(CONCATENATE(AL71,\"!A8\")):INDIRECT(CONCATENATE(AL71,\"!BP207\")),62,FALSE)))","v":""}]
[]
[]
[]
[]
["  Marca/modelo: ",null,null,null,null,{"$f":"IF(ISERROR(VLOOKUP($AH$60,INDIRECT(CONCATENATE(AL71,\"!A8\")):INDIRECT(CONCATENATE(AL71,\"!BP207\")),1,FALSE)),\"\",IF(VLOOKUP($AH$60,INDIRECT(CONCATENATE(AL71,\"!A8\")):INDIRECT(CONCATENATE(AL71,\"!BP207\")),4,FALSE)=0,\"\",VLOOKUP($AH$60,INDIRECT(CONCATENATE(AL71,\"!A8\")):INDIRECT(CONCATENATE(AL71,\"!BP207\")),4,FALSE)))","v":""},null,null,null,null,null,null,null,null,"Color:",null,{"$f":"IF(ISERROR(VLOOKUP($AH$60,INDIRECT(CONCATENATE(AL71,\"!A8\")):INDIRECT(CONCATENATE(AL71,\"!BP207\")),1,FALSE)),\"\",IF(VLOOKUP($AH$60,INDIRECT(CONCATENATE(AL71,\"!A8\")):INDIRECT(CONCATENATE(AL71,\"!BP207\")),68,FALSE)=0,\"\",VLOOKUP($AH$60,INDIRECT(CONCATENATE(AL71,\"!A8\")):INDIRECT(CONCATENATE(AL71,\"!BP207\")),68,FALSE)))","v":""},null,null,null,null,null,null,null,null,null,null,"RESULTADO DE LA HOMOLOGACIÓN"]
[]
["  Propiedad de: ",null,null,null,null,{"$f":"IF(ISERROR(VLOOKUP($AH$60,INDIRECT(CONCATENATE(AL71,\"!A8\")):INDIRECT(CONCATENATE(AL71,\"!BP207\")),1,FALSE)),\"\",IF(VLOOKUP($AH$60,INDIRECT(CONCATENATE(AL71,\"!A8\")):INDIRECT(CONCATENATE(AL71,\"!BP207\")),3,FALSE)=0,\"\",IF(VLOOKUP($AH$60,INDIRECT(CONCATENATE(AL71,\"!A8\")):INDIRECT(CONCATENATE(AL71,\"!BP207\")),3,FALSE)=\"Particular\",VLOOKUP($AH$60,INDIRECT(CONCATENATE(AL71,\"!A8\")):INDIRECT(CONCATENATE(AL71,\"!BP207\")),67,FALSE),VLOOKUP($AH$60,INDIRECT(CONCATENATE(AL71,\"!A8\")):INDIRECT(CONCATENATE(AL71,\"!BP207\")),3,FALSE))))","v":""},null,null,null,null,null,null,null,null,null,null,null,"Cert. IAAF:",null,null,null,{"$f":"IF(ISERROR(VLOOKUP($AH$60,INDIRECT(CONCATENATE(AL71,\"!A8\")):INDIRECT(CONCATENATE(AL71,\"!BP207\")),1,FALSE)),\"\",IF(VLOOKUP($AH$60,INDIRECT(CONCATENATE(AL71,\"!A8\")):INDIRECT(CONCATENATE(AL71,\"!BP207\")),5,FALSE)=0,\"\",VLOOKUP($AH$60,INDIRECT(CONCATENATE(AL71,\"!A8\")):INDIRECT(CONCATENATE(AL71,\"!BP207\")),5,FALSE)))","v":""}]
[]
["  Efectuó la homologación: ",null,null,null,null,null,null,null,null,{"$f":"IF(ISERROR(VLOOKUP($AH$60,INDIRECT(CONCATENATE(AL71,\"!A8\")):INDIRECT(CONCATENATE(AL71,\"!BP207\")),1,FALSE)),\"\",IF(VLOOKUP($AH$60,INDIRECT(CONCATENATE(AL71,\"!A8\")):INDIRECT(CONCATENATE(AL71,\"!BP207\")),64,FALSE)=0,\"\",VLOOKUP($AH$60,INDIRECT(CONCATENATE(AL71,\"!A8\")):INDIRECT(CONCATENATE(AL71,\"!BP207\")),64,FALSE)))","v":""},null,null,null,null,null,null,null,null,null,null,null,null,null,null,null,null,null,null,{"$f":"IF(O89>0,\"\",IF(AND(T89=17,F52<>\"\",F54<>\"\",J56<>\"\",T60<>\"\"),\"X\",\"\"))","v":""},null,"VÁLIDA"]
[]
["  Competición: ",null,null,null,null,{"$f":"IF(Inicio!D4=\"\",\"FALTA NOMBRE DE COMPETICIÓN\",Inicio!D4)","v":"FALTA NOMBRE DE COMPETICIÓN"},null,null,null,null,null,null,null,null,null,null,null,null,null,null,null,null,null,null,null,null,null,null,{"$f":"IF(O89=16,\"\",IF(Y89>0,\"X\",\"\"))","v":""},null,"NO VÁLIDA"]
[]
["  Firma: ",null,null,null,null,null,null,null,null,null,null,null,null,null,null,null,"  Fecha: ",null,null,{"$f":"IF(ISERROR(VLOOKUP($AH$60,INDIRECT(CONCATENATE(AL71,\"!A8\")):INDIRECT(CONCATENATE(AL71,\"!BP207\")),1,FALSE)),\"\",IF(VLOOKUP($AH$60,INDIRECT(CONCATENATE(AL71,\"!A8\")):INDIRECT(CONCATENATE(AL71,\"!BP207\")),65,FALSE)=\"\",\"\",VLOOKUP($AH$60,INDIRECT(CONCATENATE(AL71,\"!A8\")):INDIRECT(CONCATENATE(AL71,\"!BP207\")),65,FALSE)))","v":""},null,null,null,null,null,null,null,"REF.:"]
[]
[]
[]
[]
[]
[]
[]
[]
[]
[]
[null,null,null,null,null,null,null,null,null,null,null,null,null,null,"No chequeado",null,null,null,null,"Correcto",null,null,null,null,"Incorrecto",null,null,null,null,"Mínimo",null,null,"Máximo",null,null,null,1,{"$f":"MID(AD60,1,7)","v":""}]
[null,null,1,null,"Punta a centro de gravedad",null,null,null,null,null,null,null,null,null,{"$f":"IF(P9=\"\",1,\"\")","v":1},null,null,null,null,{"$f":"IF(AND(O72=\"\",P9>=AD72,P9<=AG72),1,\"\")","v":""},null,null,null,null,{"$f":"IF(O72=\"\",IF(T72=\"\",1,\"\"),\"\")","v":""},null,null,null,null,{"$f":"IF(AD76=800,900,IF(AD76=700,860,IF(AD76=600,800,IF(AD76=500,780,IF(AD76=400,750,\"\")))))","v":""},null,null,{"$f":"IF(AD76=800,1060,IF(AD76=700,1000,IF(AD76=600,920,IF(AD76=500,880,IF(AD76=400,800,\"\")))))","v":""},null,null,null,2]
[null,null,2,null,"Desde CG a cola",null,null,null,null,null,null,null,null,null,{"$f":"IF(P11=\"\",1,\"\")","v":1},null,null,null,null,{"$f":"IF(AND(O73=\"\",P11>=AD73,P11<=AG73),1,\"\")","v":""},null,null,null,null,"",null,null,null,null,{"$f":"IF(AD76=800,1540,IF(AD76=700,1300,IF(AD76=600,1280,IF(AD76=500,1120,IF(AD76=400,1050,\"\")))))","v":""},null,null,{"$f":"IF(AD76=800,1800,IF(AD76=700,1540,IF(AD76=600,1500,IF(AD76=500,1320,IF(AD76=400,1200,\"\")))))","v":""},null,null,null,3,"JAB.800-"]
[null,null,3,null,"Longitud total",null,null,null,null,null,null,null,null,null,{"$f":"IF(P14=\"\",1,\"\")","v":1},null,null,null,null,{"$f":"IF(AND(O74=\"\",P14>=AD74,P14<=AG74),1,\"\")","v":""},null,null,null,null,"",null,null,null,null,{"$f":"IF(AD76=800,2600,IF(AD76=700,2300,IF(AD76=600,2200,IF(AD76=500,2000,IF(AD76=400,1850,\"\")))))","v":""},null,null,{"$f":"IF(AD76=800,2700,IF(AD76=700,2400,IF(AD76=600,2300,IF(AD76=500,2100,IF(AD76=400,1950,\"\")))))","v":""},null,null,null,4,"JAB.700-"]
[null,null,4,null,"Longitud cabeza metálica",null,null,null,null,null,null,null,null,null,{"$f":"IF(P16=\"\",1,\"\")","v":1},null,null,null,null,{"$f":"IF(AND(O75=\"\",P16>=AD75,P16<=AG75),1,\"\")","v":""},null,null,null,null,"",null,null,null,null,{"$f":"IF(OR(AD76=800,AD76=700,AD76=600),250,IF(AD76=500,220,IF(AD76=400,200,\"\")))","v":""},null,null,{"$f":"IF(OR(AD76=800,AD76=700,AD76=600),330,IF(AD76=500,270,IF(AD76=400,250,\"\")))","v":""},null,null,null,5,"JAB.600-"]
[null,null,5,null,"Peso",null,null,null,null,null,null,null,null,null,{"$f":"IF(AE16=\"\",1,\"\")","v":1},null,null,null,null,{"$f":"IF(AND(O76=\"\",AE16>=AD76),1,\"\")","v":""},null,null,null,null,"",null,null,null,null,{"$f":"IF(MID(AD60,5,3)=\"800\",800,IF(MID(AD60,5,3)=\"700\",700,IF(MID(AD60,5,3)=\"600\",600,IF(MID(AD60,5,3)=\"500\",500,IF(MID(AD60,5,3)=\"400\",400,\"\")))))","v":""},null,null,{"$f":"AD76+25","v":{"$error":"#VALUE!"}},null,null,null,6,"JAB.500-"]
[null,null,6,null,"Longitud de la empuñadura",null,null,null,null,null,null,null,null,null,{"$f":"IF(P18=\"\",1,\"\")","v":1},null,null,null,null,{"$f":"IF(AND(O77=\"\",P18>=AD77,P18<=AG77),1,\"\")","v":""},null,null,null,null,"",null,null,null,null,{"$f":"IF(OR(AD76=800,AD76=700),150,IF(AD76=600,140,IF(AD76=500,135,IF(AD76=400,130,\"\"))))","v":""},null,null,{"$f":"IF(OR(AD76=800,AD76=700),160,IF(AD76=600,150,IF(AD76=500,145,IF(AD76=400,140,\"\"))))","v":""},null,null,null,7,"JAB.400-"]
[null,null,7,null,"Diámetro delante empuñadura",null,null,null,null,null,null,null,null,null,{"$f":"IF(P22=\"\",1,\"\")","v":1},null,null,null,null,{"$f":"IF(AND(O78=\"\",P22>=AD78,P22<=AG78),1,\"\")","v":""},null,null,null,null,"",null,null,null,null,{"$f":"IF(AD76=800,25,IF(AD76=700,23,IF(OR(AD76=600,AD76=500,AD76=400),20,\"\")))","v":""},null,null,{"$f":"IF(AD76=800,30,IF(AD76=700,28,IF(AD76=600,25,IF(AD76=500,24,IF(AD76=400,23,\"\")))))","v":""},null,null,null,8]
[null,null,8,null,"Dif delante y detrás empuñad",null,null,null,null,null,null,null,null,null,{"$f":"IF(P26=\"\",1,\"\")","v":1},null,null,null,null,{"$f":"IF(OR(AND(P26<=AG79,P26>=AD79),P26=\"0\"),1,\"\")","v":""},null,null,null,null,"",null,null,null,null,0,null,null,0.25,null,null,null,9]
[null,null,9,null,"Dif delante y detrás cab met",null,null,null,null,null,null,null,null,null,{"$f":"IF(P32=\"\",1,\"\")","v":1},null,null,null,null,{"$f":"IF(O80=1,\"\",IF(P32<=AG80,1,\"\"))","v":""},null,null,null,null,"",null,null,null,null,null,null,null,2.5,null,null,null,10]
[null,null,10,null,"Mitad de L1 vs D0",null,null,null,null,null,null,null,null,null,{"$f":"IF(K34=\"\",1,IF(P34=\"\",1,\"\"))","v":1},null,null,null,null,{"$f":"IF(O81=1,\"\",IF(W34<=AG81,1,\"\"))","v":""},null,null,null,null,"",null,null,null,null,null,null,null,90,null,null,null,11]
[null,null,11,null,"Mitad de L2 vs D0",null,null,null,null,null,null,null,null,null,{"$f":"IF(K36=\"\",1,IF(P36=\"\",1,\"\"))","v":1},null,null,null,null,{"$f":"IF(O82=1,\"\",IF(W36>=AD82,1,\"\"))","v":""},null,null,null,null,"",null,null,null,null,90,null,null,null,null,null,null,12]
[null,null,12,null,"15 cmts punta vs D0",null,null,null,null,null,null,null,null,null,{"$f":"IF(K38=\"\",1,IF(P38=\"\",1,\"\"))","v":1},null,null,null,null,{"$f":"IF(O83=1,\"\",IF(W38<=AG83,1,\"\"))","v":""},null,null,null,null,"",null,null,null,null,null,null,null,80,null,null,null,13]
[null,null,13,null,"15 cmts cola vs D0",null,null,null,null,null,null,null,null,null,{"$f":"IF(K40=\"\",1,IF(P40=\"\",1,\"\"))","v":1},null,null,null,null,{"$f":"IF(O84=1,\"\",IF(W40>=AD84,1,\"\"))","v":""},null,null,null,null,"",null,null,null,null,40,null,null,null,null,null,null,14]
[null,null,14,null,"Diámetro empuñadura",null,null,null,null,null,null,null,null,null,{"$f":"IF(M42=\"\",1,IF(P22=\"\",1,\"\"))","v":1},null,null,null,null,{"$f":"IF(O85=1,\"\",IF(M42>=AD85,IF(M42<=AG85,1,\"\"),\"\"))","v":""},null,null,null,null,"",null,null,null,null,{"$f":"IF(P22=\"\",\"\",P22)","v":""},null,null,{"$f":"IF(P22=\"\",\"\",P22+8)","v":""},null,null,null,15]
[null,null,15,null,"Diámetro cola",null,null,null,null,null,null,null,null,null,{"$f":"IF(M44=\"\",1,\"\")","v":1},null,null,null,null,{"$f":"IF(O86=1,\"\",IF(M44>=AD86,1,\"\"))","v":""},null,null,null,null,"",null,null,null,null,3.5,null,null,null,null,null,null,16]
[null,null,16,null,"Ángulo de la punta",null,null,null,null,null,null,null,null,null,{"$f":"IF(AB44=\"\",1,\"\")","v":1},null,null,null,null,{"$f":"IF(O87=1,\"\",IF(AB44<=AG87,1,\"\"))","v":""},null,null,null,null,"",null,null,null,null,null,null,null,40,null,null,null,17]
[null,null,17,null,"Observaciones",null,null,null,null,null,null,null,null,null,null,null,null,null,null,{"$f":"IF(D47=\"\",1,\"\")","v":1},null,null,null,null,{"$f":"IF(D47<>\"\",1,\"\")","v":""},null,null,null,null,null,null,null,null,null,null,null,18]
[null,null,null,null,null,null,null,null,null,null,null,null,null,null,{"$f":"SUM(O72:S87)","v":16},null,null,null,null,{"$f":"SUM(T72:X88)","v":1},null,null,null,null,{"$f":"SUM(Y72:AC88)","v":0},null,null,null,null,null,null,null,null,null,null,null,19]
[null,null,null,null,null,null,null,null,null,null,null,null,null,null,null,null,null,null,null,null,null,null,null,null,null,null,null,null,null,null,null,null,null,null,null,null,20]
[null,null,null,null,null,null,null,null,null,null,null,null,null,null,null,null,null,null,null,null,null,null,null,null,null,null,null,null,null,null,null,null,null,null,null,null,21]
[null,null,null,null,null,null,null,null,null,null,null,null,null,null,null,null,null,null,null,null,null,null,null,null,null,null,null,null,null,null,null,null,null,null,null,null,22]
[null,null,null,null,null,null,null,null,null,null,null,null,null,null,null,null,null,null,null,null,null,null,null,null,null,null,null,null,null,null,null,null,null,null,null,null,23]
[null,null,null,null,null,null,null,null,null,null,null,null,null,null,null,null,null,null,null,null,null,null,null,null,null,null,null,null,null,null,null,null,null,null,null,null,24]
[null,null,null,null,null,null,null,null,null,null,null,null,null,null,null,null,null,null,null,null,null,null,null,null,null,null,null,null,null,null,null,null,null,null,null,null,25]
[null,null,null,null,null,null,null,null,null,null,null,null,null,null,null,null,null,null,null,null,null,null,null,null,null,null,null,null,null,null,null,null,null,null,null,null,26]
[null,null,null,null,null,null,null,null,null,null,null,null,null,null,null,null,null,null,null,null,null,null,null,null,null,null,null,null,null,null,null,null,null,null,null,null,27]
[null,null,null,null,null,null,null,null,null,null,null,null,null,null,null,null,null,null,null,null,null,null,null,null,null,null,null,null,null,null,null,null,null,null,null,null,28]
[null,null,null,null,null,null,null,null,null,null,null,null,null,null,null,null,null,null,null,null,null,null,null,null,null,null,null,null,null,null,null,null,null,null,null,null,29]
[null,null,null,null,null,null,null,null,null,null,null,null,null,null,null,null,null,null,null,null,null,null,null,null,null,null,null,null,null,null,null,null,null,null,null,null,30]
[null,null,null,null,null,null,null,null,null,null,null,null,null,null,null,null,null,null,null,null,null,null,null,null,null,null,null,null,null,null,null,null,null,null,null,null,31]
[null,null,null,null,null,null,null,null,null,null,null,null,null,null,null,null,null,null,null,null,null,null,null,null,null,null,null,null,null,null,null,null,null,null,null,null,32]
[null,null,null,null,null,null,null,null,null,null,null,null,null,null,null,null,null,null,null,null,null,null,null,null,null,null,null,null,null,null,null,null,null,null,null,null,33]
[null,null,null,null,null,null,null,null,null,null,null,null,null,null,null,null,null,null,null,null,null,null,null,null,null,null,null,null,null,null,null,null,null,null,null,null,34]
[null,null,null,null,null,null,null,null,null,null,null,null,null,null,null,null,null,null,null,null,null,null,null,null,null,null,null,null,null,null,null,null,null,null,null,null,35]
[null,null,null,null,null,null,null,null,null,null,null,null,null,null,null,null,null,null,null,null,null,null,null,null,null,null,null,null,null,null,null,null,null,null,null,null,36]
[null,null,null,null,null,null,null,null,null,null,null,null,null,null,null,null,null,null,null,null,null,null,null,null,null,null,null,null,null,null,null,null,null,null,null,null,37]
[null,null,null,null,null,null,null,null,null,null,null,null,null,null,null,null,null,null,null,null,null,null,null,null,null,null,null,null,null,null,null,null,null,null,null,null,38]
[null,null,null,null,null,null,null,null,null,null,null,null,null,null,null,null,null,null,null,null,null,null,null,null,null,null,null,null,null,null,null,null,null,null,null,null,39]
[null,null,null,null,null,null,null,null,null,null,null,null,null,null,null,null,null,null,null,null,null,null,null,null,null,null,null,null,null,null,null,null,null,null,null,null,40]
[null,null,null,null,null,null,null,null,null,null,null,null,null,null,null,null,null,null,null,null,null,null,null,null,null,null,null,null,null,null,null,null,null,null,null,null,41]
[null,null,null,null,null,null,null,null,null,null,null,null,null,null,null,null,null,null,null,null,null,null,null,null,null,null,null,null,null,null,null,null,null,null,null,null,42]
[null,null,null,null,null,null,null,null,null,null,null,null,null,null,null,null,null,null,null,null,null,null,null,null,null,null,null,null,null,null,null,null,null,null,null,null,43]
[null,null,null,null,null,null,null,null,null,null,null,null,null,null,null,null,null,null,null,null,null,null,null,null,null,null,null,null,null,null,null,null,null,null,null,null,44]
[null,null,null,null,null,null,null,null,null,null,null,null,null,null,null,null,null,null,null,null,null,null,null,null,null,null,null,null,null,null,null,null,null,null,null,null,45]
[null,null,null,null,null,null,null,null,null,null,null,null,null,null,null,null,null,null,null,null,null,null,null,null,null,null,null,null,null,null,null,null,null,null,null,null,46]
[null,null,null,null,null,null,null,null,null,null,null,null,null,null,null,null,null,null,null,null,null,null,null,null,null,null,null,null,null,null,null,null,null,null,null,null,47]
[null,null,null,null,null,null,null,null,null,null,null,null,null,null,null,null,null,null,null,null,null,null,null,null,null,null,null,null,null,null,null,null,null,null,null,null,48]
[null,null,null,null,null,null,null,null,null,null,null,null,null,null,null,null,null,null,null,null,null,null,null,null,null,null,null,null,null,null,null,null,null,null,null,null,49]
[null,null,null,null,null,null,null,null,null,null,null,null,null,null,null,null,null,null,null,null,null,null,null,null,null,null,null,null,null,null,null,null,null,null,null,null,50]
[null,null,null,null,null,null,null,null,null,null,null,null,null,null,null,null,null,null,null,null,null,null,null,null,null,null,null,null,null,null,null,null,null,null,null,null,51]
[null,null,null,null,null,null,null,null,null,null,null,null,null,null,null,null,null,null,null,null,null,null,null,null,null,null,null,null,null,null,null,null,null,null,null,null,52]
[null,null,null,null,null,null,null,null,null,null,null,null,null,null,null,null,null,null,null,null,null,null,null,null,null,null,null,null,null,null,null,null,null,null,null,null,53]
[null,null,null,null,null,null,null,null,null,null,null,null,null,null,null,null,null,null,null,null,null,null,null,null,null,null,null,null,null,null,null,null,null,null,null,null,54]
[null,null,null,null,null,null,null,null,null,null,null,null,null,null,null,null,null,null,null,null,null,null,null,null,null,null,null,null,null,null,null,null,null,null,null,null,55]
[null,null,null,null,null,null,null,null,null,null,null,null,null,null,null,null,null,null,null,null,null,null,null,null,null,null,null,null,null,null,null,null,null,null,null,null,56]
[null,null,null,null,null,null,null,null,null,null,null,null,null,null,null,null,null,null,null,null,null,null,null,null,null,null,null,null,null,null,null,null,null,null,null,null,57]
[null,null,null,null,null,null,null,null,null,null,null,null,null,null,null,null,null,null,null,null,null,null,null,null,null,null,null,null,null,null,null,null,null,null,null,null,58]
[null,null,null,null,null,null,null,null,null,null,null,null,null,null,null,null,null,null,null,null,null,null,null,null,null,null,null,null,null,null,null,null,null,null,null,null,59]
[null,null,null,null,null,null,null,null,null,null,null,null,null,null,null,null,null,null,null,null,null,null,null,null,null,null,null,null,null,null,null,null,null,null,null,null,60]
[null,null,null,null,null,null,null,null,null,null,null,null,null,null,null,null,null,null,null,null,null,null,null,null,null,null,null,null,null,null,null,null,null,null,null,null,61]
[null,null,null,null,null,null,null,null,null,null,null,null,null,null,null,null,null,null,null,null,null,null,null,null,null,null,null,null,null,null,null,null,null,null,null,null,62]
[null,null,null,null,null,null,null,null,null,null,null,null,null,null,null,null,null,null,null,null,null,null,null,null,null,null,null,null,null,null,null,null,null,null,null,null,63]
[null,null,null,null,null,null,null,null,null,null,null,null,null,null,null,null,null,null,null,null,null,null,null,null,null,null,null,null,null,null,null,null,null,null,null,null,64]
[null,null,null,null,null,null,null,null,null,null,null,null,null,null,null,null,null,null,null,null,null,null,null,null,null,null,null,null,null,null,null,null,null,null,null,null,65]
[null,null,null,null,null,null,null,null,null,null,null,null,null,null,null,null,null,null,null,null,null,null,null,null,null,null,null,null,null,null,null,null,null,null,null,null,66]
[null,null,null,null,null,null,null,null,null,null,null,null,null,null,null,null,null,null,null,null,null,null,null,null,null,null,null,null,null,null,null,null,null,null,null,null,67]
[null,null,null,null,null,null,null,null,null,null,null,null,null,null,null,null,null,null,null,null,null,null,null,null,null,null,null,null,null,null,null,null,null,null,null,null,68]
[null,null,null,null,null,null,null,null,null,null,null,null,null,null,null,null,null,null,null,null,null,null,null,null,null,null,null,null,null,null,null,null,null,null,null,null,69]
[null,null,null,null,null,null,null,null,null,null,null,null,null,null,null,null,null,null,null,null,null,null,null,null,null,null,null,null,null,null,null,null,null,null,null,null,70]
[null,null,null,null,null,null,null,null,null,null,null,null,null,null,null,null,null,null,null,null,null,null,null,null,null,null,null,null,null,null,null,null,null,null,null,null,71]
[null,null,null,null,null,null,null,null,null,null,null,null,null,null,null,null,null,null,null,null,null,null,null,null,null,null,null,null,null,null,null,null,null,null,null,null,72]
[null,null,null,null,null,null,null,null,null,null,null,null,null,null,null,null,null,null,null,null,null,null,null,null,null,null,null,null,null,null,null,null,null,null,null,null,73]
[null,null,null,null,null,null,null,null,null,null,null,null,null,null,null,null,null,null,null,null,null,null,null,null,null,null,null,null,null,null,null,null,null,null,null,null,74]
[null,null,null,null,null,null,null,null,null,null,null,null,null,null,null,null,null,null,null,null,null,null,null,null,null,null,null,null,null,null,null,null,null,null,null,null,75]
[null,null,null,null,null,null,null,null,null,null,null,null,null,null,null,null,null,null,null,null,null,null,null,null,null,null,null,null,null,null,null,null,null,null,null,null,76]
[null,null,null,null,null,null,null,null,null,null,null,null,null,null,null,null,null,null,null,null,null,null,null,null,null,null,null,null,null,null,null,null,null,null,null,null,77]
[null,null,null,null,null,null,null,null,null,null,null,null,null,null,null,null,null,null,null,null,null,null,null,null,null,null,null,null,null,null,null,null,null,null,null,null,78]
[null,null,null,null,null,null,null,null,null,null,null,null,null,null,null,null,null,null,null,null,null,null,null,null,null,null,null,null,null,null,null,null,null,null,null,null,79]
[null,null,null,null,null,null,null,null,null,null,null,null,null,null,null,null,null,null,null,null,null,null,null,null,null,null,null,null,null,null,null,null,null,null,null,null,80]
[null,null,null,null,null,null,null,null,null,null,null,null,null,null,null,null,null,null,null,null,null,null,null,null,null,null,null,null,null,null,null,null,null,null,null,null,81]
[null,null,null,null,null,null,null,null,null,null,null,null,null,null,null,null,null,null,null,null,null,null,null,null,null,null,null,null,null,null,null,null,null,null,null,null,82]
[null,null,null,null,null,null,null,null,null,null,null,null,null,null,null,null,null,null,null,null,null,null,null,null,null,null,null,null,null,null,null,null,null,null,null,null,83]
[null,null,null,null,null,null,null,null,null,null,null,null,null,null,null,null,null,null,null,null,null,null,null,null,null,null,null,null,null,null,null,null,null,null,null,null,84]
[null,null,null,null,null,null,null,null,null,null,null,null,null,null,null,null,null,null,null,null,null,null,null,null,null,null,null,null,null,null,null,null,null,null,null,null,85]
[null,null,null,null,null,null,null,null,null,null,null,null,null,null,null,null,null,null,null,null,null,null,null,null,null,null,null,null,null,null,null,null,null,null,null,null,86]
[null,null,null,null,null,null,null,null,null,null,null,null,null,null,null,null,null,null,null,null,null,null,null,null,null,null,null,null,null,null,null,null,null,null,null,null,87]
[null,null,null,null,null,null,null,null,null,null,null,null,null,null,null,null,null,null,null,null,null,null,null,null,null,null,null,null,null,null,null,null,null,null,null,null,88]
[null,null,null,null,null,null,null,null,null,null,null,null,null,null,null,null,null,null,null,null,null,null,null,null,null,null,null,null,null,null,null,null,null,null,null,null,89]
[null,null,null,null,null,null,null,null,null,null,null,null,null,null,null,null,null,null,null,null,null,null,null,null,null,null,null,null,null,null,null,null,null,null,null,null,90]
[null,null,null,null,null,null,null,null,null,null,null,null,null,null,null,null,null,null,null,null,null,null,null,null,null,null,null,null,null,null,null,null,null,null,null,null,91]
[null,null,null,null,null,null,null,null,null,null,null,null,null,null,null,null,null,null,null,null,null,null,null,null,null,null,null,null,null,null,null,null,null,null,null,null,92]
[null,null,null,null,null,null,null,null,null,null,null,null,null,null,null,null,null,null,null,null,null,null,null,null,null,null,null,null,null,null,null,null,null,null,null,null,93]
[null,null,null,null,null,null,null,null,null,null,null,null,null,null,null,null,null,null,null,null,null,null,null,null,null,null,null,null,null,null,null,null,null,null,null,null,94]
[null,null,null,null,null,null,null,null,null,null,null,null,null,null,null,null,null,null,null,null,null,null,null,null,null,null,null,null,null,null,null,null,null,null,null,null,95]
[null,null,null,null,null,null,null,null,null,null,null,null,null,null,null,null,null,null,null,null,null,null,null,null,null,null,null,null,null,null,null,null,null,null,null,null,96]
[null,null,null,null,null,null,null,null,null,null,null,null,null,null,null,null,null,null,null,null,null,null,null,null,null,null,null,null,null,null,null,null,null,null,null,null,97]
[null,null,null,null,null,null,null,null,null,null,null,null,null,null,null,null,null,null,null,null,null,null,null,null,null,null,null,null,null,null,null,null,null,null,null,null,98]
[null,null,null,null,null,null,null,null,null,null,null,null,null,null,null,null,null,null,null,null,null,null,null,null,null,null,null,null,null,null,null,null,null,null,null,null,99]
[null,null,null,null,null,null,null,null,null,null,null,null,null,null,null,null,null,null,null,null,null,null,null,null,null,null,null,null,null,null,null,null,null,null,null,null,100]

{"sheet":"Imp. Disco","index":7,"n_rows":156,"n_cols":41,"rows_kept":156,"cut":false,"hidden":true,"merged":[[11,1,11,3],[11,16,11,24],[41,29,43,36],[48,7,48,26],[15,2,15,3],[15,11,15,13],[15,19,15,20],[43,7,43,16],[43,21,43,26],[1,7,1,32],[2,7,2,32],[3,7,3,32],[5,1,5,37],[6,1,7,37],[55,34,55,36],[50,5,50,17],[15,33,15,35],[20,2,20,3],[20,12,20,14],[20,19,20,20],[20,33,20,35],[47,7,47,26],[50,22,50,26],[50,29,50,30],[50,31,50,34],[45,11,45,26],[36,3,37,34],[41,16,41,26],[41,7,41,13],[56,34,56,36],[50,35,50,36],[58,16,58,20],[58,21,58,25],[58,26,58,30],[58,31,58,33],[56,26,56,30],[56,31,56,33],[56,16,56,20],[56,21,56,25],[58,34,58,36],[57,34,57,36],[55,16,55,20],[55,21,55,25],[55,26,55,30],[55,31,55,33],[57,31,57,33],[60,34,60,36],[59,6,59,15],[59,16,59,20],[59,21,59,25],[59,26,59,30],[59,31,59,33],[59,34,59,36],[60,6,60,15],[60,16,60,20],[60,21,60,25],[60,31,60,33],[56,6,56,15],[58,6,58,15],[62,16,62,20],[62,21,62,25],[62,26,62,30],[60,26,60,30],[61,6,61,15],[61,16,61,20],[61,21,61,25],[61,26,61,30],[57,6,57,15],[57,16,57,20],[57,21,57,25],[57,26,57,30]]}
[]
[null,null,null,null,null,null,null,"Real Federación Española de Atletismo"]
[null,null,null,null,null,null,null,"Comité Nacional de Jueces"]
[]
[]
[null,"CERTIFICADO DE HOMOLOGACIÓN"]
[null,{"$f":"CONCATENATE(\"DISCO \",AO64,\" gramos\")","v":"DISCO  gramos"}]
[]
[]
[]
[]
[null,null,null,null,null,null,null,null,null,null,null,null,null,"PESO:",null,null,{"$f":"IF(ISERROR(VLOOKUP($AJ$51,INDIRECT(CONCATENATE(AO56,\"!A8\")):INDIRECT(CONCATENATE(AO56,\"!AA207\")),1,FALSE)),\"\",(VLOOKUP($AJ$51,INDIRECT(CONCATENATE(AO56,\"!A8\")):INDIRECT(CONCATENATE(AO56,\"!AA207\")),6,FALSE)))","v":""},null,null,null,null,null,null,null,null,"g"]
[]
[null,null,null,null,null,null,null,null,null,null,null,null,null,null,null,null,null,{"$f":"IF(AO64=\"2000\",\"(mínimo 2000 g.)\",IF(AO64=\"1750\",\"(mínimo 1750 g.)\",IF(AO64=\"1500\",\"(mínimo 1500 g.)\",IF(AO64=\"1000\",\"(mínimo 1000 g.)\",IF(AO64=\"800\",\"(mínimo 800 g.)\",\"\")))))","v":""}]
[]
[null,null,"D1",null,"DIÁMETRO exterior:",null,null,null,null,null,null,{"$f":"IF(ISERROR(VLOOKUP($AJ$51,INDIRECT(CONCATENATE(AO56,\"!A8\")):INDIRECT(CONCATENATE(AO56,\"!AA207\")),1,FALSE)),\"\",(VLOOKUP($AJ$51,INDIRECT(CONCATENATE(AO56,\"!A8\")):INDIRECT(CONCATENATE(AO56,\"!AA207\")),9,FALSE)))","v":""},null,null,"mm",null,null,null,null,"D2",null,"DIÁMETRO de la zona central plana:",null,null,null,null,null,null,null,null,null,null,null,{"$f":"IF(ISERROR(VLOOKUP($AJ$51,INDIRECT(CONCATENATE(AO56,\"!A8\")):INDIRECT(CONCATENATE(AO56,\"!AA207\")),1,FALSE)),\"\",(VLOOKUP($AJ$51,INDIRECT(CONCATENATE(AO56,\"!A8\")):INDIRECT(CONCATENATE(AO56,\"!AA207\")),12,FALSE)))","v":""},null,null,"mm"]
[]
[null,null,null,null,null,null,"mínimo:",null,null,null,{"$f":"IF(AO64=\"2000\",\"219 mm\",IF(AO64=\"1750\",\"210 mm\",IF(AO64=\"1500\",\"200 mm\",IF(AO64=\"1000\",\"180 mm\",IF(OR(AO64=\"800\",AO64=\"750\"),\"166 mm\",\"\")))))","v":""},null,null,null,null,null,null,null,null,null,null,null,null,null,null,null,"mínimo:",null,null,null,"50 mm"]
[null,null,null,null,null,null,"máximo:",null,null,null,{"$f":"IF(AO64=\"2000\",\"221 mm\",IF(AO64=\"1750\",\"212 mm\",IF(AO64=\"1500\",\"202 mm\",IF(AO64=\"1000\",\"182 mm\",IF(OR(AO64=\"800\",AO64=\"750\"),\"169 mm\",\"\")))))","v":""},null,null,null,null,null,null,null,null,null,null,null,null,null,null,null,"máximo:",null,null,null,"57 mm"]
[]
[null,null,"G1",null,"GROSOR en zona plana:",null,null,null,null,null,null,null,{"$f":"IF(ISERROR(VLOOKUP($AJ$51,INDIRECT(CONCATENATE(AO56,\"!A8\")):INDIRECT(CONCATENATE(AO56,\"!AA207\")),1,FALSE)),\"\",(VLOOKUP($AJ$51,INDIRECT(CONCATENATE(AO56,\"!A8\")):INDIRECT(CONCATENATE(AO56,\"!AA207\")),15,FALSE)))","v":""},null,null,"mm",null,null,null,"G2",null,"GROSOR llanta a 6 mm. del borde:",null,null,null,null,null,null,null,null,null,null,null,{"$f":"IF(ISERROR(VLOOKUP($AJ$51,INDIRECT(CONCATENATE(AO56,\"!A8\")):INDIRECT(CONCATENATE(AO56,\"!AA207\")),1,FALSE)),\"\",(VLOOKUP($AJ$51,INDIRECT(CONCATENATE(AO56,\"!A8\")):INDIRECT(CONCATENATE(AO56,\"!AA207\")),18,FALSE)))","v":""},null,null,"mm"]
[]
[null,null,null,null,null,null,"mínimo:",null,null,null,{"$f":"IF(AO64=\"2000\",\"44 mm\",IF(AO64=\"1750\",\"41 mm\",IF(AO64=\"1500\",\"38 mm\",IF(AO64=\"1000\",\"37 mm\",IF(OR(AO64=\"800\",AO64=\"750\"),\"33 mm\",\"\")))))","v":""},null,null,null,null,null,null,null,null,null,null,null,null,null,null,null,"mínimo:",null,null,null,"12 mm"]
[null,null,null,null,null,null,"máximo:",null,null,null,{"$f":"IF(AO64=\"2000\",\"46 mm\",IF(AO64=\"1750\",\"43 mm\",IF(AO64=\"1500\",\"40 mm\",IF(AO64=\"1000\",\"39 mm\",IF(OR(AO64=\"800\",AO64=\"750\"),\"37 mm\",\"\")))))","v":""},null,null,null,null,null,null,null,null,null,null,null,null,null,null,null,"máximo:",null,null,null,"13 mm"]
[]
[]
[]
[]
[]
[]
[]
[]
[]
[]
[]
[null,null,"OBSERVACIONES:"]
[null,null,null,{"$f":"IF(ISERROR(VLOOKUP($AJ$51,INDIRECT(CONCATENATE(AO56,\"!A8\")):INDIRECT(CONCATENATE(AO56,\"!AA207\")),1,FALSE)),\"\",IF(VLOOKUP($AJ$51,INDIRECT(CONCATENATE(AO56,\"!A8\")):INDIRECT(CONCATENATE(AO56,\"!AA207\")),21,FALSE)=0,\"\",VLOOKUP($AJ$51,INDIRECT(CONCATENATE(AO56,\"!A8\")):INDIRECT(CONCATENATE(AO56,\"!AA207\")),21,FALSE)))","v":""}]
[]
[]
[]
[]
[null,"   Marca/modelo: ",null,null,null,null,null,{"$f":"IF(ISERROR(VLOOKUP($AJ$51,INDIRECT(CONCATENATE(AO56,\"!A8\")):INDIRECT(CONCATENATE(AO56,\"!AA207\")),1,FALSE)),\"\",(VLOOKUP($AJ$51,INDIRECT(CONCATENATE(AO56,\"!A8\")):INDIRECT(CONCATENATE(AO56,\"!AA207\")),4,FALSE)))","v":""},null,null,null,null,null,null,"Color:",null,{"$f":"IF(ISERROR(VLOOKUP($AJ$51,INDIRECT(CONCATENATE(AO56,\"!A8\")):INDIRECT(CONCATENATE(AO56,\"!AA207\")),1,FALSE)),\"\",IF(VLOOKUP($AJ$51,INDIRECT(CONCATENATE(AO56,\"!A8\")):INDIRECT(CONCATENATE(AO56,\"!AA207\")),27,FALSE)=0,\"\",VLOOKUP($AJ$51,INDIRECT(CONCATENATE(AO56,\"!A8\")):INDIRECT(CONCATENATE(AO56,\"!AA207\")),27,FALSE)))","v":""},null,null,null,null,null,null,null,null,null,null,null,null,"RESULTADO DE LA HOMOLOGACIÓN"]
[]
[null,"   Propiedad de: ",null,null,null,null,null,{"$f":"IF(ISERROR(VLOOKUP($AJ$51,INDIRECT(CONCATENATE(AO56,\"!A8\")):INDIRECT(CONCATENATE(AO56,\"!AA207\")),1,FALSE)),\"\",IF(VLOOKUP($AJ$51,INDIRECT(CONCATENATE(AO56,\"!A8\")):INDIRECT(CONCATENATE(AO56,\"!AA207\")),3,FALSE)=0,\"\",IF(VLOOKUP($AJ$51,INDIRECT(CONCATENATE(AO56,\"!A8\")):INDIRECT(CONCATENATE(AO56,\"!AA207\")),3,FALSE)=\"Particular\",VLOOKUP($AJ$51,INDIRECT(CONCATENATE(AO56,\"!A8\")):INDIRECT(CONCATENATE(AO56,\"!AA207\")),26,FALSE),VLOOKUP($AJ$51,INDIRECT(CONCATENATE(AO56,\"!A8\")):INDIRECT(CONCATENATE(AO56,\"!AA207\")),3,FALSE))))","v":""},null,null,null,null,null,null,null,null,null,"Cert. IAAF:",null,null,null,{"$f":"IF(ISERROR(VLOOKUP($AJ$51,INDIRECT(CONCATENATE(AO56,\"!A8\")):INDIRECT(CONCATENATE(AO56,\"!AA207\")),1,FALSE)),\"\",IF(VLOOKUP($AJ$51,INDIRECT(CONCATENATE(AO56,\"!A8\")):INDIRECT(CONCATENATE(AO56,\"!AA207\")),5,FALSE)=0,\"\",VLOOKUP($AJ$51,INDIRECT(CONCATENATE(AO56,\"!A8\")):INDIRECT(CONCATENATE(AO56,\"!AA207\")),5,FALSE)))","v":""}]
[]
[null,"   Efectuó la homologación: ",null,null,null,null,null,null,null,null,null,{"$f":"IF(ISERROR(VLOOKUP($AJ$51,INDIRECT(CONCATENATE(AO56,\"!A8\")):INDIRECT(CONCATENATE(AO56,\"!AA207\")),1,FALSE)),\"\",(VLOOKUP($AJ$51,INDIRECT(CONCATENATE(AO56,\"!A8\")):INDIRECT(CONCATENATE(AO56,\"!AA207\")),23,FALSE)))","v":""},null,null,null,null,null,null,null,null,null,null,null,null,null,null,null,null,null,null,{"$f":"IF(V63=6,\"X\",\"\")","v":""},null,"VÁLIDO"]
[]
[null,"   Competición:",null,null,null,null,null,{"$f":"IF(Inicio!D4=\"\",\"FALTA NOMBRE DE COMPETICIÓN\",Inicio!D4)","v":"FALTA NOMBRE DE COMPETICIÓN"},null,null,null,null,null,null,null,null,null,null,null,null,null,null,null,null,null,null,null,null,null,null,{"$f":"IF(AA63>0,\"X\",\"\")","v":""},null,"NO VÁLIDO"]
[]
[]
[null,"   Firma: ",null,null,null,null,null,null,null,null,null,null,null,null,null,null,null,null,"  Fecha: ",null,null,null,{"$f":"IF(ISERROR(VLOOKUP($AJ$51,INDIRECT(CONCATENATE(AO56,\"!A8\")):INDIRECT(CONCATENATE(AO56,\"!AA207\")),1,FALSE)),\"\",(VLOOKUP($AJ$51,INDIRECT(CONCATENATE(AO56,\"!A8\")):INDIRECT(CONCATENATE(AO56,\"!AA207\")),24,FALSE)))","v":""},null,null,null,null,null,null,"REF.:"]
[]
[]
[]
[]
[null,null,null,null,null,null,null,null,null,null,null,null,null,null,null,null,"No chequeado",null,null,null,null,"Correcto",null,null,null,null,"Incorrecto",null,null,null,null,"Mínimo",null,null,"Máximo",null,null,null,null,null,{"$f":"IF(AF51<>\"\",IF(OR(AF51=\"DIS.800-\",AF51=\"DIS.750-\"),MID(AF51,1,7),MID(AF51,1,8)),\"\")","v":""}]
[null,null,null,null,1,null,"Peso",null,null,null,null,null,null,null,null,null,{"$f":"IF(Q12=\"\",1,\"\")","v":1},null,null,null,null,{"$f":"IF(AND(Q12>=AF57,Q12<>\"\"),1,\"\")","v":""},null,null,null,null,{"$f":"IF(Q57=\"\",IF(V57=\"\",1,\"\"),\"\")","v":""},null,null,null,null,{"$f":"IF(AO64=\"2000\",2000,IF(AO64=\"1750\",1750,IF(AO64=\"1500\",1500,IF(AO64=\"1000\",1000,IF(AO64=\"800\",800,IF(AO64=\"750\",750,\"\"))))))","v":""},null,null,{"$f":"AF57+25","v":{"$error":"#VALUE!"}},null,null,null,1]
[null,null,null,null,2,null,"Diámetro exterior llanta",null,null,null,null,null,null,null,null,null,{"$f":"IF(L16=\"\",1,\"\")","v":1},null,null,null,null,{"$f":"IF(AND(L16>=AF58,L16<=AI58,L16<>\"\"),1,\"\")","v":""},null,null,null,null,{"$f":"IF(Q58=\"\",IF(V58=\"\",1,\"\"),\"\")","v":""},null,null,null,null,{"$f":"IF(AO64=\"2000\",219,IF(AO64=\"1750\",210,IF(AO64=\"1500\",200,IF(AO64=\"1000\",180,IF(OR(AO64=\"800\",AO64=\"750\"),166,\"\")))))","v":""},null,null,{"$f":"IF(AO64=\"2000\",221,IF(AO64=\"1750\",212,IF(AO64=\"1500\",202,IF(AO64=\"1000\",182,IF(OR(AO64=\"800\",AO64=\"750\"),169,\"\")))))","v":""},null,null,null,{"$f":"AM57+1","v":2},null,"DIS.2000-"]
[null,null,null,null,3,null,"Diámetro zona central plana",null,null,null,null,null,null,null,null,null,{"$f":"IF(AH16=\"\",1,\"\")","v":1},null,null,null,null,{"$f":"IF(AND(AH16>=AF59,AH16<=AI59,AH16<>\"\"),1,\"\")","v":""},null,null,null,null,{"$f":"IF(Q59=\"\",IF(V59=\"\",1,\"\"),\"\")","v":""},null,null,null,null,50,null,null,57,null,null,null,3,null,"DIS.1750-"]
[null,null,null,null,4,null,"Grosor en zona plana",null,null,null,null,null,null,null,null,null,{"$f":"IF(M21=\"\",1,\"\")","v":1},null,null,null,null,{"$f":"IF(AND(M21>=AF60,M21<=AI60,M21<>\"\"),1,\"\")","v":""},null,null,null,null,{"$f":"IF(Q60=\"\",IF(V60=\"\",1,\"\"),\"\")","v":""},null,null,null,null,{"$f":"IF(AO64=\"2000\",44,IF(AO64=\"1750\",41,IF(AO64=\"1500\",38,IF(AO64=\"1000\",37,IF(OR(AO64=\"800\",AO64=\"750\"),33,\"\")))))","v":""},null,null,{"$f":"IF(AO64=\"2000\",46,IF(AO64=\"1750\",43,IF(AO64=\"1500\",40,IF(AO64=\"1000\",39,IF(OR(AO64=\"800\",AO64=\"750\"),37,\"\")))))","v":""},null,null,null,4,null,"DIS.1500-"]
[null,null,null,null,5,null,"Grosor llanta 6 mm borde",null,null,null,null,null,null,null,null,null,{"$f":"IF(AH21=\"\",1,\"\")","v":1},null,null,null,null,{"$f":"IF(AND(AH21>=AF61,AH21<=AI61,AH21<>\"\"),1,\"\")","v":""},null,null,null,null,{"$f":"IF(Q61=\"\",IF(V61=\"\",1,\"\"),\"\")","v":""},null,null,null,null,{"$f":"IF(AO64=\"750\",10,12)","v":12},null,null,13,null,null,null,5,null,"DIS.1000-"]
[null,null,null,null,6,null,"Observaciones",null,null,null,null,null,null,null,null,null,null,null,null,null,null,{"$f":"IF(D37=\"\",1,\"\")","v":1},null,null,null,null,{"$f":"IF(D37<>\"\",1,\"\")","v":""},null,null,null,null,null,null,null,null,null,null,null,6,null,"DIS.800-"]
[null,null,null,null,null,null,null,null,null,null,null,null,null,null,null,null,{"$f":"SUM(Q57:U61)","v":5},null,null,null,null,{"$f":"SUM(V57:Z62)","v":1},null,null,null,null,{"$f":"SUM(AA57:AE62)","v":0},null,null,null,null,null,null,null,null,null,null,null,7,null,"DIS.750-"]
[null,null,null,null,null,null,null,null,null,null,null,null,null,null,null,null,null,null,null,null,null,null,null,null,null,null,null,null,null,null,null,null,null,null,null,null,null,null,8,null,{"$f":"IF(AO56<>\"\",IF(OR(AO56=\"DIS.800\",AO56=\"DIS.750\"),MID(AO56,5,3),MID(AO56,5,4)),\"\")","v":""}]
[null,null,null,null,null,null,null,null,null,null,null,null,null,null,null,null,null,null,null,null,null,null,null,null,null,null,null,null,null,null,null,null,null,null,null,null,null,null,9]
[null,null,null,null,null,null,null,null,null,null,null,null,null,null,null,null,null,null,null,null,null,null,null,null,null,null,null,null,null,null,null,null,null,null,null,null,null,null,10]
[null,null,null,null,null,null,null,null,null,null,null,null,null,null,null,null,null,null,null,null,null,null,null,null,null,null,null,null,null,null,null,null,null,null,null,null,null,null,11]
[null,null,null,null,null,null,null,null,null,null,null,null,null,null,null,null,null,null,null,null,null,null,null,null,null,null,null,null,null,null,null,null,null,null,null,null,null,null,12]
[null,null,null,null,null,null,null,null,null,null,null,null,null,null,null,null,null,null,null,null,null,null,null,null,null,null,null,null,null,null,null,null,null,null,null,null,null,null,13]
[null,null,null,null,null,null,null,null,null,null,null,null,null,null,null,null,null,null,null,null,null,null,null,null,null,null,null,null,null,null,null,null,null,null,null,null,null,null,14]
[null,null,null,null,null,null,null,null,null,null,null,null,null,null,null,null,null,null,null,null,null,null,null,null,null,null,null,null,null,null,null,null,null,null,null,null,null,null,15]
[null,null,null,null,null,null,null,null,null,null,null,null,null,null,null,null,null,null,null,null,null,null,null,null,null,null,null,null,null,null,null,null,null,null,null,null,null,null,16]
[null,null,null,null,null,null,null,null,null,null,null,null,null,null,null,null,null,null,null,null,null,null,null,null,null,null,null,null,null,null,null,null,null,null,null,null,null,null,17]
[null,null,null,null,null,null,null,null,null,null,null,null,null,null,null,null,null,null,null,null,null,null,null,null,null,null,null,null,null,null,null,null,null,null,null,null,null,null,18]
[null,null,null,null,null,null,null,null,null,null,null,null,null,null,null,null,null,null,null,null,null,null,null,null,null,null,null,null,null,null,null,null,null,null,null,null,null,null,19]
[null,null,null,null,null,null,null,null,null,null,null,null,null,null,null,null,null,null,null,null,null,null,null,null,null,null,null,null,null,null,null,null,null,null,null,null,null,null,20]
[null,null,null,null,null,null,null,null,null,null,null,null,null,null,null,null,null,null,null,null,null,null,null,null,null,null,null,null,null,null,null,null,null,null,null,null,null,null,21]
[null,null,null,null,null,null,null,null,null,null,null,null,null,null,null,null,null,null,null,null,null,null,null,null,null,null,null,null,null,null,null,null,null,null,null,null,null,null,22]
[null,null,null,null,null,null,null,null,null,null,null,null,null,null,null,null,null,null,null,null,null,null,null,null,null,null,null,null,null,null,null,null,null,null,null,null,null,null,23]
[null,null,null,null,null,null,null,null,null,null,null,null,null,null,null,null,null,null,null,null,null,null,null,null,null,null,null,null,null,null,null,null,null,null,null,null,null,null,24]
[null,null,null,null,null,null,null,null,null,null,null,null,null,null,null,null,null,null,null,null,null,null,null,null,null,null,null,null,null,null,null,null,null,null,null,null,null,null,25]
[null,null,null,null,null,null,null,null,null,null,null,null,null,null,null,null,null,null,null,null,null,null,null,null,null,null,null,null,null,null,null,null,null,null,null,null,null,null,26]
[null,null,null,null,null,null,null,null,null,null,null,null,null,null,null,null,null,null,null,null,null,null,null,null,null,null,null,null,null,null,null,null,null,null,null,null,null,null,27]
[null,null,null,null,null,null,null,null,null,null,null,null,null,null,null,null,null,null,null,null,null,null,null,null,null,null,null,null,null,null,null,null,null,null,null,null,null,null,28]
[null,null,null,1,null,null,null,null,null,null,null,null,null,null,null,null,null,null,null,null,null,null,null,null,null,null,null,null,null,null,null,null,null,null,null,null,null,null,29]
[null,null,null,null,null,null,null,null,null,null,null,null,null,null,null,null,null,null,null,null,null,null,null,null,null,null,null,null,null,null,null,null,null,null,null,null,null,null,30]
[null,null,null,null,null,null,null,null,null,null,null,null,null,null,null,null,null,null,null,null,null,null,null,null,null,null,null,null,null,null,null,null,null,null,null,null,null,null,31]
[null,null,null,null,null,null,null,null,null,null,null,null,null,null,null,null,null,null,null,null,null,null,null,null,null,null,null,null,null,null,null,null,null,null,null,null,null,null,32]
[null,null,null,null,null,null,null,null,null,null,null,null,null,null,null,null,null,null,null,null,null,null,null,null,null,null,null,null,null,null,null,null,null,null,null,null,null,null,33]
[null,null,null,null,null,null,null,null,null,null,null,null,null,null,null,null,null,null,null,null,null,null,null,null,null,null,null,null,null,null,null,null,null,null,null,null,null,null,34]
[null,null,null,null,null,null,null,null,null,null,null,null,null,null,null,null,null,null,null,null,null,null,null,null,null,null,null,null,null,null,null,null,null,null,null,null,null,null,35]
[null,null,null,null,null,null,null,null,null,null,null,null,null,null,null,null,null,null,null,null,null,null,null,null,null,null,null,null,null,null,null,null,null,null,null,null,null,null,36]
[null,null,null,null,null,null,null,null,null,null,null,null,null,null,null,null,null,null,null,null,null,null,null,null,null,null,null,null,null,null,null,null,null,null,null,null,null,null,37]
[null,null,null,null,null,null,null,null,null,null,null,null,null,null,null,null,null,null,null,null,null,null,null,null,null,null,null,null,null,null,null,null,null,null,null,null,null,null,38]
[null,null,null,null,null,null,null,null,null,null,null,null,null,null,null,null,null,null,null,null,null,null,null,null,null,null,null,null,null,null,null,null,null,null,null,null,null,null,39]
[null,null,null,null,null,null,null,null,null,null,null,null,null,null,null,null,null,null,null,null,null,null,null,null,null,null,null,null,null,null,null,null,null,null,null,null,null,null,40]
[null,null,null,null,null,null,null,null,null,null,null,null,null,null,null,null,null,null,null,null,null,null,null,null,null,null,null,null,null,null,null,null,null,null,null,null,null,null,41]
[null,null,null,null,null,null,null,null,null,null,null,null,null,null,null,null,null,null,null,null,null,null,null,null,null,null,null,null,null,null,null,null,null,null,null,null,null,null,42]
[null,null,null,null,null,null,null,null,null,null,null,null,null,null,null,null,null,null,null,null,null,null,null,null,null,null,null,null,null,null,null,null,null,null,null,null,null,null,43]
[null,null,null,null,null,null,null,null,null,null,null,null,null,null,null,null,null,null,null,null,null,null,null,null,null,null,null,null,null,null,null,null,null,null,null,null,null,null,44]
[null,null,null,null,null,null,null,null,null,null,null,null,null,null,null,null,null,null,null,null,null,null,null,null,null,null,null,null,null,null,null,null,null,null,null,null,null,null,45]
[null,null,null,null,null,null,null,null,null,null,null,null,null,null,null,null,null,null,null,null,null,null,null,null,null,null,null,null,null,null,null,null,null,null,null,null,null,null,46]
[null,null,null,null,null,null,null,null,null,null,null,null,null,null,null,null,null,null,null,null,null,null,null,null,null,null,null,null,null,null,null,null,null,null,null,null,null,null,47]
[null,null,null,null,null,null,null,null,null,null,null,null,null,null,null,null,null,null,null,null,null,null,null,null,null,null,null,null,null,null,null,null,null,null,null,null,null,null,48]
[null,null,null,null,null,null,null,null,null,null,null,null,null,null,null,null,null,null,null,null,null,null,null,null,null,null,null,null,null,null,null,null,null,null,null,null,null,null,49]
[null,null,null,null,null,null,null,null,null,null,null,null,null,null,null,null,null,null,null,null,null,null,null,null,null,null,null,null,null,null,null,null,null,null,null,null,null,null,50]
[null,null,null,null,null,null,null,null,null,null,null,null,null,null,null,null,null,null,null,null,null,null,null,null,null,null,null,null,null,null,null,null,null,null,null,null,null,null,51]
[null,null,null,null,null,null,null,null,null,null,null,null,null,null,null,null,null,null,null,null,null,null,null,null,null,null,null,null,null,null,null,null,null,null,null,null,null,null,52]
[null,null,null,null,null,null,null,null,null,null,null,null,null,null,null,null,null,null,null,null,null,null,null,null,null,null,null,null,null,null,null,null,null,null,null,null,null,null,53]
[null,null,null,null,null,null,null,null,null,null,null,null,null,null,null,null,null,null,null,null,null,null,null,null,null,null,null,null,null,null,null,null,null,null,null,null,null,null,54]
[null,null,null,null,null,null,null,null,null,null,null,null,null,null,null,null,null,null,null,null,null,null,null,null,null,null,null,null,null,null,null,null,null,null,null,null,null,null,55]
[null,null,null,null,null,null,null,null,null,null,null,null,null,null,null,null,null,null,null,null,null,null,null,null,null,null,null,null,null,null,null,null,null,null,null,null,null,null,56]
[null,null,null,null,null,null,null,null,null,null,null,null,null,null,null,null,null,null,null,null,null,null,null,null,null,null,null,null,null,null,null,null,null,null,null,null,null,null,57]
[null,null,null,null,null,null,null,null,null,null,null,null,null,null,null,null,null,null,null,null,null,null,null,null,null,null,null,null,null,null,null,null,null,null,null,null,null,null,58]
[null,null,null,null,null,null,null,null,null,null,null,null,null,null,null,null,null,null,null,null,null,null,null,null,null,null,null,null,null,null,null,null,null,null,null,null,null,null,59]
[null,null,null,null,null,null,null,null,null,null,null,null,null,null,null,null,null,null,null,null,null,null,null,null,null,null,null,null,null,null,null,null,null,null,null,null,null,null,60]
[null,null,null,null,null,null,null,null,null,null,null,null,null,null,null,null,null,null,null,null,null,null,null,null,null,null,null,null,null,null,null,null,null,null,null,null,null,null,61]
[null,null,null,null,null,null,null,null,null,null,null,null,null,null,null,null,null,null,null,null,null,null,null,null,null,null,null,null,null,null,null,null,null,null,null,null,null,null,62]
[null,null,null,null,null,null,null,null,null,null,null,null,null,null,null,null,null,null,null,null,null,null,null,null,null,null,null,null,null,null,null,null,null,null,null,null,null,null,63]
[null,null,null,null,null,null,null,null,null,null,null,null,null,null,null,null,null,null,null,null,null,null,null,null,null,null,null,null,null,null,null,null,null,null,null,null,null,null,64]
[null,null,null,null,null,null,null,null,null,null,null,null,null,null,null,null,null,null,null,null,null,null,null,null,null,null,null,null,null,null,null,null,null,null,null,null,null,null,65]
[null,null,null,null,null,null,null,null,null,null,null,null,null,null,null,null,null,null,null,null,null,null,null,null,null,null,null,null,null,null,null,null,null,null,null,null,null,null,66]
[null,null,null,null,null,null,null,null,null,null,null,null,null,null,null,null,null,null,null,null,null,null,null,null,null,null,null,null,null,null,null,null,null,null,null,null,null,null,67]
[null,null,null,null,null,null,null,null,null,null,null,null,null,null,null,null,null,null,null,null,null,null,null,null,null,null,null,null,null,null,null,null,null,null,null,null,null,null,68]
[null,null,null,null,null,null,null,null,null,null,null,null,null,null,null,null,null,null,null,null,null,null,null,null,null,null,null,null,null,null,null,null,null,null,null,null,null,null,69]
[null,null,null,null,null,null,null,null,null,null,null,null,null,null,null,null,null,null,null,null,null,null,null,null,null,null,null,null,null,null,null,null,null,null,null,null,null,null,70]
[null,null,null,null,null,null,null,null,null,null,null,null,null,null,null,null,null,null,null,null,null,null,null,null,null,null,null,null,null,null,null,null,null,null,null,null,null,null,71]
[null,null,null,null,null,null,null,null,null,null,null,null,null,null,null,null,null,null,null,null,null,null,null,null,null,null,null,null,null,null,null,null,null,null,null,null,null,null,72]
[null,null,null,null,null,null,null,null,null,null,null,null,null,null,null,null,null,null,null,null,null,null,null,null,null,null,null,null,null,null,null,null,null,null,null,null,null,null,73]
[null,null,null,null,null,null,null,null,null,null,null,null,null,null,null,null,null,null,null,null,null,null,null,null,null,null,null,null,null,null,null,null,null,null,null,null,null,null,74]
[null,null,null,null,null,null,null,null,null,null,null,null,null,null,null,null,null,null,null,null,null,null,null,null,null,null,null,null,null,null,null,null,null,null,null,null,null,null,75]
[null,null,null,null,null,null,null,null,null,null,null,null,null,null,null,null,null,null,null,null,null,null,null,null,null,null,null,null,null,null,null,null,null,null,null,null,null,null,76]
[null,null,null,null,null,null,null,null,null,null,null,null,null,null,null,null,null,null,null,null,null,null,null,null,null,null,null,null,null,null,null,null,null,null,null,null,null,null,77]
[null,null,null,null,null,null,null,null,null,null,null,null,null,null,null,null,null,null,null,null,null,null,null,null,null,null,null,null,null,null,null,null,null,null,null,null,null,null,78]
[null,null,null,null,null,null,null,null,null,null,null,null,null,null,null,null,null,null,null,null,null,null,null,null,null,null,null,null,null,null,null,null,null,null,null,null,null,null,79]
[null,null,null,null,null,null,null,null,null,null,null,null,null,null,null,null,null,null,null,null,null,null,null,null,null,null,null,null,null,null,null,null,null,null,null,null,null,null,80]
[null,null,null,null,null,null,null,null,null,null,null,null,null,null,null,null,null,null,null,null,null,null,null,null,null,null,null,null,null,null,null,null,null,null,null,null,null,null,81]
[null,null,null,null,null,null,null,null,null,null,null,null,null,null,null,null,null,null,null,null,null,null,null,null,null,null,null,null,null,null,null,null,null,null,null,null,null,null,82]
[null,null,null,null,null,null,null,null,null,null,null,null,null,null,null,null,null,null,null,null,null,null,null,null,null,null,null,null,null,null,null,null,null,null,null,null,null,null,83]
[null,null,null,null,null,null,null,null,null,null,null,null,null,null,null,null,null,null,null,null,null,null,null,null,null,null,null,null,null,null,null,null,null,null,null,null,null,null,84]
[null,null,null,null,null,null,null,null,null,null,null,null,null,null,null,null,null,null,null,null,null,null,null,null,null,null,null,null,null,null,null,null,null,null,null,null,null,null,85]
[null,null,null,null,null,null,null,null,null,null,null,null,null,null,null,null,null,null,null,null,null,null,null,null,null,null,null,null,null,null,null,null,null,null,null,null,null,null,86]
[null,null,null,null,null,null,null,null,null,null,null,null,null,null,null,null,null,null,null,null,null,null,null,null,null,null,null,null,null,null,null,null,null,null,null,null,null,null,87]
[null,null,null,null,null,null,null,null,null,null,null,null,null,null,null,null,null,null,null,null,null,null,null,null,null,null,null,null,null,null,null,null,null,null,null,null,null,null,88]
[null,null,null,null,null,null,null,null,null,null,null,null,null,null,null,null,null,null,null,null,null,null,null,null,null,null,null,null,null,null,null,null,null,null,null,null,null,null,89]
[null,null,null,null,null,null,null,null,null,null,null,null,null,null,null,null,null,null,null,null,null,null,null,null,null,null,null,null,null,null,null,null,null,null,null,null,null,null,90]
[null,null,null,null,null,null,null,null,null,null,null,null,null,null,null,null,null,null,null,null,null,null,null,null,null,null,null,null,null,null,null,null,null,null,null,null,null,null,91]
[null,null,null,null,null,null,null,null,null,null,null,null,null,null,null,null,null,null,null,null,null,null,null,null,null,null,null,null,null,null,null,null,null,null,null,null,null,null,92]
[null,null,null,null,null,null,null,null,null,null,null,null,null,null,null,null,null,null,null,null,null,null,null,null,null,null,null,null,null,null,null,null,null,null,null,null,null,null,93]
[null,null,null,null,null,null,null,null,null,null,null,null,null,null,null,null,null,null,null,null,null,null,null,null,null,null,null,null,null,null,null,null,null,null,null,null,null,null,94]
[null,null,null,null,null,null,null,null,null,null,null,null,null,null,null,null,null,null,null,null,null,null,null,null,null,null,null,null,null,null,null,null,null,null,null,null,null,null,95]
[null,null,null,null,null,null,null,null,null,null,null,null,null,null,null,null,null,null,null,null,null,null,null,null,null,null,null,null,null,null,null,null,null,null,null,null,null,null,96]
[null,null,null,null,null,null,null,null,null,null,null,null,null,null,null,null,null,null,null,null,null,null,null,null,null,null,null,null,null,null,null,null,null,null,null,null,null,null,97]
[null,null,null,null,null,null,null,null,null,null,null,null,null,null,null,null,null,null,null,null,null,null,null,null,null,null,null,null,null,null,null,null,null,null,null,null,null,null,98]
[null,null,null,null,null,null,null,null,null,null,null,null,null,null,null,null,null,null,null,null,null,null,null,null,null,null,null,null,null,null,null,null,null,null,null,null,null,null,99]
[null,null,null,null,null,null,null,null,null,null,null,null,null,null,null,null,null,null,null,null,null,null,null,null,null,null,null,null,null,null,null,null,null,null,null,null,null,null,100]

{"sheet":"Imp. Martillo","index":8,"n_rows":159,"n_cols":41,"rows_kept":159,"cut":false,"hidden":true,"merged":[[64,6,64,15],[64,16,64,20],[64,21,64,25],[64,26,64,30],[65,16,65,20],[65,21,65,25],[65,26,65,30],[63,26,63,30],[61,26,61,30],[29,5,29,11],[37,3,38,34],[42,7,42,13],[42,16,42,26],[44,7,44,16],[44,21,44,26],[42,29,44,36],[61,31,61,33],[63,31,63,33],[63,34,63,36],[62,6,62,15],[62,16,62,20],[62,21,62,25],[62,26,62,30],[62,34,62,36],[61,34,61,36],[61,6,61,15],[61,16,61,20],[61,21,61,25],[63,6,63,15],[63,16,63,20],[63,21,63,25],[59,34,59,36],[60,6,60,15],[60,16,60,20],[60,21,60,25],[60,26,60,30],[60,31,60,33],[60,34,60,36],[59,6,59,15],[59,16,59,20],[59,21,59,25],[59,26,59,30],[59,31,59,33],[62,31,62,33],[58,16,58,20],[58,21,58,25],[58,26,58,30],[58,31,58,33],[58,34,58,36],[52,31,52,34],[52,5,52,17],[52,35,52,36],[15,2,15,3],[15,11,15,15],[20,2,20,3],[20,12,20,15],[45,17,45,26],[47,11,47,26],[49,7,49,26],[52,21,52,26],[52,29,52,30],[45,7,45,16],[21,38,49,38],[22,2,22,3],[22,13,22,15],[11,1,11,3],[11,16,11,24],[1,7,1,32],[2,7,2,32],[3,7,3,32],[5,1,5,37],[6,1,7,37]]}
[]
[null,null,null,null,null,null,null,"Real Federación Española de Atletismo"]
[null,null,null,null,null,null,null,"Comité Nacional de Jueces"]
[]
[]
[null,"CERTIFICADO DE HOMOLOGACIÓN"]
[null,{"$f":"CONCATENATE(\"MARTILLO \",AO67,\" gramos\")","v":"MARTILLO  gramos"}]
[]
[]
[]
[]
[null,null,null,null,null,null,null,null,null,null,null,null,null,"PESO:",null,null,{"$f":"IF(ISERROR(VLOOKUP($AJ$53,INDIRECT(CONCATENATE(AO59,\"!A8\")):INDIRECT(CONCATENATE(AO59,\"!AA207\")),1,FALSE)),\"\",(VLOOKUP($AJ$53,INDIRECT(CONCATENATE(AO59,\"!A8\")):INDIRECT(CONCATENATE(AO59,\"!AA207\")),6,FALSE)))","v":""},null,null,null,null,null,null,null,null,"  g"]
[]
[null,null,null,null,null,null,null,null,null,null,null,null,null,null,null,null,null,{"$f":"IF(AO67=\"7260\",\"(mínimo 7260 g.)\",IF(AO67=\"6000\",\"(mínimo 6000 g.)\",IF(AO67=\"5000\",\"(mínimo 5000 g.)\",IF(AO67=\"4000\",\"(mínimo 4000 g.)\",IF(AO67=\"3000\",\"(mínimo 3000 g.)\",IF(AO67=\"2000\",\"(mínimo 2000 g.)\",\"\"))))))","v":""}]
[]
[null,null,"L1",null,"LONGITUD total:",null,null,null,null,null,null,{"$f":"IF(ISERROR(VLOOKUP($AJ$53,INDIRECT(CONCATENATE(AO59,\"!A8\")):INDIRECT(CONCATENATE(AO59,\"!AA207\")),1,FALSE)),\"\",(VLOOKUP($AJ$53,INDIRECT(CONCATENATE(AO59,\"!A8\")):INDIRECT(CONCATENATE(AO59,\"!AA207\")),9,FALSE)))","v":""},null,null,null,null,"mm"]
[]
[null,null,null,null,null,null,null,null,"máximo:",null,null,null,{"$f":"IF(OR(AO67=\"7260\",AO67=\"6000\"),\"1.215 mm\",IF(AO67=\"5000\",\"1.200 mm\",IF(OR(AO67=\"4000\",AO67=\"3000\",AO67=\"2000\"),\"1.195 mm\",\"\")))","v":""}]
[]
[]
[null,null,"D1",null,"DIÁMETRO del cable:",null,null,null,null,null,null,null,{"$f":"IF(ISERROR(VLOOKUP($AJ$53,INDIRECT(CONCATENATE(AO59,\"!A8\")):INDIRECT(CONCATENATE(AO59,\"!AA207\")),1,FALSE)),\"\",(VLOOKUP($AJ$53,INDIRECT(CONCATENATE(AO59,\"!A8\")):INDIRECT(CONCATENATE(AO59,\"!AA207\")),12,FALSE)))","v":""},null,null,null,"mm"]
[null,null,null,null,null,"(en una sola pieza, 3 mm mínimo)",null,null,null,null,null,null,null,null,null,null,null,null,null,null,null,null,null,null,null,null,null,null,null,null,null,null,null,null,null,null,null,null,{"$f":"IF(Y78=1,CONCATENATE(\"Valor MÁX. en D2 para el valor actual de D0: \",N23*80/100,\"mm\"),\"\")","v":""}]
[null,null,"D2",null,"DIÁMETRO de la cabeza:",null,null,null,null,null,null,null,null,{"$f":"IF(ISERROR(VLOOKUP($AJ$53,INDIRECT(CONCATENATE(AO59,\"!A8\")):INDIRECT(CONCATENATE(AO59,\"!AA207\")),1,FALSE)),\"\",(VLOOKUP($AJ$53,INDIRECT(CONCATENATE(AO59,\"!A8\")):INDIRECT(CONCATENATE(AO59,\"!AA207\")),15,FALSE)))","v":""},null,null,"mm"]
[]
[null,null,null,null,null,null,null,null,"mínimo:",null,null,null,{"$f":"IF(AO67=\"7260\",\"110 mm\",IF(AO67=\"6000\",\"105 mm\",IF(AO67=\"5000\",\"100 mm\",IF(AO67=\"4000\",\" 95 mm\",IF(AO67=\"3000\",\" 85 mm\",IF(AO67=\"2000\",\" 80 mm\",\"\"))))))","v":""}]
[null,null,null,null,null,null,null,null,"máximo:",null,null,null,{"$f":"IF(AO67=\"7260\",\"130 mm\",IF(AO67=\"6000\",\"125 mm\",IF(AO67=\"5000\",\"120 mm\",IF(OR(AO67=\"4000\",AO67=\"3000\"),\"110 mm\",IF(AO67=\"2000\",\" 90 mm\",\"\")))))","v":""}]
[]
[null,null,null,null,"CENTRO DE GRAVEDAD  (sin cable ni empuñadura):"]
[]
[null,null,null,null,null,{"$f":"IF(ISERROR(VLOOKUP($AJ$53,INDIRECT(CONCATENATE(AO59,\"!A8\")):INDIRECT(CONCATENATE(AO59,\"!AA207\")),1,FALSE)),\"\",(VLOOKUP($AJ$53,INDIRECT(CONCATENATE(AO59,\"!A8\")):INDIRECT(CONCATENATE(AO59,\"!AA207\")),18,FALSE)))","v":""}]
[]
[]
[]
[]
[]
[]
[null,null,"OBSERVACIONES:"]
[null,null,null,{"$f":"IF(ISERROR(VLOOKUP($AJ$53,INDIRECT(CONCATENATE(AO59,\"!A8\")):INDIRECT(CONCATENATE(AO59,\"!AA207\")),1,FALSE)),\"\",IF(VLOOKUP($AJ$53,INDIRECT(CONCATENATE(AO59,\"!A8\")):INDIRECT(CONCATENATE(AO59,\"!AA207\")),21,FALSE)=0,\"\",VLOOKUP($AJ$53,INDIRECT(CONCATENATE(AO59,\"!A8\")):INDIRECT(CONCATENATE(AO59,\"!AA207\")),21,FALSE)))","v":""}]
[]
[]
[]
[]
[null,"   Marca/modelo: ",null,null,null,null,null,{"$f":"IF(ISERROR(VLOOKUP($AJ$53,INDIRECT(CONCATENATE(AO59,\"!A8\")):INDIRECT(CONCATENATE(AO59,\"!AA207\")),1,FALSE)),\"\",(VLOOKUP($AJ$53,INDIRECT(CONCATENATE(AO59,\"!A8\")):INDIRECT(CONCATENATE(AO59,\"!AA207\")),4,FALSE)))","v":""},null,null,null,null,null,null,"Color:",null,{"$f":"IF(ISERROR(VLOOKUP($AJ$53,INDIRECT(CONCATENATE(AO59,\"!A8\")):INDIRECT(CONCATENATE(AO59,\"!AA207\")),1,FALSE)),\"\",IF(VLOOKUP($AJ$53,INDIRECT(CONCATENATE(AO59,\"!A8\")):INDIRECT(CONCATENATE(AO59,\"!AA207\")),27,FALSE)=0,\"\",VLOOKUP($AJ$53,INDIRECT(CONCATENATE(AO59,\"!A8\")):INDIRECT(CONCATENATE(AO59,\"!AA207\")),27,FALSE)))","v":""},null,null,null,null,null,null,null,null,null,null,null,null,"RESULTADO DE LA HOMOLOGACIÓN"]
[]
[null,"   Propiedad de: ",null,null,null,null,null,{"$f":"IF(ISERROR(VLOOKUP($AJ$53,INDIRECT(CONCATENATE(AO59,\"!A8\")):INDIRECT(CONCATENATE(AO59,\"!AA207\")),1,FALSE)),\"\",IF(VLOOKUP($AJ$53,INDIRECT(CONCATENATE(AO59,\"!A8\")):INDIRECT(CONCATENATE(AO59,\"!AA207\")),3,FALSE)=0,\"\",IF(VLOOKUP($AJ$53,INDIRECT(CONCATENATE(AO59,\"!A8\")):INDIRECT(CONCATENATE(AO59,\"!AA207\")),3,FALSE)=\"Particular\",VLOOKUP($AJ$53,INDIRECT(CONCATENATE(AO59,\"!A8\")):INDIRECT(CONCATENATE(AO59,\"!AA207\")),26,FALSE),VLOOKUP($AJ$53,INDIRECT(CONCATENATE(AO59,\"!A8\")):INDIRECT(CONCATENATE(AO59,\"!AA207\")),3,FALSE))))","v":""},null,null,null,null,null,null,null,null,null,"Cert. IAAF:",null,null,null,{"$f":"IF(ISERROR(VLOOKUP($AJ$53,INDIRECT(CONCATENATE(AO59,\"!A8\")):INDIRECT(CONCATENATE(AO59,\"!AA207\")),1,FALSE)),\"\",IF(VLOOKUP($AJ$53,INDIRECT(CONCATENATE(AO59,\"!A8\")):INDIRECT(CONCATENATE(AO59,\"!AA207\")),5,FALSE)=0,\"\",VLOOKUP($AJ$53,INDIRECT(CONCATENATE(AO59,\"!A8\")):INDIRECT(CONCATENATE(AO59,\"!AA207\")),5,FALSE)))","v":""}]
[null,null,null,null,null,null,null,null,null,null,null,null,null,null,null,null,null,{"$f":"IF(AND(F66=3,H46=\"\"),\"Nombre del atleta propietario\",\"\")","v":""}]
[]
[null,"   Efectuó la homologación: ",null,null,null,null,null,null,null,null,null,{"$f":"IF(ISERROR(VLOOKUP($AJ$53,INDIRECT(CONCATENATE(AO59,\"!A8\")):INDIRECT(CONCATENATE(AO59,\"!AA207\")),1,FALSE)),\"\",(VLOOKUP($AJ$53,INDIRECT(CONCATENATE(AO59,\"!A8\")):INDIRECT(CONCATENATE(AO59,\"!AA207\")),23,FALSE)))","v":""},null,null,null,null,null,null,null,null,null,null,null,null,null,null,null,null,null,null,{"$f":"IF(V66=6,\"X\",\"\")","v":""},null,"VÁLIDO"]
[]
[null,"  Competición:",null,null,null,null,null,{"$f":"IF(Inicio!D4=\"\",\"FALTA NOMBRE DE COMPETICIÓN\",Inicio!D4)","v":"FALTA NOMBRE DE COMPETICIÓN"},null,null,null,null,null,null,null,null,null,null,null,null,null,null,null,null,null,null,null,null,null,null,{"$f":"IF(AA66>0,\"X\",\"\")","v":""},null,"NO VÁLIDO"]
[]
[]
[null,"   Firma: ",null,null,null,null,null,null,null,null,null,null,null,null,null,null,null,null,"  Fecha: ",null,null,{"$f":"IF(ISERROR(VLOOKUP($AJ$53,INDIRECT(CONCATENATE(AO59,\"!A8\")):INDIRECT(CONCATENATE(AO59,\"!AA207\")),1,FALSE)),\"\",(VLOOKUP($AJ$53,INDIRECT(CONCATENATE(AO59,\"!A8\")):INDIRECT(CONCATENATE(AO59,\"!AA207\")),24,FALSE)))","v":""},null,null,null,null,null,null,null,"REF.:"]
[]
[]
[]
[]
[]
[null,null,null,null,null,null,null,null,null,null,null,null,null,null,null,null,"No chequeado",null,null,null,null,"Correcto",null,null,null,null,"Incorrecto",null,null,null,null,"Mínimo",null,null,"Máximo",null,null,null,null,null,{"$f":"IF(AF53<>\"\",MID(AF53,1,8),\"\")","v":""}]
[null,null,null,null,1,null,"Peso",null,null,null,null,null,null,null,null,null,{"$f":"IF(Q12=\"\",1,\"\")","v":1},null,null,null,null,{"$f":"IF(AND(Q12>=AF60,Q12<>\"\"),1,\"\")","v":""},null,null,null,null,{"$f":"IF(AND(Q60=\"\",V60=\"\"),1,\"\")","v":""},null,null,null,null,{"$f":"IF(AO67=\"7260\",7260,IF(AO67=\"6000\",6000,IF(AO67=\"5000\",5000,IF(AO67=\"4000\",4000,IF(AO67=\"3000\",3000,IF(AO67=\"2000\",2000,\"\"))))))","v":""},null,null,{"$f":"AF60+25","v":{"$error":"#VALUE!"}},null,null,null,1]
[null,null,null,null,2,null,"Longitud total",null,null,null,null,null,null,null,null,null,{"$f":"IF(L16=\"\",1,\"\")","v":1},null,null,null,null,{"$f":"IF(AND(L16<=AI61,L16<>\"\"),1,\"\")","v":""},null,null,null,null,{"$f":"IF(AND(Q61=\"\",V61=\"\"),1,\"\")","v":""},null,null,null,null,null,null,null,{"$f":"IF(OR(AO67=\"7260\",AO67=\"6000\"),1215,IF(AO67=\"5000\",1200,IF(OR(AO67=\"4000\",AO67=\"3000\",AO67=\"2000\"),1195,\"\")))","v":""},null,null,null,{"$f":"AM60+1","v":2},null,"MAR.7260-"]
[null,null,null,null,3,null,"Diámetro del cable",null,null,null,null,null,null,null,null,null,{"$f":"IF(M21=\"\",1,\"\")","v":1},null,null,null,null,{"$f":"IF(AND(M21>=AF62,M21<>\"\"),1,\"\")","v":""},null,null,null,null,{"$f":"IF(AND(Q62=\"\",V62=\"\"),1,\"\")","v":""},null,null,null,null,3,null,null,null,null,null,null,{"$f":"AM61+1","v":3},null,"MAR.6000-"]
[null,null,null,null,4,null,"Diámetro de la cabeza metálica",null,null,null,null,null,null,null,null,null,{"$f":"IF(N23=\"\",1,\"\")","v":1},null,null,null,null,{"$f":"IF(AND(N23>=AF63,N23<=AI63,N23<>\"\"),1,\"\")","v":""},null,null,null,null,{"$f":"IF(AND(Q63=\"\",V63=\"\"),1,\"\")","v":""},null,null,null,null,{"$f":"IF(AO67=\"7260\",110,IF(AO67=\"6000\",105,IF(AO67=\"5000\",100,IF(AO67=\"4000\",95,IF(AO67=\"3000\",85,IF(AO67=\"2000\",80,\"\"))))))","v":""},null,null,{"$f":"IF(AO67=\"7260\",130,IF(AO67=\"6000\",125,IF(AO67=\"5000\",120,IF(OR(AO67=\"4000\",AO67=\"3000\"),110,IF(AO67=\"2000\",90,\"\")))))","v":""},null,null,null,4,null,"MAR.5000-"]
[null,null,null,null,5,null,"Centro de gravedad",null,null,null,null,null,null,null,null,null,{"$f":"IF(F30=\"\",1,\"\")","v":1},null,null,null,null,{"$f":"IF(F30=\"Correcto\",1,\"\")","v":""},null,null,null,null,{"$f":"IF(AND(Q64=\"\",V64=\"\"),1,\"\")","v":""},null,null,null,null,null,null,null,null,null,null,null,5,null,"MAR.4000-"]
[null,null,null,null,6,null,"Observaciones",null,null,null,null,null,null,null,null,null,null,null,null,null,null,{"$f":"IF(D38=\"\",1,\"\")","v":1},null,null,null,null,{"$f":"IF(D38<>\"\",1,\"\")","v":""},null,null,null,null,null,null,null,null,null,null,null,6,null,"MAR.3000-"]
[null,null,null,null,null,null,null,null,null,null,null,null,null,null,null,null,{"$f":"SUM(Q60:U64)","v":5},null,null,null,null,{"$f":"SUM(V60:Z65)","v":1},null,null,null,null,{"$f":"SUM(AA60:AE65)","v":0},null,null,null,null,null,null,null,null,null,null,null,7,null,"MAR.2000-"]
[null,null,null,null,null,null,null,null,null,null,null,null,null,null,null,null,null,null,null,null,null,null,null,null,null,null,null,null,null,null,null,null,null,null,null,null,null,null,8,null,{"$f":"IF(AO59<>\"\",MID(AO59,5,4),\"\")","v":""}]
[null,null,null,null,null,null,null,null,null,null,null,null,null,null,null,null,null,null,null,null,null,null,null,null,null,null,null,null,null,null,null,null,null,null,null,null,null,null,9]
[null,null,null,null,null,null,null,null,null,null,null,null,null,null,null,null,null,null,null,null,null,null,null,null,null,null,null,null,null,null,null,null,null,null,null,null,null,null,10]
[null,null,null,null,null,null,null,null,null,null,null,null,null,null,null,null,null,null,null,null,null,null,null,null,null,null,null,null,null,null,null,null,null,null,null,null,null,null,11]
[null,null,null,null,null,null,null,null,null,null,null,null,null,null,null,null,null,null,null,null,null,null,null,null,null,null,null,null,null,null,null,null,null,null,null,null,null,null,12]
[null,null,null,null,null,null,null,null,null,null,null,null,null,null,null,null,null,null,null,null,null,null,null,null,null,null,null,null,null,null,null,null,null,null,null,null,null,null,13]
[null,null,null,null,null,null,null,null,null,null,null,null,null,null,null,null,null,null,null,null,null,null,null,null,null,null,null,null,null,null,null,null,null,null,null,null,null,null,14]
[null,null,null,null,null,null,null,null,null,null,null,null,null,null,null,null,null,null,null,null,null,null,null,null,null,null,null,null,null,null,null,null,null,null,null,null,null,null,15]
[null,null,null,null,null,null,null,null,null,null,null,null,null,null,null,null,null,null,null,null,null,null,null,null,null,null,null,null,null,null,null,null,null,null,null,null,null,null,16]
[null,null,null,null,null,null,null,null,null,null,null,null,null,null,null,null,null,null,null,null,null,null,null,null,null,null,null,null,null,null,null,null,null,null,null,null,null,null,17]
[null,null,null,null,null,null,null,null,null,null,null,null,null,null,null,null,null,null,null,null,null,null,null,null,null,null,null,null,null,null,null,null,null,null,null,null,null,null,18]
[null,null,null,null,null,null,null,null,null,null,null,null,null,null,null,null,null,null,null,null,null,null,null,null,null,null,null,null,null,null,null,null,null,null,null,null,null,null,19]
[null,null,null,null,null,null,null,null,null,null,null,null,null,null,null,null,null,null,null,null,null,null,null,null,null,null,null,null,null,null,null,null,null,null,null,null,null,null,20]
[null,null,null,null,null,null,null,null,null,null,null,null,null,null,null,null,null,null,null,null,null,null,null,null,null,null,null,null,null,null,null,null,null,null,null,null,null,null,21]
[null,null,null,null,null,null,null,null,null,null,null,null,null,null,null,null,null,null,null,null,null,null,null,null,null,null,null,null,null,null,null,null,null,null,null,null,null,null,22]
[null,null,null,null,null,null,null,null,null,null,null,null,null,null,null,null,null,null,null,null,null,null,null,null,null,null,null,null,null,null,null,null,null,null,null,null,null,null,23]
[null,null,null,null,null,null,null,null,null,null,null,null,null,null,null,null,null,null,null,null,null,null,null,null,null,null,null,null,null,null,null,null,null,null,null,null,null,null,24]
[null,null,null,null,null,null,null,null,null,null,null,null,null,null,null,null,null,null,null,null,null,null,null,null,null,null,null,null,null,null,null,null,null,null,null,null,null,null,25]
[null,null,null,null,null,null,null,null,null,null,null,null,null,null,null,null,null,null,null,null,null,null,null,null,null,null,null,null,null,null,null,null,null,null,null,null,null,null,26]
[null,null,null,null,null,null,null,null,null,null,null,null,null,null,null,null,null,null,null,null,null,null,null,null,null,null,null,null,null,null,null,null,null,null,null,null,null,null,27]
[null,null,null,null,null,null,null,null,null,null,null,null,null,null,null,null,null,null,null,null,null,null,null,null,null,null,null,null,null,null,null,null,null,null,null,null,null,null,28]
[null,null,null,null,null,null,null,null,null,null,null,null,null,null,null,null,null,null,null,null,null,null,null,null,null,null,null,null,null,null,null,null,null,null,null,null,null,null,29]
[null,null,null,null,null,null,null,null,null,null,null,null,null,null,null,null,null,null,null,null,null,null,null,null,null,null,null,null,null,null,null,null,null,null,null,null,null,null,30]
[null,null,null,null,null,null,null,null,null,null,null,null,null,null,null,null,null,null,null,null,null,null,null,null,null,null,null,null,null,null,null,null,null,null,null,null,null,null,31]
[null,null,null,null,null,null,null,null,null,null,null,null,null,null,null,null,null,null,null,null,null,null,null,null,null,null,null,null,null,null,null,null,null,null,null,null,null,null,32]
[null,null,null,null,null,null,null,null,null,null,null,null,null,null,null,null,null,null,null,null,null,null,null,null,null,null,null,null,null,null,null,null,null,null,null,null,null,null,33]
[null,null,null,null,null,null,null,null,null,null,null,null,null,null,null,null,null,null,null,null,null,null,null,null,null,null,null,null,null,null,null,null,null,null,null,null,null,null,34]
[null,null,null,null,null,null,null,null,null,null,null,null,null,null,null,null,null,null,null,null,null,null,null,null,null,null,null,null,null,null,null,null,null,null,null,null,null,null,35]
[null,null,null,null,null,null,null,null,null,null,null,null,null,null,null,null,null,null,null,null,null,null,null,null,null,null,null,null,null,null,null,null,null,null,null,null,null,null,36]
[null,null,null,null,null,null,null,null,null,null,null,null,null,null,null,null,null,null,null,null,null,null,null,null,null,null,null,null,null,null,null,null,null,null,null,null,null,null,37]
[null,null,null,null,null,null,null,null,null,null,null,null,null,null,null,null,null,null,null,null,null,null,null,null,null,null,null,null,null,null,null,null,null,null,null,null,null,null,38]
[null,null,null,null,null,null,null,null,null,null,null,null,null,null,null,null,null,null,null,null,null,null,null,null,null,null,null,null,null,null,null,null,null,null,null,null,null,null,39]
[null,null,null,null,null,null,null,null,null,null,null,null,null,null,null,null,null,null,null,null,null,null,null,null,null,null,null,null,null,null,null,null,null,null,null,null,null,null,40]
[null,null,null,null,null,null,null,null,null,null,null,null,null,null,null,null,null,null,null,null,null,null,null,null,null,null,null,null,null,null,null,null,null,null,null,null,null,null,41]
[null,null,null,null,null,null,null,null,null,null,null,null,null,null,null,null,null,null,null,null,null,null,null,null,null,null,null,null,null,null,null,null,null,null,null,null,null,null,42]
[null,null,null,null,null,null,null,null,null,null,null,null,null,null,null,null,null,null,null,null,null,null,null,null,null,null,null,null,null,null,null,null,null,null,null,null,null,null,43]
[null,null,null,null,null,null,null,null,null,null,null,null,null,null,null,null,null,null,null,null,null,null,null,null,null,null,null,null,null,null,null,null,null,null,null,null,null,null,44]
[null,null,null,null,null,null,null,null,null,null,null,null,null,null,null,null,null,null,null,null,null,null,null,null,null,null,null,null,null,null,null,null,null,null,null,null,null,null,45]
[null,null,null,null,null,null,null,null,null,null,null,null,null,null,null,null,null,null,null,null,null,null,null,null,null,null,null,null,null,null,null,null,null,null,null,null,null,null,46]
[null,null,null,null,null,null,null,null,null,null,null,null,null,null,null,null,null,null,null,null,null,null,null,null,null,null,null,null,null,null,null,null,null,null,null,null,null,null,47]
[null,null,null,null,null,null,null,null,null,null,null,null,null,null,null,null,null,null,null,null,null,null,null,null,null,null,null,null,null,null,null,null,null,null,null,null,null,null,48]
[null,null,null,null,null,null,null,null,null,null,null,null,null,null,null,null,null,null,null,null,null,null,null,null,null,null,null,null,null,null,null,null,null,null,null,null,null,null,49]
[null,null,null,null,null,null,null,null,null,null,null,null,null,null,null,null,null,null,null,null,null,null,null,null,null,null,null,null,null,null,null,null,null,null,null,null,null,null,50]
[null,null,null,null,null,null,null,null,null,null,null,null,null,null,null,null,null,null,null,null,null,null,null,null,null,null,null,null,null,null,null,null,null,null,null,null,null,null,51]
[null,null,null,null,null,null,null,null,null,null,null,null,null,null,null,null,null,null,null,null,null,null,null,null,null,null,null,null,null,null,null,null,null,null,null,null,null,null,52]
[null,null,null,null,null,null,null,null,null,null,null,null,null,null,null,null,null,null,null,null,null,null,null,null,null,null,null,null,null,null,null,null,null,null,null,null,null,null,53]
[null,null,null,null,null,null,null,null,null,null,null,null,null,null,null,null,null,null,null,null,null,null,null,null,null,null,null,null,null,null,null,null,null,null,null,null,null,null,54]
[null,null,null,null,null,null,null,null,null,null,null,null,null,null,null,null,null,null,null,null,null,null,null,null,null,null,null,null,null,null,null,null,null,null,null,null,null,null,55]
[null,null,null,null,null,null,null,null,null,null,null,null,null,null,null,null,null,null,null,null,null,null,null,null,null,null,null,null,null,null,null,null,null,null,null,null,null,null,56]
[null,null,null,null,null,null,null,null,null,null,null,null,null,null,null,null,null,null,null,null,null,null,null,null,null,null,null,null,null,null,null,null,null,null,null,null,null,null,57]
[null,null,null,null,null,null,null,null,null,null,null,null,null,null,null,null,null,null,null,null,null,null,null,null,null,null,null,null,null,null,null,null,null,null,null,null,null,null,58]
[null,null,null,null,null,null,null,null,null,null,null,null,null,null,null,null,null,null,null,null,null,null,null,null,null,null,null,null,null,null,null,null,null,null,null,null,null,null,59]
[null,null,null,null,null,null,null,null,null,null,null,null,null,null,null,null,null,null,null,null,null,null,null,null,null,null,null,null,null,null,null,null,null,null,null,null,null,null,60]
[null,null,null,null,null,null,null,null,null,null,null,null,null,null,null,null,null,null,null,null,null,null,null,null,null,null,null,null,null,null,null,null,null,null,null,null,null,null,61]
[null,null,null,null,null,null,null,null,null,null,null,null,null,null,null,null,null,null,null,null,null,null,null,null,null,null,null,null,null,null,null,null,null,null,null,null,null,null,62]
[null,null,null,null,null,null,null,null,null,null,null,null,null,null,null,null,null,null,null,null,null,null,null,null,null,null,null,null,null,null,null,null,null,null,null,null,null,null,63]
[null,null,null,null,null,null,null,null,null,null,null,null,null,null,null,null,null,null,null,null,null,null,null,null,null,null,null,null,null,null,null,null,null,null,null,null,null,null,64]
[null,null,null,null,null,null,null,null,null,null,null,null,null,null,null,null,null,null,null,null,null,null,null,null,null,null,null,null,null,null,null,null,null,null,null,null,null,null,65]
[null,null,null,null,null,null,null,null,null,null,null,null,null,null,null,null,null,null,null,null,null,null,null,null,null,null,null,null,null,null,null,null,null,null,null,null,null,null,66]
[null,null,null,null,null,null,null,null,null,null,null,null,null,null,null,null,null,null,null,null,null,null,null,null,null,null,null,null,null,null,null,null,null,null,null,null,null,null,67]
[null,null,null,null,null,null,null,null,null,null,null,null,null,null,null,null,null,null,null,null,null,null,null,null,null,null,null,null,null,null,null,null,null,null,null,null,null,null,68]
[null,null,null,null,null,null,null,null,null,null,null,null,null,null,null,null,null,null,null,null,null,null,null,null,null,null,null,null,null,null,null,null,null,null,null,null,null,null,69]
[null,null,null,null,null,null,null,null,null,null,null,null,null,null,null,null,null,null,null,null,null,null,null,null,null,null,null,null,null,null,null,null,null,null,null,null,null,null,70]
[null,null,null,null,null,null,null,null,null,null,null,null,null,null,null,null,null,null,null,null,null,null,null,null,null,null,null,null,null,null,null,null,null,null,null,null,null,null,71]
[null,null,null,null,null,null,null,null,null,null,null,null,null,null,null,null,null,null,null,null,null,null,null,null,null,null,null,null,null,null,null,null,null,null,null,null,null,null,72]
[null,null,null,null,null,null,null,null,null,null,null,null,null,null,null,null,null,null,null,null,null,null,null,null,null,null,null,null,null,null,null,null,null,null,null,null,null,null,73]
[null,null,null,null,null,null,null,null,null,null,null,null,null,null,null,null,null,null,null,null,null,null,null,null,null,null,null,null,null,null,null,null,null,null,null,null,null,null,74]
[null,null,null,null,null,null,null,null,null,null,null,null,null,null,null,null,null,null,null,null,null,null,null,null,null,null,null,null,null,null,null,null,null,null,null,null,null,null,75]
[null,null,null,null,null,null,null,null,null,null,null,null,null,null,null,null,null,null,null,null,null,null,null,null,null,null,null,null,null,null,null,null,null,null,null,null,null,null,76]
[null,null,null,null,null,null,null,null,null,null,null,null,null,null,null,null,null,null,null,null,null,null,null,null,null,null,null,null,null,null,null,null,null,null,null,null,null,null,77]
[null,null,null,null,null,null,null,null,null,null,null,null,null,null,null,null,null,null,null,null,null,null,null,null,null,null,null,null,null,null,null,null,null,null,null,null,null,null,78]
[null,null,null,null,null,null,null,null,null,null,null,null,null,null,null,null,null,null,null,null,null,null,null,null,null,null,null,null,null,null,null,null,null,null,null,null,null,null,79]
[null,null,null,null,null,null,null,null,null,null,null,null,null,null,null,null,null,null,null,null,null,null,null,null,null,null,null,null,null,null,null,null,null,null,null,null,null,null,80]
[null,null,null,null,null,null,null,null,null,null,null,null,null,null,null,null,null,null,null,null,null,null,null,null,null,null,null,null,null,null,null,null,null,null,null,null,null,null,81]
[null,null,null,null,null,null,null,null,null,null,null,null,null,null,null,null,null,null,null,null,null,null,null,null,null,null,null,null,null,null,null,null,null,null,null,null,null,null,82]
[null,null,null,null,null,null,null,null,null,null,null,null,null,null,null,null,null,null,null,null,null,null,null,null,null,null,null,null,null,null,null,null,null,null,null,null,null,null,83]
[null,null,null,null,null,null,null,null,null,null,null,null,null,null,null,null,null,null,null,null,null,null,null,null,null,null,null,null,null,null,null,null,null,null,null,null,null,null,84]
[null,null,null,null,null,null,null,null,null,null,null,null,null,null,null,null,null,null,null,null,null,null,null,null,null,null,null,null,null,null,null,null,null,null,null,null,null,null,85]
[null,null,null,null,null,null,null,null,null,null,null,null,null,null,null,null,null,null,null,null,null,null,null,null,null,null,null,null,null,null,null,null,null,null,null,null,null,null,86]
[null,null,null,null,null,null,null,null,null,null,null,null,null,null,null,null,null,null,null,null,null,null,null,null,null,null,null,null,null,null,null,null,null,null,null,null,null,null,87]
[null,null,null,null,null,null,null,null,null,null,null,null,null,null,null,null,null,null,null,null,null,null,null,null,null,null,null,null,null,null,null,null,null,null,null,null,null,null,88]
[null,null,null,null,null,null,null,null,null,null,null,null,null,null,null,null,null,null,null,null,null,null,null,null,null,null,null,null,null,null,null,null,null,null,null,null,null,null,89]
[null,null,null,null,null,null,null,null,null,null,null,null,null,null,null,null,null,null,null,null,null,null,null,null,null,null,null,null,null,null,null,null,null,null,null,null,null,null,90]
[null,null,null,null,null,null,null,null,null,null,null,null,null,null,null,null,null,null,null,null,null,null,null,null,null,null,null,null,null,null,null,null,null,null,null,null,null,null,91]
[null,null,null,null,null,null,null,null,null,null,null,null,null,null,null,null,null,null,null,null,null,null,null,null,null,null,null,null,null,null,null,null,null,null,null,null,null,null,92]
[null,null,null,null,null,null,null,null,null,null,null,null,null,null,null,null,null,null,null,null,null,null,null,null,null,null,null,null,null,null,null,null,null,null,null,null,null,null,93]
[null,null,null,null,null,null,null,null,null,null,null,null,null,null,null,null,null,null,null,null,null,null,null,null,null,null,null,null,null,null,null,null,null,null,null,null,null,null,94]
[null,null,null,null,null,null,null,null,null,null,null,null,null,null,null,null,null,null,null,null,null,null,null,null,null,null,null,null,null,null,null,null,null,null,null,null,null,null,95]
[null,null,null,null,null,null,null,null,null,null,null,null,null,null,null,null,null,null,null,null,null,null,null,null,null,null,null,null,null,null,null,null,null,null,null,null,null,null,96]
[null,null,null,null,null,null,null,null,null,null,null,null,null,null,null,null,null,null,null,null,null,null,null,null,null,null,null,null,null,null,null,null,null,null,null,null,null,null,97]
[null,null,null,null,null,null,null,null,null,null,null,null,null,null,null,null,null,null,null,null,null,null,null,null,null,null,null,null,null,null,null,null,null,null,null,null,null,null,98]
[null,null,null,null,null,null,null,null,null,null,null,null,null,null,null,null,null,null,null,null,null,null,null,null,null,null,null,null,null,null,null,null,null,null,null,null,null,null,99]
[null,null,null,null,null,null,null,null,null,null,null,null,null,null,null,null,null,null,null,null,null,null,null,null,null,null,null,null,null,null,null,null,null,null,null,null,null,null,100]

{"sheet":"Imp. Martillo Pesado","index":9,"n_rows":159,"n_cols":41,"rows_kept":159,"cut":false,"hidden":true,"merged":[[63,6,63,15],[63,16,63,20],[63,21,63,25],[63,26,63,30],[64,16,64,20],[64,21,64,25],[64,26,64,30],[62,34,62,36],[61,6,61,15],[61,16,61,20],[61,21,61,25],[61,26,61,30],[61,31,61,33],[61,34,61,36],[62,6,62,15],[62,16,62,20],[62,21,62,25],[62,26,62,30],[62,31,62,33],[60,34,60,36],[59,6,59,15],[59,16,59,20],[59,21,59,25],[59,26,59,30],[59,31,59,33],[59,34,59,36],[60,6,60,15],[60,16,60,20],[60,21,60,25],[60,26,60,30],[60,31,60,33],[52,5,52,17],[52,21,52,26],[52,29,52,30],[52,35,52,36],[58,16,58,20],[58,21,58,25],[58,26,58,30],[58,31,58,33],[58,34,58,36],[52,31,52,34],[15,2,15,3],[15,11,15,15],[21,38,49,38],[22,2,22,3],[22,13,22,15],[29,5,29,11],[37,3,38,34],[42,7,42,13],[42,16,42,26],[42,29,44,36],[44,7,44,16],[44,21,44,26],[45,7,45,16],[45,17,45,26],[47,11,47,26],[49,7,49,26],[11,1,11,3],[11,16,11,24],[1,7,1,32],[2,7,2,32],[3,7,3,32],[5,1,5,37],[6,1,7,37]]}
[]
[null,null,null,null,null,null,null,"Real Federación Española de Atletismo"]
[null,null,null,null,null,null,null,"Comité Nacional de Jueces"]
[]
[]
[null,"CERTIFICADO DE HOMOLOGACIÓN"]
[null,{"$f":"CONCATENATE(\"MARTILLO PESADO\",AO67,\" gramos\")","v":"MARTILLO PESADO gramos"}]
[]
[]
[]
[]
[null,null,null,null,null,null,null,null,null,null,null,null,null,"PESO:",null,null,{"$f":"IF(ISERROR(VLOOKUP($AJ$53,INDIRECT(CONCATENATE(AO59,\"!A8\")):INDIRECT(CONCATENATE(AO59,\"!AA207\")),1,FALSE)),\"\",(VLOOKUP($AJ$53,INDIRECT(CONCATENATE(AO59,\"!A8\")):INDIRECT(CONCATENATE(AO59,\"!AA207\")),6,FALSE)))","v":""},null,null,null,null,null,null,null,null,"  g"]
[]
[null,null,null,null,null,null,null,null,null,null,null,null,null,null,null,null,null,{"$f":"CONCATENATE(\"(mínimo \",AO67,\" g.)\")","v":"(mínimo  g.)"}]
[]
[null,null,"L1",null,"LONGITUD total:",null,null,null,null,null,null,{"$f":"IF(ISERROR(VLOOKUP($AJ$53,INDIRECT(CONCATENATE(AO59,\"!A8\")):INDIRECT(CONCATENATE(AO59,\"!AA207\")),1,FALSE)),\"\",(VLOOKUP($AJ$53,INDIRECT(CONCATENATE(AO59,\"!A8\")):INDIRECT(CONCATENATE(AO59,\"!AA207\")),9,FALSE)))","v":""},null,null,null,null,"mm"]
[]
[null,null,null,null,null,null,null,null,"máximo:",null,null,null,"410 mm"]
[]
[]
[]
[null,null,null,null,null,null,null,null,null,null,null,null,null,null,null,null,null,null,null,null,null,null,null,null,null,null,null,null,null,null,null,null,null,null,null,null,null,null,{"$f":"IF(Y77=1,CONCATENATE(\"Valor MÁX. en D2 para el valor actual de D0: \",N23*80/100,\"mm\"),\"\")","v":""}]
[null,null,"D2",null,"DIÁMETRO de la cabeza:",null,null,null,null,null,null,null,null,{"$f":"IF(ISERROR(VLOOKUP($AJ$53,INDIRECT(CONCATENATE(AO59,\"!A8\")):INDIRECT(CONCATENATE(AO59,\"!AA207\")),1,FALSE)),\"\",(VLOOKUP($AJ$53,INDIRECT(CONCATENATE(AO59,\"!A8\")):INDIRECT(CONCATENATE(AO59,\"!AA207\")),15,FALSE)))","v":""},null,null,"mm"]
[]
[null,null,null,null,null,null,null,null,"mínimo:",null,null,null,{"$f":"CONCATENATE(AF62,\" g.\")","v":" g."}]
[null,null,null,null,null,null,null,null,"máximo:",null,null,null,{"$f":"CONCATENATE(AI62,\" g.\")","v":" g."}]
[]
[null,null,null,null,"CENTRO DE GRAVEDAD  (sin cable ni empuñadura):"]
[]
[null,null,null,null,null,{"$f":"IF(ISERROR(VLOOKUP($AJ$53,INDIRECT(CONCATENATE(AO59,\"!A8\")):INDIRECT(CONCATENATE(AO59,\"!AA207\")),1,FALSE)),\"\",(VLOOKUP($AJ$53,INDIRECT(CONCATENATE(AO59,\"!A8\")):INDIRECT(CONCATENATE(AO59,\"!AA207\")),18,FALSE)))","v":""}]
[]
[]
[]
[]
[]
[]
[null,null,"OBSERVACIONES:"]
[null,null,null,{"$f":"IF(ISERROR(VLOOKUP($AJ$53,INDIRECT(CONCATENATE(AO59,\"!A8\")):INDIRECT(CONCATENATE(AO59,\"!AA207\")),1,FALSE)),\"\",IF(VLOOKUP($AJ$53,INDIRECT(CONCATENATE(AO59,\"!A8\")):INDIRECT(CONCATENATE(AO59,\"!AA207\")),21,FALSE)=0,\"\",VLOOKUP($AJ$53,INDIRECT(CONCATENATE(AO59,\"!A8\")):INDIRECT(CONCATENATE(AO59,\"!AA207\")),21,FALSE)))","v":""}]
[]
[]
[]
[]
[null,"   Marca/modelo: ",null,null,null,null,null,{"$f":"IF(ISERROR(VLOOKUP($AJ$53,INDIRECT(CONCATENATE(AO59,\"!A8\")):INDIRECT(CONCATENATE(AO59,\"!AA207\")),1,FALSE)),\"\",(VLOOKUP($AJ$53,INDIRECT(CONCATENATE(AO59,\"!A8\")):INDIRECT(CONCATENATE(AO59,\"!AA207\")),4,FALSE)))","v":""},null,null,null,null,null,null,"Color:",null,{"$f":"IF(ISERROR(VLOOKUP($AJ$53,INDIRECT(CONCATENATE(AO59,\"!A8\")):INDIRECT(CONCATENATE(AO59,\"!AA207\")),1,FALSE)),\"\",IF(VLOOKUP($AJ$53,INDIRECT(CONCATENATE(AO59,\"!A8\")):INDIRECT(CONCATENATE(AO59,\"!AA207\")),27,FALSE)=0,\"\",VLOOKUP($AJ$53,INDIRECT(CONCATENATE(AO59,\"!A8\")):INDIRECT(CONCATENATE(AO59,\"!AA207\")),27,FALSE)))","v":""},null,null,null,null,null,null,null,null,null,null,null,null,"RESULTADO DE LA HOMOLOGACIÓN"]
[]
[null,"   Propiedad de: ",null,null,null,null,null,{"$f":"IF(ISERROR(VLOOKUP($AJ$53,INDIRECT(CONCATENATE(AO59,\"!A8\")):INDIRECT(CONCATENATE(AO59,\"!AA207\")),1,FALSE)),\"\",IF(VLOOKUP($AJ$53,INDIRECT(CONCATENATE(AO59,\"!A8\")):INDIRECT(CONCATENATE(AO59,\"!AA207\")),3,FALSE)=0,\"\",IF(VLOOKUP($AJ$53,INDIRECT(CONCATENATE(AO59,\"!A8\")):INDIRECT(CONCATENATE(AO59,\"!AA207\")),3,FALSE)=\"Particular\",VLOOKUP($AJ$53,INDIRECT(CONCATENATE(AO59,\"!A8\")):INDIRECT(CONCATENATE(AO59,\"!AA207\")),26,FALSE),VLOOKUP($AJ$53,INDIRECT(CONCATENATE(AO59,\"!A8\")):INDIRECT(CONCATENATE(AO59,\"!AA207\")),3,FALSE))))","v":""},null,null,null,null,null,null,null,null,null,"Cert. IAAF:",null,null,null,{"$f":"IF(ISERROR(VLOOKUP($AJ$53,INDIRECT(CONCATENATE(AO59,\"!A8\")):INDIRECT(CONCATENATE(AO59,\"!AA207\")),1,FALSE)),\"\",IF(VLOOKUP($AJ$53,INDIRECT(CONCATENATE(AO59,\"!A8\")):INDIRECT(CONCATENATE(AO59,\"!AA207\")),5,FALSE)=0,\"\",VLOOKUP($AJ$53,INDIRECT(CONCATENATE(AO59,\"!A8\")):INDIRECT(CONCATENATE(AO59,\"!AA207\")),5,FALSE)))","v":""}]
[null,null,null,null,null,null,null,null,null,null,null,null,null,null,null,null,null,{"$f":"IF(AND(F65=3,H46=\"\"),\"Nombre del atleta propietario\",\"\")","v":""}]
[]
[null,"   Efectuó la homologación: ",null,null,null,null,null,null,null,null,null,{"$f":"IF(ISERROR(VLOOKUP($AJ$53,INDIRECT(CONCATENATE(AO59,\"!A8\")):INDIRECT(CONCATENATE(AO59,\"!AA207\")),1,FALSE)),\"\",(VLOOKUP($AJ$53,INDIRECT(CONCATENATE(AO59,\"!A8\")):INDIRECT(CONCATENATE(AO59,\"!AA207\")),23,FALSE)))","v":""},null,null,null,null,null,null,null,null,null,null,null,null,null,null,null,null,null,null,{"$f":"IF(V65=6,\"X\",\"\")","v":""},null,"VÁLIDO"]
[]
[null,"  Competición:",null,null,null,null,null,{"$f":"IF(Inicio!D4=\"\",\"FALTA NOMBRE DE COMPETICIÓN\",Inicio!D4)","v":"FALTA NOMBRE DE COMPETICIÓN"},null,null,null,null,null,null,null,null,null,null,null,null,null,null,null,null,null,null,null,null,null,null,{"$f":"IF(AA65>0,\"X\",\"\")","v":""},null,"NO VÁLIDO"]
[]
[]
[null,"   Firma: ",null,null,null,null,null,null,null,null,null,null,null,null,null,null,null,null,"  Fecha: ",null,null,{"$f":"IF(ISERROR(VLOOKUP($AJ$53,INDIRECT(CONCATENATE(AO59,\"!A8\")):INDIRECT(CONCATENATE(AO59,\"!AA207\")),1,FALSE)),\"\",(VLOOKUP($AJ$53,INDIRECT(CONCATENATE(AO59,\"!A8\")):INDIRECT(CONCATENATE(AO59,\"!AA207\")),24,FALSE)))","v":""},null,null,null,null,null,null,null,"REF.:"]
[]
[]
[]
[]
[]
[null,null,null,null,null,null,null,null,null,null,null,null,null,null,null,null,"No chequeado",null,null,null,null,"Correcto",null,null,null,null,"Incorrecto",null,null,null,null,"Mínimo",null,null,"Máximo",null,null,null,null,null,{"$f":"IF(AF53<>\"\",IF(LEN(AF53)=10,MID(AF53,1,9),MID(AF53,1,10)),\"\")","v":""}]
[null,null,null,null,1,null,"Peso",null,null,null,null,null,null,null,null,null,{"$f":"IF(Q12=\"\",1,\"\")","v":1},null,null,null,null,{"$f":"IF(AND(Q12>=AF60,Q12<>\"\"),1,\"\")","v":""},null,null,null,null,{"$f":"IF(AND(Q60=\"\",V60=\"\"),1,\"\")","v":""},null,null,null,null,{"$f":"IF(AO67=\"15880\",15880,IF(AO67=\"11340\",11340,IF(AO67=\"9080\",9080,IF(AO67=\"7260\",7260,IF(AO67=\"5450\",5450,IF(AO67=\"4000\",4000,\"\"))))))","v":""},null,null,{"$f":"AF60+25","v":{"$error":"#VALUE!"}},null,null,null,1]
[null,null,null,null,2,null,"Longitud total",null,null,null,null,null,null,null,null,null,{"$f":"IF(L16=\"\",1,\"\")","v":1},null,null,null,null,{"$f":"IF(AND(L16<=AI61,L16<>\"\"),1,\"\")","v":""},null,null,null,null,{"$f":"IF(AND(Q61=\"\",V61=\"\"),1,\"\")","v":""},null,null,null,null,null,null,null,410,null,null,null,{"$f":"AM60+1","v":2},null,"MARP.15880-"]
[null,null,null,null,3,null,"Diámetro de la cabeza metálica",null,null,null,null,null,null,null,null,null,{"$f":"IF(N23=\"\",1,\"\")","v":1},null,null,null,null,{"$f":"IF(AND(N23>=AF62,N23<=AI62,N23<>\"\"),1,\"\")","v":""},null,null,null,null,{"$f":"IF(AND(Q62=\"\",V62=\"\"),1,\"\")","v":""},null,null,null,null,{"$f":"IF(AO67=\"15880\",145,IF(AO67=\"11340\",130,IF(AO67=\"9080\",120,IF(AO67=\"7260\",110,IF(AO67=\"5450\",100,IF(AO67=\"4000\",95,\"\"))))))","v":""},null,null,{"$f":"IF(AO67=\"15880\",165,IF(AO67=\"11340\",150,IF(AO67=\"9080\",140,IF(AO67=\"7260\",130,IF(AO67=\"5450\",120,IF(AO67=\"4000\",110,\"\"))))))","v":""},null,null,null,{"$f":"AM61+1","v":3},null,"MARP.11340-"]
[null,null,null,null,4,null,"Centro de gravedad",null,null,null,null,null,null,null,null,null,{"$f":"IF(F30=\"\",1,\"\")","v":1},null,null,null,null,{"$f":"IF(F30=\"Correcto\",1,\"\")","v":""},null,null,null,null,{"$f":"IF(AND(Q63=\"\",V63=\"\"),1,\"\")","v":""},null,null,null,null,null,null,null,null,null,null,null,4,null,"MARP.9080-"]
[null,null,null,null,5,null,"Observaciones",null,null,null,null,null,null,null,null,null,null,null,null,null,null,{"$f":"IF(D38=\"\",1,\"\")","v":1},null,null,null,null,{"$f":"IF(D38<>\"\",1,\"\")","v":""},null,null,null,null,null,null,null,null,null,null,null,5,null,"MARP.7260-"]
[null,null,null,null,null,null,null,null,null,null,null,null,null,null,null,null,{"$f":"SUM(Q60:U63)","v":4},null,null,null,null,{"$f":"SUM(V60:Z64)","v":1},null,null,null,null,{"$f":"SUM(AA60:AE64)","v":0},null,null,null,null,null,null,null,null,null,null,null,6,null,"MARP.5450-"]
[null,null,null,null,null,null,null,null,null,null,null,null,null,null,null,null,null,null,null,null,null,null,null,null,null,null,null,null,null,null,null,null,null,null,null,null,null,null,7,null,"MARP.4000-"]
[null,null,null,null,null,null,null,null,null,null,null,null,null,null,null,null,null,null,null,null,null,null,null,null,null,null,null,null,null,null,null,null,null,null,null,null,null,null,8,null,{"$f":"IF(AO59<>\"\",IF(LEN(AO59)=10,MID(AO59,6,5),MID(AO59,6,4)),\"\")","v":""}]
[null,null,null,null,null,null,null,null,null,null,null,null,null,null,null,null,null,null,null,null,null,null,null,null,null,null,null,null,null,null,null,null,null,null,null,null,null,null,9]
[null,null,null,null,null,null,null,null,null,null,null,null,null,null,null,null,null,null,null,null,null,null,null,null,null,null,null,null,null,null,null,null,null,null,null,null,null,null,10]
[null,null,null,null,null,null,null,null,null,null,null,null,null,null,null,null,null,null,null,null,null,null,null,null,null,null,null,null,null,null,null,null,null,null,null,null,null,null,11]
[null,null,null,null,null,null,null,null,null,null,null,null,null,null,null,null,null,null,null,null,null,null,null,null,null,null,null,null,null,null,null,null,null,null,null,null,null,null,12]
[null,null,null,null,null,null,null,null,null,null,null,null,null,null,null,null,null,null,null,null,null,null,null,null,null,null,null,null,null,null,null,null,null,null,null,null,null,null,13]
[null,null,null,null,null,null,null,null,null,null,null,null,null,null,null,null,null,null,null,null,null,null,null,null,null,null,null,null,null,null,null,null,null,null,null,null,null,null,14]
[null,null,null,null,null,null,null,null,null,null,null,null,null,null,null,null,null,null,null,null,null,null,null,null,null,null,null,null,null,null,null,null,null,null,null,null,null,null,15]
[null,null,null,null,null,null,null,null,null,null,null,null,null,null,null,null,null,null,null,null,null,null,null,null,null,null,null,null,null,null,null,null,null,null,null,null,null,null,16]
[null,null,null,null,null,null,null,null,null,null,null,null,null,null,null,null,null,null,null,null,null,null,null,null,null,null,null,null,null,null,null,null,null,null,null,null,null,null,17]
[null,null,null,null,null,null,null,null,null,null,null,null,null,null,null,null,null,null,null,null,null,null,null,null,null,null,null,null,null,null,null,null,null,null,null,null,null,null,18]
[null,null,null,null,null,null,null,null,null,null,null,null,null,null,null,null,null,null,null,null,null,null,null,null,null,null,null,null,null,null,null,null,null,null,null,null,null,null,19]
[null,null,null,null,null,null,null,null,null,null,null,null,null,null,null,null,null,null,null,null,null,null,null,null,null,null,null,null,null,null,null,null,null,null,null,null,null,null,20]
[null,null,null,null,null,null,null,null,null,null,null,null,null,null,null,null,null,null,null,null,null,null,null,null,null,null,null,null,null,null,null,null,null,null,null,null,null,null,21]
[null,null,null,null,null,null,null,null,null,null,null,null,null,null,null,null,null,null,null,null,null,null,null,null,null,null,null,null,null,null,null,null,null,null,null,null,null,null,22]
[null,null,null,null,null,null,null,null,null,null,null,null,null,null,null,null,null,null,null,null,null,null,null,null,null,null,null,null,null,null,null,null,null,null,null,null,null,null,23]
[null,null,null,null,null,null,null,null,null,null,null,null,null,null,null,null,null,null,null,null,null,null,null,null,null,null,null,null,null,null,null,null,null,null,null,null,null,null,24]
[null,null,null,null,null,null,null,null,null,null,null,null,null,null,null,null,null,null,null,null,null,null,null,null,null,null,null,null,null,null,null,null,null,null,null,null,null,null,25]
[null,null,null,null,null,null,null,null,null,null,null,null,null,null,null,null,null,null,null,null,null,null,null,null,null,null,null,null,null,null,null,null,null,null,null,null,null,null,26]
[null,null,null,null,null,null,null,null,null,null,null,null,null,null,null,null,null,null,null,null,null,null,null,null,null,null,null,null,null,null,null,null,null,null,null,null,null,null,27]
[null,null,null,null,null,null,null,null,null,null,null,null,null,null,null,null,null,null,null,null,null,null,null,null,null,null,null,null,null,null,null,null,null,null,null,null,null,null,28]
[null,null,null,null,null,null,null,null,null,null,null,null,null,null,null,null,null,null,null,null,null,null,null,null,null,null,null,null,null,null,null,null,null,null,null,null,null,null,29]
[null,null,null,null,null,null,null,null,null,null,null,null,null,null,null,null,null,null,null,null,null,null,null,null,null,null,null,null,null,null,null,null,null,null,null,null,null,null,30]
[null,null,null,null,null,null,null,null,null,null,null,null,null,null,null,null,null,null,null,null,null,null,null,null,null,null,null,null,null,null,null,null,null,null,null,null,null,null,31]
[null,null,null,null,null,null,null,null,null,null,null,null,null,null,null,null,null,null,null,null,null,null,null,null,null,null,null,null,null,null,null,null,null,null,null,null,null,null,32]
[null,null,null,null,null,null,null,null,null,null,null,null,null,null,null,null,null,null,null,null,null,null,null,null,null,null,null,null,null,null,null,null,null,null,null,null,null,null,33]
[null,null,null,null,null,null,null,null,null,null,null,null,null,null,null,null,null,null,null,null,null,null,null,null,null,null,null,null,null,null,null,null,null,null,null,null,null,null,34]
[null,null,null,null,null,null,null,null,null,null,null,null,null,null,null,null,null,null,null,null,null,null,null,null,null,null,null,null,null,null,null,null,null,null,null,null,null,null,35]
[null,null,null,null,null,null,null,null,null,null,null,null,null,null,null,null,null,null,null,null,null,null,null,null,null,null,null,null,null,null,null,null,null,null,null,null,null,null,36]
[null,null,null,null,null,null,null,null,null,null,null,null,null,null,null,null,null,null,null,null,null,null,null,null,null,null,null,null,null,null,null,null,null,null,null,null,null,null,37]
[null,null,null,null,null,null,null,null,null,null,null,null,null,null,null,null,null,null,null,null,null,null,null,null,null,null,null,null,null,null,null,null,null,null,null,null,null,null,38]
[null,null,null,null,null,null,null,null,null,null,null,null,null,null,null,null,null,null,null,null,null,null,null,null,null,null,null,null,null,null,null,null,null,null,null,null,null,null,39]
[null,null,null,null,null,null,null,null,null,null,null,null,null,null,null,null,null,null,null,null,null,null,null,null,null,null,null,null,null,null,null,null,null,null,null,null,null,null,40]
[null,null,null,null,null,null,null,null,null,null,null,null,null,null,null,null,null,null,null,null,null,null,null,null,null,null,null,null,null,null,null,null,null,null,null,null,null,null,41]
[null,null,null,null,null,null,null,null,null,null,null,null,null,null,null,null,null,null,null,null,null,null,null,null,null,null,null,null,null,null,null,null,null,null,null,null,null,null,42]
[null,null,null,null,null,null,null,null,null,null,null,null,null,null,null,null,null,null,null,null,null,null,null,null,null,null,null,null,null,null,null,null,null,null,null,null,null,null,43]
[null,null,null,null,null,null,null,null,null,null,null,null,null,null,null,null,null,null,null,null,null,null,null,null,null,null,null,null,null,null,null,null,null,null,null,null,null,null,44]
[null,null,null,null,null,null,null,null,null,null,null,null,null,null,null,null,null,null,null,null,null,null,null,null,null,null,null,null,null,null,null,null,null,null,null,null,null,null,45]
[null,null,null,null,null,null,null,null,null,null,null,null,null,null,null,null,null,null,null,null,null,null,null,null,null,null,null,null,null,null,null,null,null,null,null,null,null,null,46]
[null,null,null,null,null,null,null,null,null,null,null,null,null,null,null,null,null,null,null,null,null,null,null,null,null,null,null,null,null,null,null,null,null,null,null,null,null,null,47]
[null,null,null,null,null,null,null,null,null,null,null,null,null,null,null,null,null,null,null,null,null,null,null,null,null,null,null,null,null,null,null,null,null,null,null,null,null,null,48]
[null,null,null,null,null,null,null,null,null,null,null,null,null,null,null,null,null,null,null,null,null,null,null,null,null,null,null,null,null,null,null,null,null,null,null,null,null,null,49]
[null,null,null,null,null,null,null,null,null,null,null,null,null,null,null,null,null,null,null,null,null,null,null,null,null,null,null,null,null,null,null,null,null,null,null,null,null,null,50]
[null,null,null,null,null,null,null,null,null,null,null,null,null,null,null,null,null,null,null,null,null,null,null,null,null,null,null,null,null,null,null,null,null,null,null,null,null,null,51]
[null,null,null,null,null,null,null,null,null,null,null,null,null,null,null,null,null,null,null,null,null,null,null,null,null,null,null,null,null,null,null,null,null,null,null,null,null,null,52]
[null,null,null,null,null,null,null,null,null,null,null,null,null,null,null,null,null,null,null,null,null,null,null,null,null,null,null,null,null,null,null,null,null,null,null,null,null,null,53]
[null,null,null,null,null,null,null,null,null,null,null,null,null,null,null,null,null,null,null,null,null,null,null,null,null,null,null,null,null,null,null,null,null,null,null,null,null,null,54]
[null,null,null,null,null,null,null,null,null,null,null,null,null,null,null,null,null,null,null,null,null,null,null,null,null,null,null,null,null,null,null,null,null,null,null,null,null,null,55]
[null,null,null,null,null,null,null,null,null,null,null,null,null,null,null,null,null,null,null,null,null,null,null,null,null,null,null,null,null,null,null,null,null,null,null,null,null,null,56]
[null,null,null,null,null,null,null,null,null,null,null,null,null,null,null,null,null,null,null,null,null,null,null,null,null,null,null,null,null,null,null,null,null,null,null,null,null,null,57]
[null,null,null,null,null,null,null,null,null,null,null,null,null,null,null,null,null,null,null,null,null,null,null,null,null,null,null,null,null,null,null,null,null,null,null,null,null,null,58]
[null,null,null,null,null,null,null,null,null,null,null,null,null,null,null,null,null,null,null,null,null,null,null,null,null,null,null,null,null,null,null,null,null,null,null,null,null,null,59]
[null,null,null,null,null,null,null,null,null,null,null,null,null,null,null,null,null,null,null,null,null,null,null,null,null,null,null,null,null,null,null,null,null,null,null,null,null,null,60]
[null,null,null,null,null,null,null,null,null,null,null,null,null,null,null,null,null,null,null,null,null,null,null,null,null,null,null,null,null,null,null,null,null,null,null,null,null,null,61]
[null,null,null,null,null,null,null,null,null,null,null,null,null,null,null,null,null,null,null,null,null,null,null,null,null,null,null,null,null,null,null,null,null,null,null,null,null,null,62]
[null,null,null,null,null,null,null,null,null,null,null,null,null,null,null,null,null,null,null,null,null,null,null,null,null,null,null,null,null,null,null,null,null,null,null,null,null,null,63]
[null,null,null,null,null,null,null,null,null,null,null,null,null,null,null,null,null,null,null,null,null,null,null,null,null,null,null,null,null,null,null,null,null,null,null,null,null,null,64]
[null,null,null,null,null,null,null,null,null,null,null,null,null,null,null,null,null,null,null,null,null,null,null,null,null,null,null,null,null,null,null,null,null,null,null,null,null,null,65]
[null,null,null,null,null,null,null,null,null,null,null,null,null,null,null,null,null,null,null,null,null,null,null,null,null,null,null,null,null,null,null,null,null,null,null,null,null,null,66]
[null,null,null,null,null,null,null,null,null,null,null,null,null,null,null,null,null,null,null,null,null,null,null,null,null,null,null,null,null,null,null,null,null,null,null,null,null,null,67]
[null,null,null,null,null,null,null,null,null,null,null,null,null,null,null,null,null,null,null,null,null,null,null,null,null,null,null,null,null,null,null,null,null,null,null,null,null,null,68]
[null,null,null,null,null,null,null,null,null,null,null,null,null,null,null,null,null,null,null,null,null,null,null,null,null,null,null,null,null,null,null,null,null,null,null,null,null,null,69]
[null,null,null,null,null,null,null,null,null,null,null,null,null,null,null,null,null,null,null,null,null,null,null,null,null,null,null,null,null,null,null,null,null,null,null,null,null,null,70]
[null,null,null,null,null,null,null,null,null,null,null,null,null,null,null,null,null,null,null,null,null,null,null,null,null,null,null,null,null,null,null,null,null,null,null,null,null,null,71]
[null,null,null,null,null,null,null,null,null,null,null,null,null,null,null,null,null,null,null,null,null,null,null,null,null,null,null,null,null,null,null,null,null,null,null,null,null,null,72]
[null,null,null,null,null,null,null,null,null,null,null,null,null,null,null,null,null,null,null,null,null,null,null,null,null,null,null,null,null,null,null,null,null,null,null,null,null,null,73]
[null,null,null,null,null,null,null,null,null,null,null,null,null,null,null,null,null,null,null,null,null,null,null,null,null,null,null,null,null,null,null,null,null,null,null,null,null,null,74]
[null,null,null,null,null,null,null,null,null,null,null,null,null,null,null,null,null,null,null,null,null,null,null,null,null,null,null,null,null,null,null,null,null,null,null,null,null,null,75]
[null,null,null,null,null,null,null,null,null,null,null,null,null,null,null,null,null,null,null,null,null,null,null,null,null,null,null,null,null,null,null,null,null,null,null,null,null,null,76]
[null,null,null,null,null,null,null,null,null,null,null,null,null,null,null,null,null,null,null,null,null,null,null,null,null,null,null,null,null,null,null,null,null,null,null,null,null,null,77]
[null,null,null,null,null,null,null,null,null,null,null,null,null,null,null,null,null,null,null,null,null,null,null,null,null,null,null,null,null,null,null,null,null,null,null,null,null,null,78]
[null,null,null,null,null,null,null,null,null,null,null,null,null,null,null,null,null,null,null,null,null,null,null,null,null,null,null,null,null,null,null,null,null,null,null,null,null,null,79]
[null,null,null,null,null,null,null,null,null,null,null,null,null,null,null,null,null,null,null,null,null,null,null,null,null,null,null,null,null,null,null,null,null,null,null,null,null,null,80]
[null,null,null,null,null,null,null,null,null,null,null,null,null,null,null,null,null,null,null,null,null,null,null,null,null,null,null,null,null,null,null,null,null,null,null,null,null,null,81]
[null,null,null,null,null,null,null,null,null,null,null,null,null,null,null,null,null,null,null,null,null,null,null,null,null,null,null,null,null,null,null,null,null,null,null,null,null,null,82]
[null,null,null,null,null,null,null,null,null,null,null,null,null,null,null,null,null,null,null,null,null,null,null,null,null,null,null,null,null,null,null,null,null,null,null,null,null,null,83]
[null,null,null,null,null,null,null,null,null,null,null,null,null,null,null,null,null,null,null,null,null,null,null,null,null,null,null,null,null,null,null,null,null,null,null,null,null,null,84]
[null,null,null,null,null,null,null,null,null,null,null,null,null,null,null,null,null,null,null,null,null,null,null,null,null,null,null,null,null,null,null,null,null,null,null,null,null,null,85]
[null,null,null,null,null,null,null,null,null,null,null,null,null,null,null,null,null,null,null,null,null,null,null,null,null,null,null,null,null,null,null,null,null,null,null,null,null,null,86]
[null,null,null,null,null,null,null,null,null,null,null,null,null,null,null,null,null,null,null,null,null,null,null,null,null,null,null,null,null,null,null,null,null,null,null,null,null,null,87]
[null,null,null,null,null,null,null,null,null,null,null,null,null,null,null,null,null,null,null,null,null,null,null,null,null,null,null,null,null,null,null,null,null,null,null,null,null,null,88]
[null,null,null,null,null,null,null,null,null,null,null,null,null,null,null,null,null,null,null,null,null,null,null,null,null,null,null,null,null,null,null,null,null,null,null,null,null,null,89]
[null,null,null,null,null,null,null,null,null,null,null,null,null,null,null,null,null,null,null,null,null,null,null,null,null,null,null,null,null,null,null,null,null,null,null,null,null,null,90]
[null,null,null,null,null,null,null,null,null,null,null,null,null,null,null,null,null,null,null,null,null,null,null,null,null,null,null,null,null,null,null,null,null,null,null,null,null,null,91]
[null,null,null,null,null,null,null,null,null,null,null,null,null,null,null,null,null,null,null,null,null,null,null,null,null,null,null,null,null,null,null,null,null,null,null,null,null,null,92]
[null,null,null,null,null,null,null,null,null,null,null,null,null,null,null,null,null,null,null,null,null,null,null,null,null,null,null,null,null,null,null,null,null,null,null,null,null,null,93]
[null,null,null,null,null,null,null,null,null,null,null,null,null,null,null,null,null,null,null,null,null,null,null,null,null,null,null,null,null,null,null,null,null,null,null,null,null,null,94]
[null,null,null,null,null,null,null,null,null,null,null,null,null,null,null,null,null,null,null,null,null,null,null,null,null,null,null,null,null,null,null,null,null,null,null,null,null,null,95]
[null,null,null,null,null,null,null,null,null,null,null,null,null,null,null,null,null,null,null,null,null,null,null,null,null,null,null,null,null,null,null,null,null,null,null,null,null,null,96]
[null,null,null,null,null,null,null,null,null,null,null,null,null,null,null,null,null,null,null,null,null,null,null,null,null,null,null,null,null,null,null,null,null,null,null,null,null,null,97]
[null,null,null,null,null,null,null,null,null,null,null,null,null,null,null,null,null,null,null,null,null,null,null,null,null,null,null,null,null,null,null,null,null,null,null,null,null,null,98]
[null,null,null,null,null,null,null,null,null,null,null,null,null,null,null,null,null,null,null,null,null,null,null,null,null,null,null,null,null,null,null,null,null,null,null,null,null,null,99]
[null,null,null,null,null,null,null,null,null,null,null,null,null,null,null,null,null,null,null,null,null,null,null,null,null,null,null,null,null,null,null,null,null,null,null,null,null,null,100]

{"sheet":"Imp. Peso","index":10,"n_rows":156,"n_cols":42,"rows_kept":156,"cut":false,"hidden":true,"merged":[[11,4,11,5],[11,15,11,22],[15,5,15,6],[15,11,15,14],[1,7,1,32],[2,7,2,32],[3,7,3,32],[5,1,5,37],[6,1,7,37],[21,38,48,38],[24,20,24,31],[26,11,26,20],[26,21,26,30],[32,6,34,31],[25,25,25,31],[23,10,23,17],[25,10,25,20],[48,16,48,24],[27,13,27,31],[29,10,29,31],[36,17,36,31],[40,4,40,33],[23,20,23,31],[57,34,57,36],[55,34,55,36],[56,6,56,15],[56,16,56,20],[56,21,56,25],[56,26,56,30],[56,31,56,33],[56,34,56,36],[55,16,55,20],[55,21,55,25],[57,6,57,15],[57,16,57,20],[57,21,57,25],[57,26,57,30],[55,26,55,30],[55,31,55,33],[59,16,59,20],[59,21,59,25],[59,26,59,30],[46,18,46,21],[46,22,46,23],[58,6,58,15],[58,16,58,20],[58,21,58,25],[58,26,58,30],[57,31,57,33]]}
[]
[null,null,null,null,null,null,null,"Real Federación Española de Atletismo"]
[null,null,null,null,null,null,null,"Comité Nacional de Jueces"]
[]
[]
[null,"CERTIFICADO DE HOMOLOGACIÓN"]
[null,{"$f":"CONCATENATE(\"PESO \",AO66,\" gramos\")","v":"PESO  gramos"}]
[]
[]
[]
[]
[null,null,null,null,null,null,null,null,null,null,null,null,"PESO:",null,null,{"$f":"IF(ISERROR(VLOOKUP($W$47,INDIRECT(CONCATENATE(AO56,\"!A8\")):INDIRECT(CONCATENATE(AO56,\"!R207\")),1,FALSE)),\"\",(VLOOKUP($W$47,INDIRECT(CONCATENATE(AO56,\"!A8\")):INDIRECT(CONCATENATE(AO56,\"!R207\")),6,FALSE)))","v":""},null,null,null,null,null,null,null,"g"]
[]
[null,null,null,null,null,null,null,null,null,null,null,null,null,null,null,null,{"$f":"IF(AO66=\"7260\",\"(mínimo 7260 g.)\",IF(AO66=\"6000\",\"(mínimo 6000 g.)\",IF(AO66=\"5000\",\"(mínimo 5000 g.)\",IF(AO66=\"4000\",\"(mínimo 4000 g.)\",IF(AO66=\"3000\",\"(mínimo 3000 g.)\",\"\")))))","v":""}]
[]
[null,null,null,null,null,null,null,"DIÁMETRO:",null,null,null,{"$f":"IF(ISERROR(VLOOKUP($W$47,INDIRECT(CONCATENATE(AO56,\"!A8\")):INDIRECT(CONCATENATE(AO56,\"!R207\")),1,FALSE)),\"\",(VLOOKUP($W$47,INDIRECT(CONCATENATE(AO56,\"!A8\")):INDIRECT(CONCATENATE(AO56,\"!R207\")),9,FALSE)))","v":""},null,null,null,"mm"]
[]
[null,null,null,null,null,null,null,null,null,"mínimo:",null,null,null,{"$f":"CONCATENATE(AF58,\" mm\")","v":" mm"}]
[null,null,null,null,null,null,null,null,null,"máximo:",null,null,null,{"$f":"CONCATENATE(AI58,\" mm\")","v":" mm"}]
[]
[]
[null,null,null,null,null,null,null,null,null,null,null,null,null,null,null,null,null,null,null,null,null,null,null,null,null,null,null,null,null,null,null,null,null,null,null,null,null,null,{"$f":"IF(Y78=1,CONCATENATE(\"Valor MÁX. en D2 para el valor actual de D0: \",P24*80/100,\"mm\"),\"\")","v":""}]
[]
[null,null,null,null,null,"Marca/modelo: ",null,null,null,null,{"$f":"IF(ISERROR(VLOOKUP($W$47,INDIRECT(CONCATENATE(AO56,\"!A8\")):INDIRECT(CONCATENATE(AO56,\"!R207\")),1,FALSE)),\"\",(VLOOKUP($W$47,INDIRECT(CONCATENATE(AO56,\"!A8\")):INDIRECT(CONCATENATE(AO56,\"!R207\")),4,FALSE)))","v":""},null,null,null,null,null,null,null,"Color:",null,{"$f":"IF(ISERROR(VLOOKUP($W$47,INDIRECT(CONCATENATE(AO56,\"!A8\")):INDIRECT(CONCATENATE(AO56,\"!R207\")),1,FALSE)),\"\",IF(VLOOKUP($W$47,INDIRECT(CONCATENATE(AO56,\"!A8\")):INDIRECT(CONCATENATE(AO56,\"!R207\")),18,FALSE)=0,\"\",VLOOKUP($W$47,INDIRECT(CONCATENATE(AO56,\"!A8\")):INDIRECT(CONCATENATE(AO56,\"!R207\")),18,FALSE)))","v":""}]
[]
[null,null,null,null,null,"Propiedad de: ",null,null,null,null,{"$f":"IF(ISERROR(VLOOKUP($W$47,INDIRECT(CONCATENATE(AO56,\"!A8\")):INDIRECT(CONCATENATE(AO56,\"!R207\")),1,FALSE)),\"\",IF(VLOOKUP($W$47,INDIRECT(CONCATENATE(AO56,\"!A8\")):INDIRECT(CONCATENATE(AO56,\"!R207\")),3,FALSE)=0,\"\",IF(VLOOKUP($W$47,INDIRECT(CONCATENATE(AO56,\"!A8\")):INDIRECT(CONCATENATE(AO56,\"!R207\")),3,FALSE)=\"Particular\",VLOOKUP($W$47,INDIRECT(CONCATENATE(AO56,\"!A8\")):INDIRECT(CONCATENATE(AO56,\"!R207\")),17,FALSE),VLOOKUP($W$47,INDIRECT(CONCATENATE(AO56,\"!A8\")):INDIRECT(CONCATENATE(AO56,\"!R207\")),3,FALSE))))","v":""},null,null,null,null,null,null,null,null,null,null,"Cert. IAAF:",null,null,null,{"$f":"IF(ISERROR(VLOOKUP($W$47,INDIRECT(CONCATENATE(AO56,\"!A8\")):INDIRECT(CONCATENATE(AO56,\"!R207\")),1,FALSE)),\"\",IF(VLOOKUP($W$47,INDIRECT(CONCATENATE(AO56,\"!A8\")):INDIRECT(CONCATENATE(AO56,\"!R207\")),5,FALSE)=0,\"\",VLOOKUP($W$47,INDIRECT(CONCATENATE(AO56,\"!A8\")):INDIRECT(CONCATENATE(AO56,\"!R207\")),5,FALSE)))","v":""}]
[null,null,null,null,null,null,null,null,null,null,null,null,null,null,null,null,null,null,null,null,null,{"$f":"IF(AND(F60=3,L27=\"\"),\"Nombre del atleta propietario\",\"\")","v":""}]
[null,null,null,null,null,"Efectuó la homologación:",null,null,null,null,null,null,null,{"$f":"IF(ISERROR(VLOOKUP($W$47,INDIRECT(CONCATENATE(AO56,\"!A8\")):INDIRECT(CONCATENATE(AO56,\"!R207\")),1,FALSE)),\"\",(VLOOKUP($W$47,INDIRECT(CONCATENATE(AO56,\"!A8\")):INDIRECT(CONCATENATE(AO56,\"!R207\")),14,FALSE)))","v":""}]
[]
[null,null,null,null,null,"Competición: ",null,null,null,null,{"$f":"IF(Inicio!D4=\"\",\"FALTA NOMBRE DE COMPETICIÓN\",Inicio!D4)","v":"FALTA NOMBRE DE COMPETICIÓN"}]
[]
[null,null,null,null,null,"OBSERVACIONES:"]
[null,null,null,null,null,null,{"$f":"IF(ISERROR(VLOOKUP($W$47,INDIRECT(CONCATENATE(AO56,\"!A8\")):INDIRECT(CONCATENATE(AO56,\"!R207\")),1,FALSE)),\"\",IF(VLOOKUP($W$47,INDIRECT(CONCATENATE(AO56,\"!A8\")):INDIRECT(CONCATENATE(AO56,\"!R207\")),12,FALSE)=0,\"\",VLOOKUP($W$47,INDIRECT(CONCATENATE(AO56,\"!A8\")):INDIRECT(CONCATENATE(AO56,\"!R207\")),12,FALSE)))","v":""}]
[]
[]
[]
[null,null,null,null,null,null,null,null,null,null,null,null,null,null,null,"Firma:"]
[]
[]
[]
[null,null,null,null,"RESULTADO DE LA HOMOLOGACIÓN"]
[]
[null,null,null,null,null,null,null,null,null,null,null,null,null,null,null,{"$f":"IF(V60=3,\"X\",\"\")","v":""},null,null,"VÁLIDO"]
[]
[null,null,null,null,null,null,null,null,null,null,null,null,null,null,null,{"$f":"IF(AA60>0,\"X\",\"\")","v":""},null,null,"NO VÁLIDO"]
[]
[null,null,null,null,null,null,null,null,null,null,null,null,null,"REFERENCIA:"]
[null,null,null,null,null,null,null,null,null,null,null,null,null,null,null,null,null,null,null," "]
[null,null,null,null,null,null,null,null,null,null,null,null,null,"Fecha:",null,null,{"$f":"IF(ISERROR(VLOOKUP($W$47,INDIRECT(CONCATENATE(AO56,\"!A8\")):INDIRECT(CONCATENATE(AO56,\"!R207\")),1,FALSE)),\"\",(VLOOKUP($W$47,INDIRECT(CONCATENATE(AO56,\"!A8\")):INDIRECT(CONCATENATE(AO56,\"!R207\")),15,FALSE)))","v":""}]
[]
[]
[]
[]
[]
[]
[null,null,null,null,null,null,null,null,null,null,null,null,null,null,null,null,"No chequeado",null,null,null,null,"Correcto",null,null,null,null,"Incorrecto",null,null,null,null,"Mínimo",null,null,"Máximo",null,null,null,null,null,{"$f":"IF(S47<>\"\",IF(AP56<>\"-\",MID(S47,1,9),MID(S47,1,8)),\"\")","v":""},{"$f":"IF(S47<>\"\",MID(S47,9,1),\"\")","v":""}]
[null,null,null,null,1,null,"Peso",null,null,null,null,null,null,null,null,null,{"$f":"IF(P12=\"\",1,\"\")","v":1},null,null,null,null,{"$f":"IF(AND(Q57=\"\",P12>=AF57),1,\"\")","v":""},null,null,null,null,{"$f":"IF(AND(Q57=\"\",V57=\"\"),1,\"\")","v":""},null,null,null,null,{"$f":"IF(AO66=\"7260\",7260,IF(AO66=\"6000\",6000,IF(AO66=\"5000\",5000,IF(AO66=\"4000\",4000,IF(AO66=\"3000\",3000,IF(AO66=\"2000\",2000,\"\"))))))","v":""},null,null,{"$f":"AF57+25","v":{"$error":"#VALUE!"}},null,null,null,1]
[null,null,null,null,2,null,"Diámetro",null,null,null,null,null,null,null,null,null,{"$f":"IF(L16=\"\",1,\"\")","v":1},null,null,null,null,{"$f":"IF(AND(L16>=AF58,L16<=AI58,Q58=\"\"),1,\"\")","v":""},null,null,null,null,{"$f":"IF(AND(Q58=\"\",V58=\"\"),1,\"\")","v":""},null,null,null,null,{"$f":"IF(AO66=\"7260\",110,IF(AO66=\"6000\",105,IF(AO66=\"5000\",100,IF(AO66=\"4000\",95,IF(AO66=\"3000\",85,IF(AO66=\"2000\",80,\"\"))))))","v":""},null,null,{"$f":"IF(AND(AO66=\"7260\",PES.7260!P5=1),130,IF(AND(AO66=\"7260\",PES.7260!P5=2),145,IF(AND(AO66=\"6000\",PES.6000!P5=1),125,IF(AND(AO66=\"6000\",PES.6000!P5=2),140,IF(AND(AO66=\"5000\",PES.5000!P5=1),120,IF(AND(AO66=\"5000\",PES.5000!P5=2),135,IF(AND(AO56=\"PES.4000H\",PES.4000H!P5=1),120,IF(AND(AO56=\"PES.4000H\",PES.4000H!P5=2),130,IF(AND(AO56=\"PES.4000M\",PES.4000M!P5=1),110,IF(AND(AO56=\"PES.4000M\",PES.4000M!P5=2),130,IF(AND(AO56=\"PES.3000H\",PES.3000H!P5=1),120,IF(AND(AO56=\"PES.3000H\",PES.3000H!P5=2),120,IF(AND(AO56=\"PES.3000M\",PES.3000M!P5=1),110,IF(AND(AO56=\"PES.3000M\",PES.3000M!P5=2),120,IF(AO66=\"2000\",90,\"\")))))))))))))))","v":""},null,null,null,{"$f":"AM57+1","v":2},null,"PES.7260-"]
[null,null,null,null,3,null,"Observaciones",null,null,null,null,null,null,null,null,null,null,null,null,null,null,{"$f":"IF(G33=\"\",1,\"\")","v":1},null,null,null,null,{"$f":"IF(G33<>\"\",1,\"\")","v":""},null,null,null,null,null,null,null,null,null,null,null,{"$f":"AM58+1","v":3},null,"PES.6000-"]
[null,null,null,null,null,null,null,null,null,null,null,null,null,null,null,null,{"$f":"SUM(Q57:U58)","v":2},null,null,null,null,{"$f":"SUM(V57:Z59)","v":1},null,null,null,null,{"$f":"SUM(AA57:AE59)","v":0},null,null,null,null,null,null,null,null,null,null,null,4,null,"PES.5000-"]
[null,null,null,null,null,null,null,null,null,null,null,null,null,null,null,null,null,null,null,null,null,null,null,null,null,null,null,null,null,null,null,null,null,null,null,null,null,null,5,null,"PES.4000H-"]
[null,null,null,null,null,null,null,null,null,null,null,null,null,null,null,null,null,null,null,null,null,null,null,null,null,null,null,null,null,null,null,null,null,null,null,null,null,null,6,null,"PES.4000M-"]
[null,null,null,null,null,null,null,null,null,null,null,null,null,null,null,null,null,null,null,null,null,null,null,null,null,null,null,null,null,null,null,null,null,null,null,null,null,null,7,null,"PES.3000H-"]
[null,null,null,null,null,null,null,null,null,null,null,null,null,null,null,null,null,null,null,null,null,null,null,null,null,null,null,null,null,null,null,null,null,null,null,null,null,null,8,null,"PES.3000M-"]
[null,null,null,null,null,null,null,null,null,null,null,null,null,null,null,null,null,null,null,null,null,null,null,null,null,null,null,null,null,null,null,null,null,null,null,null,null,null,9,null,"PES.2000-"]
[null,null,null,null,null,null,null,null,null,null,null,null,null,null,null,null,null,null,null,null,null,null,null,null,null,null,null,null,null,null,null,null,null,null,null,null,null,null,10,null,{"$f":"IF(AO56<>\"\",MID(AO56,5,4),\"\")","v":""},{"$f":"IF(AP56<>\"-\",CONCATENATE(AO66,AP56),\"\")","v":""}]
[null,null,null,null,null,null,null,null,null,null,null,null,null,null,null,null,null,null,null,null,null,null,null,null,null,null,null,null,null,null,null,null,null,null,null,null,null,null,11]
[null,null,null,null,null,null,null,null,null,null,null,null,null,null,null,null,null,null,null,null,null,null,null,null,null,null,null,null,null,null,null,null,null,null,null,null,null,null,12]
[null,null,null,null,null,null,null,null,null,null,null,null,null,null,null,null,null,null,null,null,null,null,null,null,null,null,null,null,null,null,null,null,null,null,null,null,null,null,13]
[null,null,null,null,null,null,null,null,null,null,null,null,null,null,null,null,null,null,null,null,null,null,null,null,null,null,null,null,null,null,null,null,null,null,null,null,null,null,14]
[null,null,null,null,null,null,null,null,null,null,null,null,null,null,null,null,null,null,null,null,null,null,null,null,null,null,null,null,null,null,null,null,null,null,null,null,null,null,15]
[null,null,null,null,null,null,null,null,null,null,null,null,null,null,null,null,null,null,null,null,null,null,null,null,null,null,null,null,null,null,null,null,null,null,null,null,null,null,16]
[null,null,null,null,null,null,null,null,null,null,null,null,null,null,null,null,null,null,null,null,null,null,null,null,null,null,null,null,null,null,null,null,null,null,null,null,null,null,17]
[null,null,null,null,null,null,null,null,null,null,null,null,null,null,null,null,null,null,null,null,null,null,null,null,null,null,null,null,null,null,null,null,null,null,null,null,null,null,18]
[null,null,null,null,null,null,null,null,null,null,null,null,null,null,null,null,null,null,null,null,null,null,null,null,null,null,null,null,null,null,null,null,null,null,null,null,null,null,19]
[null,null,null,null,null,null,null,null,null,null,null,null,null,null,null,null,null,null,null,null,null,null,null,null,null,null,null,null,null,null,null,null,null,null,null,null,null,null,20]
[null,null,null,null,null,null,null,null,null,null,null,null,null,null,null,null,null,null,null,null,null,null,null,null,null,null,null,null,null,null,null,null,null,null,null,null,null,null,21]
[null,null,null,null,null,null,null,null,null,null,null,null,null,null,null,null,null,null,null,null,null,null,null,null,null,null,null,null,null,null,null,null,null,null,null,null,null,null,22]
[null,null,null,null,null,null,null,null,null,null,null,null,null,null,null,null,null,null,null,null,null,null,null,null,null,null,null,null,null,null,null,null,null,null,null,null,null,null,23]
[null,null,null,null,null,null,null,null,null,null,null,null,null,null,null,null,null,null,null,null,null,null,null,null,null,null,null,null,null,null,null,null,null,null,null,null,null,null,24]
[null,null,null,null,null,null,null,null,null,null,null,null,null,null,null,null,null,null,null,null,null,null,null,null,null,null,null,null,null,null,null,null,null,null,null,null,null,null,25]
[null,null,null,null,null,null,null,null,null,null,null,null,null,null,null,null,null,null,null,null,null,null,null,null,null,null,null,null,null,null,null,null,null,null,null,null,null,null,26]
[null,null,null,null,null,null,null,null,null,null,null,null,null,null,null,null,null,null,null,null,null,null,null,null,null,null,null,null,null,null,null,null,null,null,null,null,null,null,27]
[null,null,null,null,null,null,null,null,null,null,null,null,null,null,null,null,null,null,null,null,null,null,null,null,null,null,null,null,null,null,null,null,null,null,null,null,null,null,28]
[null,null,null,null,null,null,null,null,null,null,null,null,null,null,null,null,null,null,null,null,null,null,null,null,null,null,null,null,null,null,null,null,null,null,null,null,null,null,29]
[null,null,null,null,null,null,null,null,null,null,null,null,null,null,null,null,null,null,null,null,null,null,null,null,null,null,null,null,null,null,null,null,null,null,null,null,null,null,30]
[null,null,null,null,null,null,null,null,null,null,null,null,null,null,null,null,null,null,null,null,null,null,null,null,null,null,null,null,null,null,null,null,null,null,null,null,null,null,31]
[null,null,null,null,null,null,null,null,null,null,null,null,null,null,null,null,null,null,null,null,null,null,null,null,null,null,null,null,null,null,null,null,null,null,null,null,null,null,32]
[null,null,null,null,null,null,null,null,null,null,null,null,null,null,null,null,null,null,null,null,null,null,null,null,null,null,null,null,null,null,null,null,null,null,null,null,null,null,33]
[null,null,null,null,null,null,null,null,null,null,null,null,null,null,null,null,null,null,null,null,null,null,null,null,null,null,null,null,null,null,null,null,null,null,null,null,null,null,34]
[null,null,null,null,null,null,null,null,null,null,null,null,null,null,null,null,null,null,null,null,null,null,null,null,null,null,null,null,null,null,null,null,null,null,null,null,null,null,35]
[null,null,null,null,null,null,null,null,null,null,null,null,null,null,null,null,null,null,null,null,null,null,null,null,null,null,null,null,null,null,null,null,null,null,null,null,null,null,36]
[null,null,null,null,null,null,null,null,null,null,null,null,null,null,null,null,null,null,null,null,null,null,null,null,null,null,null,null,null,null,null,null,null,null,null,null,null,null,37]
[null,null,null,null,null,null,null,null,null,null,null,null,null,null,null,null,null,null,null,null,null,null,null,null,null,null,null,null,null,null,null,null,null,null,null,null,null,null,38]
[null,null,null,null,null,null,null,null,null,null,null,null,null,null,null,null,null,null,null,null,null,null,null,null,null,null,null,null,null,null,null,null,null,null,null,null,null,null,39]
[null,null,null,null,null,null,null,null,null,null,null,null,null,null,null,null,null,null,null,null,null,null,null,null,null,null,null,null,null,null,null,null,null,null,null,null,null,null,40]
[null,null,null,null,null,null,null,null,null,null,null,null,null,null,null,null,null,null,null,null,null,null,null,null,null,null,null,null,null,null,null,null,null,null,null,null,null,null,41]
[null,null,null,null,null,null,null,null,null,null,null,null,null,null,null,null,null,null,null,null,null,null,null,null,null,null,null,null,null,null,null,null,null,null,null,null,null,null,42]
[null,null,null,null,null,null,null,null,null,null,null,null,null,null,null,null,null,null,null,null,null,null,null,null,null,null,null,null,null,null,null,null,null,null,null,null,null,null,43]
[null,null,null,null,null,null,null,null,null,null,null,null,null,null,null,null,null,null,null,null,null,null,null,null,null,null,null,null,null,null,null,null,null,null,null,null,null,null,44]
[null,null,null,null,null,null,null,null,null,null,null,null,null,null,null,null,null,null,null,null,null,null,null,null,null,null,null,null,null,null,null,null,null,null,null,null,null,null,45]
[null,null,null,null,null,null,null,null,null,null,null,null,null,null,null,null,null,null,null,null,null,null,null,null,null,null,null,null,null,null,null,null,null,null,null,null,null,null,46]
[null,null,null,null,null,null,null,null,null,null,null,null,null,null,null,null,null,null,null,null,null,null,null,null,null,null,null,null,null,null,null,null,null,null,null,null,null,null,47]
[null,null,null,null,null,null,null,null,null,null,null,null,null,null,null,null,null,null,null,null,null,null,null,null,null,null,null,null,null,null,null,null,null,null,null,null,null,null,48]
[null,null,null,null,null,null,null,null,null,null,null,null,null,null,null,null,null,null,null,null,null,null,null,null,null,null,null,null,null,null,null,null,null,null,null,null,null,null,49]
[null,null,null,null,null,null,null,null,null,null,null,null,null,null,null,null,null,null,null,null,null,null,null,null,null,null,null,null,null,null,null,null,null,null,null,null,null,null,50]
[null,null,null,null,null,null,null,null,null,null,null,null,null,null,null,null,null,null,null,null,null,null,null,null,null,null,null,null,null,null,null,null,null,null,null,null,null,null,51]
[null,null,null,null,null,null,null,null,null,null,null,null,null,null,null,null,null,null,null,null,null,null,null,null,null,null,null,null,null,null,null,null,null,null,null,null,null,null,52]
[null,null,null,null,null,null,null,null,null,null,null,null,null,null,null,null,null,null,null,null,null,null,null,null,null,null,null,null,null,null,null,null,null,null,null,null,null,null,53]
[null,null,null,null,null,null,null,null,null,null,null,null,null,null,null,null,null,null,null,null,null,null,null,null,null,null,null,null,null,null,null,null,null,null,null,null,null,null,54]
[null,null,null,null,null,null,null,null,null,null,null,null,null,null,null,null,null,null,null,null,null,null,null,null,null,null,null,null,null,null,null,null,null,null,null,null,null,null,55]
[null,null,null,null,null,null,null,null,null,null,null,null,null,null,null,null,null,null,null,null,null,null,null,null,null,null,null,null,null,null,null,null,null,null,null,null,null,null,56]
[null,null,null,null,null,null,null,null,null,null,null,null,null,null,null,null,null,null,null,null,null,null,null,null,null,null,null,null,null,null,null,null,null,null,null,null,null,null,57]
[null,null,null,null,null,null,null,null,null,null,null,null,null,null,null,null,null,null,null,null,null,null,null,null,null,null,null,null,null,null,null,null,null,null,null,null,null,null,58]
[null,null,null,null,null,null,null,null,null,null,null,null,null,null,null,null,null,null,null,null,null,null,null,null,null,null,null,null,null,null,null,null,null,null,null,null,null,null,59]
[null,null,null,null,null,null,null,null,null,null,null,null,null,null,null,null,null,null,null,null,null,null,null,null,null,null,null,null,null,null,null,null,null,null,null,null,null,null,60]
[null,null,null,null,null,null,null,null,null,null,null,null,null,null,null,null,null,null,null,null,null,null,null,null,null,null,null,null,null,null,null,null,null,null,null,null,null,null,61]
[null,null,null,null,null,null,null,null,null,null,null,null,null,null,null,null,null,null,null,null,null,null,null,null,null,null,null,null,null,null,null,null,null,null,null,null,null,null,62]
[null,null,null,null,null,null,null,null,null,null,null,null,null,null,null,null,null,null,null,null,null,null,null,null,null,null,null,null,null,null,null,null,null,null,null,null,null,null,63]
[null,null,null,null,null,null,null,null,null,null,null,null,null,null,null,null,null,null,null,null,null,null,null,null,null,null,null,null,null,null,null,null,null,null,null,null,null,null,64]
[null,null,null,null,null,null,null,null,null,null,null,null,null,null,null,null,null,null,null,null,null,null,null,null,null,null,null,null,null,null,null,null,null,null,null,null,null,null,65]
[null,null,null,null,null,null,null,null,null,null,null,null,null,null,null,null,null,null,null,null,null,null,null,null,null,null,null,null,null,null,null,null,null,null,null,null,null,null,66]
[null,null,null,null,null,null,null,null,null,null,null,null,null,null,null,null,null,null,null,null,null,null,null,null,null,null,null,null,null,null,null,null,null,null,null,null,null,null,67]
[null,null,null,null,null,null,null,null,null,null,null,null,null,null,null,null,null,null,null,null,null,null,null,null,null,null,null,null,null,null,null,null,null,null,null,null,null,null,68]
[null,null,null,null,null,null,null,null,null,null,null,null,null,null,null,null,null,null,null,null,null,null,null,null,null,null,null,null,null,null,null,null,null,null,null,null,null,null,69]
[null,null,null,null,null,null,null,null,null,null,null,null,null,null,null,null,null,null,null,null,null,null,null,null,null,null,null,null,null,null,null,null,null,null,null,null,null,null,70]
[null,null,null,null,null,null,null,null,null,null,null,null,null,null,null,null,null,null,null,null,null,null,null,null,null,null,null,null,null,null,null,null,null,null,null,null,null,null,71]
[null,null,null,null,null,null,null,null,null,null,null,null,null,null,null,null,null,null,null,null,null,null,null,null,null,null,null,null,null,null,null,null,null,null,null,null,null,null,72]
[null,null,null,null,null,null,null,null,null,null,null,null,null,null,null,null,null,null,null,null,null,null,null,null,null,null,null,null,null,null,null,null,null,null,null,null,null,null,73]
[null,null,null,null,null,null,null,null,null,null,null,null,null,null,null,null,null,null,null,null,null,null,null,null,null,null,null,null,null,null,null,null,null,null,null,null,null,null,74]
[null,null,null,null,null,null,null,null,null,null,null,null,null,null,null,null,null,null,null,null,null,null,null,null,null,null,null,null,null,null,null,null,null,null,null,null,null,null,75]
[null,null,null,null,null,null,null,null,null,null,null,null,null,null,null,null,null,null,null,null,null,null,null,null,null,null,null,null,null,null,null,null,null,null,null,null,null,null,76]
[null,null,null,null,null,null,null,null,null,null,null,null,null,null,null,null,null,null,null,null,null,null,null,null,null,null,null,null,null,null,null,null,null,null,null,null,null,null,77]
[null,null,null,null,null,null,null,null,null,null,null,null,null,null,null,null,null,null,null,null,null,null,null,null,null,null,null,null,null,null,null,null,null,null,null,null,null,null,78]
[null,null,null,null,null,null,null,null,null,null,null,null,null,null,null,null,null,null,null,null,null,null,null,null,null,null,null,null,null,null,null,null,null,null,null,null,null,null,79]
[null,null,null,null,null,null,null,null,null,null,null,null,null,null,null,null,null,null,null,null,null,null,null,null,null,null,null,null,null,null,null,null,null,null,null,null,null,null,80]
[null,null,null,null,null,null,null,null,null,null,null,null,null,null,null,null,null,null,null,null,null,null,null,null,null,null,null,null,null,null,null,null,null,null,null,null,null,null,81]
[null,null,null,null,null,null,null,null,null,null,null,null,null,null,null,null,null,null,null,null,null,null,null,null,null,null,null,null,null,null,null,null,null,null,null,null,null,null,82]
[null,null,null,null,null,null,null,null,null,null,null,null,null,null,null,null,null,null,null,null,null,null,null,null,null,null,null,null,null,null,null,null,null,null,null,null,null,null,83]
[null,null,null,null,null,null,null,null,null,null,null,null,null,null,null,null,null,null,null,null,null,null,null,null,null,null,null,null,null,null,null,null,null,null,null,null,null,null,84]
[null,null,null,null,null,null,null,null,null,null,null,null,null,null,null,null,null,null,null,null,null,null,null,null,null,null,null,null,null,null,null,null,null,null,null,null,null,null,85]
[null,null,null,null,null,null,null,null,null,null,null,null,null,null,null,null,null,null,null,null,null,null,null,null,null,null,null,null,null,null,null,null,null,null,null,null,null,null,86]
[null,null,null,null,null,null,null,null,null,null,null,null,null,null,null,null,null,null,null,null,null,null,null,null,null,null,null,null,null,null,null,null,null,null,null,null,null,null,87]
[null,null,null,null,null,null,null,null,null,null,null,null,null,null,null,null,null,null,null,null,null,null,null,null,null,null,null,null,null,null,null,null,null,null,null,null,null,null,88]
[null,null,null,null,null,null,null,null,null,null,null,null,null,null,null,null,null,null,null,null,null,null,null,null,null,null,null,null,null,null,null,null,null,null,null,null,null,null,89]
[null,null,null,null,null,null,null,null,null,null,null,null,null,null,null,null,null,null,null,null,null,null,null,null,null,null,null,null,null,null,null,null,null,null,null,null,null,null,90]
[null,null,null,null,null,null,null,null,null,null,null,null,null,null,null,null,null,null,null,null,null,null,null,null,null,null,null,null,null,null,null,null,null,null,null,null,null,null,91]
[null,null,null,null,null,null,null,null,null,null,null,null,null,null,null,null,null,null,null,null,null,null,null,null,null,null,null,null,null,null,null,null,null,null,null,null,null,null,92]
[null,null,null,null,null,null,null,null,null,null,null,null,null,null,null,null,null,null,null,null,null,null,null,null,null,null,null,null,null,null,null,null,null,null,null,null,null,null,93]
[null,null,null,null,null,null,null,null,null,null,null,null,null,null,null,null,null,null,null,null,null,null,null,null,null,null,null,null,null,null,null,null,null,null,null,null,null,null,94]
[null,null,null,null,null,null,null,null,null,null,null,null,null,null,null,null,null,null,null,null,null,null,null,null,null,null,null,null,null,null,null,null,null,null,null,null,null,null,95]
[null,null,null,null,null,null,null,null,null,null,null,null,null,null,null,null,null,null,null,null,null,null,null,null,null,null,null,null,null,null,null,null,null,null,null,null,null,null,96]
[null,null,null,null,null,null,null,null,null,null,null,null,null,null,null,null,null,null,null,null,null,null,null,null,null,null,null,null,null,null,null,null,null,null,null,null,null,null,97]
[null,null,null,null,null,null,null,null,null,null,null,null,null,null,null,null,null,null,null,null,null,null,null,null,null,null,null,null,null,null,null,null,null,null,null,null,null,null,98]
[null,null,null,null,null,null,null,null,null,null,null,null,null,null,null,null,null,null,null,null,null,null,null,null,null,null,null,null,null,null,null,null,null,null,null,null,null,null,99]
[null,null,null,null,null,null,null,null,null,null,null,null,null,null,null,null,null,null,null,null,null,null,null,null,null,null,null,null,null,null,null,null,null,null,null,null,null,null,100]

{"sheet":"Imp. Listón","index":11,"n_rows":79,"n_cols":41,"rows_kept":79,"cut":false,"hidden":true,"merged":[[1,7,1,32],[2,7,2,32],[3,7,3,32],[5,1,5,37],[10,10,10,20],[13,1,13,3],[13,15,13,20],[17,15,17,20],[17,1,17,3],[6,1,7,37],[10,24,10,32],[44,7,44,13],[44,16,44,26],[53,5,53,17],[46,7,46,26],[44,29,46,36],[50,7,50,26],[21,33,21,34],[23,33,23,34],[15,1,15,3],[15,15,15,20],[33,1,33,3],[25,1,25,3],[25,15,25,20],[27,1,27,3],[27,15,27,20],[29,33,29,34],[33,21,33,24],[53,32,53,33],[58,21,58,25],[57,16,57,20],[67,6,67,15],[66,16,66,20],[62,6,62,15],[69,16,69,20],[69,21,69,25],[35,1,35,3],[35,21,35,24],[38,4,39,35],[60,6,60,15],[59,21,59,25],[59,26,59,30],[58,26,58,30],[57,21,57,25],[57,26,57,30],[60,34,60,36],[59,34,59,36],[57,31,57,33],[57,34,57,36],[58,34,58,36],[41,0,42,16383],[58,31,58,33],[53,34,53,35],[61,16,61,20],[63,6,63,15],[66,6,66,15],[69,6,69,15],[59,6,59,15],[59,16,59,20],[60,16,60,20],[58,6,58,15],[58,16,58,20],[70,16,70,20],[70,26,70,30],[70,21,70,25],[68,6,68,15],[66,21,66,25],[65,34,65,36],[65,31,65,33],[61,21,61,25],[61,31,61,33],[61,34,61,36],[64,34,64,36],[64,31,64,33],[63,21,63,25],[63,26,63,30],[62,21,62,25],[68,34,68,36],[67,26,67,30],[68,26,68,30],[67,16,67,20],[68,21,68,25],[67,34,67,36],[67,21,67,25],[68,16,68,20],[68,31,68,33],[69,26,69,30],[21,25,21,31],[23,25,23,31],[29,25,29,31],[64,16,64,20],[65,16,65,20],[66,26,66,30],[62,26,62,30],[60,31,60,33],[59,31,59,33],[60,21,60,25],[60,26,60,30],[61,26,61,30],[63,16,63,20],[62,16,62,20],[53,21,53,26],[48,11,48,26],[65,26,65,30],[65,6,65,15],[65,21,65,25],[64,6,64,15],[61,6,61,15],[64,21,64,25],[64,26,64,30]]}
[]
[null,null,null,null,null,null,null,"Real Federación Española de Atletismo"]
[null,null,null,null,null,null,null,"Comité Nacional de Jueces"]
[]
[]
[null,"CERTIFICADO DE HOMOLOGACIÓN"]
[null,{"$f":"IF(AG54<>\"\",IF(AG54=\"LA-\",\"LISTÓN SALTO DE ALTURA\",\"LISTÓN SALTO CON PÉRTIGA\"),\"\")","v":""}]
[]
[]
[]
[null,null,null,null,null,null,"MATERIAL:",null,null,null,{"$f":"IF(ISERROR(VLOOKUP($AI$54,INDIRECT(CONCATENATE(AO58,\"!A8\")):INDIRECT(CONCATENATE(AO58,\"!AR47\")),1,FALSE)),\"\",(VLOOKUP($AI$54,INDIRECT(CONCATENATE(AO58,\"!A8\")):INDIRECT(CONCATENATE(AO58,\"!AR47\")),11,FALSE)))","v":""}]
[]
[]
[null,null,null,null,null,"(A)","f ","SECCIÓN CIRCULAR.. :",null,null,null,null,null,null,null,{"$f":"IF(ISERROR(VLOOKUP($AI$54,INDIRECT(CONCATENATE(AO58,\"!A8\")):INDIRECT(CONCATENATE(AO58,\"!AR47\")),1,FALSE)),\"\",(VLOOKUP($AI$54,INDIRECT(CONCATENATE(AO58,\"!A8\")):INDIRECT(CONCATENATE(AO58,\"!AR47\")),14,FALSE)))","v":""},null,null,null,null,null,null,"mm",null,"(29 a 31 mm)"]
[]
[null,null,null,null,null,null,"LONGITUD TOTAL........... :",null,null,null,null,null,null,null,null,{"$f":"IF(ISERROR(VLOOKUP($AI$54,INDIRECT(CONCATENATE(AO58,\"!A8\")):INDIRECT(CONCATENATE(AO58,\"!AR47\")),1,FALSE)),\"\",(VLOOKUP($AI$54,INDIRECT(CONCATENATE(AO58,\"!A8\")):INDIRECT(CONCATENATE(AO58,\"!AR47\")),8,FALSE)))","v":""},null,null,null,null,null,null,"mm",null,{"$f":"IF(AG54=\"LA-\",\"(de 3.980 a 4.020 mm.)\",IF(AG54=\"LP-\",\"(de 4.480 a 4.520 mm.)\",\"\"))","v":""}]
[]
[null,null,null,null,null,null,"PESO............................. :",null,null,null,null,null,null,null,null,{"$f":"IF(ISERROR(VLOOKUP($AI$54,INDIRECT(CONCATENATE(AO58,\"!A8\")):INDIRECT(CONCATENATE(AO58,\"!AR47\")),1,FALSE)),\"\",(VLOOKUP($AI$54,INDIRECT(CONCATENATE(AO58,\"!A8\")):INDIRECT(CONCATENATE(AO58,\"!AR47\")),5,FALSE)))","v":""},null,null,null,null,null,null,"g",null,{"$f":"IF(AG54=\"LA-\",\"(máximo 2.000 g.)\",IF(AG54=\"LP-\",\"(máximo 2.250 g.)\",\"\"))","v":""}]
[]
[null,null,null,null,null,null,"EXTREMOS .................... :"]
[]
[null,null,null,null,null,null,null,null,"Circulares o semicirculares con superficie plana....:    ",null,null,null,null,null,null,null,null,null,null,null,null,null,null,null,null,{"$f":"IF(ISERROR(VLOOKUP($AI$54,INDIRECT(CONCATENATE(AO58,\"!A8\")):INDIRECT(CONCATENATE(AO58,\"!AR47\")),1,FALSE)),\"\",(VLOOKUP($AI$54,INDIRECT(CONCATENATE(AO58,\"!A8\")):INDIRECT(CONCATENATE(AO58,\"!AR47\")),23,FALSE)))","v":""}]
[]
[null,null,null,null,null,null,null,null,"Superficie plana debajo centro secc tranversal ver..:",null,null,null,null,null,null,null,null,null,null,null,null,null,null,null,null,{"$f":"IF(ISERROR(VLOOKUP($AI$54,INDIRECT(CONCATENATE(AO58,\"!A8\")):INDIRECT(CONCATENATE(AO58,\"!AR47\")),1,FALSE)),\"\",(VLOOKUP($AI$54,INDIRECT(CONCATENATE(AO58,\"!A8\")):INDIRECT(CONCATENATE(AO58,\"!AR47\")),26,FALSE)))","v":""}]
[]
[null,null,null,null,null,"(B)",null,null,"Ancho.................... :",null,null,null,null,null,null,{"$f":"IF(ISERROR(VLOOKUP($AI$54,INDIRECT(CONCATENATE(AO58,\"!A8\")):INDIRECT(CONCATENATE(AO58,\"!AR47\")),1,FALSE)),\"\",(VLOOKUP($AI$54,INDIRECT(CONCATENATE(AO58,\"!A8\")):INDIRECT(CONCATENATE(AO58,\"!AR47\")),17,FALSE)))","v":""},null,null,null,null,null,null,"mm",null,"  (30 a 35 mm)"]
[]
[null,null,null,null,null,"(C)",null,null,"Largo..................... :",null,null,null,null,null,null,{"$f":"IF(ISERROR(VLOOKUP($AI$54,INDIRECT(CONCATENATE(AO58,\"!A8\")):INDIRECT(CONCATENATE(AO58,\"!AR47\")),1,FALSE)),\"\",(VLOOKUP($AI$54,INDIRECT(CONCATENATE(AO58,\"!A8\")):INDIRECT(CONCATENATE(AO58,\"!AR47\")),20,FALSE)))","v":""},null,null,null,null,null,null,"mm",null,"  (150 a 200 mm)"]
[]
[null,null,null,null,null,null,null,null,"Duros y lisos.......................................................:",null,null,null,null,null,null,null,null,null,null,null,null,null,null,null,null,{"$f":"IF(ISERROR(VLOOKUP($AI$54,INDIRECT(CONCATENATE(AO58,\"!A8\")):INDIRECT(CONCATENATE(AO58,\"!AR47\")),1,FALSE)),\"\",(VLOOKUP($AI$54,INDIRECT(CONCATENATE(AO58,\"!A8\")):INDIRECT(CONCATENATE(AO58,\"!AR47\")),29,FALSE)))","v":""}]
[]
[null,null,null,null,null,null,"COMBADURA................. :"]
[]
[null,null,null,null,null,null,null,null,"En reposo sobre los saltómetros........:  ",null,null,null,null,null,null,null,null,null,null,null,null,{"$f":"IF(ISERROR(VLOOKUP($AI$54,INDIRECT(CONCATENATE(AO58,\"!A8\")):INDIRECT(CONCATENATE(AO58,\"!AR47\")),1,FALSE)),\"\",(VLOOKUP($AI$54,INDIRECT(CONCATENATE(AO58,\"!A8\")):INDIRECT(CONCATENATE(AO58,\"!AR47\")),32,FALSE)))","v":""},null,null,null,null,"mm",null,{"$f":"IF(AG54=\"LA-\",\"(máximo 20 mm.)\",IF(AG54=\"LP-\",\"(máximo 30 mm.)\",\"\"))","v":""}]
[]
[null,null,null,null,null,null,null,null,"Con peso de 3 Kgs. Se comba..........:  ",null,null,null,null,null,null,null,null,null,null,null,null,{"$f":"IF(ISERROR(VLOOKUP($AI$54,INDIRECT(CONCATENATE(AO58,\"!A8\")):INDIRECT(CONCATENATE(AO58,\"!AR47\")),1,FALSE)),\"\",(VLOOKUP($AI$54,INDIRECT(CONCATENATE(AO58,\"!A8\")):INDIRECT(CONCATENATE(AO58,\"!AR47\")),35,FALSE)))","v":""},null,null,null,null,"mm",null,{"$f":"IF(AG54=\"LA-\",\"(máximo 70 mm.)\",IF(AG54=\"LP-\",\"(máximo 110 mm.)\",\"\"))","v":""}]
[]
[null,null,null,"OBSERVACIONES:"]
[null,null,null,null,{"$f":"IF(ISERROR(VLOOKUP($AI$54,INDIRECT(CONCATENATE(AO58,\"!A8\")):INDIRECT(CONCATENATE(AO58,\"!AR47\")),1,FALSE)),\"\",IF(VLOOKUP($AI$54,INDIRECT(CONCATENATE(AO58,\"!A8\")):INDIRECT(CONCATENATE(AO58,\"!AR47\")),38,FALSE)=0,\"\",VLOOKUP($AI$54,INDIRECT(CONCATENATE(AO58,\"!A8\")):INDIRECT(CONCATENATE(AO58,\"!AR47\")),38,FALSE)))","v":""}]
[]
[]
[]
[]
[]
[null,"   Marca/modelo: ",null,null,null,null,null,{"$f":"IF(ISERROR(VLOOKUP($AI$54,INDIRECT(CONCATENATE(AO58,\"!A8\")):INDIRECT(CONCATENATE(AO58,\"!AR47\")),1,FALSE)),\"\",(VLOOKUP($AI$54,INDIRECT(CONCATENATE(AO58,\"!A8\")):INDIRECT(CONCATENATE(AO58,\"!AR47\")),4,FALSE)))","v":""},null,null,null,null,null,null,"Color:",null,{"$f":"IF(ISERROR(VLOOKUP($AI$54,INDIRECT(CONCATENATE(AO58,\"!A8\")):INDIRECT(CONCATENATE(AO58,\"!AR47\")),1,FALSE)),\"\",IF(VLOOKUP($AI$54,INDIRECT(CONCATENATE(AO58,\"!A8\")):INDIRECT(CONCATENATE(AO58,\"!AR47\")),44,FALSE)=0,\"\",VLOOKUP($AI$54,INDIRECT(CONCATENATE(AO58,\"!A8\")):INDIRECT(CONCATENATE(AO58,\"!AR47\")),44,FALSE)))","v":""},null,null,null,null,null,null,null,null,null,null,null,null,"RESULTADO DE LA HOMOLOGACIÓN"]
[]
[null,"   Propiedad de: ",null,null,null,null,null,{"$f":"IF(ISERROR(VLOOKUP($AI$54,INDIRECT(CONCATENATE(AO58,\"!A8\")):INDIRECT(CONCATENATE(AO58,\"!AR47\")),1,FALSE)),\"\",IF(VLOOKUP($AI$54,INDIRECT(CONCATENATE(AO58,\"!A8\")):INDIRECT(CONCATENATE(AO58,\"!AR47\")),3,FALSE)=0,\"\",IF(VLOOKUP($AI$54,INDIRECT(CONCATENATE(AO58,\"!A8\")):INDIRECT(CONCATENATE(AO58,\"!AR47\")),3,FALSE)=\"Particular\",VLOOKUP($AI$54,INDIRECT(CONCATENATE(AO58,\"!A8\")):INDIRECT(CONCATENATE(AO58,\"!AR47\")),43,FALSE),VLOOKUP($AI$54,INDIRECT(CONCATENATE(AO58,\"!A8\")):INDIRECT(CONCATENATE(AO58,\"!AR47\")),3,FALSE))))","v":""}]
[]
[null,"   Efectuó la homologación: ",null,null,null,null,null,null,null,null,null,{"$f":"IF(ISERROR(VLOOKUP($AI$54,INDIRECT(CONCATENATE(AO58,\"!A8\")):INDIRECT(CONCATENATE(AO58,\"!AO23\")),1,FALSE)),\"\",(VLOOKUP($AI$54,INDIRECT(CONCATENATE(AO58,\"!A8\")):INDIRECT(CONCATENATE(AO58,\"!AO23\")),40,FALSE)))","v":""},null,null,null,null,null,null,null,null,null,null,null,null,null,null,null,null,null,null,{"$f":"IF(V71=12,\"X\",\"\")","v":""},null,"VÁLIDO"]
[]
[null,"   Competición:",null,null,null,null,null,{"$f":"IF(Inicio!D4=\"\",\"FALTA NOMBRE DE COMPETICIÓN\",Inicio!D4)","v":"FALTA NOMBRE DE COMPETICIÓN"},null,null,null,null,null,null,null,null,null,null,null,null,null,null,null,null,null,null,null,null,null,null,{"$f":"IF(AA71>0,\"X\",\"\")","v":""},null,"NO VÁLIDO"]
[]
[]
[null,"   Firma: ",null,null,null,null,null,null,null,null,null,null,null,null,null,null,null,null,"  Fecha: ",null,null,{"$f":"IF(ISERROR(VLOOKUP($AI$54,INDIRECT(CONCATENATE(AO58,\"!A8\")):INDIRECT(CONCATENATE(AO58,\"!AO23\")),1,FALSE)),\"\",(VLOOKUP($AI$54,INDIRECT(CONCATENATE(AO58,\"!A8\")):INDIRECT(CONCATENATE(AO58,\"!AO23\")),41,FALSE)))","v":""},null,null,null,null,null,null,null,"REFER.:"]
[]
[]
[]
[null,null,null,null,null,null,null,null,null,null,null,null,null,null,null,null,"No chequeado",null,null,null,null,"Correcto",null,null,null,null,"Incorrecto",null,null,null,null,"Mínimo",null,null,"Máximo",null,null,null,null,null,{"$f":"IF(AG54<>\"\",IF(AG54=\"LA-\",\"LIS.ALT\",\"LIS.PER\"),\"\")","v":""}]
[null,null,null,1,1,null,"Material adecuado:",null,null,null,null,null,null,null,null,null,{"$f":"IF(K11=\"\",1,\"\")","v":1},null,null,null,null,{"$f":"IF(Q59=1,\"\",IF(K11=\"Adecuado\",1,\"\"))","v":""},null,null,null,null,{"$f":"IF(Q59=\"\",IF(V59=\"\",1,\"\"),\"\")","v":""}]
[null,null,null,null,2,null,"Diámetro sección circular:",null,null,null,null,null,null,null,null,null,{"$f":"IF(P14=\"\",1,\"\")","v":1},null,null,null,null,{"$f":"IF(P14>=AF60,IF(P14<=AI60,1,\"\"),\"\")","v":""},null,null,null,null,{"$f":"IF(Q60=\"\",IF(V60=\"\",1,\"\"),\"\")","v":""},null,null,null,null,29,null,null,31,null,null,null,1,null,"LA-"]
[null,null,null,null,3,null,"Longitud total",null,null,null,null,null,null,null,null,null,{"$f":"IF(P16=\"\",1,\"\")","v":1},null,null,null,null,{"$f":"IF(P16>=AF61,IF(P16<=AI61,1,\"\"),\"\")","v":1},null,null,null,null,{"$f":"IF(Q61=\"\",IF(V61=\"\",1,\"\"),\"\")","v":""},null,null,null,null,{"$f":"IF(AG54=\"LA-\",3980,IF(AG54=\"LP-\",4480,\"\"))","v":""},null,null,{"$f":"IF(AG54=\"LA-\",4020,IF(AG54=\"LP-\",4520,\"\"))","v":""},null,null,null,2,null,"LP-"]
[null,null,null,null,4,null,"Peso",null,null,null,null,null,null,null,null,null,{"$f":"IF(P18=\"\",1,\"\")","v":1},null,null,null,null,{"$f":"IF(Q62=1,\"\",IF(P18<=AI62,1,\"\"))","v":""},null,null,null,null,{"$f":"IF(Q62=\"\",IF(V62=\"\",1,\"\"),\"\")","v":""},null,null,null,null,null,null,null,{"$f":"IF(AG54=\"LA-\",2000,IF(AG54=\"LP-\",2250,\"\"))","v":""},null,null,null,3]
[null,null,null,0,5,null,"Extremos secc circ o semicirc",null,null,null,null,null,null,null,null,null,{"$f":"IF(Z22=\"\",1,\"\")","v":1},null,null,null,null,{"$f":"IF(Q63=1,\"\",IF(Z22=\"Correcto\",1,\"\"))","v":""},null,null,null,null,{"$f":"IF(Q63=\"\",IF(V63=\"\",1,\"\"),\"\")","v":""},null,null,null,null,null,null,null,null,null,null,null,4]
[null,null,null,0,6,null,"Sup plana debajo centro...",null,null,null,null,null,null,null,null,null,{"$f":"IF(Z24=\"\",1,\"\")","v":1},null,null,null,null,{"$f":"IF(Q64=1,\"\",IF(Z24=\"Correcto\",1,\"\"))","v":""},null,null,null,null,"",null,null,null,null,null,null,null,null,null,null,null,5]
[null,null,null,null,7,null,"Ancho de los extremos",null,null,null,null,null,null,null,null,null,{"$f":"IF(P26=\"\",1,\"\")","v":1},null,null,null,null,{"$f":"IF(P26>=AF65,IF(P26<=AI65,1,\"\"),\"\")","v":""},null,null,null,null,{"$f":"IF(Q65=\"\",IF(V65=\"\",1,\"\"),\"\")","v":""},null,null,null,null,30,null,null,35,null,null,null,6]
[null,null,null,null,8,null,"Longitud de los extremos",null,null,null,null,null,null,null,null,null,{"$f":"IF(P28=\"\",1,\"\")","v":1},null,null,null,null,{"$f":"IF(P28>=AF66,IF(P28<=AI66,1,\"\"),\"\")","v":""},null,null,null,null,{"$f":"IF(Q66=\"\",IF(V66=\"\",1,\"\"),\"\")","v":""},null,null,null,null,150,null,null,200,null,null,null,7]
[null,null,null,2,9,null,"Extremos duros y lisos",null,null,null,null,null,null,null,null,null,{"$f":"IF(Z30=\"\",1,\"\")","v":1},null,null,null,null,{"$f":"IF(Q67=1,\"\",IF(Z30=\"Correcto\",1,\"\"))","v":""},null,null,null,null,{"$f":"IF(Q67=\"\",IF(V67=\"\",1,\"\"),\"\")","v":""},null,null,null,null,null,null,null,null,null,null,null,8]
[null,null,null,null,10,null,"Combadura en reposo",null,null,null,null,null,null,null,null,null,{"$f":"IF(V34=\"\",1,\"\")","v":1},null,null,null,null,{"$f":"IF(Q68=1,\"\",IF(V34<=AI68,1,\"\"))","v":""},null,null,null,null,{"$f":"IF(Q68=\"\",IF(V68=\"\",1,\"\"),\"\")","v":""},null,null,null,null,null,null,null,{"$f":"IF(AG54=\"LA-\",20,IF(AG54=\"LP-\",30,\"\"))","v":""},null,null,null,9]
[null,null,null,null,11,null,"Combadura con peso",null,null,null,null,null,null,null,null,null,{"$f":"IF(V36=\"\",1,\"\")","v":1},null,null,null,null,{"$f":"IF(Q69=1,\"\",IF(V36<=AI69,1,\"\"))","v":""},null,null,null,null,{"$f":"IF(Q69=\"\",IF(V69=\"\",1,\"\"),\"\")","v":""},null,null,null,null,null,null,null,{"$f":"IF(AG54=\"LA-\",70,IF(AG54=\"LP-\",110,\"\"))","v":""},null,null,null,10]
[null,null,null,null,12,null,"Observaciones",null,null,null,null,null,null,null,null,null,null,null,null,null,null,{"$f":"IF(E39=\"\",1,\"\")","v":1},null,null,null,null,{"$f":"IF(E39<>\"\",1,\"\")","v":""},null,null,null,null,null,null,null,null,null,null,null,11]
[null,null,null,null,null,null,null,null,null,null,null,null,null,null,null,null,{"$f":"SUM(Q59:U69)","v":11},null,null,null,null,{"$f":"SUM(V59:Z70)","v":2},null,null,null,null,{"$f":"SUM(AA59:AE70)","v":0},null,null,null,null,null,null,null,null,null,null,null,12]
[null,null,null,null,null,null,null,null,null,null,null,null,null,null,null,null,null,null,null,null,null,null,null,null,null,null,null,null,null,null,null,null,null,null,null,null,null,null,13]
[null,null,null,null,null,null,null,null,null,null,null,null,null,null,null,null,null,null,null,null,null,null,null,null,null,null,null,null,null,null,null,null,null,null,null,null,null,null,14]
[null,null,null,null,null,null,null,null,null,null,null,null,null,null,null,null,null,null,null,null,null,null,null,null,null,null,null,null,null,null,null,null,null,null,null,null,null,null,15]
[null,null,null,null,null,null,null,null,null,null,null,null,null,null,null,null,null,null,null,null,null,null,null,null,null,null,null,null,null,null,null,null,null,null,null,null,null,null,16]
[null,null,null,null,null,null,null,null,null,null,null,null,null,null,null,null,null,null,null,null,null,null,null,null,null,null,null,null,null,null,null,null,null,null,null,null,null,null,17]
[null,null,null,null,null,null,null,null,null,null,null,null,null,null,null,null,null,null,null,null,null,null,null,null,null,null,null,null,null,null,null,null,null,null,null,null,null,null,18]
[null,null,null,null,null,null,null,null,null,null,null,null,null,null,null,null,null,null,null,null,null,null,null,null,null,null,null,null,null,null,null,null,null,null,null,null,null,null,19]
[null,null,null,null,null,null,null,null,null,null,null,null,null,null,null,null,null,null,null,null,null,null,null,null,null,null,null,null,null,null,null,null,null,null,null,null,null,null,20]

{"sheet":"Imp. Testigo","index":12,"n_rows":76,"n_cols":39,"rows_kept":76,"cut":false,"hidden":true,"merged":[[1,7,1,32],[2,7,2,32],[3,7,3,32],[5,1,5,37],[14,5,14,6],[45,34,45,36],[46,34,46,36],[44,34,44,36],[43,34,43,36],[6,1,7,37],[11,4,11,5],[11,15,11,22],[14,11,14,13],[20,4,20,5],[14,24,14,26],[17,11,17,13],[17,5,17,6],[33,6,35,31],[38,17,38,31],[42,4,42,33],[50,16,50,24],[24,10,24,17],[24,20,24,30],[25,20,25,31],[27,11,27,20],[27,21,27,30],[28,13,28,31],[30,10,30,31],[26,10,26,31],[55,16,55,20],[55,21,55,25],[55,26,55,30],[55,31,55,33],[55,34,55,36],[60,16,60,20],[60,21,60,25],[60,26,60,30],[56,34,56,36],[57,6,57,15],[57,16,57,20],[57,21,57,25],[57,26,57,30],[57,31,57,33],[57,34,57,36],[56,6,56,15],[56,16,56,20],[56,21,56,25],[56,26,56,30],[56,31,56,33],[58,34,58,36],[58,31,58,33],[59,6,59,15],[59,16,59,20],[59,21,59,25],[59,26,59,30],[58,6,58,15],[58,16,58,20],[58,21,58,25],[58,26,58,30]]}
[]
[null,null,null,null,null,null,null,"Real Federación Española de Atletismo"]
[null,null,null,null,null,null,null,"Comité Nacional de Jueces"]
[]
[]
[null,"CERTIFICADO DE HOMOLOGACIÓN"]
[null,"TESTIGO"]
[]
[]
[]
[]
[null,null,null,null,null,null,null,null,null,"PESO:",null,null,null,null,null,{"$f":"IF(ISERROR(VLOOKUP($T$49,TESTIGOS!A8:'TESTIGOS'!T27,1,FALSE)),\"\",(VLOOKUP($T$49,TESTIGOS!A8:'TESTIGOS'!T27,5,FALSE)))","v":""},null,null,null,null,null,null,null,"g (mínimo 50 g)"]
[]
[]
[null,null,null,null,null,null,null,"DIÁMETRO:",null,null,null,{"$f":"IF(ISERROR(VLOOKUP($T$49,TESTIGOS!A8:'TESTIGOS'!T27,1,FALSE)),\"\",(VLOOKUP($T$49,TESTIGOS!A8:'TESTIGOS'!T27,8,FALSE)))","v":""},null,null,"mm (38 a 42 mm)"]
[]
[]
[null,null,null,null,null,null,null,"LONGITUD:",null,null,null,{"$f":"IF(ISERROR(VLOOKUP($T$49,TESTIGOS!A8:'TESTIGOS'!T27,1,FALSE)),\"\",(VLOOKUP($T$49,TESTIGOS!A8:'TESTIGOS'!T27,11,FALSE)))","v":""},null,null,"mm (280 a 300 mm)"]
[]
[null,null,null,null,null,null,null,null,null,null,null,null," "]
[]
[]
[]
[]
[null,null,null,null,null,"Marca/modelo: ",null,null,null,null,{"$f":"IF(ISERROR(VLOOKUP($T$49,TESTIGOS!A8:'TESTIGOS'!T27,1,FALSE)),\"\",(VLOOKUP($T$49,TESTIGOS!A8:'TESTIGOS'!T27,4,FALSE)))","v":""},null,null,null,null,null,null,null,"Color:",null,{"$f":"IF(ISERROR(VLOOKUP($T$49,TESTIGOS!A8:'TESTIGOS'!T27,1,FALSE)),\"\",IF(VLOOKUP($T$49,TESTIGOS!A8:'TESTIGOS'!T27,20,FALSE)=0,\"\",VLOOKUP($T$49,TESTIGOS!A8:'TESTIGOS'!T27,20,FALSE)))","v":""}]
[]
[null,null,null,null,null,"Propiedad de: ",null,null,null,null,{"$f":"IF(ISERROR(VLOOKUP($T$49,TESTIGOS!A8:'TESTIGOS'!T27,1,FALSE)),\"\",IF(VLOOKUP($T$49,TESTIGOS!A8:'TESTIGOS'!T27,3,FALSE)=0,\"\",IF(VLOOKUP($T$49,TESTIGOS!A8:'TESTIGOS'!T27,3,FALSE)=\"Particular\",VLOOKUP($T$49,TESTIGOS!A8:'TESTIGOS'!T27,19,FALSE),VLOOKUP($T$49,TESTIGOS!A8:'TESTIGOS'!T27,3,FALSE))))","v":""}]
[null,null,null,null,null,null,null,null,null,null,null,null,null,null,null,null,null,null,null,null,null,{"$f":"IF(AND(F63=3,L28=\"\"),\"Nombre del atleta propietario\",\"\")","v":""}]
[null,null,null,null,null,"Efectuó la homologación:",null,null,null,null,null,null,null,{"$f":"IF(ISERROR(VLOOKUP($T$49,TESTIGOS!A8:'TESTIGOS'!T27,1,FALSE)),\"\",(VLOOKUP($T$49,TESTIGOS!A8:'TESTIGOS'!T27,16,FALSE)))","v":""}]
[]
[null,null,null,null,null,"Competición: ",null,null,null,null,{"$f":"IF(Inicio!D4=\"\",\"FALTA NOMBRE DE COMPETICIÓN\",Inicio!D4)","v":"FALTA NOMBRE DE COMPETICIÓN"}]
[]
[null,null,null,null,null,"OBSERVACIONES:"]
[null,null,null,null,null,null,{"$f":"IF(ISERROR(VLOOKUP($T$49,TESTIGOS!A8:'TESTIGOS'!T27,1,FALSE)),\"\",IF(VLOOKUP($T$49,TESTIGOS!A8:'TESTIGOS'!T27,14,FALSE)=0,\"\",VLOOKUP($T$49,TESTIGOS!A8:'TESTIGOS'!T27,14,FALSE)))","v":""}]
[]
[]
[]
[]
[null,null,null,null,null,null,null,null,null,null,null,null,null,null,null,"Firma:"]
[]
[]
[]
[null,null,null,null,"RESULTADO DE LA HOMOLOGACIÓN"]
[]
[null,null,null,null,null,null,null,null,null,null,null,null,null,null,null,{"$f":"IF(V61=4,\"X\",\"\")","v":""},null,null,"VÁLIDO"]
[]
[null,null,null,null,null,null,null,null,null,null,null,null,null,null,null,{"$f":"IF(AA61>0,\"X\",\"\")","v":""},null,null,"NO VÁLIDO"]
[]
[null,null,null,null,null,null,null,null,null,null,null,null,null,"REFERENCIA:",null,null,null,null,"T-"]
[null,null,null,null,null,null,null,null,null,null,null,null,null,null,null,null,null,null,null," "]
[null,null,null,null,null,null,null,null,null,null,null,null,null,"Fecha:",null,null,{"$f":"IF(ISERROR(VLOOKUP($T$49,TESTIGOS!A8:'TESTIGOS'!T27,1,FALSE)),\"\",(VLOOKUP($T$49,TESTIGOS!A8:'TESTIGOS'!T27,17,FALSE)))","v":""}]
[]
[]
[]
[]
[null,null,null,null,null,null,null,null,null,null,null,null,null,null,null,null,"No chequeado",null,null,null,null,"Correcto",null,null,null,null,"Incorrecto",null,null,null,null,"Mínimo",null,null,"Máximo"]
[null,null,null,null,1,null,"Peso",null,null,null,null,null,null,null,null,null,{"$f":"IF(P12=\"\",1,\"\")","v":1},null,null,null,null,{"$f":"IF(P12>=AF57,1,\"\")","v":1},null,null,null,null,{"$f":"IF(Q57=\"\",IF(V57=\"\",1,\"\"),\"\")","v":""},null,null,null,null,50,null,null,null,null,null,null,1]
[null,null,null,null,2,null,"Diámetro",null,null,null,null,null,null,null,null,null,{"$f":"IF(L15=\"\",1,\"\")","v":1},null,null,null,null,{"$f":"IF(L15>=AF58,IF(L15<=AI58,1,\"\"),\"\")","v":""},null,null,null,null,{"$f":"IF(Q58=\"\",IF(V58=\"\",1,\"\"),\"\")","v":""},null,null,null,null,38,null,null,42,null,null,null,2]
[null,null,null,null,3,null,"Longitud",null,null,null,null,null,null,null,null,null,{"$f":"IF(L18=\"\",1,\"\")","v":1},null,null,null,null,{"$f":"IF(L18>=AF59,IF(L18<=AI59,1,\"\"),\"\")","v":""},null,null,null,null,{"$f":"IF(Q59=\"\",IF(V59=\"\",1,\"\"),\"\")","v":""},null,null,null,null,280,null,null,300,null,null,null,3]
[null,null,null,null,4,null,"Observaciones",null,null,null,null,null,null,null,null,null,null,null,null,null,null,{"$f":"IF(G34=\"\",1,\"\")","v":1},null,null,null,null,{"$f":"IF(G34<>\"\",1,\"\")","v":""},null,null,null,null,null,null,null,null,null,null,null,4]
[null,null,null,null,null,null,null,null,null,null,null,null,null,null,null,null,{"$f":"SUM(Q57:U60)","v":3},null,null,null,null,{"$f":"SUM(V57:Z60)","v":2},null,null,null,null,{"$f":"SUM(AA57:AE60)","v":0},null,null,null,null,null,null,null,null,null,null,null,5]
[null,null,null,null,null,null,null,null,null,null,null,null,null,null,null,null,null,null,null,null,null,null,null,null,null,null,null,null,null,null,null,null,null,null,null,null,null,null,6]
[null,null,null,null,null,null,null,null,null,null,null,null,null,null,null,null,null,null,null,null,null,null,null,null,null,null,null,null,null,null,null,null,null,null,null,null,null,null,7]
[null,null,null,null,null,null,null,null,null,null,null,null,null,null,null,null,null,null,null,null,null,null,null,null,null,null,null,null,null,null,null,null,null,null,null,null,null,null,8]
[null,null,null,null,null,null,null,null,null,null,null,null,null,null,null,null,null,null,null,null,null,null,null,null,null,null,null,null,null,null,null,null,null,null,null,null,null,null,9]
[null,null,null,null,null,null,null,null,null,null,null,null,null,null,null,null,null,null,null,null,null,null,null,null,null,null,null,null,null,null,null,null,null,null,null,null,null,null,10]
[null,null,null,null,null,null,null,null,null,null,null,null,null,null,null,null,null,null,null,null,null,null,null,null,null,null,null,null,null,null,null,null,null,null,null,null,null,null,11]
[null,null,null,null,null,null,null,null,null,null,null,null,null,null,null,null,null,null,null,null,null,null,null,null,null,null,null,null,null,null,null,null,null,null,null,null,null,null,12]
[null,null,null,null,null,null,null,null,null,null,null,null,null,null,null,null,null,null,null,null,null,null,null,null,null,null,null,null,null,null,null,null,null,null,null,null,null,null,13]
[null,null,null,null,null,null,null,null,null,null,null,null,null,null,null,null,null,null,null,null,null,null,null,null,null,null,null,null,null,null,null,null,null,null,null,null,null,null,14]
[null,null,null,null,null,null,null,null,null,null,null,null,null,null,null,null,null,null,null,null,null,null,null,null,null,null,null,null,null,null,null,null,null,null,null,null,null,null,15]
[null,null,null,null,null,null,null,null,null,null,null,null,null,null,null,null,null,null,null,null,null,null,null,null,null,null,null,null,null,null,null,null,null,null,null,null,null,null,16]
[null,null,null,null,null,null,null,null,null,null,null,null,null,null,null,null,null,null,null,null,null,null,null,null,null,null,null,null,null,null,null,null,null,null,null,null,null,null,17]
[null,null,null,null,null,null,null,null,null,null,null,null,null,null,null,null,null,null,null,null,null,null,null,null,null,null,null,null,null,null,null,null,null,null,null,null,null,null,18]
[null,null,null,null,null,null,null,null,null,null,null,null,null,null,null,null,null,null,null,null,null,null,null,null,null,null,null,null,null,null,null,null,null,null,null,null,null,null,19]
[null,null,null,null,null,null,null,null,null,null,null,null,null,null,null,null,null,null,null,null,null,null,null,null,null,null,null,null,null,null,null,null,null,null,null,null,null,null,20]

{"sheet":"Imp. uso artef.","index":13,"n_rows":37,"n_cols":13,"rows_kept":37,"cut":false,"hidden":true,"merged":[[0,4,0,8],[2,1,2,2],[3,4,3,8],[5,3,5,4],[9,3,10,3],[9,4,9,9],[5,5,5,9],[7,6,7,9]]}
[null,null,null,null,"USO DE ARTEFACTOS EN PISTA"]
[]
[]
[null,"Nombre Artefacto","Nombre Pestaña"]
[null,null,{"$f":"VLOOKUP(#REF!,B6:C20,2,FALSE)","v":{"$error":"#REF!"}},null,null,null,null,null,null,null,null,null,"Nombre Artefacto"]
[{"$f":"IF(#REF!<>\"\",1,0)","v":{"$error":"#REF!"}},"JABALINA 800","JAB.800","Competición:",null,{"$f":"IF(Inicio!D4=\"\",\"FALTA NOMBRE DE COMPETICIÓN\",Inicio!D4)","v":"FALTA NOMBRE DE COMPETICIÓN"}]
[{"$f":"IF(#REF!<>\"\",1,0)","v":{"$error":"#REF!"}},"JABALINA 700","JAB.700",null,null,null,null,null,null,null,null,null,"JABALINA 800"]
[{"$f":"IF(#REF!<>\"\",1,0)","v":{"$error":"#REF!"}},"JABALINA 600","JAB.600",null,"Prueba:",null,null,null,null,null,null,null,"JABALINA 700"]
[{"$f":"IF(#REF!<>\"\",1,0)","v":{"$error":"#REF!"}},"JABALINA 500","JAB.500",null,null,null,null,null,null,null,null,null,"JABALINA 600"]
[{"$f":"IF(#REF!<>\"\",1,0)","v":{"$error":"#REF!"}},"DISCO 2000","DIS.2000","Nº de Dorsal","Intentos",null,null,null,null,null,null,null,"JABALINA 500"]
[{"$f":"IF(#REF!<>\"\",1,0)","v":{"$error":"#REF!"}},"DISCO 1750","DIS.1750",null,"1º","2º","3º","4º","5º","6º",null,null,"JABALINA 400"]
[{"$f":"IF(#REF!<>\"\",1,0)","v":{"$error":"#REF!"}},"DISCO 1500","DIS.1500",null,null,null,null,null,null,null,null,null,"DISCO 2000"]
[{"$f":"IF(#REF!<>\"\",1,0)","v":{"$error":"#REF!"}},"DISCO 1000","DIS.1000",null,null,null,null,null,null,null,null,null,"DISCO 1750"]
[{"$f":"IF(#REF!<>\"\",1,0)","v":{"$error":"#REF!"}},"DISCO 800","DIS.800",null,null,null,null,null,null,null,null,null,"DISCO 1500"]
[{"$f":"IF(#REF!<>\"\",1,0)","v":{"$error":"#REF!"}},"MARTILLO 7260","MAR.7260",null,null,null,null,null,null,null,null,null,"DISCO 1000"]
[{"$f":"IF(#REF!<>\"\",1,0)","v":{"$error":"#REF!"}},"MARTILLO 6000","MAR.6000",null,null,null,null,null,null,null,null,null,"DISCO 800"]
[{"$f":"IF(#REF!<>\"\",1,0)","v":{"$error":"#REF!"}},"MARTILLO 5000","MAR.5000",null,null,null,null,null,null,null,null,null,"DISCO 750"]
[{"$f":"IF(#REF!<>\"\",1,0)","v":{"$error":"#REF!"}},"MARTILLO 4000","MAR.4000",null,null,null,null,null,null,null,null,null,"MARTILLO 7260"]
[{"$f":"IF(#REF!<>\"\",1,0)","v":{"$error":"#REF!"}},"MARTILLO 3000","MAR.3000",null,null,null,null,null,null,null,null,null,"MARTILLO 6000"]
[{"$f":"IF(#REF!<>\"\",1,0)","v":{"$error":"#REF!"}},"PESO 7260","PES.7260",null,null,null,null,null,null,null,null,null,"MARTILLO 5000"]
[{"$f":"IF(#REF!<>\"\",1,0)","v":{"$error":"#REF!"}},"PESO 6000","PES.6000",null,null,null,null,null,null,null,null,null,"MARTILLO 4000"]
[{"$f":"IF(#REF!<>\"\",1,0)","v":{"$error":"#REF!"}},"PESO 5000","PES.5000",null,null,null,null,null,null,null,null,null,"MARTILLO 3000"]
[{"$f":"IF(#REF!<>\"\",1,0)","v":{"$error":"#REF!"}},"PESO 4000","PES.4000",null,null,null,null,null,null,null,null,null,"MARTILLO 2000"]
[{"$f":"IF(#REF!<>\"\",1,0)","v":{"$error":"#REF!"}},"PESO 3000","PES.3000",null,null,null,null,null,null,null,null,null,"PESO 7260"]
[{"$f":"IF(#REF!<>\"\",1,0)","v":{"$error":"#REF!"}},null,null,null,null,null,null,null,null,null,null,null,"PESO 6000"]
[{"$f":"IF(#REF!<>\"\",1,0)","v":{"$error":"#REF!"}},null,null,null,null,null,null,null,null,null,null,null,"PESO 5000"]
[{"$f":"IF(#REF!<>\"\",1,0)","v":{"$error":"#REF!"}},null,null,null,null,null,null,null,null,null,null,null,"PESO 4000H"]
[{"$f":"IF(#REF!<>\"\",1,0)","v":{"$error":"#REF!"}},null,null,null,null,null,null,null,null,null,null,null,"PESO 4000M"]
[{"$f":"IF(#REF!<>\"\",1,0)","v":{"$error":"#REF!"}},null,null,null,null,null,null,null,null,null,null,null,"PESO 3000H"]
[{"$f":"IF(#REF!<>\"\",1,0)","v":{"$error":"#REF!"}},null,null,null,null,null,null,null,null,null,null,null,"PESO 3000M"]
[{"$f":"IF(#REF!<>\"\",1,0)","v":{"$error":"#REF!"}},null,null,null,null,null,null,null,null,null,null,null,"PESO 2000"]
[{"$f":"IF(#REF!<>\"\",1,0)","v":{"$error":"#REF!"}},null,null,null,null,null,null,null,null,null,null,null,"MARTILLO PESADO 15880"]
[{"$f":"IF(#REF!<>\"\",1,0)","v":{"$error":"#REF!"}},null,null,"Juez de Artefactos,",null,null,null,null,null,null,null,null,"MARTILLO PESADO 11340"]
[{"$f":"IF(#REF!<>\"\",1,0)","v":{"$error":"#REF!"}},null,null,null,null,null,null,null,null,null,null,null,"MARTILLO PESADO 9080"]
[{"$f":"IF(#REF!<>\"\",1,0)","v":{"$error":"#REF!"}},null,null,null,null,null,null,null,null,null,null,null,"MARTILLO PESADO 7260"]
[null,null,null,null,null,null,null,null,null,null,null,null,"MARTILLO PESADO 5450"]
[null,null,null,null,null,null,null,null,null,null,null,null,"MARTILLO PESADO 4000"]

{"sheet":"DIS.2000","index":14,"n_rows":194,"n_cols":87,"rows_kept":194,"cut":false,"hidden":true,"merged":[[9,0,10,0],[9,1,10,1],[9,5,9,6],[9,20,10,20],[9,8,9,9],[9,11,9,12],[9,14,9,15],[9,17,9,18],[5,20,6,20],[5,22,6,22],[7,22,8,22],[7,23,8,23],[7,20,8,20],[5,23,6,23],[5,11,6,13],[5,14,6,16],[5,17,6,19],[7,17,7,18],[4,14,4,15],[4,17,4,18],[7,14,7,15],[9,22,10,22],[9,23,10,23],[0,0,4,1],[1,3,1,11],[7,0,8,0],[7,1,8,1],[7,5,7,6],[7,8,7,9],[5,0,6,0],[5,1,6,1],[5,2,6,2],[5,5,6,7],[5,8,6,10],[4,8,4,9],[4,11,4,12],[7,11,7,12]]}
[null,null,"HOMOLOGACIÓN DE ARTEFACTOS",null,null,null,null,null,null,null,null,null,null,null,null,null,null,null,null,null,null,null,null,null,null,null,null,null,null,null,null,null,null,null,null,null,null,null,null,null,null,null,null,null,null,null,null,null,null,null,null,null,null,null,null,null,null,null,null,null,null,null,null,null,null,null,null,null,10]
[null,null,"Competición:",{"$f":"IF(Inicio!D4=\"\",\"FALTA NOMBRE DE COMPETICIÓN\",Inicio!D4)","v":"FALTA NOMBRE DE COMPETICIÓN"},null,null,null,null,null,null,null,null,"X",null,null,null,null,null,null,null,null,null,null,null,"Instalación"]
[null,null,null,null,null,null,null,null,null,null,null,null,null,null,null,null,null,null,null,null,null,null,null,null,"Organización"]
[null,null,null,"DISCO 2000",null,null,null,null,null,null,null,null,null,null,null,null,null,null,null,null,null,null,null,null,"Particular"]
[null,null,null,null,null,null,null,null,"Diámetro exterior del anillo metálico",null,null,"Diámetro de las placas o zona central plana",null,null,"Grosor en la zona central o placas metálicas",null,null,"Grosor de la llanta o anillo metálico (a 6mm del borde)",null,null,"Deficiencias                                       no relacionadas                                           con medidas"]
["Referencia","Válido","Propietario","Marca y modelo","Cert. IAAF","Peso",null,null,"D1",null,null,"D2",null,null,"G1",null,null,"G2",null,null,"Observaciones",null,"Homologador","Fecha"]
[null,null,null,"Color","Art. Comb.",null,null,null,null,null,null,null,null,null,null,null,null,null,null,null,null,null,null,null,null,null,null,null,null,null,null,null,null,null,null,null,null,null,null,null,null,null,null,null,null,null,null,null,null,null,null,null,null,null,null,null,null,null,null,null,null,null,null,null,null,null,null,null,null,"VI","VO","VP","NVI","NVO","NVP","NVPI","NVPO","NVPP","NVMI","NVMO","NVMP","Peso","Ø exterior","Ø placas","Grosor central","Grosor llanta","Observ."]
[1,{"$f":"IF(AND(A8<>\"\",C8<>\"\",D8<>\"\",W8<>\"\",X8<>\"\"),IF(SUM(H9,K9,N9,Q9,T9,V9)>0,\"NO\",\"SI\"),\"\")","v":""},null,null,null,null,null,null,null,null,null,null,null,null,null,null,null,null,null,null,null,null,null,null,null,{"$f":"C9","v":0},{"$f":"D9","v":0},null,null,null,null,null,null,null,null,null,null,null,null,null,null,null,null,null,null,null,null,null,null,null,null,null,null,null,null,null,null,null,null,null,null,null,null,null,null,null,null,null,null,{"$f":"IF(AND(B8=\"SI\",C8=\"Instalación\"),1,\"\")","v":""},{"$f":"IF(AND(B8=\"SI\",C8=\"Organización\"),1,\"\")","v":""},{"$f":"IF(AND(B8=\"SI\",C8=\"Particular\"),1,\"\")","v":""},{"$f":"IF(AND(B8=\"NO\",C8=\"Instalación\"),1,\"\")","v":""},{"$f":"IF(AND(B8=\"NO\",C8=\"Organización\"),1,\"\")","v":""},{"$f":"IF(AND(B8=\"NO\",C8=\"Particular\"),1,\"\")","v":""},{"$f":"IF(AND(B8=\"NO\",C8=\"Instalación\",H9=1),1,\"\")","v":""},{"$f":"IF(AND(B8=\"NO\",C8=\"Organización\",H9=1),1,\"\")","v":""},{"$f":"IF(AND(B8=\"NO\",C8=\"Particular\",H9=1),1,\"\")","v":""},{"$f":"IF(AND(B8=\"NO\",C8=\"Instalación\"),IF(OR(K9=1,N9=1,Q9=1,T9=1),1,\"\"),\"\")","v":""},{"$f":"IF(AND(B8=\"NO\",C8=\"Organización\"),IF(OR(K9=1,N9=1,Q9=1,T9=1),1,\"\"),\"\")","v":""},{"$f":"IF(AND(B8=\"NO\",C8=\"Particular\"),IF(OR(K9=1,N9=1,Q9=1,T9=1),1,\"\"),\"\")","v":""},{"$f":"IF(AND(H9=1,F8<>\"\"),\"X\",\"\")","v":""},{"$f":"IF(AND(K9=1,I8<>\"\"),\"X\",\"\")","v":""},{"$f":"IF(AND(N9=1,L8<>\"\"),\"X\",\"\")","v":""},{"$f":"IF(AND(Q9=1,O8<>\"\"),\"X\",\"\")","v":""},{"$f":"IF(AND(T9=1,R8<>\"\"),\"X\",\"\")","v":""},{"$f":"IF(AND(V9=1,U8<>\"\"),\"X\",\"\")","v":""}]
[null,null,null,null,null,2000,"-",{"$f":"IF(OR((F8<F9),(F8>G9),F8=\"\"),1,0)","v":1},219,221,{"$f":"IF(OR((I8<I9),(I8>J9),I8=\"\"),1,0)","v":1},50,57,{"$f":"IF(OR((L8<L9),(L8>M9),L8=\"\"),1,0)","v":1},44,46,{"$f":"IF(OR((O8<O9),(O8>P9),O8=\"\"),1,0)","v":1},12,13,{"$f":"IF(OR((R8<R9),(R8>S9),R8=\"\"),1,0)","v":1},null,{"$f":"IF(U8<>\"\",1,0)","v":0}]
[2,{"$f":"IF(AND(A10<>\"\",C10<>\"\",D10<>\"\",W10<>\"\",X10<>\"\"),IF(SUM(H11,K11,N11,Q11,T11,V11)>0,\"NO\",\"SI\"),\"\")","v":""},null,null,null,null,null,null,null,null,null,null,null,null,null,null,null,null,null,null,null,null,null,null,null,{"$f":"C11","v":0},{"$f":"D11","v":0},null,null,null,null,null,null,null,null,null,null,null,null,null,null,null,null,null,null,null,null,null,null,null,null,null,null,null,null,null,null,null,null,null,null,null,null,null,null,null,null,null,null,{"$f":"IF(AND(B10=\"SI\",C10=\"Instalación\"),1,\"\")","v":""},{"$f":"IF(AND(B10=\"SI\",C10=\"Organización\"),1,\"\")","v":""},{"$f":"IF(AND(B10=\"SI\",C10=\"Particular\"),1,\"\")","v":""},{"$f":"IF(AND(B10=\"NO\",C10=\"Instalación\"),1,\"\")","v":""},{"$f":"IF(AND(B10=\"NO\",C10=\"Organización\"),1,\"\")","v":""},{"$f":"IF(AND(B10=\"NO\",C10=\"Particular\"),1,\"\")","v":""},{"$f":"IF(AND(B10=\"NO\",C10=\"Instalación\",H11=1),1,\"\")","v":""},{"$f":"IF(AND(B10=\"NO\",C10=\"Organización\",H11=1),1,\"\")","v":""},{"$f":"IF(AND(B10=\"NO\",C10=\"Particular\",H11=1),1,\"\")","v":""},{"$f":"IF(AND(B10=\"NO\",C10=\"Instalación\"),IF(OR(K11=1,N11=1,Q11=1,T11=1),1,\"\"),\"\")","v":""},{"$f":"IF(AND(B10=\"NO\",C10=\"Organización\"),IF(OR(K11=1,N11=1,Q11=1,T11=1),1,\"\"),\"\")","v":""},{"$f":"IF(AND(B10=\"NO\",C10=\"Particular\"),IF(OR(K11=1,N11=1,Q11=1,T11=1),1,\"\"),\"\")","v":""},{"$f":"IF(AND(H11=1,F10<>\"\"),\"X\",\"\")","v":""},{"$f":"IF(AND(K11=1,I10<>\"\"),\"X\",\"\")","v":""},{"$f":"IF(AND(N11=1,L10<>\"\"),\"X\",\"\")","v":""},{"$f":"IF(AND(Q11=1,O10<>\"\"),\"X\",\"\")","v":""},{"$f":"IF(AND(T11=1,R10<>\"\"),\"X\",\"\")","v":""},{"$f":"IF(AND(V11=1,U10<>\"\"),\"X\",\"\")","v":""}]
[null,null,null,null,null,2000,"-",{"$f":"IF(OR((F10<F11),(F10>G11),F10=\"\"),1,0)","v":1},219,221,{"$f":"IF(OR((I10<I11),(I10>J11),I10=\"\"),1,0)","v":1},50,57,{"$f":"IF(OR((L10<L11),(L10>M11),L10=\"\"),1,0)","v":1},44,46,{"$f":"IF(OR((O10<O11),(O10>P11),O10=\"\"),1,0)","v":1},12,13,{"$f":"IF(OR((R10<R11),(R10>S11),R10=\"\"),1,0)","v":1},null,{"$f":"IF(U10<>\"\",1,0)","v":0}]
[]
[]
[]
[]
[]
[]
[]
[]
[]
[]
[]
[]
[]
[]
[]
[]
[]
[]
[]
[]
[]
[]
[]
[]
[]
[]
[]
[]
[]
[]
[]
[]
[]
[]
[]
[]
[]
[]
[]
[]
[]
[]
[]
[]
[]
[]
[]
[]
[]
[]
[]
[]
[]
[]
[]
[]
[]
[]
[]
[]
[]
[]
[]
[]
[]
[]
[]
[]
[]
[]
[]
[]
[]
[]
[]
[]
[]
[]
[]
[]
[]
[]
[]
[]
[]
[]
[]
[]
[]
[]
[]
[]
[]
[]
[]
[]
[]
[]
[]
[]
[]
[]
[]
[]
[]
[]
[]
[]
[]
[]
[]
[]
[]
[]
[]
[]
[]
[]
[]
[]
[]
[]
[]
[]
[]
[]
[]
[]
[]
[]
[]
[]
[]
[]
[]
[]
[]
[]
[]
[]
[]
[]
[]
[]
[]
[]
[]
[]
[]
[]
[]
[]
[]
[]
[]
[]
[]
[]
[]
[]
[]
[]
[]
[]
[]
[]
[]
[]
[]
[]
[]
[]
[]
[]
[]
[]
[]
[]
[]
[]
[]
[]
[null,null,null,null,null,null,null,null,null,null,null,null,null,null,null,null,null,null,null,null,null,null,null,null,null,null,null,null,null,null,null,null,null,null,null,null,null,null,null,null,null,null,null,null,null,null,null,null,null,null,null,null,null,null,null,null,null,null,null,null,null,null,null,null,null,null,null,null,null,{"$f":"SUM(BR8:BR193)","v":0},0,0,0,0,0,0,0,0,0,0,0]

{"sheet":"DIS.1750","index":15,"n_rows":204,"n_cols":87,"rows_kept":204,"cut":false,"hidden":true,"merged":[[4,17,4,18],[0,0,4,1],[1,3,1,11],[4,8,4,9],[4,11,4,12],[4,14,4,15],[5,22,6,22],[5,23,6,23],[5,0,6,0],[5,1,6,1],[5,2,6,2],[5,5,6,7],[5,8,6,10],[7,11,7,12],[5,11,6,13],[5,14,6,16],[5,17,6,19],[5,20,6,20],[9,0,10,0],[9,1,10,1],[9,5,9,6],[9,8,9,9],[7,0,8,0],[7,1,8,1],[7,5,7,6],[7,8,7,9],[9,23,10,23],[7,14,7,15],[7,17,7,18],[7,20,8,20],[7,22,8,22],[7,23,8,23],[9,11,9,12],[9,14,9,15],[9,17,9,18],[9,20,10,20],[9,22,10,22]]}
[null,null,"HOMOLOGACIÓN DE ARTEFACTOS",null,null,null,null,null,null,null,null,null,null,null,null,null,null,null,null,null,null,null,null,null,null,null,null,null,null,null,null,null,null,null,null,null,null,null,null,null,null,null,null,null,null,null,null,null,null,null,null,null,null,null,null,null,null,null,null,null,null,null,null,null,null,null,null,null,10]
[null,null,"Competición:",{"$f":"IF(Inicio!D4=\"\",\"FALTA NOMBRE DE COMPETICIÓN\",Inicio!D4)","v":"FALTA NOMBRE DE COMPETICIÓN"},null,null,null,null,null,null,null,null,"X",null,null,null,null,null,null,null,null,null,null,null,"Instalación"]
[null,null,null,null,null,null,null,null,null,null,null,null,null,null,null,null,null,null,null,null,null,null,null,null,"Organización"]
[null,null,null,"DISCO 1750",null,null,null,null,null,null,null,null,null,null,null,null,null,null,null,null,null,null,null,null,"Particular"]
[null,null,null,null,null,null,null,null,"Diámetro exterior del anillo metálico",null,null,"Diámetro de las placas o zona central plana",null,null,"Grosor en la zona central o placas metálicas",null,null,"Grosor de la llanta o anillo metálico (a 6mm del borde)",null,null,"Deficiencias                                       no relacionadas                                           con medidas"]
["Referencia","Válido","Propietario","Marca y modelo","Cert. IAAF","Peso",null,null,"D1",null,null,"D2",null,null,"G1",null,null,"G2",null,null,"Observaciones",null,"Homologador","Fecha"]
[null,null,null,"Color","Art. Comb.",null,null,null,null,null,null,null,null,null,null,null,null,null,null,null,null,null,null,null,null,null,null,null,null,null,null,null,null,null,null,null,null,null,null,null,null,null,null,null,null,null,null,null,null,null,null,null,null,null,null,null,null,null,null,null,null,null,null,null,null,null,null,null,null,"VI","VO","VP","NVI","NVO","NVP","NVPI","NVPO","NVPP","NVMI","NVMO","NVMP","Peso","Ø exterior","Ø placas","Grosor central","Grosor llanta","Observ."]
[1,{"$f":"IF(AND(A8<>\"\",C8<>\"\",D8<>\"\",W8<>\"\",X8<>\"\"),IF(SUM(H9,K9,N9,Q9,T9,V9)>0,\"NO\",\"SI\"),\"\")","v":""},null,null,null,null,null,null,null,null,null,null,null,null,null,null,null,null,null,null,null,null,null,null,null,{"$f":"C9","v":0},{"$f":"D9","v":0},null,null,null,null,null,null,null,null,null,null,null,null,null,null,null,null,null,null,null,null,null,null,null,null,null,null,null,null,null,null,null,null,null,null,null,null,null,null,null,null,null,null,{"$f":"IF(AND(B8=\"SI\",C8=\"Instalación\"),1,\"\")","v":""},{"$f":"IF(AND(B8=\"SI\",C8=\"Organización\"),1,\"\")","v":""},{"$f":"IF(AND(B8=\"SI\",C8=\"Particular\"),1,\"\")","v":""},{"$f":"IF(AND(B8=\"NO\",C8=\"Instalación\"),1,\"\")","v":""},{"$f":"IF(AND(B8=\"NO\",C8=\"Organización\"),1,\"\")","v":""},{"$f":"IF(AND(B8=\"NO\",C8=\"Particular\"),1,\"\")","v":""},{"$f":"IF(AND(B8=\"NO\",C8=\"Instalación\",H9=1),1,\"\")","v":""},{"$f":"IF(AND(B8=\"NO\",C8=\"Organización\",H9=1),1,\"\")","v":""},{"$f":"IF(AND(B8=\"NO\",C8=\"Particular\",H9=1),1,\"\")","v":""},{"$f":"IF(AND(B8=\"NO\",C8=\"Instalación\"),IF(OR(K9=1,N9=1,Q9=1,T9=1),1,\"\"),\"\")","v":""},{"$f":"IF(AND(B8=\"NO\",C8=\"Organización\"),IF(OR(K9=1,N9=1,Q9=1,T9=1),1,\"\"),\"\")","v":""},{"$f":"IF(AND(B8=\"NO\",C8=\"Particular\"),IF(OR(K9=1,N9=1,Q9=1,T9=1),1,\"\"),\"\")","v":""},{"$f":"IF(AND(H9=1,F8<>\"\"),\"X\",\"\")","v":""},{"$f":"IF(AND(K9=1,I8<>\"\"),\"X\",\"\")","v":""},{"$f":"IF(AND(N9=1,L8<>\"\"),\"X\",\"\")","v":""},{"$f":"IF(AND(Q9=1,O8<>\"\"),\"X\",\"\")","v":""},{"$f":"IF(AND(T9=1,R8<>\"\"),\"X\",\"\")","v":""},{"$f":"IF(AND(V9=1,U8<>\"\"),\"X\",\"\")","v":""}]
[null,null,null,null,null,1750,"-",{"$f":"IF(OR((F8<F9),(F8>G9),F8=\"\"),1,0)","v":1},210,212,{"$f":"IF(OR((I8<I9),(I8>J9),I8=\"\"),1,0)","v":1},50,57,{"$f":"IF(OR((L8<L9),(L8>M9),L8=\"\"),1,0)","v":1},41,43,{"$f":"IF(OR((O8<O9),(O8>P9),O8=\"\"),1,0)","v":1},12,13,{"$f":"IF(OR((R8<R9),(R8>S9),R8=\"\"),1,0)","v":1},null,{"$f":"IF(U8<>\"\",1,0)","v":0}]
[2,{"$f":"IF(AND(A10<>\"\",C10<>\"\",D10<>\"\",W10<>\"\",X10<>\"\"),IF(SUM(H11,K11,N11,Q11,T11,V11)>0,\"NO\",\"SI\"),\"\")","v":""},null,null,null,null,null,null,null,null,null,null,null,null,null,null,null,null,null,null,null,null,null,null,null,{"$f":"C11","v":0},{"$f":"D11","v":0},null,null,null,null,null,null,null,null,null,null,null,null,null,null,null,null,null,null,null,null,null,null,null,null,null,null,null,null,null,null,null,null,null,null,null,null,null,null,null,null,null,null,{"$f":"IF(AND(B10=\"SI\",C10=\"Instalación\"),1,\"\")","v":""},{"$f":"IF(AND(B10=\"SI\",C10=\"Organización\"),1,\"\")","v":""},{"$f":"IF(AND(B10=\"SI\",C10=\"Particular\"),1,\"\")","v":""},{"$f":"IF(AND(B10=\"NO\",C10=\"Instalación\"),1,\"\")","v":""},{"$f":"IF(AND(B10=\"NO\",C10=\"Organización\"),1,\"\")","v":""},{"$f":"IF(AND(B10=\"NO\",C10=\"Particular\"),1,\"\")","v":""},{"$f":"IF(AND(B10=\"NO\",C10=\"Instalación\",H11=1),1,\"\")","v":""},{"$f":"IF(AND(B10=\"NO\",C10=\"Organización\",H11=1),1,\"\")","v":""},{"$f":"IF(AND(B10=\"NO\",C10=\"Particular\",H11=1),1,\"\")","v":""},{"$f":"IF(AND(B10=\"NO\",C10=\"Instalación\"),IF(OR(K11=1,N11=1,Q11=1,T11=1),1,\"\"),\"\")","v":""},{"$f":"IF(AND(B10=\"NO\",C10=\"Organización\"),IF(OR(K11=1,N11=1,Q11=1,T11=1),1,\"\"),\"\")","v":""},{"$f":"IF(AND(B10=\"NO\",C10=\"Particular\"),IF(OR(K11=1,N11=1,Q11=1,T11=1),1,\"\"),\"\")","v":""},{"$f":"IF(AND(H11=1,F10<>\"\"),\"X\",\"\")","v":""},{"$f":"IF(AND(K11=1,I10<>\"\"),\"X\",\"\")","v":""},{"$f":"IF(AND(N11=1,L10<>\"\"),\"X\",\"\")","v":""},{"$f":"IF(AND(Q11=1,O10<>\"\"),\"X\",\"\")","v":""},{"$f":"IF(AND(T11=1,R10<>\"\"),\"X\",\"\")","v":""},{"$f":"IF(AND(V11=1,U10<>\"\"),\"X\",\"\")","v":""}]
[null,null,null,null,null,1750,"-",{"$f":"IF(OR((F10<F11),(F10>G11),F10=\"\"),1,0)","v":1},210,212,{"$f":"IF(OR((I10<I11),(I10>J11),I10=\"\"),1,0)","v":1},50,57,{"$f":"IF(OR((L10<L11),(L10>M11),L10=\"\"),1,0)","v":1},41,43,{"$f":"IF(OR((O10<O11),(O10>P11),O10=\"\"),1,0)","v":1},12,13,{"$f":"IF(OR((R10<R11),(R10>S11),R10=\"\"),1,0)","v":1},null,{"$f":"IF(U10<>\"\",1,0)","v":0}]
[]
[]
[]
[]
[]
[]
[]
[]
[]
[]
[]
[]
[]
[]
[]
[]
[]
[]
[]
[]
[]
[]
[]
[]
[]
[]
[]
[]
[]
[]
[]
[]
[]
[]
[]
[]
[]
[]
[]
[]
[]
[]
[]
[]
[]
[]
[]
[]
[]
[]
[]
[]
[]
[]
[]
[]
[]
[]
[]
[]
[]
[]
[]
[]
[]
[]
[]
[]
[]
[]
[]
[]
[]
[]
[]
[]
[]
[]
[]
[]
[]
[]
[]
[]
[]
[]
[]
[]
[]
[]
[]
[]
[]
[]
[]
[]
[]
[]
[]
[]
[]
[]
[]
[]
[]
[]
[]
[]
[]
[]
[]
[]
[]
[]
[]
[]
[]
[]
[]
[]
[]
[]
[]
[]
[]
[]
[]
[]
[]
[]
[]
[]
[]
[]
[]
[]
[]
[]
[]
[]
[]
[]
[]
[]
[]
[]
[]
[]
[]
[]
[]
[]
[]
[]
[]
[]
[]
[]
[]
[]
[]
[]
[]
[]
[]
[]
[]
[]
[]
[]
[]
[]
[]
[]
[]
[]
[]
[]
[]
[]
[]
[]
[]
[]
[]
[]
[]
[]
[]
[]
[]
[]
[null,null,null,null,null,null,null,null,null,null,null,null,null,null,null,null,null,null,null,null,null,null,null,null,null,null,null,null,null,null,null,null,null,null,null,null,null,null,null,null,null,null,null,null,null,null,null,null,null,null,null,null,null,null,null,null,null,null,null,null,null,null,null,null,null,null,null,null,null,{"$f":"SUM(BR8:BR203)","v":0},0,0,0,0,0,0,0,0,0,0,0]

{"sheet":"DIS.1500","index":16,"n_rows":198,"n_cols":87,"rows_kept":198,"cut":false,"hidden":true,"merged":[[9,0,10,0],[9,1,10,1],[9,5,9,6],[9,8,9,9],[9,11,9,12],[9,14,9,15],[9,17,9,18],[9,20,10,20],[9,22,10,22],[9,23,10,23],[7,14,7,15],[7,17,7,18],[7,20,8,20],[7,22,8,22],[7,23,8,23],[7,0,8,0],[7,1,8,1],[7,5,7,6],[7,8,7,9],[7,11,7,12],[5,23,6,23],[5,0,6,0],[5,1,6,1],[5,2,6,2],[5,5,6,7],[5,8,6,10],[5,11,6,13],[5,14,6,16],[5,17,6,19],[5,20,6,20],[5,22,6,22],[4,17,4,18],[0,0,4,1],[1,3,1,11],[4,8,4,9],[4,11,4,12],[4,14,4,15]]}
[null,null,"HOMOLOGACIÓN DE ARTEFACTOS",null,null,null,null,null,null,null,null,null,null,null,null,null,null,null,null,null,null,null,null,null,null,null,null,null,null,null,null,null,null,null,null,null,null,null,null,null,null,null,null,null,null,null,null,null,null,null,null,null,null,null,null,null,null,null,null,null,null,null,null,null,null,null,null,null,10]
[null,null,"Competición:",{"$f":"IF(Inicio!D4=\"\",\"FALTA NOMBRE DE COMPETICIÓN\",Inicio!D4)","v":"FALTA NOMBRE DE COMPETICIÓN"},null,null,null,null,null,null,null,null,"X",null,null,null,null,null,null,null,null,null,null,null,"Instalación"]
[null,null,null,null,null,null,null,null,null,null,null,null,null,null,null,null,null,null,null,null,null,null,null,null,"Organización"]
[null,null,null,"DISCO 1500",null,null,null,null,null,null,null,null,null,null,null,null,null,null,null,null,null,null,null,null,"Particular"]
[null,null,null,null,null,null,null,null,"Diámetro exterior del anillo metálico",null,null,"Diámetro de las placas o zona central plana",null,null,"Grosor en la zona central o placas metálicas",null,null,"Grosor de la llanta o anillo metálico (a 6mm del borde)",null,null,"Deficiencias                                       no relacionadas                                           con medidas"]
["Referencia","Válido","Propietario","Marca y modelo","Cert. IAAF","Peso",null,null,"D1",null,null,"D2",null,null,"G1",null,null,"G2",null,null,"Observaciones",null,"Homologador","Fecha"]
[null,null,null,"Color","Art. Comb.",null,null,null,null,null,null,null,null,null,null,null,null,null,null,null,null,null,null,null,null,null,null,null,null,null,null,null,null,null,null,null,null,null,null,null,null,null,null,null,null,null,null,null,null,null,null,null,null,null,null,null,null,null,null,null,null,null,null,null,null,null,null,null,null,"VI","VO","VP","NVI","NVO","NVP","NVPI","NVPO","NVPP","NVMI","NVMO","NVMP","Peso","Ø exterior","Ø placas","Grosor central","Grosor llanta","Observ."]
[1,{"$f":"IF(AND(A8<>\"\",C8<>\"\",D8<>\"\",W8<>\"\",X8<>\"\"),IF(SUM(H9,K9,N9,Q9,T9,V9)>0,\"NO\",\"SI\"),\"\")","v":""},null,null,null,null,null,null,null,null,null,null,null,null,null,null,null,null,null,null,null,null,null,null,null,{"$f":"C9","v":0},{"$f":"D9","v":0},null,null,null,null,null,null,null,null,null,null,null,null,null,null,null,null,null,null,null,null,null,null,null,null,null,null,null,null,null,null,null,null,null,null,null,null,null,null,null,null,null,null,{"$f":"IF(AND(B8=\"SI\",C8=\"Instalación\"),1,\"\")","v":""},{"$f":"IF(AND(B8=\"SI\",C8=\"Organización\"),1,\"\")","v":""},{"$f":"IF(AND(B8=\"SI\",C8=\"Particular\"),1,\"\")","v":""},{"$f":"IF(AND(B8=\"NO\",C8=\"Instalación\"),1,\"\")","v":""},{"$f":"IF(AND(B8=\"NO\",C8=\"Organización\"),1,\"\")","v":""},{"$f":"IF(AND(B8=\"NO\",C8=\"Particular\"),1,\"\")","v":""},{"$f":"IF(AND(B8=\"NO\",C8=\"Instalación\",H9=1),1,\"\")","v":""},{"$f":"IF(AND(B8=\"NO\",C8=\"Organización\",H9=1),1,\"\")","v":""},{"$f":"IF(AND(B8=\"NO\",C8=\"Particular\",H9=1),1,\"\")","v":""},{"$f":"IF(AND(B8=\"NO\",C8=\"Instalación\"),IF(OR(K9=1,N9=1,Q9=1,T9=1),1,\"\"),\"\")","v":""},{"$f":"IF(AND(B8=\"NO\",C8=\"Organización\"),IF(OR(K9=1,N9=1,Q9=1,T9=1),1,\"\"),\"\")","v":""},{"$f":"IF(AND(B8=\"NO\",C8=\"Particular\"),IF(OR(K9=1,N9=1,Q9=1,T9=1),1,\"\"),\"\")","v":""},{"$f":"IF(AND(H9=1,F8<>\"\"),\"X\",\"\")","v":""},{"$f":"IF(AND(K9=1,I8<>\"\"),\"X\",\"\")","v":""},{"$f":"IF(AND(N9=1,L8<>\"\"),\"X\",\"\")","v":""},{"$f":"IF(AND(Q9=1,O8<>\"\"),\"X\",\"\")","v":""},{"$f":"IF(AND(T9=1,R8<>\"\"),\"X\",\"\")","v":""},{"$f":"IF(AND(V9=1,U8<>\"\"),\"X\",\"\")","v":""}]
[null,null,null,null,null,1500,"-",{"$f":"IF(OR((F8<F9),(F8>G9),F8=\"\"),1,0)","v":1},200,202,{"$f":"IF(OR((I8<I9),(I8>J9),I8=\"\"),1,0)","v":1},50,57,{"$f":"IF(OR((L8<L9),(L8>M9),L8=\"\"),1,0)","v":1},38,40,{"$f":"IF(OR((O8<O9),(O8>P9),O8=\"\"),1,0)","v":1},12,13,{"$f":"IF(OR((R8<R9),(R8>S9),R8=\"\"),1,0)","v":1},null,{"$f":"IF(U8<>\"\",1,0)","v":0}]
[2,{"$f":"IF(AND(A10<>\"\",C10<>\"\",D10<>\"\",W10<>\"\",X10<>\"\"),IF(SUM(H11,K11,N11,Q11,T11,V11)>0,\"NO\",\"SI\"),\"\")","v":""},null,null,null,null,null,null,null,null,null,null,null,null,null,null,null,null,null,null,null,null,null,null,null,{"$f":"C11","v":0},{"$f":"D11","v":0},null,null,null,null,null,null,null,null,null,null,null,null,null,null,null,null,null,null,null,null,null,null,null,null,null,null,null,null,null,null,null,null,null,null,null,null,null,null,null,null,null,null,{"$f":"IF(AND(B10=\"SI\",C10=\"Instalación\"),1,\"\")","v":""},{"$f":"IF(AND(B10=\"SI\",C10=\"Organización\"),1,\"\")","v":""},{"$f":"IF(AND(B10=\"SI\",C10=\"Particular\"),1,\"\")","v":""},{"$f":"IF(AND(B10=\"NO\",C10=\"Instalación\"),1,\"\")","v":""},{"$f":"IF(AND(B10=\"NO\",C10=\"Organización\"),1,\"\")","v":""},{"$f":"IF(AND(B10=\"NO\",C10=\"Particular\"),1,\"\")","v":""},{"$f":"IF(AND(B10=\"NO\",C10=\"Instalación\",H11=1),1,\"\")","v":""},{"$f":"IF(AND(B10=\"NO\",C10=\"Organización\",H11=1),1,\"\")","v":""},{"$f":"IF(AND(B10=\"NO\",C10=\"Particular\",H11=1),1,\"\")","v":""},{"$f":"IF(AND(B10=\"NO\",C10=\"Instalación\"),IF(OR(K11=1,N11=1,Q11=1,T11=1),1,\"\"),\"\")","v":""},{"$f":"IF(AND(B10=\"NO\",C10=\"Organización\"),IF(OR(K11=1,N11=1,Q11=1,T11=1),1,\"\"),\"\")","v":""},{"$f":"IF(AND(B10=\"NO\",C10=\"Particular\"),IF(OR(K11=1,N11=1,Q11=1,T11=1),1,\"\"),\"\")","v":""},{"$f":"IF(AND(H11=1,F10<>\"\"),\"X\",\"\")","v":""},{"$f":"IF(AND(K11=1,I10<>\"\"),\"X\",\"\")","v":""},{"$f":"IF(AND(N11=1,L10<>\"\"),\"X\",\"\")","v":""},{"$f":"IF(AND(Q11=1,O10<>\"\"),\"X\",\"\")","v":""},{"$f":"IF(AND(T11=1,R10<>\"\"),\"X\",\"\")","v":""},{"$f":"IF(AND(V11=1,U10<>\"\"),\"X\",\"\")","v":""}]
[null,null,null,null,null,1500,"-",{"$f":"IF(OR((F10<F11),(F10>G11),F10=\"\"),1,0)","v":1},200,202,{"$f":"IF(OR((I10<I11),(I10>J11),I10=\"\"),1,0)","v":1},50,57,{"$f":"IF(OR((L10<L11),(L10>M11),L10=\"\"),1,0)","v":1},38,40,{"$f":"IF(OR((O10<O11),(O10>P11),O10=\"\"),1,0)","v":1},12,13,{"$f":"IF(OR((R10<R11),(R10>S11),R10=\"\"),1,0)","v":1},null,{"$f":"IF(U10<>\"\",1,0)","v":0}]
[]
[]
[]
[]
[]
[]
[]
[]
[]
[]
[]
[]
[]
[]
[]
[]
[]
[]
[]
[]
[]
[]
[]
[]
[]
[]
[]
[]
[]
[]
[]
[]
[]
[]
[]
[]
[]
[]
[]
[]
[]
[]
[]
[]
[]
[]
[]
[]
[]
[]
[]
[]
[]
[]
[]
[]
[]
[]
[]
[]
[]
[]
[]
[]
[]
[]
[]
[]
[]
[]
[]
[]
[]
[]
[]
[]
[]
[]
[]
[]
[]
[]
[]
[]
[]
[]
[]
[]
[]
[]
[]
[]
[]
[]
[]
[]
[]
[]
[]
[]
[]
[]
[]
[]
[]
[]
[]
[]
[]
[]
[]
[]
[]
[]
[]
[]
[]
[]
[]
[]
[]
[]
[]
[]
[]
[]
[]
[]
[]
[]
[]
[]
[]
[]
[]
[]
[]
[]
[]
[]
[]
[]
[]
[]
[]
[]
[]
[]
[]
[]
[]
[]
[]
[]
[]
[]
[]
[]
[]
[]
[]
[]
[]
[]
[]
[]
[]
[]
[]
[]
[]
[]
[]
[]
[]
[]
[]
[]
[]
[]
[]
[]
[]
[]
[]
[]
[null,null,null,null,null,null,null,null,null,null,null,null,null,null,null,null,null,null,null,null,null,null,null,null,null,null,null,null,null,null,null,null,null,null,null,null,null,null,null,null,null,null,null,null,null,null,null,null,null,null,null,null,null,null,null,null,null,null,null,null,null,null,null,null,null,null,null,null,null,{"$f":"SUM(BR8:BR197)","v":0},0,0,0,0,0,0,0,0,0,0,0]

{"sheet":"DIS.1000","index":17,"n_rows":196,"n_cols":87,"rows_kept":196,"cut":false,"hidden":true,"merged":[[9,0,10,0],[9,1,10,1],[9,5,9,6],[9,8,9,9],[9,11,9,12],[9,14,9,15],[9,17,9,18],[9,20,10,20],[9,22,10,22],[9,23,10,23],[7,14,7,15],[7,17,7,18],[7,20,8,20],[7,22,8,22],[7,23,8,23],[7,0,8,0],[7,1,8,1],[7,5,7,6],[7,8,7,9],[7,11,7,12],[5,23,6,23],[5,0,6,0],[5,1,6,1],[5,2,6,2],[5,5,6,7],[5,8,6,10],[5,11,6,13],[5,14,6,16],[5,17,6,19],[5,20,6,20],[5,22,6,22],[4,17,4,18],[0,0,4,1],[1,3,1,11],[4,8,4,9],[4,11,4,12],[4,14,4,15]]}
[null,null,"HOMOLOGACIÓN DE ARTEFACTOS",null,null,null,null,null,null,null,null,null,null,null,null,null,null,null,null,null,null,null,null,null,null,null,null,null,null,null,null,null,null,null,null,null,null,null,null,null,null,null,null,null,null,null,null,null,null,null,null,null,null,null,null,null,null,null,null,null,null,null,null,null,null,null,null,null,10]
[null,null,"Competición:",{"$f":"IF(Inicio!D4=\"\",\"FALTA NOMBRE DE COMPETICIÓN\",Inicio!D4)","v":"FALTA NOMBRE DE COMPETICIÓN"},null,null,null,null,null,null,null,null,"X",null,null,null,null,null,null,null,null,null,null,null,"Instalación"]
[null,null,null,null,null,null,null,null,null,null,null,null,null,null,null,null,null,null,null,null,null,null,null,null,"Organización"]
[null,null,null,"DISCO 1000",null,null,null,null,null,null,null,null,null,null,null,null,null,null,null,null,null,null,null,null,"Particular"]
[null,null,null,null,null,null,null,null,"Diámetro exterior del anillo metálico",null,null,"Diámetro de las placas o zona central plana",null,null,"Grosor en la zona central o placas metálicas",null,null,"Grosor de la llanta o anillo metálico (a 6mm del borde)",null,null,"Deficiencias                                       no relacionadas                                           con medidas"]
["Referencia","Válido","Propietario","Marca y modelo","Cert. IAAF","Peso",null,null,"D1",null,null,"D2",null,null,"G1",null,null,"G2",null,null,"Observaciones",null,"Homologador","Fecha"]
[null,null,null,"Color","Art. Comb.",null,null,null,null,null,null,null,null,null,null,null,null,null,null,null,null,null,null,null,null,null,null,null,null,null,null,null,null,null,null,null,null,null,null,null,null,null,null,null,null,null,null,null,null,null,null,null,null,null,null,null,null,null,null,null,null,null,null,null,null,null,null,null,null,"VI","VO","VP","NVI","NVO","NVP","NVPI","NVPO","NVPP","NVMI","NVMO","NVMP","Peso","Ø exterior","Ø placas","Grosor central","Grosor llanta","Observ."]
[1,{"$f":"IF(AND(A8<>\"\",C8<>\"\",D8<>\"\",W8<>\"\",X8<>\"\"),IF(SUM(H9,K9,N9,Q9,T9,V9)>0,\"NO\",\"SI\"),\"\")","v":""},null,null,null,null,null,null,null,null,null,null,null,null,null,null,null,null,null,null,null,null,null,null,null,{"$f":"C9","v":0},{"$f":"D9","v":0},null,null,null,null,null,null,null,null,null,null,null,null,null,null,null,null,null,null,null,null,null,null,null,null,null,null,null,null,null,null,null,null,null,null,null,null,null,null,null,null,null,null,{"$f":"IF(AND(B8=\"SI\",C8=\"Instalación\"),1,\"\")","v":""},{"$f":"IF(AND(B8=\"SI\",C8=\"Organización\"),1,\"\")","v":""},{"$f":"IF(AND(B8=\"SI\",C8=\"Particular\"),1,\"\")","v":""},{"$f":"IF(AND(B8=\"NO\",C8=\"Instalación\"),1,\"\")","v":""},{"$f":"IF(AND(B8=\"NO\",C8=\"Organización\"),1,\"\")","v":""},{"$f":"IF(AND(B8=\"NO\",C8=\"Particular\"),1,\"\")","v":""},{"$f":"IF(AND(B8=\"NO\",C8=\"Instalación\",H9=1),1,\"\")","v":""},{"$f":"IF(AND(B8=\"NO\",C8=\"Organización\",H9=1),1,\"\")","v":""},{"$f":"IF(AND(B8=\"NO\",C8=\"Particular\",H9=1),1,\"\")","v":""},{"$f":"IF(AND(B8=\"NO\",C8=\"Instalación\"),IF(OR(K9=1,N9=1,Q9=1,T9=1),1,\"\"),\"\")","v":""},{"$f":"IF(AND(B8=\"NO\",C8=\"Organización\"),IF(OR(K9=1,N9=1,Q9=1,T9=1),1,\"\"),\"\")","v":""},{"$f":"IF(AND(B8=\"NO\",C8=\"Particular\"),IF(OR(K9=1,N9=1,Q9=1,T9=1),1,\"\"),\"\")","v":""},{"$f":"IF(AND(H9=1,F8<>\"\"),\"X\",\"\")","v":""},{"$f":"IF(AND(K9=1,I8<>\"\"),\"X\",\"\")","v":""},{"$f":"IF(AND(N9=1,L8<>\"\"),\"X\",\"\")","v":""},{"$f":"IF(AND(Q9=1,O8<>\"\"),\"X\",\"\")","v":""},{"$f":"IF(AND(T9=1,R8<>\"\"),\"X\",\"\")","v":""},{"$f":"IF(AND(V9=1,U8<>\"\"),\"X\",\"\")","v":""}]
[null,null,null,null,null,1000,"-",{"$f":"IF(OR((F8<F9),(F8>G9),F8=\"\"),1,0)","v":1},180,182,{"$f":"IF(OR((I8<I9),(I8>J9),I8=\"\"),1,0)","v":1},50,57,{"$f":"IF(OR((L8<L9),(L8>M9),L8=\"\"),1,0)","v":1},37,39,{"$f":"IF(OR((O8<O9),(O8>P9),O8=\"\"),1,0)","v":1},12,13,{"$f":"IF(OR((R8<R9),(R8>S9),R8=\"\"),1,0)","v":1},null,{"$f":"IF(U8<>\"\",1,0)","v":0}]
[2,{"$f":"IF(AND(A10<>\"\",C10<>\"\",D10<>\"\",W10<>\"\",X10<>\"\"),IF(SUM(H11,K11,N11,Q11,T11,V11)>0,\"NO\",\"SI\"),\"\")","v":""},null,null,null,null,null,null,null,null,null,null,null,null,null,null,null,null,null,null,null,null,null,null,null,{"$f":"C11","v":0},{"$f":"D11","v":0},null,null,null,null,null,null,null,null,null,null,null,null,null,null,null,null,null,null,null,null,null,null,null,null,null,null,null,null,null,null,null,null,null,null,null,null,null,null,null,null,null,null,{"$f":"IF(AND(B10=\"SI\",C10=\"Instalación\"),1,\"\")","v":""},{"$f":"IF(AND(B10=\"SI\",C10=\"Organización\"),1,\"\")","v":""},{"$f":"IF(AND(B10=\"SI\",C10=\"Particular\"),1,\"\")","v":""},{"$f":"IF(AND(B10=\"NO\",C10=\"Instalación\"),1,\"\")","v":""},{"$f":"IF(AND(B10=\"NO\",C10=\"Organización\"),1,\"\")","v":""},{"$f":"IF(AND(B10=\"NO\",C10=\"Particular\"),1,\"\")","v":""},{"$f":"IF(AND(B10=\"NO\",C10=\"Instalación\",H11=1),1,\"\")","v":""},{"$f":"IF(AND(B10=\"NO\",C10=\"Organización\",H11=1),1,\"\")","v":""},{"$f":"IF(AND(B10=\"NO\",C10=\"Particular\",H11=1),1,\"\")","v":""},{"$f":"IF(AND(B10=\"NO\",C10=\"Instalación\"),IF(OR(K11=1,N11=1,Q11=1,T11=1),1,\"\"),\"\")","v":""},{"$f":"IF(AND(B10=\"NO\",C10=\"Organización\"),IF(OR(K11=1,N11=1,Q11=1,T11=1),1,\"\"),\"\")","v":""},{"$f":"IF(AND(B10=\"NO\",C10=\"Particular\"),IF(OR(K11=1,N11=1,Q11=1,T11=1),1,\"\"),\"\")","v":""},{"$f":"IF(AND(H11=1,F10<>\"\"),\"X\",\"\")","v":""},{"$f":"IF(AND(K11=1,I10<>\"\"),\"X\",\"\")","v":""},{"$f":"IF(AND(N11=1,L10<>\"\"),\"X\",\"\")","v":""},{"$f":"IF(AND(Q11=1,O10<>\"\"),\"X\",\"\")","v":""},{"$f":"IF(AND(T11=1,R10<>\"\"),\"X\",\"\")","v":""},{"$f":"IF(AND(V11=1,U10<>\"\"),\"X\",\"\")","v":""}]
[null,null,null,null,null,1000,"-",{"$f":"IF(OR((F10<F11),(F10>G11),F10=\"\"),1,0)","v":1},180,182,{"$f":"IF(OR((I10<I11),(I10>J11),I10=\"\"),1,0)","v":1},50,57,{"$f":"IF(OR((L10<L11),(L10>M11),L10=\"\"),1,0)","v":1},37,39,{"$f":"IF(OR((O10<O11),(O10>P11),O10=\"\"),1,0)","v":1},12,13,{"$f":"IF(OR((R10<R11),(R10>S11),R10=\"\"),1,0)","v":1},null,{"$f":"IF(U10<>\"\",1,0)","v":0}]
[]
[]
[]
[]
[]
[]
[]
[]
[]
[]
[]
[]
[]
[]
[]
[]
[]
[]
[]
[]
[]
[]
[]
[]
[]
[]
[]
[]
[]
[]
[]
[]
[]
[]
[]
[]
[]
[]
[]
[]
[]
[]
[]
[]
[]
[]
[]
[]
[]
[]
[]
[]
[]
[]
[]
[]
[]
[]
[]
[]
[]
[]
[]
[]
[]
[]
[]
[]
[]
[]
[]
[]
[]
[]
[]
[]
[]
[]
[]
[]
[]
[]
[]
[]
[]
[]
[]
[]
[]
[]
[]
[]
[]
[]
[]
[]
[]
[]
[]
[]
[]
[]
[]
[]
[]
[]
[]
[]
[]
[]
[]
[]
[]
[]
[]
[]
[]
[]
[]
[]
[]
[]
[]
[]
[]
[]
[]
[]
[]
[]
[]
[]
[]
[]
[]
[]
[]
[]
[]
[]
[]
[]
[]
[]
[]
[]
[]
[]
[]
[]
[]
[]
[]
[]
[]
[]
[]
[]
[]
[]
[]
[]
[]
[]
[]
[]
[]
[]
[]
[]
[]
[]
[]
[]
[]
[]
[]
[]
[]
[]
[]
[]
[]
[]
[null,null,null,null,null,null,null,null,null,null,null,null,null,null,null,null,null,null,null,null,null,null,null,null,null,null,null,null,null,null,null,null,null,null,null,null,null,null,null,null,null,null,null,null,null,null,null,null,null,null,null,null,null,null,null,null,null,null,null,null,null,null,null,null,null,null,null,null,null,{"$f":"SUM(BR8:BR195)","v":0},0,0,0,0,0,0,0,0,0,0,0]

{"sheet":"DIS.800","index":18,"n_rows":206,"n_cols":87,"rows_kept":206,"cut":false,"hidden":true,"merged":[[4,17,4,18],[0,0,4,1],[1,3,1,11],[4,8,4,9],[4,11,4,12],[4,14,4,15],[5,22,6,22],[5,23,6,23],[5,0,6,0],[5,1,6,1],[5,2,6,2],[5,5,6,7],[5,8,6,10],[7,11,7,12],[5,11,6,13],[5,14,6,16],[5,17,6,19],[5,20,6,20],[9,0,10,0],[9,1,10,1],[9,5,9,6],[9,8,9,9],[7,0,8,0],[7,1,8,1],[7,5,7,6],[7,8,7,9],[9,23,10,23],[7,14,7,15],[7,17,7,18],[7,20,8,20],[7,22,8,22],[7,23,8,23],[9,11,9,12],[9,14,9,15],[9,17,9,18],[9,20,10,20],[9,22,10,22]]}
[null,null,"HOMOLOGACIÓN DE ARTEFACTOS",null,null,null,null,null,null,null,null,null,null,null,null,null,null,null,null,null,null,null,null,null,null,null,null,null,null,null,null,null,null,null,null,null,null,null,null,null,null,null,null,null,null,null,null,null,null,null,null,null,null,null,null,null,null,null,null,null,null,null,null,null,null,null,null,null,10]
[null,null,"Competición:",{"$f":"IF(Inicio!D4=\"\",\"FALTA NOMBRE DE COMPETICIÓN\",Inicio!D4)","v":"FALTA NOMBRE DE COMPETICIÓN"},null,null,null,null,null,null,null,null,"X",null,null,null,null,null,null,null,null,null,null,null,"Instalación"]
[null,null,null,null,null,null,null,null,null,null,null,null,null,null,null,null,null,null,null,null,null,null,null,null,"Organización"]
[null,null,null,"DISCO 800",null,null,null,null,null,null,null,null,null,null,null,null,null,null,null,null,null,null,null,null,"Particular"]
[null,null,null,null,null,null,null,null,"Diámetro exterior del anillo metálico",null,null,"Diámetro de las placas o zona central plana",null,null,"Grosor en la zona central o placas metálicas",null,null,"Grosor de la llanta o anillo metálico (a 6mm del borde)",null,null,"Deficiencias                                       no relacionadas                                           con medidas"]
["Referencia","Válido","Propietario","Marca y modelo","Cert. IAAF","Peso",null,null,"D1",null,null,"D2",null,null,"G1",null,null,"G2",null,null,"Observaciones",null,"Homologador","Fecha"]
[null,null,null,"Color","Art. Comb.",null,null,null,null,null,null,null,null,null,null,null,null,null,null,null,null,null,null,null,null,null,null,null,null,null,null,null,null,null,null,null,null,null,null,null,null,null,null,null,null,null,null,null,null,null,null,null,null,null,null,null,null,null,null,null,null,null,null,null,null,null,null,null,null,"VI","VO","VP","NVI","NVO","NVP","NVPI","NVPO","NVPP","NVMI","NVMO","NVMP","Peso","Ø exterior","Ø placas","Grosor central","Grosor llanta","Observ."]
[1,{"$f":"IF(AND(A8<>\"\",C8<>\"\",D8<>\"\",W8<>\"\",X8<>\"\"),IF(SUM(H9,K9,N9,Q9,T9,V9)>0,\"NO\",\"SI\"),\"\")","v":""},null,null,null,null,null,null,null,null,null,null,null,null,null,null,null,null,null,null,null,null,null,null,null,{"$f":"C9","v":0},{"$f":"D9","v":0},null,null,null,null,null,null,null,null,null,null,null,null,null,null,null,null,null,null,null,null,null,null,null,null,null,null,null,null,null,null,null,null,null,null,null,null,null,null,null,null,null,null,{"$f":"IF(AND(B8=\"SI\",C8=\"Instalación\"),1,\"\")","v":""},{"$f":"IF(AND(B8=\"SI\",C8=\"Organización\"),1,\"\")","v":""},{"$f":"IF(AND(B8=\"SI\",C8=\"Particular\"),1,\"\")","v":""},{"$f":"IF(AND(B8=\"NO\",C8=\"Instalación\"),1,\"\")","v":""},{"$f":"IF(AND(B8=\"NO\",C8=\"Organización\"),1,\"\")","v":""},{"$f":"IF(AND(B8=\"NO\",C8=\"Particular\"),1,\"\")","v":""},{"$f":"IF(AND(B8=\"NO\",C8=\"Instalación\",H9=1),1,\"\")","v":""},{"$f":"IF(AND(B8=\"NO\",C8=\"Organización\",H9=1),1,\"\")","v":""},{"$f":"IF(AND(B8=\"NO\",C8=\"Particular\",H9=1),1,\"\")","v":""},{"$f":"IF(AND(B8=\"NO\",C8=\"Instalación\"),IF(OR(K9=1,N9=1,Q9=1,T9=1),1,\"\"),\"\")","v":""},{"$f":"IF(AND(B8=\"NO\",C8=\"Organización\"),IF(OR(K9=1,N9=1,Q9=1,T9=1),1,\"\"),\"\")","v":""},{"$f":"IF(AND(B8=\"NO\",C8=\"Particular\"),IF(OR(K9=1,N9=1,Q9=1,T9=1),1,\"\"),\"\")","v":""},{"$f":"IF(AND(H9=1,F8<>\"\"),\"X\",\"\")","v":""},{"$f":"IF(AND(K9=1,I8<>\"\"),\"X\",\"\")","v":""},{"$f":"IF(AND(N9=1,L8<>\"\"),\"X\",\"\")","v":""},{"$f":"IF(AND(Q9=1,O8<>\"\"),\"X\",\"\")","v":""},{"$f":"IF(AND(T9=1,R8<>\"\"),\"X\",\"\")","v":""},{"$f":"IF(AND(V9=1,U8<>\"\"),\"X\",\"\")","v":""}]
[null,null,null,null,null,800,"-",{"$f":"IF(OR((F8<F9),(F8>G9),F8=\"\"),1,0)","v":1},166,169,{"$f":"IF(OR((I8<I9),(I8>J9),I8=\"\"),1,0)","v":1},50,57,{"$f":"IF(OR((L8<L9),(L8>M9),L8=\"\"),1,0)","v":1},33,37,{"$f":"IF(OR((O8<O9),(O8>P9),O8=\"\"),1,0)","v":1},12,13,{"$f":"IF(OR((R8<R9),(R8>S9),R8=\"\"),1,0)","v":1},null,{"$f":"IF(U8<>\"\",1,0)","v":0}]
[2,{"$f":"IF(AND(A10<>\"\",C10<>\"\",D10<>\"\",W10<>\"\",X10<>\"\"),IF(SUM(H11,K11,N11,Q11,T11,V11)>0,\"NO\",\"SI\"),\"\")","v":""},null,null,null,null,null,null,null,null,null,null,null,null,null,null,null,null,null,null,null,null,null,null,null,{"$f":"C11","v":0},{"$f":"D11","v":0},null,null,null,null,null,null,null,null,null,null,null,null,null,null,null,null,null,null,null,null,null,null,null,null,null,null,null,null,null,null,null,null,null,null,null,null,null,null,null,null,null,null,{"$f":"IF(AND(B10=\"SI\",C10=\"Instalación\"),1,\"\")","v":""},{"$f":"IF(AND(B10=\"SI\",C10=\"Organización\"),1,\"\")","v":""},{"$f":"IF(AND(B10=\"SI\",C10=\"Particular\"),1,\"\")","v":""},{"$f":"IF(AND(B10=\"NO\",C10=\"Instalación\"),1,\"\")","v":""},{"$f":"IF(AND(B10=\"NO\",C10=\"Organización\"),1,\"\")","v":""},{"$f":"IF(AND(B10=\"NO\",C10=\"Particular\"),1,\"\")","v":""},{"$f":"IF(AND(B10=\"NO\",C10=\"Instalación\",H11=1),1,\"\")","v":""},{"$f":"IF(AND(B10=\"NO\",C10=\"Organización\",H11=1),1,\"\")","v":""},{"$f":"IF(AND(B10=\"NO\",C10=\"Particular\",H11=1),1,\"\")","v":""},{"$f":"IF(AND(B10=\"NO\",C10=\"Instalación\"),IF(OR(K11=1,N11=1,Q11=1,T11=1),1,\"\"),\"\")","v":""},{"$f":"IF(AND(B10=\"NO\",C10=\"Organización\"),IF(OR(K11=1,N11=1,Q11=1,T11=1),1,\"\"),\"\")","v":""},{"$f":"IF(AND(B10=\"NO\",C10=\"Particular\"),IF(OR(K11=1,N11=1,Q11=1,T11=1),1,\"\"),\"\")","v":""},{"$f":"IF(AND(H11=1,F10<>\"\"),\"X\",\"\")","v":""},{"$f":"IF(AND(K11=1,I10<>\"\"),\"X\",\"\")","v":""},{"$f":"IF(AND(N11=1,L10<>\"\"),\"X\",\"\")","v":""},{"$f":"IF(AND(Q11=1,O10<>\"\"),\"X\",\"\")","v":""},{"$f":"IF(AND(T11=1,R10<>\"\"),\"X\",\"\")","v":""},{"$f":"IF(AND(V11=1,U10<>\"\"),\"X\",\"\")","v":""}]
[null,null,null,null,null,800,"-",{"$f":"IF(OR((F10<F11),(F10>G11),F10=\"\"),1,0)","v":1},166,169,{"$f":"IF(OR((I10<I11),(I10>J11),I10=\"\"),1,0)","v":1},50,57,{"$f":"IF(OR((L10<L11),(L10>M11),L10=\"\"),1,0)","v":1},33,37,{"$f":"IF(OR((O10<O11),(O10>P11),O10=\"\"),1,0)","v":1},12,13,{"$f":"IF(OR((R10<R11),(R10>S11),R10=\"\"),1,0)","v":1},null,{"$f":"IF(U10<>\"\",1,0)","v":0}]
[]
[]
[]
[]
[]
[]
[]
[]
[]
[]
[]
[]
[]
[]
[]
[]
[]
[]
[]
[]
[]
[]
[]
[]
[]
[]
[]
[]
[]
[]
[]
[]
[]
[]
[]
[]
[]
[]
[]
[]
[]
[]
[]
[]
[]
[]
[]
[]
[]
[]
[]
[]
[]
[]
[]
[]
[]
[]
[]
[]
[]
[]
[]
[]
[]
[]
[]
[]
[]
[]
[]
[]
[]
[]
[]
[]
[]
[]
[]
[]
[]
[]
[]
[]
[]
[]
[]
[]
[]
[]
[]
[]
[]
[]
[]
[]
[]
[]
[]
[]
[]
[]
[]
[]
[]
[]
[]
[]
[]
[]
[]
[]
[]
[]
[]
[]
[]
[]
[]
[]
[]
[]
[]
[]
[]
[]
[]
[]
[]
[]
[]
[]
[]
[]
[]
[]
[]
[]
[]
[]
[]
[]
[]
[]
[]
[]
[]
[]
[]
[]
[]
[]
[]
[]
[]
[]
[]
[]
[]
[]
[]
[]
[]
[]
[]
[]
[]
[]
[]
[]
[]
[]
[]
[]
[]
[]
[]
[]
[]
[]
[]
[]
[]
[]
[]
[]
[]
[]
[]
[]
[]
[]
[]
[]
[null,null,null,null,null,null,null,null,null,null,null,null,null,null,null,null,null,null,null,null,null,null,null,null,null,null,null,null,null,null,null,null,null,null,null,null,null,null,null,null,null,null,null,null,null,null,null,null,null,null,null,null,null,null,null,null,null,null,null,null,null,null,null,null,null,null,null,null,null,{"$f":"SUM(BR8:BR205)","v":0},0,0,0,0,0,0,0,0,0,0,0]

{"sheet":"DIS.750","index":19,"n_rows":200,"n_cols":87,"rows_kept":200,"cut":false,"hidden":true,"merged":[[4,17,4,18],[0,0,4,1],[1,3,1,11],[4,8,4,9],[4,11,4,12],[4,14,4,15],[5,22,6,22],[5,23,6,23],[5,0,6,0],[5,1,6,1],[5,2,6,2],[5,5,6,7],[5,8,6,10],[7,11,7,12],[5,11,6,13],[5,14,6,16],[5,17,6,19],[5,20,6,20],[9,0,10,0],[9,1,10,1],[9,5,9,6],[9,8,9,9],[7,0,8,0],[7,1,8,1],[7,5,7,6],[7,8,7,9],[9,23,10,23],[7,14,7,15],[7,17,7,18],[7,20,8,20],[7,22,8,22],[7,23,8,23],[9,11,9,12],[9,14,9,15],[9,17,9,18],[9,20,10,20],[9,22,10,22]]}
[null,null,"HOMOLOGACIÓN DE ARTEFACTOS",null,null,null,null,null,null,null,null,null,null,null,null,null,null,null,null,null,null,null,null,null,null,null,null,null,null,null,null,null,null,null,null,null,null,null,null,null,null,null,null,null,null,null,null,null,null,null,null,null,null,null,null,null,null,null,null,null,null,null,null,null,null,null,null,null,10]
[null,null,"Competición:",{"$f":"IF(Inicio!D4=\"\",\"FALTA NOMBRE DE COMPETICIÓN\",Inicio!D4)","v":"FALTA NOMBRE DE COMPETICIÓN"},null,null,null,null,null,null,null,null,"X",null,null,null,null,null,null,null,null,null,null,null,"Instalación"]
[null,null,null,null,null,null,null,null,null,null,null,null,null,null,null,null,null,null,null,null,null,null,null,null,"Organización"]
[null,null,null,"DISCO 750",null,null,null,null,null,null,null,null,null,null,null,null,null,null,null,null,null,null,null,null,"Particular"]
[null,null,null,null,null,null,null,null,"Diámetro exterior del anillo metálico",null,null,"Diámetro de las placas o zona central plana",null,null,"Grosor en la zona central o placas metálicas",null,null,"Grosor de la llanta o anillo metálico (a 6mm del borde)",null,null,"Deficiencias                                       no relacionadas                                           con medidas"]
["Referencia","Válido","Propietario","Marca y modelo","Cert. IAAF","Peso",null,null,"D1",null,null,"D2",null,null,"G1",null,null,"G2",null,null,"Observaciones",null,"Homologador","Fecha"]
[null,null,null,"Color","Art. Comb.",null,null,null,null,null,null,null,null,null,null,null,null,null,null,null,null,null,null,null,null,null,null,null,null,null,null,null,null,null,null,null,null,null,null,null,null,null,null,null,null,null,null,null,null,null,null,null,null,null,null,null,null,null,null,null,null,null,null,null,null,null,null,null,null,"VI","VO","VP","NVI","NVO","NVP","NVPI","NVPO","NVPP","NVMI","NVMO","NVMP","Peso","Ø exterior","Ø placas","Grosor central","Grosor llanta","Observ."]
[1,{"$f":"IF(AND(A8<>\"\",C8<>\"\",D8<>\"\",W8<>\"\",X8<>\"\"),IF(SUM(H9,K9,N9,Q9,T9,V9)>0,\"NO\",\"SI\"),\"\")","v":""},null,null,null,null,null,null,null,null,null,null,null,null,null,null,null,null,null,null,null,null,null,null,null,{"$f":"C9","v":0},{"$f":"D9","v":0},null,null,null,null,null,null,null,null,null,null,null,null,null,null,null,null,null,null,null,null,null,null,null,null,null,null,null,null,null,null,null,null,null,null,null,null,null,null,null,null,null,null,{"$f":"IF(AND(B8=\"SI\",C8=\"Instalación\"),1,\"\")","v":""},{"$f":"IF(AND(B8=\"SI\",C8=\"Organización\"),1,\"\")","v":""},{"$f":"IF(AND(B8=\"SI\",C8=\"Particular\"),1,\"\")","v":""},{"$f":"IF(AND(B8=\"NO\",C8=\"Instalación\"),1,\"\")","v":""},{"$f":"IF(AND(B8=\"NO\",C8=\"Organización\"),1,\"\")","v":""},{"$f":"IF(AND(B8=\"NO\",C8=\"Particular\"),1,\"\")","v":""},{"$f":"IF(AND(B8=\"NO\",C8=\"Instalación\",H9=1),1,\"\")","v":""},{"$f":"IF(AND(B8=\"NO\",C8=\"Organización\",H9=1),1,\"\")","v":""},{"$f":"IF(AND(B8=\"NO\",C8=\"Particular\",H9=1),1,\"\")","v":""},{"$f":"IF(AND(B8=\"NO\",C8=\"Instalación\"),IF(OR(K9=1,N9=1,Q9=1,T9=1),1,\"\"),\"\")","v":""},{"$f":"IF(AND(B8=\"NO\",C8=\"Organización\"),IF(OR(K9=1,N9=1,Q9=1,T9=1),1,\"\"),\"\")","v":""},{"$f":"IF(AND(B8=\"NO\",C8=\"Particular\"),IF(OR(K9=1,N9=1,Q9=1,T9=1),1,\"\"),\"\")","v":""},{"$f":"IF(AND(H9=1,F8<>\"\"),\"X\",\"\")","v":""},{"$f":"IF(AND(K9=1,I8<>\"\"),\"X\",\"\")","v":""},{"$f":"IF(AND(N9=1,L8<>\"\"),\"X\",\"\")","v":""},{"$f":"IF(AND(Q9=1,O8<>\"\"),\"X\",\"\")","v":""},{"$f":"IF(AND(T9=1,R8<>\"\"),\"X\",\"\")","v":""},{"$f":"IF(AND(V9=1,U8<>\"\"),\"X\",\"\")","v":""}]
[null,null,null,null,null,750,"-",{"$f":"IF(OR((F8<F9),(F8>G9),F8=\"\"),1,0)","v":1},166,169,{"$f":"IF(OR((I8<I9),(I8>J9),I8=\"\"),1,0)","v":1},50,57,{"$f":"IF(OR((L8<L9),(L8>M9),L8=\"\"),1,0)","v":1},33,37,{"$f":"IF(OR((O8<O9),(O8>P9),O8=\"\"),1,0)","v":1},10,13,{"$f":"IF(OR((R8<R9),(R8>S9),R8=\"\"),1,0)","v":1},null,{"$f":"IF(U8<>\"\",1,0)","v":0}]
[2,{"$f":"IF(AND(A10<>\"\",C10<>\"\",D10<>\"\",W10<>\"\",X10<>\"\"),IF(SUM(H11,K11,N11,Q11,T11,V11)>0,\"NO\",\"SI\"),\"\")","v":""},null,null,null,null,null,null,null,null,null,null,null,null,null,null,null,null,null,null,null,null,null,null,null,{"$f":"C11","v":0},{"$f":"D11","v":0},null,null,null,null,null,null,null,null,null,null,null,null,null,null,null,null,null,null,null,null,null,null,null,null,null,null,null,null,null,null,null,null,null,null,null,null,null,null,null,null,null,null,{"$f":"IF(AND(B10=\"SI\",C10=\"Instalación\"),1,\"\")","v":""},{"$f":"IF(AND(B10=\"SI\",C10=\"Organización\"),1,\"\")","v":""},{"$f":"IF(AND(B10=\"SI\",C10=\"Particular\"),1,\"\")","v":""},{"$f":"IF(AND(B10=\"NO\",C10=\"Instalación\"),1,\"\")","v":""},{"$f":"IF(AND(B10=\"NO\",C10=\"Organización\"),1,\"\")","v":""},{"$f":"IF(AND(B10=\"NO\",C10=\"Particular\"),1,\"\")","v":""},{"$f":"IF(AND(B10=\"NO\",C10=\"Instalación\",H11=1),1,\"\")","v":""},{"$f":"IF(AND(B10=\"NO\",C10=\"Organización\",H11=1),1,\"\")","v":""},{"$f":"IF(AND(B10=\"NO\",C10=\"Particular\",H11=1),1,\"\")","v":""},{"$f":"IF(AND(B10=\"NO\",C10=\"Instalación\"),IF(OR(K11=1,N11=1,Q11=1,T11=1),1,\"\"),\"\")","v":""},{"$f":"IF(AND(B10=\"NO\",C10=\"Organización\"),IF(OR(K11=1,N11=1,Q11=1,T11=1),1,\"\"),\"\")","v":""},{"$f":"IF(AND(B10=\"NO\",C10=\"Particular\"),IF(OR(K11=1,N11=1,Q11=1,T11=1),1,\"\"),\"\")","v":""},{"$f":"IF(AND(H11=1,F10<>\"\"),\"X\",\"\")","v":""},{"$f":"IF(AND(K11=1,I10<>\"\"),\"X\",\"\")","v":""},{"$f":"IF(AND(N11=1,L10<>\"\"),\"X\",\"\")","v":""},{"$f":"IF(AND(Q11=1,O10<>\"\"),\"X\",\"\")","v":""},{"$f":"IF(AND(T11=1,R10<>\"\"),\"X\",\"\")","v":""},{"$f":"IF(AND(V11=1,U10<>\"\"),\"X\",\"\")","v":""}]
[null,null,null,null,null,750,"-",{"$f":"IF(OR((F10<F11),(F10>G11),F10=\"\"),1,0)","v":1},166,169,{"$f":"IF(OR((I10<I11),(I10>J11),I10=\"\"),1,0)","v":1},50,57,{"$f":"IF(OR((L10<L11),(L10>M11),L10=\"\"),1,0)","v":1},33,37,{"$f":"IF(OR((O10<O11),(O10>P11),O10=\"\"),1,0)","v":1},10,13,{"$f":"IF(OR((R10<R11),(R10>S11),R10=\"\"),1,0)","v":1},null,{"$f":"IF(U10<>\"\",1,0)","v":0}]
[]
[]
[]
[]
[]
[]
[]
[]
[]
[]
[]
[]
[]
[]
[]
[]
[]
[]
[]
[]
[]
[]
[]
[]
[]
[]
[]
[]
[]
[]
[]
[]
[]
[]
[]
[]
[]
[]
[]
[]
[]
[]
[]
[]
[]
[]
[]
[]
[]
[]
[]
[]
[]
[]
[]
[]
[]
[]
[]
[]
[]
[]
[]
[]
[]
[]
[]
[]
[]
[]
[]
[]
[]
[]
[]
[]
[]
[]
[]
[]
[]
[]
[]
[]
[]
[]
[]
[]
[]
[]
[]
[]
[]
[]
[]
[]
[]
[]
[]
[]
[]
[]
[]
[]
[]
[]
[]
[]
[]
[]
[]
[]
[]
[]
[]
[]
[]
[]
[]
[]
[]
[]
[]
[]
[]
[]
[]
[]
[]
[]
[]
[]
[]
[]
[]
[]
[]
[]
[]
[]
[]
[]
[]
[]
[]
[]
[]
[]
[]
[]
[]
[]
[]
[]
[]
[]
[]
[]
[]
[]
[]
[]
[]
[]
[]
[]
[]
[]
[]
[]
[]
[]
[]
[]
[]
[]
[]
[]
[]
[]
[]
[]
[]
[]
[]
[]
[]
[]
[null,null,null,null,null,null,null,null,null,null,null,null,null,null,null,null,null,null,null,null,null,null,null,null,null,null,null,null,null,null,null,null,null,null,null,null,null,null,null,null,null,null,null,null,null,null,null,null,null,null,null,null,null,null,null,null,null,null,null,null,null,null,null,null,null,null,null,null,null,{"$f":"SUM(BR8:BR199)","v":0},0,0,0,0,0,0,0,0,0,0,0]

{"sheet":"MAR.7260","index":20,"n_rows":202,"n_cols":87,"rows_kept":202,"cut":false,"hidden":true,"merged":[[9,20,10,20],[9,22,10,22],[9,23,10,23],[7,4,8,4],[9,4,10,4],[9,14,9,15],[9,17,10,18],[7,14,7,15],[7,20,8,20],[7,22,8,22],[7,23,8,23],[9,0,10,0],[9,1,10,1],[9,5,9,6],[9,8,9,9],[9,11,9,12],[4,14,4,15],[5,8,6,10],[5,11,6,13],[5,14,6,16],[5,17,6,19],[7,25,8,25],[5,20,6,20],[5,22,6,22],[5,23,6,23],[4,17,4,18],[7,17,8,18],[7,0,8,0],[7,1,8,1],[7,5,7,6],[7,8,7,9],[7,11,7,12],[0,0,4,1],[1,3,1,11],[4,8,4,9],[4,11,4,12],[5,0,6,0],[5,1,6,1],[5,2,6,2],[5,4,6,4],[5,5,6,7]]}
[null,null,"HOMOLOGACIÓN DE ARTEFACTOS",null,null,null,null,null,null,null,null,null,null,null,null,null,null,null,null,null,null,null,null,null,null,null,null,null,null,null,null,null,null,null,null,null,null,null,null,null,null,null,null,null,null,null,null,null,null,null,null,null,null,null,null,null,null,null,null,null,null,null,null,null,null,null,null,null,10]
[null,null,"Competición:",{"$f":"IF(Inicio!D4=\"\",\"FALTA NOMBRE DE COMPETICIÓN\",Inicio!D4)","v":"FALTA NOMBRE DE COMPETICIÓN"},null,null,null,null,null,null,null,null,"X",null,null,null,null,null,null,null,null,null,null,null,"Instalación","Correcto"]
[null,null,null,null,null,null,null,null,null,null,null,null,null,null,null,null,null,null,null,null,null,null,null,null,"Organización","Incorrecto"]
[null,null,null,"MARTILLO 7260",null,null,null,null,null,null,null,null,null,null,null,null,null,null,null,null,null,null,null,null,"Particular"]
[null,null,null,null,null,null,null,null,"Long. total del martillo medida desde el interior de la empuñadura",null,null,"Diámetro     del cable",null,null,"Diámetro de la cabeza",null,null,null,null,null,"Deficiencias                                       no relacionadas                                           con medidas"]
["Referencia","Válido","Propietario","Marca y modelo","Certificado                IAAF","Peso",null,null,"L1",null,null,"D1",null,null,"D2",null,null,"C. de G. de   la cabeza",null,null,"Observaciones",null,"Homologador","Fecha"]
[null,null,null,"Color",null,null,null,null,null,null,null,null,null,null,null,null,null,null,null,null,null,null,null,null,null,null,null,null,null,null,null,null,null,null,null,null,null,null,null,null,null,null,null,null,null,null,null,null,null,null,null,null,null,null,null,null,null,null,null,null,null,null,null,null,null,null,null,null,null,"VI","VO","VP","NVI","NVO","NVP","NVPI","NVPO","NVPP","NVMI","NVMO","NVMP","Peso","Long. total","Ø cable","Ø cabeza","C. de g.","Observ."]
[1,{"$f":"IF(AND(A8<>\"\",C8<>\"\",D8<>\"\",W8<>\"\",X8<>\"\"),IF(SUM(H9,K9,N9,Q9,T9,V9)>0,\"NO\",\"SI\"),\"\")","v":""},null,null,null,null,null,null,null,null,null,null,null,null,null,null,null,null,null,null,null,null,null,null,null,{"$f":"C9","v":0},{"$f":"D9","v":0},null,null,null,null,null,null,null,null,null,null,null,null,null,null,null,null,null,null,null,null,null,null,null,null,null,null,null,null,null,null,null,null,null,null,null,null,null,null,null,null,null,null,{"$f":"IF(AND(B8=\"SI\",C8=\"Instalación\"),1,\"\")","v":""},{"$f":"IF(AND(B8=\"SI\",C8=\"Organización\"),1,\"\")","v":""},{"$f":"IF(AND(B8=\"SI\",C8=\"Particular\"),1,\"\")","v":""},{"$f":"IF(AND(B8=\"NO\",C8=\"Instalación\"),1,\"\")","v":""},{"$f":"IF(AND(B8=\"NO\",C8=\"Organización\"),1,\"\")","v":""},{"$f":"IF(AND(B8=\"NO\",C8=\"Particular\"),1,\"\")","v":""},{"$f":"IF(AND(B8=\"NO\",C8=\"Instalación\",H9=1),1,\"\")","v":""},{"$f":"IF(AND(B8=\"NO\",C8=\"Organización\",H9=1),1,\"\")","v":""},{"$f":"IF(AND(B8=\"NO\",C8=\"Particular\",H9=1),1,\"\")","v":""},{"$f":"IF(AND(B8=\"NO\",C8=\"Instalación\"),IF(OR(K9=1,N9=1,Q9=1,T9=1),1,\"\"),\"\")","v":""},{"$f":"IF(AND(B8=\"NO\",C8=\"Organización\"),IF(OR(K9=1,N9=1,Q9=1,T9=1),1,\"\"),\"\")","v":""},{"$f":"IF(AND(B8=\"NO\",C8=\"Particular\"),IF(OR(K9=1,N9=1,Q9=1,T9=1),1,\"\"),\"\")","v":""},{"$f":"IF(AND(H9=1,F8<>\"\"),\"X\",\"\")","v":""},{"$f":"IF(AND(K9=1,I8<>\"\"),\"X\",\"\")","v":""},{"$f":"IF(AND(N9=1,L8<>\"\"),\"X\",\"\")","v":""},{"$f":"IF(AND(Q9=1,O8<>\"\"),\"X\",\"\")","v":""},{"$f":"IF(AND(T9=1,R8<>\"\"),\"X\",\"\")","v":""},{"$f":"IF(AND(V9=1,U8<>\"\"),\"X\",\"\")","v":""}]
[null,null,null,null,null,7260,"-",{"$f":"IF(OR((F8<F9),(F8>G9),F8=\"\"),1,0)","v":1},null,1215,{"$f":"IF(OR((I8<I9),(I8>J9),I8=\"\"),1,0)","v":1},3,"-",{"$f":"IF(OR((L8<L9),(L8>M9),L8=\"\"),1,0)","v":1},110,130,{"$f":"IF(OR((O8<O9),(O8>P9),O8=\"\"),1,0)","v":1},null,null,{"$f":"IF(OR(R8=\"Incorrecto\",R8=\"\"),1,0)","v":1},null,{"$f":"IF(U8<>\"\",1,0)","v":0}]
[2,{"$f":"IF(AND(A10<>\"\",C10<>\"\",D10<>\"\",W10<>\"\",X10<>\"\"),IF(SUM(H11,K11,N11,Q11,T11,V11)>0,\"NO\",\"SI\"),\"\")","v":""},null,null,null,null,null,null,null,null,null,null,null,null,null,null,null,null,null,null,null,null,null,null,null,{"$f":"C11","v":0},{"$f":"D11","v":0},null,null,null,null,null,null,null,null,null,null,null,null,null,null,null,null,null,null,null,null,null,null,null,null,null,null,null,null,null,null,null,null,null,null,null,null,null,null,null,null,null,null,{"$f":"IF(AND(B10=\"SI\",C10=\"Instalación\"),1,\"\")","v":""},{"$f":"IF(AND(B10=\"SI\",C10=\"Organización\"),1,\"\")","v":""},{"$f":"IF(AND(B10=\"SI\",C10=\"Particular\"),1,\"\")","v":""},{"$f":"IF(AND(B10=\"NO\",C10=\"Instalación\"),1,\"\")","v":""},{"$f":"IF(AND(B10=\"NO\",C10=\"Organización\"),1,\"\")","v":""},{"$f":"IF(AND(B10=\"NO\",C10=\"Particular\"),1,\"\")","v":""},{"$f":"IF(AND(B10=\"NO\",C10=\"Instalación\",H11=1),1,\"\")","v":""},{"$f":"IF(AND(B10=\"NO\",C10=\"Organización\",H11=1),1,\"\")","v":""},{"$f":"IF(AND(B10=\"NO\",C10=\"Particular\",H11=1),1,\"\")","v":""},{"$f":"IF(AND(B10=\"NO\",C10=\"Instalación\"),IF(OR(K11=1,N11=1,Q11=1,T11=1),1,\"\"),\"\")","v":""},{"$f":"IF(AND(B10=\"NO\",C10=\"Organización\"),IF(OR(K11=1,N11=1,Q11=1,T11=1),1,\"\"),\"\")","v":""},{"$f":"IF(AND(B10=\"NO\",C10=\"Particular\"),IF(OR(K11=1,N11=1,Q11=1,T11=1),1,\"\"),\"\")","v":""},{"$f":"IF(AND(H11=1,F10<>\"\"),\"X\",\"\")","v":""},{"$f":"IF(AND(K11=1,I10<>\"\"),\"X\",\"\")","v":""},{"$f":"IF(AND(N11=1,L10<>\"\"),\"X\",\"\")","v":""},{"$f":"IF(AND(Q11=1,O10<>\"\"),\"X\",\"\")","v":""},{"$f":"IF(AND(T11=1,R10<>\"\"),\"X\",\"\")","v":""},{"$f":"IF(AND(V11=1,U10<>\"\"),\"X\",\"\")","v":""}]
[null,null,null,null,null,7260,"-",{"$f":"IF(OR((F10<F11),(F10>G11),F10=\"\"),1,0)","v":1},null,1215,{"$f":"IF(OR((I10<I11),(I10>J11),I10=\"\"),1,0)","v":1},3,"-",{"$f":"IF(OR((L10<L11),(L10>M11),L10=\"\"),1,0)","v":1},110,130,{"$f":"IF(OR((O10<O11),(O10>P11),O10=\"\"),1,0)","v":1},null,null,{"$f":"IF(OR(R10=\"Incorrecto\",R10=\"\"),1,0)","v":1},null,{"$f":"IF(U10<>\"\",1,0)","v":0}]
[]
[]
[]
[]
[]
[]
[]
[]
[]
[]
[]
[]
[]
[]
[]
[]
[]
[]
[]
[]
[]
[]
[]
[]
[]
[]
[]
[]
[]
[]
[]
[]
[]
[]
[]
[]
[]
[]
[]
[]
[]
[]
[]
[]
[]
[]
[]
[]
[]
[]
[]
[]
[]
[]
[]
[]
[]
[]
[]
[]
[]
[]
[]
[]
[]
[]
[]
[]
[]
[]
[]
[]
[]
[]
[]
[]
[]
[]
[]
[]
[]
[]
[]
[]
[]
[]
[]
[]
[]
[]
[]
[]
[]
[]
[]
[]
[]
[]
[]
[]
[]
[]
[]
[]
[]
[]
[]
[]
[]
[]
[]
[]
[]
[]
[]
[]
[]
[]
[]
[]
[]
[]
[]
[]
[]
[]
[]
[]
[]
[]
[]
[]
[]
[]
[]
[]
[]
[]
[]
[]
[]
[]
[]
[]
[]
[]
[]
[]
[]
[]
[]
[]
[]
[]
[]
[]
[]
[]
[]
[]
[]
[]
[]
[]
[]
[]
[]
[]
[]
[]
[]
[]
[]
[]
[]
[]
[]
[]
[]
[]
[]
[]
[]
[]
[]
[]
[]
[]
[]
[]
[null,null,null,null,null,null,null,null,null,null,null,null,null,null,null,null,null,null,null,null,null,null,null,null,null,null,null,null,null,null,null,null,null,null,null,null,null,null,null,null,null,null,null,null,null,null,null,null,null,null,null,null,null,null,null,null,null,null,null,null,null,null,null,null,null,null,null,null,null,{"$f":"SUM(BR8:BR201)","v":0},0,0,0,0,0,0,0,0,0,0,0]

{"sheet":"MAR.6000","index":21,"n_rows":202,"n_cols":87,"rows_kept":202,"cut":false,"hidden":true,"merged":[[9,20,10,20],[9,22,10,22],[9,0,10,0],[9,1,10,1],[9,4,10,4],[9,5,9,6],[9,8,9,9],[9,23,10,23],[7,25,8,25],[7,0,8,0],[7,1,8,1],[7,4,8,4],[7,5,7,6],[7,8,7,9],[7,11,7,12],[7,14,7,15],[7,17,8,18],[7,20,8,20],[7,22,8,22],[7,23,8,23],[9,11,9,12],[9,14,9,15],[9,17,10,18],[5,23,6,23],[5,0,6,0],[5,1,6,1],[5,2,6,2],[5,4,6,4],[5,5,6,7],[5,8,6,10],[5,11,6,13],[5,14,6,16],[5,17,6,19],[5,20,6,20],[5,22,6,22],[4,17,4,18],[0,0,4,1],[1,3,1,11],[4,8,4,9],[4,11,4,12],[4,14,4,15]]}
[null,null,"HOMOLOGACIÓN DE ARTEFACTOS",null,null,null,null,null,null,null,null,null,null,null,null,null,null,null,null,null,null,null,null,null,null,null,null,null,null,null,null,null,null,null,null,null,null,null,null,null,null,null,null,null,null,null,null,null,null,null,null,null,null,null,null,null,null,null,null,null,null,null,null,null,null,null,null,null,10]
[null,null,"Competición:",{"$f":"IF(Inicio!D4=\"\",\"FALTA NOMBRE DE COMPETICIÓN\",Inicio!D4)","v":"FALTA NOMBRE DE COMPETICIÓN"},null,null,null,null,null,null,null,null,null,null,null,null,null,null,null,null,null,null,null,null,"Instalación","Correcto"]
[null,null,null,null,null,null,null,null,null,null,null,null,null,null,null,null,null,null,null,null,null,null,null,null,"Organización","Incorrecto"]
[null,null,null,"MARTILLO 6000",null,null,null,null,null,null,null,null,null,null,null,null,null,null,null,null,null,null,null,null,"Particular"]
[null,null,null,null,null,null,null,null,"Long. total del martillo medida desde el interior de la empuñadura",null,null,"Diámetro     del cable",null,null,"Diámetro de       la cabeza",null,null,null,null,null,"Deficiencias                                       no relacionadas                                           con medidas"]
["Referencia","Válido","Propietario","Marca y modelo","Certificado                IAAF","Peso",null,null,"L1",null,null,"D1",null,null,"D2",null,null,"C. de G. de   la cabeza",null,null,"Observaciones",null,"Homologador","Fecha"]
[null,null,null,"Color",null,null,null,null,null,null,null,null,null,null,null,null,null,null,null,null,null,null,null,null,null,null,null,null,null,null,null,null,null,null,null,null,null,null,null,null,null,null,null,null,null,null,null,null,null,null,null,null,null,null,null,null,null,null,null,null,null,null,null,null,null,null,null,null,null,"VI","VO","VP","NVI","NVO","NVP","NVPI","NVPO","NVPP","NVMI","NVMO","NVMP","Peso","Long. total","Ø cable","Ø cabeza","C. de g.","Observ."]
[1,{"$f":"IF(AND(A8<>\"\",C8<>\"\",D8<>\"\",W8<>\"\",X8<>\"\"),IF(SUM(H9,K9,N9,Q9,T9,V9)>0,\"NO\",\"SI\"),\"\")","v":""},null,null,null,null,null,null,null,null,null,null,null,null,null,null,null,null,null,null,null,null,null,null,null,{"$f":"C9","v":0},{"$f":"D9","v":0},null,null,null,null,null,null,null,null,null,null,null,null,null,null,null,null,null,null,null,null,null,null,null,null,null,null,null,null,null,null,null,null,null,null,null,null,null,null,null,null,null,null,{"$f":"IF(AND(B8=\"SI\",C8=\"Instalación\"),1,\"\")","v":""},{"$f":"IF(AND(B8=\"SI\",C8=\"Organización\"),1,\"\")","v":""},{"$f":"IF(AND(B8=\"SI\",C8=\"Particular\"),1,\"\")","v":""},{"$f":"IF(AND(B8=\"NO\",C8=\"Instalación\"),1,\"\")","v":""},{"$f":"IF(AND(B8=\"NO\",C8=\"Organización\"),1,\"\")","v":""},{"$f":"IF(AND(B8=\"NO\",C8=\"Particular\"),1,\"\")","v":""},{"$f":"IF(AND(B8=\"NO\",C8=\"Instalación\",H9=1),1,\"\")","v":""},{"$f":"IF(AND(B8=\"NO\",C8=\"Organización\",H9=1),1,\"\")","v":""},{"$f":"IF(AND(B8=\"NO\",C8=\"Particular\",H9=1),1,\"\")","v":""},{"$f":"IF(AND(B8=\"NO\",C8=\"Instalación\"),IF(OR(K9=1,N9=1,Q9=1,T9=1),1,\"\"),\"\")","v":""},{"$f":"IF(AND(B8=\"NO\",C8=\"Organización\"),IF(OR(K9=1,N9=1,Q9=1,T9=1),1,\"\"),\"\")","v":""},{"$f":"IF(AND(B8=\"NO\",C8=\"Particular\"),IF(OR(K9=1,N9=1,Q9=1,T9=1),1,\"\"),\"\")","v":""},{"$f":"IF(AND(H9=1,F8<>\"\"),\"X\",\"\")","v":""},{"$f":"IF(AND(K9=1,I8<>\"\"),\"X\",\"\")","v":""},{"$f":"IF(AND(N9=1,L8<>\"\"),\"X\",\"\")","v":""},{"$f":"IF(AND(Q9=1,O8<>\"\"),\"X\",\"\")","v":""},{"$f":"IF(AND(T9=1,R8<>\"\"),\"X\",\"\")","v":""},{"$f":"IF(AND(V9=1,U8<>\"\"),\"X\",\"\")","v":""}]
[null,null,null,null,null,6000,"-",{"$f":"IF(OR((F8<F9),(F8>G9),F8=\"\"),1,0)","v":1},null,1215,{"$f":"IF(OR((I8<I9),(I8>J9),I8=\"\"),1,0)","v":1},3,"-",{"$f":"IF(OR((L8<L9),(L8>M9),L8=\"\"),1,0)","v":1},105,125,{"$f":"IF(OR((O8<O9),(O8>P9),O8=\"\"),1,0)","v":1},null,null,{"$f":"IF(OR(R8=\"Incorrecto\",R8=\"\"),1,0)","v":1},null,{"$f":"IF(U8<>\"\",1,0)","v":0}]
[2,{"$f":"IF(AND(A10<>\"\",C10<>\"\",D10<>\"\",W10<>\"\",X10<>\"\"),IF(SUM(H11,K11,N11,Q11,T11,V11)>0,\"NO\",\"SI\"),\"\")","v":""},null,null,null,null,null,null,null,null,null,null,null,null,null,null,null,null,null,null,null,null,null,null,null,{"$f":"C11","v":0},{"$f":"D11","v":0},null,null,null,null,null,null,null,null,null,null,null,null,null,null,null,null,null,null,null,null,null,null,null,null,null,null,null,null,null,null,null,null,null,null,null,null,null,null,null,null,null,null,{"$f":"IF(AND(B10=\"SI\",C10=\"Instalación\"),1,\"\")","v":""},{"$f":"IF(AND(B10=\"SI\",C10=\"Organización\"),1,\"\")","v":""},{"$f":"IF(AND(B10=\"SI\",C10=\"Particular\"),1,\"\")","v":""},{"$f":"IF(AND(B10=\"NO\",C10=\"Instalación\"),1,\"\")","v":""},{"$f":"IF(AND(B10=\"NO\",C10=\"Organización\"),1,\"\")","v":""},{"$f":"IF(AND(B10=\"NO\",C10=\"Particular\"),1,\"\")","v":""},{"$f":"IF(AND(B10=\"NO\",C10=\"Instalación\",H11=1),1,\"\")","v":""},{"$f":"IF(AND(B10=\"NO\",C10=\"Organización\",H11=1),1,\"\")","v":""},{"$f":"IF(AND(B10=\"NO\",C10=\"Particular\",H11=1),1,\"\")","v":""},{"$f":"IF(AND(B10=\"NO\",C10=\"Instalación\"),IF(OR(K11=1,N11=1,Q11=1,T11=1),1,\"\"),\"\")","v":""},{"$f":"IF(AND(B10=\"NO\",C10=\"Organización\"),IF(OR(K11=1,N11=1,Q11=1,T11=1),1,\"\"),\"\")","v":""},{"$f":"IF(AND(B10=\"NO\",C10=\"Particular\"),IF(OR(K11=1,N11=1,Q11=1,T11=1),1,\"\"),\"\")","v":""},{"$f":"IF(AND(H11=1,F10<>\"\"),\"X\",\"\")","v":""},{"$f":"IF(AND(K11=1,I10<>\"\"),\"X\",\"\")","v":""},{"$f":"IF(AND(N11=1,L10<>\"\"),\"X\",\"\")","v":""},{"$f":"IF(AND(Q11=1,O10<>\"\"),\"X\",\"\")","v":""},{"$f":"IF(AND(T11=1,R10<>\"\"),\"X\",\"\")","v":""},{"$f":"IF(AND(V11=1,U10<>\"\"),\"X\",\"\")","v":""}]
[null,null,null,null,null,6000,"-",{"$f":"IF(OR((F10<F11),(F10>G11),F10=\"\"),1,0)","v":1},null,1215,{"$f":"IF(OR((I10<I11),(I10>J11),I10=\"\"),1,0)","v":1},3,"-",{"$f":"IF(OR((L10<L11),(L10>M11),L10=\"\"),1,0)","v":1},105,125,{"$f":"IF(OR((O10<O11),(O10>P11),O10=\"\"),1,0)","v":1},null,null,{"$f":"IF(OR(R10=\"Incorrecto\",R10=\"\"),1,0)","v":1},null,{"$f":"IF(U10<>\"\",1,0)","v":0}]
[]
[]
[]
[]
[]
[]
[]
[]
[]
[]
[]
[]
[]
[]
[]
[]
[]
[]
[]
[]
[]
[]
[]
[]
[]
[]
[]
[]
[]
[]
[]
[]
[]
[]
[]
[]
[]
[]
[]
[]
[]
[]
[]
[]
[]
[]
[]
[]
[]
[]
[]
[]
[]
[]
[]
[]
[]
[]
[]
[]
[]
[]
[]
[]
[]
[]
[]
[]
[]
[]
[]
[]
[]
[]
[]
[]
[]
[]
[]
[]
[]
[]
[]
[]
[]
[]
[]
[]
[]
[]
[]
[]
[]
[]
[]
[]
[]
[]
[]
[]
[]
[]
[]
[]
[]
[]
[]
[]
[]
[]
[]
[]
[]
[]
[]
[]
[]
[]
[]
[]
[]
[]
[]
[]
[]
[]
[]
[]
[]
[]
[]
[]
[]
[]
[]
[]
[]
[]
[]
[]
[]
[]
[]
[]
[]
[]
[]
[]
[]
[]
[]
[]
[]
[]
[]
[]
[]
[]
[]
[]
[]
[]
[]
[]
[]
[]
[]
[]
[]
[]
[]
[]
[]
[]
[]
[]
[]
[]
[]
[]
[]
[]
[]
[]
[]
[]
[]
[]
[]
[]
[null,null,null,null,null,null,null,null,null,null,null,null,null,null,null,null,null,null,null,null,null,null,null,null,null,null,null,null,null,null,null,null,null,null,null,null,null,null,null,null,null,null,null,null,null,null,null,null,null,null,null,null,null,null,null,null,null,null,null,null,null,null,null,null,null,null,null,null,null,{"$f":"SUM(BR8:BR201)","v":0},0,0,0,0,0,0,0,0,0,0,0]

{"sheet":"MAR.5000","index":22,"n_rows":202,"n_cols":87,"rows_kept":202,"cut":false,"hidden":true,"merged":[[4,17,4,18],[0,0,4,1],[1,3,1,11],[4,8,4,9],[4,11,4,12],[4,14,4,15],[5,23,6,23],[5,0,6,0],[5,1,6,1],[5,2,6,2],[5,4,6,4],[5,5,6,7],[5,8,6,10],[5,11,6,13],[5,14,6,16],[5,17,6,19],[5,20,6,20],[5,22,6,22],[7,25,8,25],[7,0,8,0],[7,1,8,1],[7,4,8,4],[7,5,7,6],[7,8,7,9],[7,11,7,12],[7,14,7,15],[7,17,8,18],[7,20,8,20],[7,22,8,22],[7,23,8,23],[9,0,10,0],[9,1,10,1],[9,4,10,4],[9,5,9,6],[9,8,9,9],[9,23,10,23],[9,11,9,12],[9,14,9,15],[9,17,10,18],[9,20,10,20],[9,22,10,22]]}
[null,null,"HOMOLOGACIÓN DE ARTEFACTOS",null,null,null,null,null,null,null,null,null,null,null,null,null,null,null,null,null,null,null,null,null,null,null,null,null,null,null,null,null,null,null,null,null,null,null,null,null,null,null,null,null,null,null,null,null,null,null,null,null,null,null,null,null,null,null,null,null,null,null,null,null,null,null,null,null,10]
[null,null,"Competición:",{"$f":"IF(Inicio!D4=\"\",\"FALTA NOMBRE DE COMPETICIÓN\",Inicio!D4)","v":"FALTA NOMBRE DE COMPETICIÓN"},null,null,null,null,null,null,null,null,null,null,null,null,null,null,null,null,null,null,null,null,"Instalación","Correcto"]
[null,null,null,null,null,null,null,null,null,null,null,null,null,null,null,null,null,null,null,null,null,null,null,null,"Organización","Incorrecto"]
[null,null,null,"MARTILLO 5000",null,null,null,null,null,null,null,null,null,null,null,null,null,null,null,null,null,null,null,null,"Particular"]
[null,null,null,null,null,null,null,null,"Long. total del martillo medida desde el interior de la empuñadura",null,null,"Diámetro     del cable",null,null,"Diámetro de       la cabeza",null,null,null,null,null,"Deficiencias                                       no relacionadas                                           con medidas"]
["Referencia","Válido","Propietario","Marca y modelo","Certificado                IAAF","Peso",null,null,"L1",null,null,"D1",null,null,"D2",null,null,"C. de G. de   la cabeza",null,null,"Observaciones",null,"Homologador","Fecha"]
[null,null,null,"Color",null,null,null,null,null,null,null,null,null,null,null,null,null,null,null,null,null,null,null,null,null,null,null,null,null,null,null,null,null,null,null,null,null,null,null,null,null,null,null,null,null,null,null,null,null,null,null,null,null,null,null,null,null,null,null,null,null,null,null,null,null,null,null,null,null,"VI","VO","VP","NVI","NVO","NVP","NVPI","NVPO","NVPP","NVMI","NVMO","NVMP","Peso","Long. total","Ø cable","Ø cabeza","C. de g.","Observ."]
[1,{"$f":"IF(AND(A8<>\"\",C8<>\"\",D8<>\"\",W8<>\"\",X8<>\"\"),IF(SUM(H9,K9,N9,Q9,T9,V9)>0,\"NO\",\"SI\"),\"\")","v":""},null,null,null,null,null,null,null,null,null,null,null,null,null,null,null,null,null,null,null,null,null,null,null,{"$f":"C9","v":0},{"$f":"D9","v":0},null,null,null,null,null,null,null,null,null,null,null,null,null,null,null,null,null,null,null,null,null,null,null,null,null,null,null,null,null,null,null,null,null,null,null,null,null,null,null,null,null,null,{"$f":"IF(AND(B8=\"SI\",C8=\"Instalación\"),1,\"\")","v":""},{"$f":"IF(AND(B8=\"SI\",C8=\"Organización\"),1,\"\")","v":""},{"$f":"IF(AND(B8=\"SI\",C8=\"Particular\"),1,\"\")","v":""},{"$f":"IF(AND(B8=\"NO\",C8=\"Instalación\"),1,\"\")","v":""},{"$f":"IF(AND(B8=\"NO\",C8=\"Organización\"),1,\"\")","v":""},{"$f":"IF(AND(B8=\"NO\",C8=\"Particular\"),1,\"\")","v":""},{"$f":"IF(AND(B8=\"NO\",C8=\"Instalación\",H9=1),1,\"\")","v":""},{"$f":"IF(AND(B8=\"NO\",C8=\"Organización\",H9=1),1,\"\")","v":""},{"$f":"IF(AND(B8=\"NO\",C8=\"Particular\",H9=1),1,\"\")","v":""},{"$f":"IF(AND(B8=\"NO\",C8=\"Instalación\"),IF(OR(K9=1,N9=1,Q9=1,T9=1),1,\"\"),\"\")","v":""},{"$f":"IF(AND(B8=\"NO\",C8=\"Organización\"),IF(OR(K9=1,N9=1,Q9=1,T9=1),1,\"\"),\"\")","v":""},{"$f":"IF(AND(B8=\"NO\",C8=\"Particular\"),IF(OR(K9=1,N9=1,Q9=1,T9=1),1,\"\"),\"\")","v":""},{"$f":"IF(AND(H9=1,F8<>\"\"),\"X\",\"\")","v":""},{"$f":"IF(AND(K9=1,I8<>\"\"),\"X\",\"\")","v":""},{"$f":"IF(AND(N9=1,L8<>\"\"),\"X\",\"\")","v":""},{"$f":"IF(AND(Q9=1,O8<>\"\"),\"X\",\"\")","v":""},{"$f":"IF(AND(T9=1,R8<>\"\"),\"X\",\"\")","v":""},{"$f":"IF(AND(V9=1,U8<>\"\"),\"X\",\"\")","v":""}]
[null,null,null,null,null,5000,"-",{"$f":"IF(OR((F8<F9),(F8>G9),F8=\"\"),1,0)","v":1},null,1200,{"$f":"IF(OR((I8<I9),(I8>J9),I8=\"\"),1,0)","v":1},3,"-",{"$f":"IF(OR((L8<L9),(L8>M9),L8=\"\"),1,0)","v":1},100,120,{"$f":"IF(OR((O8<O9),(O8>P9),O8=\"\"),1,0)","v":1},null,null,{"$f":"IF(OR(R8=\"Incorrecto\",R8=\"\"),1,0)","v":1},null,{"$f":"IF(U8<>\"\",1,0)","v":0}]
[2,{"$f":"IF(AND(A10<>\"\",C10<>\"\",D10<>\"\",W10<>\"\",X10<>\"\"),IF(SUM(H11,K11,N11,Q11,T11,V11)>0,\"NO\",\"SI\"),\"\")","v":""},null,null,null,null,null,null,null,null,null,null,null,null,null,null,null,null,null,null,null,null,null,null,null,{"$f":"C11","v":0},{"$f":"D11","v":0},null,null,null,null,null,null,null,null,null,null,null,null,null,null,null,null,null,null,null,null,null,null,null,null,null,null,null,null,null,null,null,null,null,null,null,null,null,null,null,null,null,null,{"$f":"IF(AND(B10=\"SI\",C10=\"Instalación\"),1,\"\")","v":""},{"$f":"IF(AND(B10=\"SI\",C10=\"Organización\"),1,\"\")","v":""},{"$f":"IF(AND(B10=\"SI\",C10=\"Particular\"),1,\"\")","v":""},{"$f":"IF(AND(B10=\"NO\",C10=\"Instalación\"),1,\"\")","v":""},{"$f":"IF(AND(B10=\"NO\",C10=\"Organización\"),1,\"\")","v":""},{"$f":"IF(AND(B10=\"NO\",C10=\"Particular\"),1,\"\")","v":""},{"$f":"IF(AND(B10=\"NO\",C10=\"Instalación\",H11=1),1,\"\")","v":""},{"$f":"IF(AND(B10=\"NO\",C10=\"Organización\",H11=1),1,\"\")","v":""},{"$f":"IF(AND(B10=\"NO\",C10=\"Particular\",H11=1),1,\"\")","v":""},{"$f":"IF(AND(B10=\"NO\",C10=\"Instalación\"),IF(OR(K11=1,N11=1,Q11=1,T11=1),1,\"\"),\"\")","v":""},{"$f":"IF(AND(B10=\"NO\",C10=\"Organización\"),IF(OR(K11=1,N11=1,Q11=1,T11=1),1,\"\"),\"\")","v":""},{"$f":"IF(AND(B10=\"NO\",C10=\"Particular\"),IF(OR(K11=1,N11=1,Q11=1,T11=1),1,\"\"),\"\")","v":""},{"$f":"IF(AND(H11=1,F10<>\"\"),\"X\",\"\")","v":""},{"$f":"IF(AND(K11=1,I10<>\"\"),\"X\",\"\")","v":""},{"$f":"IF(AND(N11=1,L10<>\"\"),\"X\",\"\")","v":""},{"$f":"IF(AND(Q11=1,O10<>\"\"),\"X\",\"\")","v":""},{"$f":"IF(AND(T11=1,R10<>\"\"),\"X\",\"\")","v":""},{"$f":"IF(AND(V11=1,U10<>\"\"),\"X\",\"\")","v":""}]
[null,null,null,null,null,5000,"-",{"$f":"IF(OR((F10<F11),(F10>G11),F10=\"\"),1,0)","v":1},null,1200,{"$f":"IF(OR((I10<I11),(I10>J11),I10=\"\"),1,0)","v":1},3,"-",{"$f":"IF(OR((L10<L11),(L10>M11),L10=\"\"),1,0)","v":1},100,120,{"$f":"IF(OR((O10<O11),(O10>P11),O10=\"\"),1,0)","v":1},null,null,{"$f":"IF(OR(R10=\"Incorrecto\",R10=\"\"),1,0)","v":1},null,{"$f":"IF(U10<>\"\",1,0)","v":0}]
[]
[]
[]
[]
[]
[]
[]
[]
[]
[]
[]
[]
[]
[]
[]
[]
[]
[]
[]
[]
[]
[]
[]
[]
[]
[]
[]
[]
[]
[]
[]
[]
[]
[]
[]
[]
[]
[]
[]
[]
[]
[]
[]
[]
[]
[]
[]
[]
[]
[]
[]
[]
[]
[]
[]
[]
[]
[]
[]
[]
[]
[]
[]
[]
[]
[]
[]
[]
[]
[]
[]
[]
[]
[]
[]
[]
[]
[]
[]
[]
[]
[]
[]
[]
[]
[]
[]
[]
[]
[]
[]
[]
[]
[]
[]
[]
[]
[]
[]
[]
[]
[]
[]
[]
[]
[]
[]
[]
[]
[]
[]
[]
[]
[]
[]
[]
[]
[]
[]
[]
[]
[]
[]
[]
[]
[]
[]
[]
[]
[]
[]
[]
[]
[]
[]
[]
[]
[]
[]
[]
[]
[]
[]
[]
[]
[]
[]
[]
[]
[]
[]
[]
[]
[]
[]
[]
[]
[]
[]
[]
[]
[]
[]
[]
[]
[]
[]
[]
[]
[]
[]
[]
[]
[]
[]
[]
[]
[]
[]
[]
[]
[]
[]
[]
[]
[]
[]
[]
[]
[]
[null,null,null,null,null,null,null,null,null,null,null,null,null,null,null,null,null,null,null,null,null,null,null,null,null,null,null,null,null,null,null,null,null,null,null,null,null,null,null,null,null,null,null,null,null,null,null,null,null,null,null,null,null,null,null,null,null,null,null,null,null,null,null,null,null,null,null,null,null,{"$f":"SUM(BR8:BR201)","v":0},0,0,0,0,0,0,0,0,0,0,0]

{"sheet":"MAR.4000","index":23,"n_rows":204,"n_cols":87,"rows_kept":204,"cut":false,"hidden":true,"merged":[[9,20,10,20],[9,22,10,22],[9,0,10,0],[9,1,10,1],[9,4,10,4],[9,5,9,6],[9,8,9,9],[9,23,10,23],[7,25,8,25],[7,0,8,0],[7,1,8,1],[7,4,8,4],[7,5,7,6],[7,8,7,9],[7,11,7,12],[7,14,7,15],[7,17,8,18],[7,20,8,20],[7,22,8,22],[7,23,8,23],[9,11,9,12],[9,14,9,15],[9,17,10,18],[5,23,6,23],[5,0,6,0],[5,1,6,1],[5,2,6,2],[5,4,6,4],[5,5,6,7],[5,8,6,10],[5,11,6,13],[5,14,6,16],[5,17,6,19],[5,20,6,20],[5,22,6,22],[4,17,4,18],[0,0,4,1],[1,3,1,11],[4,8,4,9],[4,11,4,12],[4,14,4,15]]}
[null,null,"HOMOLOGACIÓN DE ARTEFACTOS",null,null,null,null,null,null,null,null,null,null,null,null,null,null,null,null,null,null,null,null,null,null,null,null,null,null,null,null,null,null,null,null,null,null,null,null,null,null,null,null,null,null,null,null,null,null,null,null,null,null,null,null,null,null,null,null,null,null,null,null,null,null,null,null,null,10]
[null,null,"Competición:",{"$f":"IF(Inicio!D4=\"\",\"FALTA NOMBRE DE COMPETICIÓN\",Inicio!D4)","v":"FALTA NOMBRE DE COMPETICIÓN"},null,null,null,null,null,null,null,null,null,null,null,null,null,null,null,null,null,null,null,null,"Instalación","Correcto"]
[null,null,null,null,null,null,null,null,null,null,null,null,null,null,null,null,null,null,null,null,null,null,null,null,"Organización","Incorrecto"]
[null,null,null,"MARTILLO 4000",null,null,null,null,null,null,null,null,null,null,null,null,null,null,null,null,null,null,null,null,"Particular"]
[null,null,null,null,null,null,null,null,"Long. total del martillo medida desde el interior de la empuñadura",null,null,"Diámetro     del cable",null,null,"Diámetro de       la cabeza",null,null,null,null,null,"Deficiencias                                       no relacionadas                                           con medidas"]
["Referencia","Válido","Propietario","Marca y modelo","Certificado                IAAF","Peso",null,null,"L1",null,null,"D1",null,null,"D2",null,null,"C. de G. de   la cabeza",null,null,"Observaciones",null,"Homologador","Fecha"]
[null,null,null,"Color",null,null,null,null,null,null,null,null,null,null,null,null,null,null,null,null,null,null,null,null,null,null,null,null,null,null,null,null,null,null,null,null,null,null,null,null,null,null,null,null,null,null,null,null,null,null,null,null,null,null,null,null,null,null,null,null,null,null,null,null,null,null,null,null,null,"VI","VO","VP","NVI","NVO","NVP","NVPI","NVPO","NVPP","NVMI","NVMO","NVMP","Peso","Long. total","Ø cable","Ø cabeza","C. de g.","Observ."]
[1,{"$f":"IF(AND(A8<>\"\",C8<>\"\",D8<>\"\",W8<>\"\",X8<>\"\"),IF(SUM(H9,K9,N9,Q9,T9,V9)>0,\"NO\",\"SI\"),\"\")","v":""},null,null,null,null,null,null,null,null,null,null,null,null,null,null,null,null,null,null,null,null,null,null,null,{"$f":"C9","v":0},{"$f":"D9","v":0},null,null,null,null,null,null,null,null,null,null,null,null,null,null,null,null,null,null,null,null,null,null,null,null,null,null,null,null,null,null,null,null,null,null,null,null,null,null,null,null,null,null,{"$f":"IF(AND(B8=\"SI\",C8=\"Instalación\"),1,\"\")","v":""},{"$f":"IF(AND(B8=\"SI\",C8=\"Organización\"),1,\"\")","v":""},{"$f":"IF(AND(B8=\"SI\",C8=\"Particular\"),1,\"\")","v":""},{"$f":"IF(AND(B8=\"NO\",C8=\"Instalación\"),1,\"\")","v":""},{"$f":"IF(AND(B8=\"NO\",C8=\"Organización\"),1,\"\")","v":""},{"$f":"IF(AND(B8=\"NO\",C8=\"Particular\"),1,\"\")","v":""},{"$f":"IF(AND(B8=\"NO\",C8=\"Instalación\",H9=1),1,\"\")","v":""},{"$f":"IF(AND(B8=\"NO\",C8=\"Organización\",H9=1),1,\"\")","v":""},{"$f":"IF(AND(B8=\"NO\",C8=\"Particular\",H9=1),1,\"\")","v":""},{"$f":"IF(AND(B8=\"NO\",C8=\"Instalación\"),IF(OR(K9=1,N9=1,Q9=1,T9=1),1,\"\"),\"\")","v":""},{"$f":"IF(AND(B8=\"NO\",C8=\"Organización\"),IF(OR(K9=1,N9=1,Q9=1,T9=1),1,\"\"),\"\")","v":""},{"$f":"IF(AND(B8=\"NO\",C8=\"Particular\"),IF(OR(K9=1,N9=1,Q9=1,T9=1),1,\"\"),\"\")","v":""},{"$f":"IF(AND(H9=1,F8<>\"\"),\"X\",\"\")","v":""},{"$f":"IF(AND(K9=1,I8<>\"\"),\"X\",\"\")","v":""},{"$f":"IF(AND(N9=1,L8<>\"\"),\"X\",\"\")","v":""},{"$f":"IF(AND(Q9=1,O8<>\"\"),\"X\",\"\")","v":""},{"$f":"IF(AND(T9=1,R8<>\"\"),\"X\",\"\")","v":""},{"$f":"IF(AND(V9=1,U8<>\"\"),\"X\",\"\")","v":""}]
[null,null,null,null,null,4000,"-",{"$f":"IF(OR((F8<F9),(F8>G9),F8=\"\"),1,0)","v":1},null,1195,{"$f":"IF(OR((I8<I9),(I8>J9),I8=\"\"),1,0)","v":1},3,"-",{"$f":"IF(OR((L8<L9),(L8>M9),L8=\"\"),1,0)","v":1},95,110,{"$f":"IF(OR((O8<O9),(O8>P9),O8=\"\"),1,0)","v":1},null,null,{"$f":"IF(OR(R8=\"Incorrecto\",R8=\"\"),1,0)","v":1},null,{"$f":"IF(U8<>\"\",1,0)","v":0}]
[2,{"$f":"IF(AND(A10<>\"\",C10<>\"\",D10<>\"\",W10<>\"\",X10<>\"\"),IF(SUM(H11,K11,N11,Q11,T11,V11)>0,\"NO\",\"SI\"),\"\")","v":""},null,null,null,null,null,null,null,null,null,null,null,null,null,null,null,null,null,null,null,null,null,null,null,{"$f":"C11","v":0},{"$f":"D11","v":0},null,null,null,null,null,null,null,null,null,null,null,null,null,null,null,null,null,null,null,null,null,null,null,null,null,null,null,null,null,null,null,null,null,null,null,null,null,null,null,null,null,null,{"$f":"IF(AND(B10=\"SI\",C10=\"Instalación\"),1,\"\")","v":""},{"$f":"IF(AND(B10=\"SI\",C10=\"Organización\"),1,\"\")","v":""},{"$f":"IF(AND(B10=\"SI\",C10=\"Particular\"),1,\"\")","v":""},{"$f":"IF(AND(B10=\"NO\",C10=\"Instalación\"),1,\"\")","v":""},{"$f":"IF(AND(B10=\"NO\",C10=\"Organización\"),1,\"\")","v":""},{"$f":"IF(AND(B10=\"NO\",C10=\"Particular\"),1,\"\")","v":""},{"$f":"IF(AND(B10=\"NO\",C10=\"Instalación\",H11=1),1,\"\")","v":""},{"$f":"IF(AND(B10=\"NO\",C10=\"Organización\",H11=1),1,\"\")","v":""},{"$f":"IF(AND(B10=\"NO\",C10=\"Particular\",H11=1),1,\"\")","v":""},{"$f":"IF(AND(B10=\"NO\",C10=\"Instalación\"),IF(OR(K11=1,N11=1,Q11=1,T11=1),1,\"\"),\"\")","v":""},{"$f":"IF(AND(B10=\"NO\",C10=\"Organización\"),IF(OR(K11=1,N11=1,Q11=1,T11=1),1,\"\"),\"\")","v":""},{"$f":"IF(AND(B10=\"NO\",C10=\"Particular\"),IF(OR(K11=1,N11=1,Q11=1,T11=1),1,\"\"),\"\")","v":""},{"$f":"IF(AND(H11=1,F10<>\"\"),\"X\",\"\")","v":""},{"$f":"IF(AND(K11=1,I10<>\"\"),\"X\",\"\")","v":""},{"$f":"IF(AND(N11=1,L10<>\"\"),\"X\",\"\")","v":""},{"$f":"IF(AND(Q11=1,O10<>\"\"),\"X\",\"\")","v":""},{"$f":"IF(AND(T11=1,R10<>\"\"),\"X\",\"\")","v":""},{"$f":"IF(AND(V11=1,U10<>\"\"),\"X\",\"\")","v":""}]
[null,null,null,null,null,4000,"-",{"$f":"IF(OR((F10<F11),(F10>G11),F10=\"\"),1,0)","v":1},null,1195,{"$f":"IF(OR((I10<I11),(I10>J11),I10=\"\"),1,0)","v":1},3,"-",{"$f":"IF(OR((L10<L11),(L10>M11),L10=\"\"),1,0)","v":1},95,110,{"$f":"IF(OR((O10<O11),(O10>P11),O10=\"\"),1,0)","v":1},null,null,{"$f":"IF(OR(R10=\"Incorrecto\",R10=\"\"),1,0)","v":1},null,{"$f":"IF(U10<>\"\",1,0)","v":0}]
[]
[]
[]
[]
[]
[]
[]
[]
[]
[]
[]
[]
[]
[]
[]
[]
[]
[]
[]
[]
[]
[]
[]
[]
[]
[]
[]
[]
[]
[]
[]
[]
[]
[]
[]
[]
[]
[]
[]
[]
[]
[]
[]
[]
[]
[]
[]
[]
[]
[]
[]
[]
[]
[]
[]
[]
[]
[]
[]
[]
[]
[]
[]
[]
[]
[]
[]
[]
[]
[]
[]
[]
[]
[]
[]
[]
[]
[]
[]
[]
[]
[]
[]
[]
[]
[]
[]
[]
[]
[]
[]
[]
[]
[]
[]
[]
[]
[]
[]
[]
[]
[]
[]
[]
[]
[]
[]
[]
[]
[]
[]
[]
[]
[]
[]
[]
[]
[]
[]
[]
[]
[]
[]
[]
[]
[]
[]
[]
[]
[]
[]
[]
[]
[]
[]
[]
[]
[]
[]
[]
[]
[]
[]
[]
[]
[]
[]
[]
[]
[]
[]
[]
[]
[]
[]
[]
[]
[]
[]
[]
[]
[]
[]
[]
[]
[]
[]
[]
[]
[]
[]
[]
[]
[]
[]
[]
[]
[]
[]
[]
[]
[]
[]
[]
[]
[]
[]
[]
[]
[]
[]
[]
[null,null,null,null,null,null,null,null,null,null,null,null,null,null,null,null,null,null,null,null,null,null,null,null,null,null,null,null,null,null,null,null,null,null,null,null,null,null,null,null,null,null,null,null,null,null,null,null,null,null,null,null,null,null,null,null,null,null,null,null,null,null,null,null,null,null,null,null,null,{"$f":"SUM(BR8:BR203)","v":0},0,0,0,0,0,0,0,0,0,0,0]

{"sheet":"MAR.3000","index":24,"n_rows":200,"n_cols":87,"rows_kept":200,"cut":false,"hidden":true,"merged":[[9,20,10,20],[9,22,10,22],[9,0,10,0],[9,1,10,1],[9,4,10,4],[9,5,9,6],[9,8,9,9],[9,23,10,23],[7,25,8,25],[7,0,8,0],[7,1,8,1],[7,4,8,4],[7,5,7,6],[7,8,7,9],[7,11,7,12],[7,14,7,15],[7,17,8,18],[7,20,8,20],[7,22,8,22],[7,23,8,23],[9,11,9,12],[9,14,9,15],[9,17,10,18],[5,23,6,23],[5,0,6,0],[5,1,6,1],[5,2,6,2],[5,4,6,4],[5,5,6,7],[5,8,6,10],[5,11,6,13],[5,14,6,16],[5,17,6,19],[5,20,6,20],[5,22,6,22],[4,17,4,18],[0,0,4,1],[1,3,1,11],[4,8,4,9],[4,11,4,12],[4,14,4,15]]}
[null,null,"HOMOLOGACIÓN DE ARTEFACTOS",null,null,null,null,null,null,null,null,null,null,null,null,null,null,null,null,null,null,null,null,null,null,null,null,null,null,null,null,null,null,null,null,null,null,null,null,null,null,null,null,null,null,null,null,null,null,null,null,null,null,null,null,null,null,null,null,null,null,null,null,null,null,null,null,null,10]
[null,null,"Competición:",{"$f":"IF(Inicio!D4=\"\",\"FALTA NOMBRE DE COMPETICIÓN\",Inicio!D4)","v":"FALTA NOMBRE DE COMPETICIÓN"},null,null,null,null,null,null,null,null,null,null,null,null,null,null,null,null,null,null,null,null,"Instalación","Correcto"]
[null,null,null,null,null,null,null,null,null,null,null,null,null,null,null,null,null,null,null,null,null,null,null,null,"Organización","Incorrecto"]
[null,null,null,"MARTILLO 3000",null,null,null,null,null,null,null,null,null,null,null,null,null,null,null,null,null,null,null,null,"Particular"]
[null,null,null,null,null,null,null,null,"Long. total del martillo medida desde el interior de la empuñadura",null,null,"Diámetro     del cable",null,null,"Diámetro de       la cabeza",null,null,null,null,null,"Deficiencias                                       no relacionadas                                           con medidas"]
["Referencia","Válido","Propietario","Marca y modelo","Certificado                IAAF","Peso",null,null,"L1",null,null,"D1",null,null,"D2",null,null,"C. de G. de   la cabeza",null,null,"Observaciones",null,"Homologador","Fecha"]
[null,null,null,"Color",null,null,null,null,null,null,null,null,null,null,null,null,null,null,null,null,null,null,null,null,null,null,null,null,null,null,null,null,null,null,null,null,null,null,null,null,null,null,null,null,null,null,null,null,null,null,null,null,null,null,null,null,null,null,null,null,null,null,null,null,null,null,null,null,null,"VI","VO","VP","NVI","NVO","NVP","NVPI","NVPO","NVPP","NVMI","NVMO","NVMP","Peso","Long. total","Ø cable","Ø cabeza","C. de g.","Observ."]
[1,{"$f":"IF(AND(A8<>\"\",C8<>\"\",D8<>\"\",W8<>\"\",X8<>\"\"),IF(SUM(H9,K9,N9,Q9,T9,V9)>0,\"NO\",\"SI\"),\"\")","v":""},null,null,null,null,null,null,null,null,null,null,null,null,null,null,null,null,null,null,null,null,null,null,null,{"$f":"C9","v":0},{"$f":"D9","v":0},null,null,null,null,null,null,null,null,null,null,null,null,null,null,null,null,null,null,null,null,null,null,null,null,null,null,null,null,null,null,null,null,null,null,null,null,null,null,null,null,null,null,{"$f":"IF(AND(B8=\"SI\",C8=\"Instalación\"),1,\"\")","v":""},{"$f":"IF(AND(B8=\"SI\",C8=\"Organización\"),1,\"\")","v":""},{"$f":"IF(AND(B8=\"SI\",C8=\"Particular\"),1,\"\")","v":""},{"$f":"IF(AND(B8=\"NO\",C8=\"Instalación\"),1,\"\")","v":""},{"$f":"IF(AND(B8=\"NO\",C8=\"Organización\"),1,\"\")","v":""},{"$f":"IF(AND(B8=\"NO\",C8=\"Particular\"),1,\"\")","v":""},{"$f":"IF(AND(B8=\"NO\",C8=\"Instalación\",H9=1),1,\"\")","v":""},{"$f":"IF(AND(B8=\"NO\",C8=\"Organización\",H9=1),1,\"\")","v":""},{"$f":"IF(AND(B8=\"NO\",C8=\"Particular\",H9=1),1,\"\")","v":""},{"$f":"IF(AND(B8=\"NO\",C8=\"Instalación\"),IF(OR(K9=1,N9=1,Q9=1,T9=1),1,\"\"),\"\")","v":""},{"$f":"IF(AND(B8=\"NO\",C8=\"Organización\"),IF(OR(K9=1,N9=1,Q9=1,T9=1),1,\"\"),\"\")","v":""},{"$f":"IF(AND(B8=\"NO\",C8=\"Particular\"),IF(OR(K9=1,N9=1,Q9=1,T9=1),1,\"\"),\"\")","v":""},{"$f":"IF(AND(H9=1,F8<>\"\"),\"X\",\"\")","v":""},{"$f":"IF(AND(K9=1,I8<>\"\"),\"X\",\"\")","v":""},{"$f":"IF(AND(N9=1,L8<>\"\"),\"X\",\"\")","v":""},{"$f":"IF(AND(Q9=1,O8<>\"\"),\"X\",\"\")","v":""},{"$f":"IF(AND(T9=1,R8<>\"\"),\"X\",\"\")","v":""},{"$f":"IF(AND(V9=1,U8<>\"\"),\"X\",\"\")","v":""}]
[null,null,null,null,null,3000,"-",{"$f":"IF(OR((F8<F9),(F8>G9),F8=\"\"),1,0)","v":1},null,1195,{"$f":"IF(OR((I8<I9),(I8>J9),I8=\"\"),1,0)","v":1},3,"-",{"$f":"IF(OR((L8<L9),(L8>M9),L8=\"\"),1,0)","v":1},85,100,{"$f":"IF(OR((O8<O9),(O8>P9),O8=\"\"),1,0)","v":1},null,null,{"$f":"IF(OR(R8=\"Incorrecto\",R8=\"\"),1,0)","v":1},null,{"$f":"IF(U8<>\"\",1,0)","v":0}]
[2,{"$f":"IF(AND(A10<>\"\",C10<>\"\",D10<>\"\",W10<>\"\",X10<>\"\"),IF(SUM(H11,K11,N11,Q11,T11,V11)>0,\"NO\",\"SI\"),\"\")","v":""},null,null,null,null,null,null,null,null,null,null,null,null,null,null,null,null,null,null,null,null,null,null,null,{"$f":"C11","v":0},{"$f":"D11","v":0},null,null,null,null,null,null,null,null,null,null,null,null,null,null,null,null,null,null,null,null,null,null,null,null,null,null,null,null,null,null,null,null,null,null,null,null,null,null,null,null,null,null,{"$f":"IF(AND(B10=\"SI\",C10=\"Instalación\"),1,\"\")","v":""},{"$f":"IF(AND(B10=\"SI\",C10=\"Organización\"),1,\"\")","v":""},{"$f":"IF(AND(B10=\"SI\",C10=\"Particular\"),1,\"\")","v":""},{"$f":"IF(AND(B10=\"NO\",C10=\"Instalación\"),1,\"\")","v":""},{"$f":"IF(AND(B10=\"NO\",C10=\"Organización\"),1,\"\")","v":""},{"$f":"IF(AND(B10=\"NO\",C10=\"Particular\"),1,\"\")","v":""},{"$f":"IF(AND(B10=\"NO\",C10=\"Instalación\",H11=1),1,\"\")","v":""},{"$f":"IF(AND(B10=\"NO\",C10=\"Organización\",H11=1),1,\"\")","v":""},{"$f":"IF(AND(B10=\"NO\",C10=\"Particular\",H11=1),1,\"\")","v":""},{"$f":"IF(AND(B10=\"NO\",C10=\"Instalación\"),IF(OR(K11=1,N11=1,Q11=1,T11=1),1,\"\"),\"\")","v":""},{"$f":"IF(AND(B10=\"NO\",C10=\"Organización\"),IF(OR(K11=1,N11=1,Q11=1,T11=1),1,\"\"),\"\")","v":""},{"$f":"IF(AND(B10=\"NO\",C10=\"Particular\"),IF(OR(K11=1,N11=1,Q11=1,T11=1),1,\"\"),\"\")","v":""},{"$f":"IF(AND(H11=1,F10<>\"\"),\"X\",\"\")","v":""},{"$f":"IF(AND(K11=1,I10<>\"\"),\"X\",\"\")","v":""},{"$f":"IF(AND(N11=1,L10<>\"\"),\"X\",\"\")","v":""},{"$f":"IF(AND(Q11=1,O10<>\"\"),\"X\",\"\")","v":""},{"$f":"IF(AND(T11=1,R10<>\"\"),\"X\",\"\")","v":""},{"$f":"IF(AND(V11=1,U10<>\"\"),\"X\",\"\")","v":""}]
[null,null,null,null,null,3000,"-",{"$f":"IF(OR((F10<F11),(F10>G11),F10=\"\"),1,0)","v":1},null,1195,{"$f":"IF(OR((I10<I11),(I10>J11),I10=\"\"),1,0)","v":1},3,"-",{"$f":"IF(OR((L10<L11),(L10>M11),L10=\"\"),1,0)","v":1},85,100,{"$f":"IF(OR((O10<O11),(O10>P11),O10=\"\"),1,0)","v":1},null,null,{"$f":"IF(OR(R10=\"Incorrecto\",R10=\"\"),1,0)","v":1},null,{"$f":"IF(U10<>\"\",1,0)","v":0}]
[]
[]
[]
[]
[]
[]
[]
[]
[]
[]
[]
[]
[]
[]
[]
[]
[]
[]
[]
[]
[]
[]
[]
[]
[]
[]
[]
[]
[]
[]
[]
[]
[]
[]
[]
[]
[]
[]
[]
[]
[]
[]
[]
[]
[]
[]
[]
[]
[]
[]
[]
[]
[]
[]
[]
[]
[]
[]
[]
[]
[]
[]
[]
[]
[]
[]
[]
[]
[]
[]
[]
[]
[]
[]
[]
[]
[]
[]
[]
[]
[]
[]
[]
[]
[]
[]
[]
[]
[]
[]
[]
[]
[]
[]
[]
[]
[]
[]
[]
[]
[]
[]
[]
[]
[]
[]
[]
[]
[]
[]
[]
[]
[]
[]
[]
[]
[]
[]
[]
[]
[]
[]
[]
[]
[]
[]
[]
[]
[]
[]
[]
[]
[]
[]
[]
[]
[]
[]
[]
[]
[]
[]
[]
[]
[]
[]
[]
[]
[]
[]
[]
[]
[]
[]
[]
[]
[]
[]
[]
[]
[]
[]
[]
[]
[]
[]
[]
[]
[]
[]
[]
[]
[]
[]
[]
[]
[]
[]
[]
[]
[]
[]
[]
[]
[]
[]
[]
[]
[null,null,null,null,null,null,null,null,null,null,null,null,null,null,null,null,null,null,null,null,null,null,null,null,null,null,null,null,null,null,null,null,null,null,null,null,null,null,null,null,null,null,null,null,null,null,null,null,null,null,null,null,null,null,null,null,null,null,null,null,null,null,null,null,null,null,null,null,null,{"$f":"SUM(BR8:BR199)","v":0},0,0,0,0,0,0,0,0,0,0,0]

{"sheet":"MAR.2000","index":25,"n_rows":202,"n_cols":87,"rows_kept":202,"cut":false,"hidden":true,"merged":[[4,17,4,18],[0,0,4,1],[1,3,1,11],[4,8,4,9],[4,11,4,12],[4,14,4,15],[5,23,6,23],[5,0,6,0],[5,1,6,1],[5,2,6,2],[5,4,6,4],[5,5,6,7],[5,8,6,10],[5,11,6,13],[5,14,6,16],[5,17,6,19],[5,20,6,20],[5,22,6,22],[9,23,10,23],[7,25,8,25],[7,0,8,0],[7,1,8,1],[7,4,8,4],[7,5,7,6],[7,8,7,9],[7,11,7,12],[7,14,7,15],[7,17,8,18],[7,20,8,20],[7,22,8,22],[7,23,8,23],[9,11,9,12],[9,14,9,15],[9,17,10,18],[9,20,10,20],[9,22,10,22],[9,0,10,0],[9,1,10,1],[9,4,10,4],[9,5,9,6],[9,8,9,9]]}
[null,null,"HOMOLOGACIÓN DE ARTEFACTOS",null,null,null,null,null,null,null,null,null,null,null,null,null,null,null,null,null,null,null,null,null,null,null,null,null,null,null,null,null,null,null,null,null,null,null,null,null,null,null,null,null,null,null,null,null,null,null,null,null,null,null,null,null,null,null,null,null,null,null,null,null,null,null,null,null,10]
[null,null,"Competición:",{"$f":"IF(Inicio!D4=\"\",\"FALTA NOMBRE DE COMPETICIÓN\",Inicio!D4)","v":"FALTA NOMBRE DE COMPETICIÓN"},null,null,null,null,null,null,null,null,null,null,null,null,null,null,null,null,null,null,null,null,"Instalación","Correcto"]
[null,null,null,null,null,null,null,null,null,null,null,null,null,null,null,null,null,null,null,null,null,null,null,null,"Organización","Incorrecto"]
[null,null,null,"MARTILLO 2000",null,null,null,null,null,null,null,null,null,null,null,null,null,null,null,null,null,null,null,null,"Particular"]
[null,null,null,null,null,null,null,null,"Long. total del martillo medida desde el interior de la empuñadura",null,null,"Diámetro     del cable",null,null,"Diámetro de       la cabeza",null,null,null,null,null,"Deficiencias                                       no relacionadas                                           con medidas"]
["Referencia","Válido","Propietario","Marca y modelo","Certificado                IAAF","Peso",null,null,"L1",null,null,"D1",null,null,"D2",null,null,"C. de G. de   la cabeza",null,null,"Observaciones",null,"Homologador","Fecha"]
[null,null,null,"Color",null,null,null,null,null,null,null,null,null,null,null,null,null,null,null,null,null,null,null,null,null,null,null,null,null,null,null,null,null,null,null,null,null,null,null,null,null,null,null,null,null,null,null,null,null,null,null,null,null,null,null,null,null,null,null,null,null,null,null,null,null,null,null,null,null,"VI","VO","VP","NVI","NVO","NVP","NVPI","NVPO","NVPP","NVMI","NVMO","NVMP","Peso","Long. total","Ø cable","Ø cabeza","C. de g.","Observ."]
[1,{"$f":"IF(AND(A8<>\"\",C8<>\"\",D8<>\"\",W8<>\"\",X8<>\"\"),IF(SUM(H9,K9,N9,Q9,T9,V9)>0,\"NO\",\"SI\"),\"\")","v":""},null,null,null,null,null,null,null,null,null,null,null,null,null,null,null,null,null,null,null,null,null,null,null,{"$f":"C9","v":0},{"$f":"D9","v":0},null,null,null,null,null,null,null,null,null,null,null,null,null,null,null,null,null,null,null,null,null,null,null,null,null,null,null,null,null,null,null,null,null,null,null,null,null,null,null,null,null,null,{"$f":"IF(AND(B8=\"SI\",C8=\"Instalación\"),1,\"\")","v":""},{"$f":"IF(AND(B8=\"SI\",C8=\"Organización\"),1,\"\")","v":""},{"$f":"IF(AND(B8=\"SI\",C8=\"Particular\"),1,\"\")","v":""},{"$f":"IF(AND(B8=\"NO\",C8=\"Instalación\"),1,\"\")","v":""},{"$f":"IF(AND(B8=\"NO\",C8=\"Organización\"),1,\"\")","v":""},{"$f":"IF(AND(B8=\"NO\",C8=\"Particular\"),1,\"\")","v":""},{"$f":"IF(AND(B8=\"NO\",C8=\"Instalación\",H9=1),1,\"\")","v":""},{"$f":"IF(AND(B8=\"NO\",C8=\"Organización\",H9=1),1,\"\")","v":""},{"$f":"IF(AND(B8=\"NO\",C8=\"Particular\",H9=1),1,\"\")","v":""},{"$f":"IF(AND(B8=\"NO\",C8=\"Instalación\"),IF(OR(K9=1,N9=1,Q9=1,T9=1),1,\"\"),\"\")","v":""},{"$f":"IF(AND(B8=\"NO\",C8=\"Organización\"),IF(OR(K9=1,N9=1,Q9=1,T9=1),1,\"\"),\"\")","v":""},{"$f":"IF(AND(B8=\"NO\",C8=\"Particular\"),IF(OR(K9=1,N9=1,Q9=1,T9=1),1,\"\"),\"\")","v":""},{"$f":"IF(AND(H9=1,F8<>\"\"),\"X\",\"\")","v":""},{"$f":"IF(AND(K9=1,I8<>\"\"),\"X\",\"\")","v":""},{"$f":"IF(AND(N9=1,L8<>\"\"),\"X\",\"\")","v":""},{"$f":"IF(AND(Q9=1,O8<>\"\"),\"X\",\"\")","v":""},{"$f":"IF(AND(T9=1,R8<>\"\"),\"X\",\"\")","v":""},{"$f":"IF(AND(V9=1,U8<>\"\"),\"X\",\"\")","v":""}]
[null,null,null,null,null,2000,"-",{"$f":"IF(OR((F8<F9),(F8>G9),F8=\"\"),1,0)","v":1},null,1195,{"$f":"IF(OR((I8<I9),(I8>J9),I8=\"\"),1,0)","v":1},3,"-",{"$f":"IF(OR((L8<L9),(L8>M9),L8=\"\"),1,0)","v":1},80,90,{"$f":"IF(OR((O8<O9),(O8>P9),O8=\"\"),1,0)","v":1},null,null,{"$f":"IF(OR(R8=\"Incorrecto\",R8=\"\"),1,0)","v":1},null,{"$f":"IF(U8<>\"\",1,0)","v":0}]
[2,{"$f":"IF(AND(A10<>\"\",C10<>\"\",D10<>\"\",W10<>\"\",X10<>\"\"),IF(SUM(H11,K11,N11,Q11,T11,V11)>0,\"NO\",\"SI\"),\"\")","v":""},null,null,null,null,null,null,null,null,null,null,null,null,null,null,null,null,null,null,null,null,null,null,null,{"$f":"C11","v":0},{"$f":"D11","v":0},null,null,null,null,null,null,null,null,null,null,null,null,null,null,null,null,null,null,null,null,null,null,null,null,null,null,null,null,null,null,null,null,null,null,null,null,null,null,null,null,null,null,{"$f":"IF(AND(B10=\"SI\",C10=\"Instalación\"),1,\"\")","v":""},{"$f":"IF(AND(B10=\"SI\",C10=\"Organización\"),1,\"\")","v":""},{"$f":"IF(AND(B10=\"SI\",C10=\"Particular\"),1,\"\")","v":""},{"$f":"IF(AND(B10=\"NO\",C10=\"Instalación\"),1,\"\")","v":""},{"$f":"IF(AND(B10=\"NO\",C10=\"Organización\"),1,\"\")","v":""},{"$f":"IF(AND(B10=\"NO\",C10=\"Particular\"),1,\"\")","v":""},{"$f":"IF(AND(B10=\"NO\",C10=\"Instalación\",H11=1),1,\"\")","v":""},{"$f":"IF(AND(B10=\"NO\",C10=\"Organización\",H11=1),1,\"\")","v":""},{"$f":"IF(AND(B10=\"NO\",C10=\"Particular\",H11=1),1,\"\")","v":""},{"$f":"IF(AND(B10=\"NO\",C10=\"Instalación\"),IF(OR(K11=1,N11=1,Q11=1,T11=1),1,\"\"),\"\")","v":""},{"$f":"IF(AND(B10=\"NO\",C10=\"Organización\"),IF(OR(K11=1,N11=1,Q11=1,T11=1),1,\"\"),\"\")","v":""},{"$f":"IF(AND(B10=\"NO\",C10=\"Particular\"),IF(OR(K11=1,N11=1,Q11=1,T11=1),1,\"\"),\"\")","v":""},{"$f":"IF(AND(H11=1,F10<>\"\"),\"X\",\"\")","v":""},{"$f":"IF(AND(K11=1,I10<>\"\"),\"X\",\"\")","v":""},{"$f":"IF(AND(N11=1,L10<>\"\"),\"X\",\"\")","v":""},{"$f":"IF(AND(Q11=1,O10<>\"\"),\"X\",\"\")","v":""},{"$f":"IF(AND(T11=1,R10<>\"\"),\"X\",\"\")","v":""},{"$f":"IF(AND(V11=1,U10<>\"\"),\"X\",\"\")","v":""}]
[null,null,null,null,null,2000,"-",{"$f":"IF(OR((F10<F11),(F10>G11),F10=\"\"),1,0)","v":1},null,1195,{"$f":"IF(OR((I10<I11),(I10>J11),I10=\"\"),1,0)","v":1},3,"-",{"$f":"IF(OR((L10<L11),(L10>M11),L10=\"\"),1,0)","v":1},80,90,{"$f":"IF(OR((O10<O11),(O10>P11),O10=\"\"),1,0)","v":1},null,null,{"$f":"IF(OR(R10=\"Incorrecto\",R10=\"\"),1,0)","v":1},null,{"$f":"IF(U10<>\"\",1,0)","v":0}]
[]
[]
[]
[]
[]
[]
[]
[]
[]
[]
[]
[]
[]
[]
[]
[]
[]
[]
[]
[]
[]
[]
[]
[]
[]
[]
[]
[]
[]
[]
[]
[]
[]
[]
[]
[]
[]
[]
[]
[]
[]
[]
[]
[]
[]
[]
[]
[]
[]
[]
[]
[]
[]
[]
[]
[]
[]
[]
[]
[]
[]
[]
[]
[]
[]
[]
[]
[]
[]
[]
[]
[]
[]
[]
[]
[]
[]
[]
[]
[]
[]
[]
[]
[]
[]
[]
[]
[]
[]
[]
[]
[]
[]
[]
[]
[]
[]
[]
[]
[]
[]
[]
[]
[]
[]
[]
[]
[]
[]
[]
[]
[]
[]
[]
[]
[]
[]
[]
[]
[]
[]
[]
[]
[]
[]
[]
[]
[]
[]
[]
[]
[]
[]
[]
[]
[]
[]
[]
[]
[]
[]
[]
[]
[]
[]
[]
[]
[]
[]
[]
[]
[]
[]
[]
[]
[]
[]
[]
[]
[]
[]
[]
[]
[]
[]
[]
[]
[]
[]
[]
[]
[]
[]
[]
[]
[]
[]
[]
[]
[]
[]
[]
[]
[]
[]
[]
[]
[]
[]
[]
[null,null,null,null,null,null,null,null,null,null,null,null,null,null,null,null,null,null,null,null,null,null,null,null,null,null,null,null,null,null,null,null,null,null,null,null,null,null,null,null,null,null,null,null,null,null,null,null,null,null,null,null,null,null,null,null,null,null,null,null,null,null,null,null,null,null,null,null,null,{"$f":"SUM(BR8:BR201)","v":0},0,0,0,0,0,0,0,0,0,0,0]

{"sheet":"MARP.15880","index":26,"n_rows":204,"n_cols":86,"rows_kept":204,"cut":false,"hidden":true,"merged":[[5,20,6,20],[5,22,6,22],[5,23,6,23],[7,25,8,25],[7,0,8,0],[7,1,8,1],[7,4,8,4],[7,5,7,6],[7,8,7,9],[7,14,7,15],[7,17,8,18],[7,20,8,20],[7,22,8,22],[7,23,8,23],[4,17,4,18],[5,8,6,10],[0,0,4,1],[1,3,1,10],[4,8,4,9],[4,14,4,15],[5,0,6,0],[5,1,6,1],[5,2,6,2],[5,4,6,4],[5,5,6,7],[5,14,6,16],[5,17,6,19],[9,0,10,0],[9,1,10,1],[9,4,10,4],[9,5,9,6],[9,8,9,9],[9,14,9,15],[9,17,10,18],[9,20,10,20],[9,22,10,22],[9,23,10,23]]}
[null,null,"HOMOLOGACIÓN DE ARTEFACTOS",null,null,null,null,null,null,null,null,null,null,null,null,null,null,null,null,null,null,null,null,null,null,null,null,null,null,null,null,null,null,null,null,null,null,null,null,null,null,null,null,null,null,null,null,null,null,null,null,null,null,null,null,null,null,null,null,null,null,null,null,null,null,null,null,null,10]
[null,null,"Competición:",{"$f":"IF(Inicio!D4=\"\",\"FALTA NOMBRE DE COMPETICIÓN\",Inicio!D4)","v":"FALTA NOMBRE DE COMPETICIÓN"},null,null,null,null,null,null,null,null,null,null,null,null,null,null,null,null,null,null,null,null,"Instalación","Correcto"]
[null,null,null,null,null,null,null,null,null,null,null,null,null,null,null,null,null,null,null,null,null,null,null,null,"Organización","Incorrecto"]
[null,null,null,"MARTILLO PESADO 15880",null,null,null,null,null,null,null,null,null,null,null,null,null,null,null,null,null,null,null,null,"Particular"]
[null,null,null,null,null,null,null,null,"Long. total del martillo medida desde el interior de la empuñadura",null,null,null,null,null,"Diámetro de       la cabeza",null,null,null,null,null,"Deficiencias                                       no relacionadas                                           con medidas"]
["Referencia","Válido","Propietario","Marca y modelo","Certificado                IAAF","Peso",null,null,"L1",null,null,null,null,null,"D2",null,null,"C. de G. de   la cabeza",null,null,"Observaciones",null,"Homologador","Fecha"]
[null,null,null,"Color",null,null,null,null,null,null,null,null,null,null,null,null,null,null,null,null,null,null,null,null,null,null,null,null,null,null,null,null,null,null,null,null,null,null,null,null,null,null,null,null,null,null,null,null,null,null,null,null,null,null,null,null,null,null,null,null,null,null,null,null,null,null,null,null,null,"VI","VO","VP","NVI","NVO","NVP","NVPI","NVPO","NVPP","NVMI","NVMO","NVMP","Peso","Long. total","Ø cabeza","C. de g.","Observ."]
[1,{"$f":"IF(AND(A8<>\"\",C8<>\"\",D8<>\"\",W8<>\"\",X8<>\"\"),IF(SUM(H9,K9,Q9,T9,V9)>0,\"NO\",\"SI\"),\"\")","v":""},null,null,null,null,null,null,0,null,null,null,null,null,null,null,null,null,null,null,null,null,null,null,null,{"$f":"C9","v":0},{"$f":"D9","v":0},null,null,null,null,null,null,null,null,null,null,null,null,null,null,null,null,null,null,null,null,null,null,null,null,null,null,null,null,null,null,null,null,null,null,null,null,null,null,null,null,null,null,{"$f":"IF(AND(B8=\"SI\",C8=\"Instalación\"),1,\"\")","v":""},{"$f":"IF(AND(B8=\"SI\",C8=\"Organización\"),1,\"\")","v":""},{"$f":"IF(AND(B8=\"SI\",C8=\"Particular\"),1,\"\")","v":""},{"$f":"IF(AND(B8=\"NO\",C8=\"Instalación\"),1,\"\")","v":""},{"$f":"IF(AND(B8=\"NO\",C8=\"Organización\"),1,\"\")","v":""},{"$f":"IF(AND(B8=\"NO\",C8=\"Particular\"),1,\"\")","v":""},{"$f":"IF(AND(B8=\"NO\",C8=\"Instalación\",H9=1),1,\"\")","v":""},{"$f":"IF(AND(B8=\"NO\",C8=\"Organización\",H9=1),1,\"\")","v":""},{"$f":"IF(AND(B8=\"NO\",C8=\"Particular\",H9=1),1,\"\")","v":""},{"$f":"IF(AND(B8=\"NO\",C8=\"Instalación\"),IF(OR(K9=1,Q9=1,T9=1),1,\"\"),\"\")","v":""},{"$f":"IF(AND(B8=\"NO\",C8=\"Organización\"),IF(OR(K9=1,Q9=1,T9=1),1,\"\"),\"\")","v":""},{"$f":"IF(AND(B8=\"NO\",C8=\"Particular\"),IF(OR(K9=1,Q9=1,T9=1),1,\"\"),\"\")","v":""},{"$f":"IF(AND(H9=1,F8<>\"\"),\"X\",\"\")","v":""},{"$f":"IF(AND(K9=1,I8<>\"\"),\"X\",\"\")","v":""},{"$f":"IF(AND(Q9=1,O8<>\"\"),\"X\",\"\")","v":""},{"$f":"IF(AND(T9=1,R8<>\"\"),\"X\",\"\")","v":""},{"$f":"IF(AND(V9=1,U8<>\"\"),\"X\",\"\")","v":""}]
[null,null,null,null,null,15880,"-",{"$f":"IF(OR((F8<F9),(F8>G9),F8=\"\"),1,0)","v":1},null,410,{"$f":"IF(OR((I8<I9),(I8>J9),I8=\"\"),1,0)","v":0},null,null,null,145,165,{"$f":"IF(OR((O8<O9),(O8>P9),O8=\"\"),1,0)","v":1},null,null,{"$f":"IF(OR(R8=\"Incorrecto\",R8=\"\"),1,0)","v":1},null,{"$f":"IF(U8<>\"\",1,0)","v":0}]
[2,{"$f":"IF(AND(A10<>\"\",C10<>\"\",D10<>\"\",W10<>\"\",X10<>\"\"),IF(SUM(H11,K11,Q11,T11,V11)>0,\"NO\",\"SI\"),\"\")","v":""},null,null,null,null,null,null,null,null,null,null,null,null,null,null,null,null,null,null,null,null,null,null,null,{"$f":"C11","v":0},{"$f":"D11","v":0},null,null,null,null,null,null,null,null,null,null,null,null,null,null,null,null,null,null,null,null,null,null,null,null,null,null,null,null,null,null,null,null,null,null,null,null,null,null,null,null,null,null,{"$f":"IF(AND(B10=\"SI\",C10=\"Instalación\"),1,\"\")","v":""},{"$f":"IF(AND(B10=\"SI\",C10=\"Organización\"),1,\"\")","v":""},{"$f":"IF(AND(B10=\"SI\",C10=\"Particular\"),1,\"\")","v":""},{"$f":"IF(AND(B10=\"NO\",C10=\"Instalación\"),1,\"\")","v":""},{"$f":"IF(AND(B10=\"NO\",C10=\"Organización\"),1,\"\")","v":""},{"$f":"IF(AND(B10=\"NO\",C10=\"Particular\"),1,\"\")","v":""},{"$f":"IF(AND(B10=\"NO\",C10=\"Instalación\",H11=1),1,\"\")","v":""},{"$f":"IF(AND(B10=\"NO\",C10=\"Organización\",H11=1),1,\"\")","v":""},{"$f":"IF(AND(B10=\"NO\",C10=\"Particular\",H11=1),1,\"\")","v":""},{"$f":"IF(AND(B10=\"NO\",C10=\"Instalación\"),IF(OR(K11=1,Q11=1,T11=1),1,\"\"),\"\")","v":""},{"$f":"IF(AND(B10=\"NO\",C10=\"Organización\"),IF(OR(K11=1,Q11=1,T11=1),1,\"\"),\"\")","v":""},{"$f":"IF(AND(B10=\"NO\",C10=\"Particular\"),IF(OR(K11=1,Q11=1,T11=1),1,\"\"),\"\")","v":""},{"$f":"IF(AND(H11=1,F10<>\"\"),\"X\",\"\")","v":""},{"$f":"IF(AND(K11=1,I10<>\"\"),\"X\",\"\")","v":""},{"$f":"IF(AND(Q11=1,O10<>\"\"),\"X\",\"\")","v":""},{"$f":"IF(AND(T11=1,R10<>\"\"),\"X\",\"\")","v":""},{"$f":"IF(AND(V11=1,U10<>\"\"),\"X\",\"\")","v":""}]
[null,null,null,null,null,15880,"-",{"$f":"IF(OR((F10<F11),(F10>G11),F10=\"\"),1,0)","v":1},null,410,{"$f":"IF(OR((I10<I11),(I10>J11),I10=\"\"),1,0)","v":1},null,null,null,145,165,{"$f":"IF(OR((O10<O11),(O10>P11),O10=\"\"),1,0)","v":1},null,null,{"$f":"IF(OR(R10=\"Incorrecto\",R10=\"\"),1,0)","v":1},null,{"$f":"IF(U10<>\"\",1,0)","v":0}]
[]
[]
[]
[]
[]
[]
[]
[]
[]
[]
[]
[]
[]
[]
[]
[]
[]
[]
[]
[]
[]
[]
[]
[]
[]
[]
[]
[]
[]
[]
[]
[]
[]
[]
[]
[]
[]
[]
[]
[]
[]
[]
[]
[]
[]
[]
[]
[]
[]
[]
[]
[]
[]
[]
[]
[]
[]
[]
[]
[]
[]
[]
[]
[]
[]
[]
[]
[]
[]
[]
[]
[]
[]
[]
[]
[]
[]
[]
[]
[]
[]
[]
[]
[]
[]
[]
[]
[]
[]
[]
[]
[]
[]
[]
[]
[]
[]
[]
[]
[]
[]
[]
[]
[]
[]
[]
[]
[]
[]
[]
[]
[]
[]
[]
[]
[]
[]
[]
[]
[]
[]
[]
[]
[]
[]
[]
[]
[]
[]
[]
[]
[]
[]
[]
[]
[]
[]
[]
[]
[]
[]
[]
[]
[]
[]
[]
[]
[]
[]
[]
[]
[]
[]
[]
[]
[]
[]
[]
[]
[]
[]
[]
[]
[]
[]
[]
[]
[]
[]
[]
[]
[]
[]
[]
[]
[]
[]
[]
[]
[]
[]
[]
[]
[]
[]
[]
[]
[]
[]
[]
[]
[]
[null,null,null,null,null,null,null,null,null,null,null,null,null,null,null,null,null,null,null,null,null,null,null,null,null,null,null,null,null,null,null,null,null,null,null,null,null,null,null,null,null,null,null,null,null,null,null,null,null,null,null,null,null,null,null,null,null,null,null,null,null,null,null,null,null,null,null,null,null,{"$f":"SUM(BR8:BR203)","v":0},0,0,0,0,0,0,0,0,0,0,0]

{"sheet":"MARP.9080","index":27,"n_rows":202,"n_cols":86,"rows_kept":202,"cut":false,"hidden":true,"merged":[[7,22,8,22],[7,23,8,23],[7,25,8,25],[9,14,9,15],[9,17,10,18],[9,20,10,20],[9,22,10,22],[9,23,10,23],[7,14,7,15],[7,17,8,18],[7,20,8,20],[9,0,10,0],[9,1,10,1],[9,4,10,4],[9,5,9,6],[9,8,9,9],[7,0,8,0],[7,1,8,1],[7,4,8,4],[7,5,7,6],[7,8,7,9],[5,22,6,22],[5,23,6,23],[0,0,4,1],[1,3,1,10],[4,8,4,9],[4,14,4,15],[4,17,4,18],[5,0,6,0],[5,1,6,1],[5,2,6,2],[5,4,6,4],[5,5,6,7],[5,8,6,10],[5,14,6,16],[5,17,6,19],[5,20,6,20]]}
[null,null,"HOMOLOGACIÓN DE ARTEFACTOS",null,null,null,null,null,null,null,null,null,null,null,null,null,null,null,null,null,null,null,null,null,null,null,null,null,null,null,null,null,null,null,null,null,null,null,null,null,null,null,null,null,null,null,null,null,null,null,null,null,null,null,null,null,null,null,null,null,null,null,null,null,null,null,null,null,10]
[null,null,"Competición:",{"$f":"IF(Inicio!D4=\"\",\"FALTA NOMBRE DE COMPETICIÓN\",Inicio!D4)","v":"FALTA NOMBRE DE COMPETICIÓN"},null,null,null,null,null,null,null,null,null,null,null,null,null,null,null,null,null,null,null,null,"Instalación","Correcto"]
[null,null,null,null,null,null,null,null,null,null,null,null,null,null,null,null,null,null,null,null,null,null,null,null,"Organización","Incorrecto"]
[null,null,null,"MARTILLO PESADO 9080",null,null,null,null,null,null,null,null,null,null,null,null,null,null,null,null,null,null,null,null,"Particular"]
[null,null,null,null,null,null,null,null,"Long. total del martillo medida desde el interior de la empuñadura",null,null,null,null,null,"Diámetro de       la cabeza",null,null,null,null,null,"Deficiencias                                       no relacionadas                                           con medidas"]
["Referencia","Válido","Propietario","Marca y modelo","Certificado                IAAF","Peso",null,null,"L1",null,null,null,null,null,"D2",null,null,"C. de G. de   la cabeza",null,null,"Observaciones",null,"Homologador","Fecha"]
[null,null,null,"Color",null,null,null,null,null,null,null,null,null,null,null,null,null,null,null,null,null,null,null,null,null,null,null,null,null,null,null,null,null,null,null,null,null,null,null,null,null,null,null,null,null,null,null,null,null,null,null,null,null,null,null,null,null,null,null,null,null,null,null,null,null,null,null,null,null,"VI","VO","VP","NVI","NVO","NVP","NVPI","NVPO","NVPP","NVMI","NVMO","NVMP","Peso","Long. total","Ø cabeza","C. de g.","Observ."]
[1,{"$f":"IF(AND(A8<>\"\",C8<>\"\",D8<>\"\",W8<>\"\",X8<>\"\"),IF(SUM(H9,K9,Q9,T9,V9)>0,\"NO\",\"SI\"),\"\")","v":""},null,null,null,null,null,null,null,null,null,null,null,null,null,null,null,null,null,null,null,null,null,null,null,{"$f":"C9","v":0},{"$f":"D9","v":0},null,null,null,null,null,null,null,null,null,null,null,null,null,null,null,null,null,null,null,null,null,null,null,null,null,null,null,null,null,null,null,null,null,null,null,null,null,null,null,null,null,null,{"$f":"IF(AND(B8=\"SI\",C8=\"Instalación\"),1,\"\")","v":""},{"$f":"IF(AND(B8=\"SI\",C8=\"Organización\"),1,\"\")","v":""},{"$f":"IF(AND(B8=\"SI\",C8=\"Particular\"),1,\"\")","v":""},{"$f":"IF(AND(B8=\"NO\",C8=\"Instalación\"),1,\"\")","v":""},{"$f":"IF(AND(B8=\"NO\",C8=\"Organización\"),1,\"\")","v":""},{"$f":"IF(AND(B8=\"NO\",C8=\"Particular\"),1,\"\")","v":""},{"$f":"IF(AND(B8=\"NO\",C8=\"Instalación\",H9=1),1,\"\")","v":""},{"$f":"IF(AND(B8=\"NO\",C8=\"Organización\",H9=1),1,\"\")","v":""},{"$f":"IF(AND(B8=\"NO\",C8=\"Particular\",H9=1),1,\"\")","v":""},{"$f":"IF(AND(B8=\"NO\",C8=\"Instalación\"),IF(OR(K9=1,Q9=1,T9=1),1,\"\"),\"\")","v":""},{"$f":"IF(AND(B8=\"NO\",C8=\"Organización\"),IF(OR(K9=1,Q9=1,T9=1),1,\"\"),\"\")","v":""},{"$f":"IF(AND(B8=\"NO\",C8=\"Particular\"),IF(OR(K9=1,Q9=1,T9=1),1,\"\"),\"\")","v":""},{"$f":"IF(AND(H9=1,F8<>\"\"),\"X\",\"\")","v":""},{"$f":"IF(AND(K9=1,I8<>\"\"),\"X\",\"\")","v":""},{"$f":"IF(AND(Q9=1,O8<>\"\"),\"X\",\"\")","v":""},{"$f":"IF(AND(T9=1,R8<>\"\"),\"X\",\"\")","v":""},{"$f":"IF(AND(V9=1,U8<>\"\"),\"X\",\"\")","v":""}]
[null,null,null,null,null,9080,"-",{"$f":"IF(OR((F8<F9),(F8>G9),F8=\"\"),1,0)","v":1},null,410,{"$f":"IF(OR((I8<I9),(I8>J9),I8=\"\"),1,0)","v":1},null,null,null,120,140,{"$f":"IF(OR((O8<O9),(O8>P9),O8=\"\"),1,0)","v":1},null,null,{"$f":"IF(OR(R8=\"Incorrecto\",R8=\"\"),1,0)","v":1},null,{"$f":"IF(U8<>\"\",1,0)","v":0}]
[2,{"$f":"IF(AND(A10<>\"\",C10<>\"\",D10<>\"\",W10<>\"\",X10<>\"\"),IF(SUM(H11,K11,Q11,T11,V11)>0,\"NO\",\"SI\"),\"\")","v":""},null,null,null,null,null,null,null,null,null,null,null,null,null,null,null,null,null,null,null,null,null,null,null,{"$f":"C11","v":0},{"$f":"D11","v":0},null,null,null,null,null,null,null,null,null,null,null,null,null,null,null,null,null,null,null,null,null,null,null,null,null,null,null,null,null,null,null,null,null,null,null,null,null,null,null,null,null,null,{"$f":"IF(AND(B10=\"SI\",C10=\"Instalación\"),1,\"\")","v":""},{"$f":"IF(AND(B10=\"SI\",C10=\"Organización\"),1,\"\")","v":""},{"$f":"IF(AND(B10=\"SI\",C10=\"Particular\"),1,\"\")","v":""},{"$f":"IF(AND(B10=\"NO\",C10=\"Instalación\"),1,\"\")","v":""},{"$f":"IF(AND(B10=\"NO\",C10=\"Organización\"),1,\"\")","v":""},{"$f":"IF(AND(B10=\"NO\",C10=\"Particular\"),1,\"\")","v":""},{"$f":"IF(AND(B10=\"NO\",C10=\"Instalación\",H11=1),1,\"\")","v":""},{"$f":"IF(AND(B10=\"NO\",C10=\"Organización\",H11=1),1,\"\")","v":""},{"$f":"IF(AND(B10=\"NO\",C10=\"Particular\",H11=1),1,\"\")","v":""},{"$f":"IF(AND(B10=\"NO\",C10=\"Instalación\"),IF(OR(K11=1,Q11=1,T11=1),1,\"\"),\"\")","v":""},{"$f":"IF(AND(B10=\"NO\",C10=\"Organización\"),IF(OR(K11=1,Q11=1,T11=1),1,\"\"),\"\")","v":""},{"$f":"IF(AND(B10=\"NO\",C10=\"Particular\"),IF(OR(K11=1,Q11=1,T11=1),1,\"\"),\"\")","v":""},{"$f":"IF(AND(H11=1,F10<>\"\"),\"X\",\"\")","v":""},{"$f":"IF(AND(K11=1,I10<>\"\"),\"X\",\"\")","v":""},{"$f":"IF(AND(Q11=1,O10<>\"\"),\"X\",\"\")","v":""},{"$f":"IF(AND(T11=1,R10<>\"\"),\"X\",\"\")","v":""},{"$f":"IF(AND(V11=1,U10<>\"\"),\"X\",\"\")","v":""}]
[null,null,null,null,null,9080,"-",{"$f":"IF(OR((F10<F11),(F10>G11),F10=\"\"),1,0)","v":1},null,410,{"$f":"IF(OR((I10<I11),(I10>J11),I10=\"\"),1,0)","v":1},null,null,null,120,140,{"$f":"IF(OR((O10<O11),(O10>P11),O10=\"\"),1,0)","v":1},null,null,{"$f":"IF(OR(R10=\"Incorrecto\",R10=\"\"),1,0)","v":1},null,{"$f":"IF(U10<>\"\",1,0)","v":0}]
[]
[]
[]
[]
[]
[]
[]
[]
[]
[]
[]
[]
[]
[]
[]
[]
[]
[]
[]
[]
[]
[]
[]
[]
[]
[]
[]
[]
[]
[]
[]
[]
[]
[]
[]
[]
[]
[]
[]
[]
[]
[]
[]
[]
[]
[]
[]
[]
[]
[]
[]
[]
[]
[]
[]
[]
[]
[]
[]
[]
[]
[]
[]
[]
[]
[]
[]
[]
[]
[]
[]
[]
[]
[]
[]
[]
[]
[]
[]
[]
[]
[]
[]
[]
[]
[]
[]
[]
[]
[]
[]
[]
[]
[]
[]
[]
[]
[]
[]
[]
[]
[]
[]
[]
[]
[]
[]
[]
[]
[]
[]
[]
[]
[]
[]
[]
[]
[]
[]
[]
[]
[]
[]
[]
[]
[]
[]
[]
[]
[]
[]
[]
[]
[]
[]
[]
[]
[]
[]
[]
[]
[]
[]
[]
[]
[]
[]
[]
[]
[]
[]
[]
[]
[]
[]
[]
[]
[]
[]
[]
[]
[]
[]
[]
[]
[]
[]
[]
[]
[]
[]
[]
[]
[]
[]
[]
[]
[]
[]
[]
[]
[]
[]
[]
[]
[]
[]
[]
[]
[]
[null,null,null,null,null,null,null,null,null,null,null,null,null,null,null,null,null,null,null,null,null,null,null,null,null,null,null,null,null,null,null,null,null,null,null,null,null,null,null,null,null,null,null,null,null,null,null,null,null,null,null,null,null,null,null,null,null,null,null,null,null,null,null,null,null,null,null,null,null,{"$f":"SUM(BR8:BR201)","v":0},0,0,0,0,0,0,0,0,0,0,0]

{"sheet":"MARP.11340","index":28,"n_rows":206,"n_cols":86,"rows_kept":206,"cut":false,"hidden":true,"merged":[[7,22,8,22],[7,23,8,23],[7,25,8,25],[9,14,9,15],[9,17,10,18],[9,20,10,20],[9,22,10,22],[9,23,10,23],[7,14,7,15],[7,17,8,18],[7,20,8,20],[9,0,10,0],[9,1,10,1],[9,4,10,4],[9,5,9,6],[9,8,9,9],[7,0,8,0],[7,1,8,1],[7,4,8,4],[7,5,7,6],[7,8,7,9],[5,22,6,22],[5,23,6,23],[0,0,4,1],[1,3,1,10],[4,8,4,9],[4,14,4,15],[4,17,4,18],[5,0,6,0],[5,1,6,1],[5,2,6,2],[5,4,6,4],[5,5,6,7],[5,8,6,10],[5,14,6,16],[5,17,6,19],[5,20,6,20]]}
[null,null,"HOMOLOGACIÓN DE ARTEFACTOS",null,null,null,null,null,null,null,null,null,null,null,null,null,null,null,null,null,null,null,null,null,null,null,null,null,null,null,null,null,null,null,null,null,null,null,null,null,null,null,null,null,null,null,null,null,null,null,null,null,null,null,null,null,null,null,null,null,null,null,null,null,null,null,null,null,10]
[null,null,"Competición:",{"$f":"IF(Inicio!D4=\"\",\"FALTA NOMBRE DE COMPETICIÓN\",Inicio!D4)","v":"FALTA NOMBRE DE COMPETICIÓN"},null,null,null,null,null,null,null,null,null,null,null,null,null,null,null,null,null,null,null,null,"Instalación","Correcto"]
[null,null,null,null,null,null,null,null,null,null,null,null,null,null,null,null,null,null,null,null,null,null,null,null,"Organización","Incorrecto"]
[null,null,null,"MARTILLO PESADO 11340",null,null,null,null,null,null,null,null,null,null,null,null,null,null,null,null,null,null,null,null,"Particular"]
[null,null,null,null,null,null,null,null,"Long. total del martillo medida desde el interior de la empuñadura",null,null,null,null,null,"Diámetro de       la cabeza",null,null,null,null,null,"Deficiencias                                       no relacionadas                                           con medidas"]
["Referencia","Válido","Propietario","Marca y modelo","Certificado                IAAF","Peso",null,null,"L1",null,null,null,null,null,"D2",null,null,"C. de G. de   la cabeza",null,null,"Observaciones",null,"Homologador","Fecha"]
[null,null,null,"Color",null,null,null,null,null,null,null,null,null,null,null,null,null,null,null,null,null,null,null,null,null,null,null,null,null,null,null,null,null,null,null,null,null,null,null,null,null,null,null,null,null,null,null,null,null,null,null,null,null,null,null,null,null,null,null,null,null,null,null,null,null,null,null,null,null,"VI","VO","VP","NVI","NVO","NVP","NVPI","NVPO","NVPP","NVMI","NVMO","NVMP","Peso","Long. total","Ø cabeza","C. de g.","Observ."]
[1,{"$f":"IF(AND(A8<>\"\",C8<>\"\",D8<>\"\",W8<>\"\",X8<>\"\"),IF(SUM(H9,K9,Q9,T9,V9)>0,\"NO\",\"SI\"),\"\")","v":""},null,null,null,null,null,null,null,null,null,null,null,null,null,null,null,null,null,null,null,null,null,null,null,{"$f":"C9","v":0},{"$f":"D9","v":0},null,null,null,null,null,null,null,null,null,null,null,null,null,null,null,null,null,null,null,null,null,null,null,null,null,null,null,null,null,null,null,null,null,null,null,null,null,null,null,null,null,null,{"$f":"IF(AND(B8=\"SI\",C8=\"Instalación\"),1,\"\")","v":""},{"$f":"IF(AND(B8=\"SI\",C8=\"Organización\"),1,\"\")","v":""},{"$f":"IF(AND(B8=\"SI\",C8=\"Particular\"),1,\"\")","v":""},{"$f":"IF(AND(B8=\"NO\",C8=\"Instalación\"),1,\"\")","v":""},{"$f":"IF(AND(B8=\"NO\",C8=\"Organización\"),1,\"\")","v":""},{"$f":"IF(AND(B8=\"NO\",C8=\"Particular\"),1,\"\")","v":""},{"$f":"IF(AND(B8=\"NO\",C8=\"Instalación\",H9=1),1,\"\")","v":""},{"$f":"IF(AND(B8=\"NO\",C8=\"Organización\",H9=1),1,\"\")","v":""},{"$f":"IF(AND(B8=\"NO\",C8=\"Particular\",H9=1),1,\"\")","v":""},{"$f":"IF(AND(B8=\"NO\",C8=\"Instalación\"),IF(OR(K9=1,Q9=1,T9=1),1,\"\"),\"\")","v":""},{"$f":"IF(AND(B8=\"NO\",C8=\"Organización\"),IF(OR(K9=1,Q9=1,T9=1),1,\"\"),\"\")","v":""},{"$f":"IF(AND(B8=\"NO\",C8=\"Particular\"),IF(OR(K9=1,Q9=1,T9=1),1,\"\"),\"\")","v":""},{"$f":"IF(AND(H9=1,F8<>\"\"),\"X\",\"\")","v":""},{"$f":"IF(AND(K9=1,I8<>\"\"),\"X\",\"\")","v":""},{"$f":"IF(AND(Q9=1,O8<>\"\"),\"X\",\"\")","v":""},{"$f":"IF(AND(T9=1,R8<>\"\"),\"X\",\"\")","v":""},{"$f":"IF(AND(V9=1,U8<>\"\"),\"X\",\"\")","v":""}]
[null,null,null,null,null,11340,"-",{"$f":"IF(OR((F8<F9),(F8>G9),F8=\"\"),1,0)","v":1},null,410,{"$f":"IF(OR((I8<I9),(I8>J9),I8=\"\"),1,0)","v":1},null,null,null,130,150,{"$f":"IF(OR((O8<O9),(O8>P9),O8=\"\"),1,0)","v":1},null,null,{"$f":"IF(OR(R8=\"Incorrecto\",R8=\"\"),1,0)","v":1},null,{"$f":"IF(U8<>\"\",1,0)","v":0}]
[2,{"$f":"IF(AND(A10<>\"\",C10<>\"\",D10<>\"\",W10<>\"\",X10<>\"\"),IF(SUM(H11,K11,Q11,T11,V11)>0,\"NO\",\"SI\"),\"\")","v":""},null,null,null,null,null,null,null,null,null,null,null,null,null,null,null,null,null,null,null,null,null,null,null,{"$f":"C11","v":0},{"$f":"D11","v":0},null,null,null,null,null,null,null,null,null,null,null,null,null,null,null,null,null,null,null,null,null,null,null,null,null,null,null,null,null,null,null,null,null,null,null,null,null,null,null,null,null,null,{"$f":"IF(AND(B10=\"SI\",C10=\"Instalación\"),1,\"\")","v":""},{"$f":"IF(AND(B10=\"SI\",C10=\"Organización\"),1,\"\")","v":""},{"$f":"IF(AND(B10=\"SI\",C10=\"Particular\"),1,\"\")","v":""},{"$f":"IF(AND(B10=\"NO\",C10=\"Instalación\"),1,\"\")","v":""},{"$f":"IF(AND(B10=\"NO\",C10=\"Organización\"),1,\"\")","v":""},{"$f":"IF(AND(B10=\"NO\",C10=\"Particular\"),1,\"\")","v":""},{"$f":"IF(AND(B10=\"NO\",C10=\"Instalación\",H11=1),1,\"\")","v":""},{"$f":"IF(AND(B10=\"NO\",C10=\"Organización\",H11=1),1,\"\")","v":""},{"$f":"IF(AND(B10=\"NO\",C10=\"Particular\",H11=1),1,\"\")","v":""},{"$f":"IF(AND(B10=\"NO\",C10=\"Instalación\"),IF(OR(K11=1,Q11=1,T11=1),1,\"\"),\"\")","v":""},{"$f":"IF(AND(B10=\"NO\",C10=\"Organización\"),IF(OR(K11=1,Q11=1,T11=1),1,\"\"),\"\")","v":""},{"$f":"IF(AND(B10=\"NO\",C10=\"Particular\"),IF(OR(K11=1,Q11=1,T11=1),1,\"\"),\"\")","v":""},{"$f":"IF(AND(H11=1,F10<>\"\"),\"X\",\"\")","v":""},{"$f":"IF(AND(K11=1,I10<>\"\"),\"X\",\"\")","v":""},{"$f":"IF(AND(Q11=1,O10<>\"\"),\"X\",\"\")","v":""},{"$f":"IF(AND(T11=1,R10<>\"\"),\"X\",\"\")","v":""},{"$f":"IF(AND(V11=1,U10<>\"\"),\"X\",\"\")","v":""}]
[null,null,null,null,null,11340,"-",{"$f":"IF(OR((F10<F11),(F10>G11),F10=\"\"),1,0)","v":1},null,410,{"$f":"IF(OR((I10<I11),(I10>J11),I10=\"\"),1,0)","v":1},null,null,null,130,150,{"$f":"IF(OR((O10<O11),(O10>P11),O10=\"\"),1,0)","v":1},null,null,{"$f":"IF(OR(R10=\"Incorrecto\",R10=\"\"),1,0)","v":1},null,{"$f":"IF(U10<>\"\",1,0)","v":0}]
[]
[]
[]
[]
[]
[]
[]
[]
[]
[]
[]
[]
[]
[]
[]
[]
[]
[]
[]
[]
[]
[]
[]
[]
[]
[]
[]
[]
[]
[]
[]
[]
[]
[]
[]
[]
[]
[]
[]
[]
[]
[]
[]
[]
[]
[]
[]
[]
[]
[]
[]
[]
[]
[]
[]
[]
[]
[]
[]
[]
[]
[]
[]
[]
[]
[]
[]
[]
[]
[]
[]
[]
[]
[]
[]
[]
[]
[]
[]
[]
[]
[]
[]
[]
[]
[]
[]
[]
[]
[]
[]
[]
[]
[]
[]
[]
[]
[]
[]
[]
[]
[]
[]
[]
[]
[]
[]
[]
[]
[]
[]
[]
[]
[]
[]
[]
[]
[]
[]
[]
[]
[]
[]
[]
[]
[]
[]
[]
[]
[]
[]
[]
[]
[]
[]
[]
[]
[]
[]
[]
[]
[]
[]
[]
[]
[]
[]
[]
[]
[]
[]
[]
[]
[]
[]
[]
[]
[]
[]
[]
[]
[]
[]
[]
[]
[]
[]
[]
[]
[]
[]
[]
[]
[]
[]
[]
[]
[]
[]
[]
[]
[]
[]
[]
[]
[]
[]
[]
[]
[]
[]
[]
[]
[]
[null,null,null,null,null,null,null,null,null,null,null,null,null,null,null,null,null,null,null,null,null,null,null,null,null,null,null,null,null,null,null,null,null,null,null,null,null,null,null,null,null,null,null,null,null,null,null,null,null,null,null,null,null,null,null,null,null,null,null,null,null,null,null,null,null,null,null,null,null,{"$f":"SUM(BR8:BR205)","v":0},0,0,0,0,0,0,0,0,0,0,0]

{"sheet":"MARP.7260","index":29,"n_rows":202,"n_cols":86,"rows_kept":202,"cut":false,"hidden":true,"merged":[[9,14,9,15],[9,17,10,18],[9,20,10,20],[9,22,10,22],[9,23,10,23],[7,22,8,22],[7,23,8,23],[7,25,8,25],[7,14,7,15],[7,17,8,18],[7,20,8,20],[9,0,10,0],[9,1,10,1],[9,4,10,4],[9,5,9,6],[9,8,9,9],[7,0,8,0],[7,1,8,1],[7,4,8,4],[7,5,7,6],[7,8,7,9],[5,22,6,22],[5,23,6,23],[0,0,4,1],[1,3,1,10],[4,8,4,9],[4,14,4,15],[4,17,4,18],[5,0,6,0],[5,1,6,1],[5,2,6,2],[5,4,6,4],[5,5,6,7],[5,8,6,10],[5,14,6,16],[5,17,6,19],[5,20,6,20]]}
[null,null,"HOMOLOGACIÓN DE ARTEFACTOS",null,null,null,null,null,null,null,null,null,null,null,null,null,null,null,null,null,null,null,null,null,null,null,null,null,null,null,null,null,null,null,null,null,null,null,null,null,null,null,null,null,null,null,null,null,null,null,null,null,null,null,null,null,null,null,null,null,null,null,null,null,null,null,null,null,10]
[null,null,"Competición:",{"$f":"IF(Inicio!D4=\"\",\"FALTA NOMBRE DE COMPETICIÓN\",Inicio!D4)","v":"FALTA NOMBRE DE COMPETICIÓN"},null,null,null,null,null,null,null,null,null,null,null,null,null,null,null,null,null,null,null,null,"Instalación","Correcto"]
[null,null,null,null,null,null,null,null,null,null,null,null,null,null,null,null,null,null,null,null,null,null,null,null,"Organización","Incorrecto"]
[null,null,null,"MARTILLO PESADO 7260",null,null,null,null,null,null,null,null,null,null,null,null,null,null,null,null,null,null,null,null,"Particular"]
[null,null,null,null,null,null,null,null,"Long. total del martillo medida desde el interior de la empuñadura",null,null,null,null,null,"Diámetro de       la cabeza",null,null,null,null,null,"Deficiencias                                       no relacionadas                                           con medidas"]
["Referencia","Válido","Propietario","Marca y modelo","Certificado                IAAF","Peso",null,null,"L1",null,null,null,null,null,"D2",null,null,"C. de G. de   la cabeza",null,null,"Observaciones",null,"Homologador","Fecha"]
[null,null,null,"Color",null,null,null,null,null,null,null,null,null,null,null,null,null,null,null,null,null,null,null,null,null,null,null,null,null,null,null,null,null,null,null,null,null,null,null,null,null,null,null,null,null,null,null,null,null,null,null,null,null,null,null,null,null,null,null,null,null,null,null,null,null,null,null,null,null,"VI","VO","VP","NVI","NVO","NVP","NVPI","NVPO","NVPP","NVMI","NVMO","NVMP","Peso","Long. total","Ø cabeza","C. de g.","Observ."]
[1,{"$f":"IF(AND(A8<>\"\",C8<>\"\",D8<>\"\",W8<>\"\",X8<>\"\"),IF(SUM(H9,K9,Q9,T9,V9)>0,\"NO\",\"SI\"),\"\")","v":""},null,null,null,null,null,null,0,null,null,null,null,null,null,null,null,null,null,null,null,null,null,null,null,{"$f":"C9","v":0},{"$f":"D9","v":0},null,null,null,null,null,null,null,null,null,null,null,null,null,null,null,null,null,null,null,null,null,null,null,null,null,null,null,null,null,null,null,null,null,null,null,null,null,null,null,null,null,null,{"$f":"IF(AND(B8=\"SI\",C8=\"Instalación\"),1,\"\")","v":""},{"$f":"IF(AND(B8=\"SI\",C8=\"Organización\"),1,\"\")","v":""},{"$f":"IF(AND(B8=\"SI\",C8=\"Particular\"),1,\"\")","v":""},{"$f":"IF(AND(B8=\"NO\",C8=\"Instalación\"),1,\"\")","v":""},{"$f":"IF(AND(B8=\"NO\",C8=\"Organización\"),1,\"\")","v":""},{"$f":"IF(AND(B8=\"NO\",C8=\"Particular\"),1,\"\")","v":""},{"$f":"IF(AND(B8=\"NO\",C8=\"Instalación\",H9=1),1,\"\")","v":""},{"$f":"IF(AND(B8=\"NO\",C8=\"Organización\",H9=1),1,\"\")","v":""},{"$f":"IF(AND(B8=\"NO\",C8=\"Particular\",H9=1),1,\"\")","v":""},{"$f":"IF(AND(B8=\"NO\",C8=\"Instalación\"),IF(OR(K9=1,Q9=1,T9=1),1,\"\"),\"\")","v":""},{"$f":"IF(AND(B8=\"NO\",C8=\"Organización\"),IF(OR(K9=1,Q9=1,T9=1),1,\"\"),\"\")","v":""},{"$f":"IF(AND(B8=\"NO\",C8=\"Particular\"),IF(OR(K9=1,Q9=1,T9=1),1,\"\"),\"\")","v":""},{"$f":"IF(AND(H9=1,F8<>\"\"),\"X\",\"\")","v":""},{"$f":"IF(AND(K9=1,I8<>\"\"),\"X\",\"\")","v":""},{"$f":"IF(AND(Q9=1,O8<>\"\"),\"X\",\"\")","v":""},{"$f":"IF(AND(T9=1,R8<>\"\"),\"X\",\"\")","v":""},{"$f":"IF(AND(V9=1,U8<>\"\"),\"X\",\"\")","v":""}]
[null,null,null,null,null,7260,"-",{"$f":"IF(OR((F8<F9),(F8>G9),F8=\"\"),1,0)","v":1},null,410,{"$f":"IF(OR((I8<I9),(I8>J9),I8=\"\"),1,0)","v":0},null,null,null,110,130,{"$f":"IF(OR((O8<O9),(O8>P9),O8=\"\"),1,0)","v":1},null,null,{"$f":"IF(OR(R8=\"Incorrecto\",R8=\"\"),1,0)","v":1},null,{"$f":"IF(U8<>\"\",1,0)","v":0}]
[2,{"$f":"IF(AND(A10<>\"\",C10<>\"\",D10<>\"\",W10<>\"\",X10<>\"\"),IF(SUM(H11,K11,Q11,T11,V11)>0,\"NO\",\"SI\"),\"\")","v":""},null,null,null,null,null,null,null,null,null,null,null,null,null,null,null,null,null,null,null,null,null,null,null,{"$f":"C11","v":0},{"$f":"D11","v":0},null,null,null,null,null,null,null,null,null,null,null,null,null,null,null,null,null,null,null,null,null,null,null,null,null,null,null,null,null,null,null,null,null,null,null,null,null,null,null,null,null,null,{"$f":"IF(AND(B10=\"SI\",C10=\"Instalación\"),1,\"\")","v":""},{"$f":"IF(AND(B10=\"SI\",C10=\"Organización\"),1,\"\")","v":""},{"$f":"IF(AND(B10=\"SI\",C10=\"Particular\"),1,\"\")","v":""},{"$f":"IF(AND(B10=\"NO\",C10=\"Instalación\"),1,\"\")","v":""},{"$f":"IF(AND(B10=\"NO\",C10=\"Organización\"),1,\"\")","v":""},{"$f":"IF(AND(B10=\"NO\",C10=\"Particular\"),1,\"\")","v":""},{"$f":"IF(AND(B10=\"NO\",C10=\"Instalación\",H11=1),1,\"\")","v":""},{"$f":"IF(AND(B10=\"NO\",C10=\"Organización\",H11=1),1,\"\")","v":""},{"$f":"IF(AND(B10=\"NO\",C10=\"Particular\",H11=1),1,\"\")","v":""},{"$f":"IF(AND(B10=\"NO\",C10=\"Instalación\"),IF(OR(K11=1,Q11=1,T11=1),1,\"\"),\"\")","v":""},{"$f":"IF(AND(B10=\"NO\",C10=\"Organización\"),IF(OR(K11=1,Q11=1,T11=1),1,\"\"),\"\")","v":""},{"$f":"IF(AND(B10=\"NO\",C10=\"Particular\"),IF(OR(K11=1,Q11=1,T11=1),1,\"\"),\"\")","v":""},{"$f":"IF(AND(H11=1,F10<>\"\"),\"X\",\"\")","v":""},{"$f":"IF(AND(K11=1,I10<>\"\"),\"X\",\"\")","v":""},{"$f":"IF(AND(Q11=1,O10<>\"\"),\"X\",\"\")","v":""},{"$f":"IF(AND(T11=1,R10<>\"\"),\"X\",\"\")","v":""},{"$f":"IF(AND(V11=1,U10<>\"\"),\"X\",\"\")","v":""}]
[null,null,null,null,null,7260,"-",{"$f":"IF(OR((F10<F11),(F10>G11),F10=\"\"),1,0)","v":1},null,410,{"$f":"IF(OR((I10<I11),(I10>J11),I10=\"\"),1,0)","v":1},null,null,null,110,130,{"$f":"IF(OR((O10<O11),(O10>P11),O10=\"\"),1,0)","v":1},null,null,{"$f":"IF(OR(R10=\"Incorrecto\",R10=\"\"),1,0)","v":1},null,{"$f":"IF(U10<>\"\",1,0)","v":0}]
[]
[]
[]
[]
[]
[]
[]
[]
[]
[]
[]
[]
[]
[]
[]
[]
[]
[]
[]
[]
[]
[]
[]
[]
[]
[]
[]
[]
[]
[]
[]
[]
[]
[]
[]
[]
[]
[]
[]
[]
[]
[]
[]
[]
[]
[]
[]
[]
[]
[]
[]
[]
[]
[]
[]
[]
[]
[]
[]
[]
[]
[]
[]
[]
[]
[]
[]
[]
[]
[]
[]
[]
[]
[]
[]
[]
[]
[]
[]
[]
[]
[]
[]
[]
[]
[]
[]
[]
[]
[]
[]
[]
[]
[]
[]
[]
[]
[]
[]
[]
[]
[]
[]
[]
[]
[]
[]
[]
[]
[]
[]
[]
[]
[]
[]
[]
[]
[]
[]
[]
[]
[]
[]
[]
[]
[]
[]
[]
[]
[]
[]
[]
[]
[]
[]
[]
[]
[]
[]
[]
[]
[]
[]
[]
[]
[]
[]
[]
[]
[]
[]
[]
[]
[]
[]
[]
[]
[]
[]
[]
[]
[]
[]
[]
[]
[]
[]
[]
[]
[]
[]
[]
[]
[]
[]
[]
[]
[]
[]
[]
[]
[]
[]
[]
[]
[]
[]
[]
[]
[]
[null,null,null,null,null,null,null,null,null,null,null,null,null,null,null,null,null,null,null,null,null,null,null,null,null,null,null,null,null,null,null,null,null,null,null,null,null,null,null,null,null,null,null,null,null,null,null,null,null,null,null,null,null,null,null,null,null,null,null,null,null,null,null,null,null,null,null,null,null,{"$f":"SUM(BR8:BR201)","v":0},0,0,0,0,0,0,0,0,0,0,0]

{"sheet":"MARP.5450","index":30,"n_rows":204,"n_cols":86,"rows_kept":204,"cut":false,"hidden":true,"merged":[[9,14,9,15],[9,17,10,18],[9,20,10,20],[9,22,10,22],[9,23,10,23],[7,22,8,22],[7,23,8,23],[7,25,8,25],[7,14,7,15],[7,17,8,18],[7,20,8,20],[9,0,10,0],[9,1,10,1],[9,4,10,4],[9,5,9,6],[9,8,9,9],[7,0,8,0],[7,1,8,1],[7,4,8,4],[7,5,7,6],[7,8,7,9],[5,22,6,22],[5,23,6,23],[0,0,4,1],[1,3,1,10],[4,8,4,9],[4,14,4,15],[4,17,4,18],[5,0,6,0],[5,1,6,1],[5,2,6,2],[5,4,6,4],[5,5,6,7],[5,8,6,10],[5,14,6,16],[5,17,6,19],[5,20,6,20]]}
[null,null,"HOMOLOGACIÓN DE ARTEFACTOS",null,null,null,null,null,null,null,null,null,null,null,null,null,null,null,null,null,null,null,null,null,null,null,null,null,null,null,null,null,null,null,null,null,null,null,null,null,null,null,null,null,null,null,null,null,null,null,null,null,null,null,null,null,null,null,null,null,null,null,null,null,null,null,null,null,10]
[null,null,"Competición:",{"$f":"IF(Inicio!D4=\"\",\"FALTA NOMBRE DE COMPETICIÓN\",Inicio!D4)","v":"FALTA NOMBRE DE COMPETICIÓN"},null,null,null,null,null,null,null,null,null,null,null,null,null,null,null,null,null,null,null,null,"Instalación","Correcto"]
[null,null,null,null,null,null,null,null,null,null,null,null,null,null,null,null,null,null,null,null,null,null,null,null,"Organización","Incorrecto"]
[null,null,null,"MARTILLO PESADO 5450",null,null,null,null,null,null,null,null,null,null,null,null,null,null,null,null,null,null,null,null,"Particular"]
[null,null,null,null,null,null,null,null,"Long. total del martillo medida desde el interior de la empuñadura",null,null,null,null,null,"Diámetro de       la cabeza",null,null,null,null,null,"Deficiencias                                       no relacionadas                                           con medidas"]
["Referencia","Válido","Propietario","Marca y modelo","Certificado                IAAF","Peso",null,null,"L1",null,null,null,null,null,"D2",null,null,"C. de G. de   la cabeza",null,null,"Observaciones",null,"Homologador","Fecha"]
[null,null,null,"Color",null,null,null,null,null,null,null,null,null,null,null,null,null,null,null,null,null,null,null,null,null,null,null,null,null,null,null,null,null,null,null,null,null,null,null,null,null,null,null,null,null,null,null,null,null,null,null,null,null,null,null,null,null,null,null,null,null,null,null,null,null,null,null,null,null,"VI","VO","VP","NVI","NVO","NVP","NVPI","NVPO","NVPP","NVMI","NVMO","NVMP","Peso","Long. total","Ø cabeza","C. de g.","Observ."]
[1,{"$f":"IF(AND(A8<>\"\",C8<>\"\",D8<>\"\",W8<>\"\",X8<>\"\"),IF(SUM(H9,K9,Q9,T9,V9)>0,\"NO\",\"SI\"),\"\")","v":""},null,null,null,null,null,null,0,null,null,null,null,null,null,null,null,null,null,null,null,null,null,null,null,{"$f":"C9","v":0},{"$f":"D9","v":0},null,null,null,null,null,null,null,null,null,null,null,null,null,null,null,null,null,null,null,null,null,null,null,null,null,null,null,null,null,null,null,null,null,null,null,null,null,null,null,null,null,null,{"$f":"IF(AND(B8=\"SI\",C8=\"Instalación\"),1,\"\")","v":""},{"$f":"IF(AND(B8=\"SI\",C8=\"Organización\"),1,\"\")","v":""},{"$f":"IF(AND(B8=\"SI\",C8=\"Particular\"),1,\"\")","v":""},{"$f":"IF(AND(B8=\"NO\",C8=\"Instalación\"),1,\"\")","v":""},{"$f":"IF(AND(B8=\"NO\",C8=\"Organización\"),1,\"\")","v":""},{"$f":"IF(AND(B8=\"NO\",C8=\"Particular\"),1,\"\")","v":""},{"$f":"IF(AND(B8=\"NO\",C8=\"Instalación\",H9=1),1,\"\")","v":""},{"$f":"IF(AND(B8=\"NO\",C8=\"Organización\",H9=1),1,\"\")","v":""},{"$f":"IF(AND(B8=\"NO\",C8=\"Particular\",H9=1),1,\"\")","v":""},{"$f":"IF(AND(B8=\"NO\",C8=\"Instalación\"),IF(OR(K9=1,Q9=1,T9=1),1,\"\"),\"\")","v":""},{"$f":"IF(AND(B8=\"NO\",C8=\"Organización\"),IF(OR(K9=1,Q9=1,T9=1),1,\"\"),\"\")","v":""},{"$f":"IF(AND(B8=\"NO\",C8=\"Particular\"),IF(OR(K9=1,Q9=1,T9=1),1,\"\"),\"\")","v":""},{"$f":"IF(AND(H9=1,F8<>\"\"),\"X\",\"\")","v":""},{"$f":"IF(AND(K9=1,I8<>\"\"),\"X\",\"\")","v":""},{"$f":"IF(AND(Q9=1,O8<>\"\"),\"X\",\"\")","v":""},{"$f":"IF(AND(T9=1,R8<>\"\"),\"X\",\"\")","v":""},{"$f":"IF(AND(V9=1,U8<>\"\"),\"X\",\"\")","v":""}]
[null,null,null,null,null,5450,"-",{"$f":"IF(OR((F8<F9),(F8>G9),F8=\"\"),1,0)","v":1},null,410,{"$f":"IF(OR((I8<I9),(I8>J9),I8=\"\"),1,0)","v":0},null,null,null,100,120,{"$f":"IF(OR((O8<O9),(O8>P9),O8=\"\"),1,0)","v":1},null,null,{"$f":"IF(OR(R8=\"Incorrecto\",R8=\"\"),1,0)","v":1},null,{"$f":"IF(U8<>\"\",1,0)","v":0}]
[2,{"$f":"IF(AND(A10<>\"\",C10<>\"\",D10<>\"\",W10<>\"\",X10<>\"\"),IF(SUM(H11,K11,Q11,T11,V11)>0,\"NO\",\"SI\"),\"\")","v":""},null,null,null,null,null,null,null,null,null,null,null,null,null,null,null,null,null,null,null,null,null,null,null,{"$f":"C11","v":0},{"$f":"D11","v":0},null,null,null,null,null,null,null,null,null,null,null,null,null,null,null,null,null,null,null,null,null,null,null,null,null,null,null,null,null,null,null,null,null,null,null,null,null,null,null,null,null,null,{"$f":"IF(AND(B10=\"SI\",C10=\"Instalación\"),1,\"\")","v":""},{"$f":"IF(AND(B10=\"SI\",C10=\"Organización\"),1,\"\")","v":""},{"$f":"IF(AND(B10=\"SI\",C10=\"Particular\"),1,\"\")","v":""},{"$f":"IF(AND(B10=\"NO\",C10=\"Instalación\"),1,\"\")","v":""},{"$f":"IF(AND(B10=\"NO\",C10=\"Organización\"),1,\"\")","v":""},{"$f":"IF(AND(B10=\"NO\",C10=\"Particular\"),1,\"\")","v":""},{"$f":"IF(AND(B10=\"NO\",C10=\"Instalación\",H11=1),1,\"\")","v":""},{"$f":"IF(AND(B10=\"NO\",C10=\"Organización\",H11=1),1,\"\")","v":""},{"$f":"IF(AND(B10=\"NO\",C10=\"Particular\",H11=1),1,\"\")","v":""},{"$f":"IF(AND(B10=\"NO\",C10=\"Instalación\"),IF(OR(K11=1,Q11=1,T11=1),1,\"\"),\"\")","v":""},{"$f":"IF(AND(B10=\"NO\",C10=\"Organización\"),IF(OR(K11=1,Q11=1,T11=1),1,\"\"),\"\")","v":""},{"$f":"IF(AND(B10=\"NO\",C10=\"Particular\"),IF(OR(K11=1,Q11=1,T11=1),1,\"\"),\"\")","v":""},{"$f":"IF(AND(H11=1,F10<>\"\"),\"X\",\"\")","v":""},{"$f":"IF(AND(K11=1,I10<>\"\"),\"X\",\"\")","v":""},{"$f":"IF(AND(Q11=1,O10<>\"\"),\"X\",\"\")","v":""},{"$f":"IF(AND(T11=1,R10<>\"\"),\"X\",\"\")","v":""},{"$f":"IF(AND(V11=1,U10<>\"\"),\"X\",\"\")","v":""}]
[null,null,null,null,null,5450,"-",{"$f":"IF(OR((F10<F11),(F10>G11),F10=\"\"),1,0)","v":1},null,410,{"$f":"IF(OR((I10<I11),(I10>J11),I10=\"\"),1,0)","v":1},null,null,null,100,120,{"$f":"IF(OR((O10<O11),(O10>P11),O10=\"\"),1,0)","v":1},null,null,{"$f":"IF(OR(R10=\"Incorrecto\",R10=\"\"),1,0)","v":1},null,{"$f":"IF(U10<>\"\",1,0)","v":0}]
[]
[]
[]
[]
[]
[]
[]
[]
[]
[]
[]
[]
[]
[]
[]
[]
[]
[]
[]
[]
[]
[]
[]
[]
[]
[]
[]
[]
[]
[]
[]
[]
[]
[]
[]
[]
[]
[]
[]
[]
[]
[]
[]
[]
[]
[]
[]
[]
[]
[]
[]
[]
[]
[]
[]
[]
[]
[]
[]
[]
[]
[]
[]
[]
[]
[]
[]
[]
[]
[]
[]
[]
[]
[]
[]
[]
[]
[]
[]
[]
[]
[]
[]
[]
[]
[]
[]
[]
[]
[]
[]
[]
[]
[]
[]
[]
[]
[]
[]
[]
[]
[]
[]
[]
[]
[]
[]
[]
[]
[]
[]
[]
[]
[]
[]
[]
[]
[]
[]
[]
[]
[]
[]
[]
[]
[]
[]
[]
[]
[]
[]
[]
[]
[]
[]
[]
[]
[]
[]
[]
[]
[]
[]
[]
[]
[]
[]
[]
[]
[]
[]
[]
[]
[]
[]
[]
[]
[]
[]
[]
[]
[]
[]
[]
[]
[]
[]
[]
[]
[]
[]
[]
[]
[]
[]
[]
[]
[]
[]
[]
[]
[]
[]
[]
[]
[]
[]
[]
[]
[]
[]
[]
[null,null,null,null,null,null,null,null,null,null,null,null,null,null,null,null,null,null,null,null,null,null,null,null,null,null,null,null,null,null,null,null,null,null,null,null,null,null,null,null,null,null,null,null,null,null,null,null,null,null,null,null,null,null,null,null,null,null,null,null,null,null,null,null,null,null,null,null,null,{"$f":"SUM(BR8:BR203)","v":0},0,0,0,0,0,0,0,0,0,0,0]

{"sheet":"MARP.4000","index":31,"n_rows":196,"n_cols":86,"rows_kept":196,"cut":false,"hidden":true,"merged":[[9,14,9,15],[9,17,10,18],[9,20,10,20],[9,22,10,22],[9,23,10,23],[7,22,8,22],[7,23,8,23],[7,25,8,25],[7,14,7,15],[7,17,8,18],[7,20,8,20],[9,0,10,0],[9,1,10,1],[9,4,10,4],[9,5,9,6],[9,8,9,9],[7,0,8,0],[7,1,8,1],[7,4,8,4],[7,5,7,6],[7,8,7,9],[5,22,6,22],[5,23,6,23],[0,0,4,1],[1,3,1,10],[4,8,4,9],[4,14,4,15],[4,17,4,18],[5,0,6,0],[5,1,6,1],[5,2,6,2],[5,4,6,4],[5,5,6,7],[5,8,6,10],[5,14,6,16],[5,17,6,19],[5,20,6,20]]}
[null,null,"HOMOLOGACIÓN DE ARTEFACTOS",null,null,null,null,null,null,null,null,null,null,null,null,null,null,null,null,null,null,null,null,null,null,null,null,null,null,null,null,null,null,null,null,null,null,null,null,null,null,null,null,null,null,null,null,null,null,null,null,null,null,null,null,null,null,null,null,null,null,null,null,null,null,null,null,null,10]
[null,null,"Competición:",{"$f":"IF(Inicio!D4=\"\",\"FALTA NOMBRE DE COMPETICIÓN\",Inicio!D4)","v":"FALTA NOMBRE DE COMPETICIÓN"},null,null,null,null,null,null,null,null,null,null,null,null,null,null,null,null,null,null,null,null,"Instalación","Correcto"]
[null,null,null,null,null,null,null,null,null,null,null,null,null,null,null,null,null,null,null,null,null,null,null,null,"Organización","Incorrecto"]
[null,null,null,"MARTILLO PESADO 4000",null,null,null,null,null,null,null,null,null,null,null,null,null,null,null,null,null,null,null,null,"Particular"]
[null,null,null,null,null,null,null,null,"Long. total del martillo medida desde el interior de la empuñadura",null,null,null,null,null,"Diámetro de       la cabeza",null,null,null,null,null,"Deficiencias                                       no relacionadas                                           con medidas"]
["Referencia","Válido","Propietario","Marca y modelo","Certificado                IAAF","Peso",null,null,"L1",null,null,null,null,null,"D2",null,null,"C. de G. de   la cabeza",null,null,"Observaciones",null,"Homologador","Fecha"]
[null,null,null,"Color",null,null,null,null,null,null,null,null,null,null,null,null,null,null,null,null,null,null,null,null,null,null,null,null,null,null,null,null,null,null,null,null,null,null,null,null,null,null,null,null,null,null,null,null,null,null,null,null,null,null,null,null,null,null,null,null,null,null,null,null,null,null,null,null,null,"VI","VO","VP","NVI","NVO","NVP","NVPI","NVPO","NVPP","NVMI","NVMO","NVMP","Peso","Long. total","Ø cabeza","C. de g.","Observ."]
[1,{"$f":"IF(AND(A8<>\"\",C8<>\"\",D8<>\"\",W8<>\"\",X8<>\"\"),IF(SUM(H9,K9,Q9,T9,V9)>0,\"NO\",\"SI\"),\"\")","v":""},null,null,null,null,null,null,0,null,null,null,null,null,null,null,null,null,null,null,null,null,null,null,null,{"$f":"C9","v":0},{"$f":"D9","v":0},null,null,null,null,null,null,null,null,null,null,null,null,null,null,null,null,null,null,null,null,null,null,null,null,null,null,null,null,null,null,null,null,null,null,null,null,null,null,null,null,null,null,{"$f":"IF(AND(B8=\"SI\",C8=\"Instalación\"),1,\"\")","v":""},{"$f":"IF(AND(B8=\"SI\",C8=\"Organización\"),1,\"\")","v":""},{"$f":"IF(AND(B8=\"SI\",C8=\"Particular\"),1,\"\")","v":""},{"$f":"IF(AND(B8=\"NO\",C8=\"Instalación\"),1,\"\")","v":""},{"$f":"IF(AND(B8=\"NO\",C8=\"Organización\"),1,\"\")","v":""},{"$f":"IF(AND(B8=\"NO\",C8=\"Particular\"),1,\"\")","v":""},{"$f":"IF(AND(B8=\"NO\",C8=\"Instalación\",H9=1),1,\"\")","v":""},{"$f":"IF(AND(B8=\"NO\",C8=\"Organización\",H9=1),1,\"\")","v":""},{"$f":"IF(AND(B8=\"NO\",C8=\"Particular\",H9=1),1,\"\")","v":""},{"$f":"IF(AND(B8=\"NO\",C8=\"Instalación\"),IF(OR(K9=1,Q9=1,T9=1),1,\"\"),\"\")","v":""},{"$f":"IF(AND(B8=\"NO\",C8=\"Organización\"),IF(OR(K9=1,Q9=1,T9=1),1,\"\"),\"\")","v":""},{"$f":"IF(AND(B8=\"NO\",C8=\"Particular\"),IF(OR(K9=1,Q9=1,T9=1),1,\"\"),\"\")","v":""},{"$f":"IF(AND(H9=1,F8<>\"\"),\"X\",\"\")","v":""},{"$f":"IF(AND(K9=1,I8<>\"\"),\"X\",\"\")","v":""},{"$f":"IF(AND(Q9=1,O8<>\"\"),\"X\",\"\")","v":""},{"$f":"IF(AND(T9=1,R8<>\"\"),\"X\",\"\")","v":""},{"$f":"IF(AND(V9=1,U8<>\"\"),\"X\",\"\")","v":""}]
[null,null,null,null,null,4000,"-",{"$f":"IF(OR((F8<F9),(F8>G9),F8=\"\"),1,0)","v":1},null,410,{"$f":"IF(OR((I8<I9),(I8>J9),I8=\"\"),1,0)","v":0},null,null,null,95,110,{"$f":"IF(OR((O8<O9),(O8>P9),O8=\"\"),1,0)","v":1},null,null,{"$f":"IF(OR(R8=\"Incorrecto\",R8=\"\"),1,0)","v":1},null,{"$f":"IF(U8<>\"\",1,0)","v":0}]
[2,{"$f":"IF(AND(A10<>\"\",C10<>\"\",D10<>\"\",W10<>\"\",X10<>\"\"),IF(SUM(H11,K11,Q11,T11,V11)>0,\"NO\",\"SI\"),\"\")","v":""},null,null,null,null,null,null,null,null,null,null,null,null,null,null,null,null,null,null,null,null,null,null,null,{"$f":"C11","v":0},{"$f":"D11","v":0},null,null,null,null,null,null,null,null,null,null,null,null,null,null,null,null,null,null,null,null,null,null,null,null,null,null,null,null,null,null,null,null,null,null,null,null,null,null,null,null,null,null,{"$f":"IF(AND(B10=\"SI\",C10=\"Instalación\"),1,\"\")","v":""},{"$f":"IF(AND(B10=\"SI\",C10=\"Organización\"),1,\"\")","v":""},{"$f":"IF(AND(B10=\"SI\",C10=\"Particular\"),1,\"\")","v":""},{"$f":"IF(AND(B10=\"NO\",C10=\"Instalación\"),1,\"\")","v":""},{"$f":"IF(AND(B10=\"NO\",C10=\"Organización\"),1,\"\")","v":""},{"$f":"IF(AND(B10=\"NO\",C10=\"Particular\"),1,\"\")","v":""},{"$f":"IF(AND(B10=\"NO\",C10=\"Instalación\",H11=1),1,\"\")","v":""},{"$f":"IF(AND(B10=\"NO\",C10=\"Organización\",H11=1),1,\"\")","v":""},{"$f":"IF(AND(B10=\"NO\",C10=\"Particular\",H11=1),1,\"\")","v":""},{"$f":"IF(AND(B10=\"NO\",C10=\"Instalación\"),IF(OR(K11=1,Q11=1,T11=1),1,\"\"),\"\")","v":""},{"$f":"IF(AND(B10=\"NO\",C10=\"Organización\"),IF(OR(K11=1,Q11=1,T11=1),1,\"\"),\"\")","v":""},{"$f":"IF(AND(B10=\"NO\",C10=\"Particular\"),IF(OR(K11=1,Q11=1,T11=1),1,\"\"),\"\")","v":""},{"$f":"IF(AND(H11=1,F10<>\"\"),\"X\",\"\")","v":""},{"$f":"IF(AND(K11=1,I10<>\"\"),\"X\",\"\")","v":""},{"$f":"IF(AND(Q11=1,O10<>\"\"),\"X\",\"\")","v":""},{"$f":"IF(AND(T11=1,R10<>\"\"),\"X\",\"\")","v":""},{"$f":"IF(AND(V11=1,U10<>\"\"),\"X\",\"\")","v":""}]
[null,null,null,null,null,4000,"-",{"$f":"IF(OR((F10<F11),(F10>G11),F10=\"\"),1,0)","v":1},null,410,{"$f":"IF(OR((I10<I11),(I10>J11),I10=\"\"),1,0)","v":1},null,null,null,95,110,{"$f":"IF(OR((O10<O11),(O10>P11),O10=\"\"),1,0)","v":1},null,null,{"$f":"IF(OR(R10=\"Incorrecto\",R10=\"\"),1,0)","v":1},null,{"$f":"IF(U10<>\"\",1,0)","v":0}]
[]
[]
[]
[]
[]
[]
[]
[]
[]
[]
[]
[]
[]
[]
[]
[]
[]
[]
[]
[]
[]
[]
[]
[]
[]
[]
[]
[]
[]
[]
[]
[]
[]
[]
[]
[]
[]
[]
[]
[]
[]
[]
[]
[]
[]
[]
[]
[]
[]
[]
[]
[]
[]
[]
[]
[]
[]
[]
[]
[]
[]
[]
[]
[]
[]
[]
[]
[]
[]
[]
[]
[]
[]
[]
[]
[]
[]
[]
[]
[]
[]
[]
[]
[]
[]
[]
[]
[]
[]
[]
[]
[]
[]
[]
[]
[]
[]
[]
[]
[]
[]
[]
[]
[]
[]
[]
[]
[]
[]
[]
[]
[]
[]
[]
[]
[]
[]
[]
[]
[]
[]
[]
[]
[]
[]
[]
[]
[]
[]
[]
[]
[]
[]
[]
[]
[]
[]
[]
[]
[]
[]
[]
[]
[]
[]
[]
[]
[]
[]
[]
[]
[]
[]
[]
[]
[]
[]
[]
[]
[]
[]
[]
[]
[]
[]
[]
[]
[]
[]
[]
[]
[]
[]
[]
[]
[]
[]
[]
[]
[]
[]
[]
[]
[]
[null,null,null,null,null,null,null,null,null,null,null,null,null,null,null,null,null,null,null,null,null,null,null,null,null,null,null,null,null,null,null,null,null,null,null,null,null,null,null,null,null,null,null,null,null,null,null,null,null,null,null,null,null,null,null,null,null,null,null,null,null,null,null,null,null,null,null,null,null,{"$f":"SUM(BR8:BR195)","v":0},0,0,0,0,0,0,0,0,0,0,0]

{"sheet":"PES.7260","index":32,"n_rows":194,"n_cols":84,"rows_kept":194,"cut":false,"hidden":true,"merged":[[9,13,10,13],[9,14,10,14],[9,0,10,0],[9,1,10,1],[9,5,9,6],[9,8,9,9],[9,11,10,11],[0,0,4,1],[1,3,1,7],[4,8,4,9],[5,0,6,0],[5,1,6,1],[5,2,6,2],[5,5,6,7],[5,8,6,10],[5,11,6,11],[5,13,6,13],[5,14,6,14],[7,11,8,11],[7,13,8,13],[7,14,8,14],[7,16,8,16],[7,0,8,0],[7,1,8,1],[7,5,7,6],[7,8,7,9]]}
[null,null,"HOMOLOGACIÓN DE ARTEFACTOS",null,null,null,null,null,null,null,null,null,null,null,null,null,null,null,null,null,null,null,null,null,null,null,null,null,null,null,null,null,null,null,null,null,null,null,null,null,null,null,null,null,null,null,null,null,null,null,null,null,null,null,null,null,null,null,null,null,null,null,null,null,null,null,null,null,10]
[null,null,"Competición:",{"$f":"IF(Inicio!D4=\"\",\"FALTA NOMBRE DE COMPETICIÓN\",Inicio!D4)","v":"FALTA NOMBRE DE COMPETICIÓN"},null,null,null,null,null,null,null,null,"X",null,null,"Instalación"]
[null,null,null,null,null,null,null,null,null,null,null,null,null,null,null,"Organización"]
[null,null,null,"PESO 7260",null,null,null,null,null,"Funda de plástico/goma:",null,null,null,null,null,"Particular"]
[null,null,null,null,null,null,null,null,1,null,null,"Deficiencias                                       no relacionadas                                           con medidas",null,null,null,1]
["Referencia","Válido","Propietario","Marca y modelo","Cert. IAAF","Peso",null,null,"Diámetro",null,null,"Observaciones",null,"Homologador","Fecha"]
[null,null,null,"Color","Art. Comb.",null,null,null,null,null,null,null,null,null,null,null,null,null,null,null,null,null,null,null,null,null,null,null,null,null,null,null,null,null,null,null,null,null,null,null,null,null,null,null,null,null,null,null,null,null,null,null,null,null,null,null,null,null,null,null,null,null,null,null,null,null,null,null,null,"VI","VO","VP","NVI","NVO","NVP","NVPI","NVPO","NVPP","NVMI","NVMO","NVMP","Peso","Ø cabeza","Observ."]
[1,{"$f":"IF(AND(A8<>\"\",C8<>\"\",D8<>\"\",N8<>\"\",O8<>\"\"),IF(SUM(H9,K9,M9)>0,\"NO\",\"SI\"),\"\")","v":""},null,null,null,null,null,null,null,null,null,null,null,null,null,null,{"$f":"C9","v":0},{"$f":"D9","v":0},null,null,null,null,null,null,null,null,null,null,null,null,null,null,null,null,null,null,null,null,null,null,null,null,null,null,null,null,null,null,null,null,null,null,null,null,null,null,null,null,null,null,null,null,null,null,null,null,null,null,null,{"$f":"IF(AND(B8=\"SI\",C8=\"Instalación\"),1,\"\")","v":""},{"$f":"IF(AND(B8=\"SI\",C8=\"Organización\"),1,\"\")","v":""},{"$f":"IF(AND(B8=\"SI\",C8=\"Particular\"),1,\"\")","v":""},{"$f":"IF(AND(B8=\"NO\",C8=\"Instalación\"),1,\"\")","v":""},{"$f":"IF(AND(B8=\"NO\",C8=\"Organización\"),1,\"\")","v":""},{"$f":"IF(AND(B8=\"NO\",C8=\"Particular\"),1,\"\")","v":""},{"$f":"IF(AND(B8=\"NO\",C8=\"Instalación\",H9=1),1,\"\")","v":""},{"$f":"IF(AND(B8=\"NO\",C8=\"Organización\",H9=1),1,\"\")","v":""},{"$f":"IF(AND(B8=\"NO\",C8=\"Particular\",H9=1),1,\"\")","v":""},{"$f":"IF(AND(B8=\"NO\",C8=\"Instalación\"),IF(K9=1,1,\"\"),\"\")","v":""},{"$f":"IF(AND(B8=\"NO\",C8=\"Organización\"),IF(K9=1,1,\"\"),\"\")","v":""},{"$f":"IF(AND(B8=\"NO\",C8=\"Particular\"),IF(K9=1,1,\"\"),\"\")","v":""},{"$f":"IF(AND(H9=1,F8<>\"\"),\"X\",\"\")","v":""},{"$f":"IF(AND(K9=1,I8<>\"\"),\"X\",\"\")","v":""},{"$f":"IF(AND(M9=1,L8<>\"\"),\"X\",\"\")","v":""}]
[null,null,null,null,null,7260,"-",{"$f":"IF(OR((F8<F9),(F8>G9),F8=\"\"),1,0)","v":1},110,{"$f":"IF($P$5=1,130,145)","v":130},{"$f":"IF(OR((I8<I9),(I8>J9),I8=\"\"),1,0)","v":1},null,{"$f":"IF(L8<>\"\",1,0)","v":0}]
[2,{"$f":"IF(AND(A10<>\"\",C10<>\"\",D10<>\"\",N10<>\"\",O10<>\"\"),IF(SUM(H11,K11,M11)>0,\"NO\",\"SI\"),\"\")","v":""},null,null,null,null,null,null,null,null,null,null,null,null,null,null,{"$f":"C11","v":0},{"$f":"D11","v":0},null,null,null,null,null,null,null,null,null,null,null,null,null,null,null,null,null,null,null,null,null,null,null,null,null,null,null,null,null,null,null,null,null,null,null,null,null,null,null,null,null,null,null,null,null,null,null,null,null,null,null,{"$f":"IF(AND(B10=\"SI\",C10=\"Instalación\"),1,\"\")","v":""},{"$f":"IF(AND(B10=\"SI\",C10=\"Organización\"),1,\"\")","v":""},{"$f":"IF(AND(B10=\"SI\",C10=\"Particular\"),1,\"\")","v":""},{"$f":"IF(AND(B10=\"NO\",C10=\"Instalación\"),1,\"\")","v":""},{"$f":"IF(AND(B10=\"NO\",C10=\"Organización\"),1,\"\")","v":""},{"$f":"IF(AND(B10=\"NO\",C10=\"Particular\"),1,\"\")","v":""},{"$f":"IF(AND(B10=\"NO\",C10=\"Instalación\",H11=1),1,\"\")","v":""},{"$f":"IF(AND(B10=\"NO\",C10=\"Organización\",H11=1),1,\"\")","v":""},{"$f":"IF(AND(B10=\"NO\",C10=\"Particular\",H11=1),1,\"\")","v":""},{"$f":"IF(AND(B10=\"NO\",C10=\"Instalación\"),IF(K11=1,1,\"\"),\"\")","v":""},{"$f":"IF(AND(B10=\"NO\",C10=\"Organización\"),IF(K11=1,1,\"\"),\"\")","v":""},{"$f":"IF(AND(B10=\"NO\",C10=\"Particular\"),IF(K11=1,1,\"\"),\"\")","v":""},{"$f":"IF(AND(H11=1,F10<>\"\"),\"X\",\"\")","v":""},{"$f":"IF(AND(K11=1,I10<>\"\"),\"X\",\"\")","v":""},{"$f":"IF(AND(M11=1,L10<>\"\"),\"X\",\"\")","v":""}]
[null,null,null,null,null,7260,"-",{"$f":"IF(OR((F10<F11),(F10>G11),F10=\"\"),1,0)","v":1},110,{"$f":"IF($P$5=1,130,145)","v":130},{"$f":"IF(OR((I10<I11),(I10>J11),I10=\"\"),1,0)","v":1},null,{"$f":"IF(L10<>\"\",1,0)","v":0}]
[]
[]
[]
[]
[]
[]
[]
[]
[]
[]
[]
[]
[]
[]
[]
[]
[]
[]
[]
[]
[]
[]
[]
[]
[]
[]
[]
[]
[]
[]
[]
[]
[]
[]
[]
[]
[]
[]
[]
[]
[]
[]
[]
[]
[]
[]
[]
[]
[]
[]
[]
[]
[]
[]
[]
[]
[]
[]
[]
[]
[]
[]
[]
[]
[]
[]
[]
[]
[]
[]
[]
[]
[]
[]
[]
[]
[]
[]
[]
[]
[]
[]
[]
[]
[]
[]
[]
[]
[]
[]
[]
[]
[]
[]
[]
[]
[]
[]
[]
[]
[]
[]
[]
[]
[]
[]
[]
[]
[]
[]
[]
[]
[]
[]
[]
[]
[]
[]
[]
[]
[]
[]
[]
[]
[]
[]
[]
[]
[]
[]
[]
[]
[]
[]
[]
[]
[]
[]
[]
[]
[]
[]
[]
[]
[]
[]
[]
[]
[]
[]
[]
[]
[]
[]
[]
[]
[]
[]
[]
[]
[]
[]
[]
[]
[]
[]
[]
[]
[]
[]
[]
[]
[]
[]
[]
[]
[]
[]
[]
[]
[]
[]
[null,null,null,null,null,null,null,null,null,null,null,null,null,null,null,null,null,null,null,null,null,null,null,null,null,null,null,null,null,null,null,null,null,null,null,null,null,null,null,null,null,null,null,null,null,null,null,null,null,null,null,null,null,null,null,null,null,null,null,null,null,null,null,null,null,null,null,null,null,{"$f":"SUM(BR8:BR193)","v":0},0,0,0,0,0,0,0,0,0,0,0]

{"sheet":"PES.6000","index":33,"n_rows":196,"n_cols":84,"rows_kept":196,"cut":false,"hidden":true,"merged":[[9,13,10,13],[9,14,10,14],[9,0,10,0],[9,1,10,1],[9,5,9,6],[9,8,9,9],[9,11,10,11],[0,0,4,1],[1,3,1,7],[4,8,4,9],[5,0,6,0],[5,1,6,1],[5,2,6,2],[5,5,6,7],[5,8,6,10],[7,16,8,16],[5,11,6,11],[5,13,6,13],[5,14,6,14],[7,0,8,0],[7,1,8,1],[7,5,7,6],[7,8,7,9],[7,11,8,11],[7,13,8,13],[7,14,8,14]]}
[null,null,"HOMOLOGACIÓN DE ARTEFACTOS",null,null,null,null,null,null,null,null,null,null,null,null,null,null,null,null,null,null,null,null,null,null,null,null,null,null,null,null,null,null,null,null,null,null,null,null,null,null,null,null,null,null,null,null,null,null,null,null,null,null,null,null,null,null,null,null,null,null,null,null,null,null,null,null,null,10]
[null,null,"Competición:",{"$f":"IF(Inicio!D4=\"\",\"FALTA NOMBRE DE COMPETICIÓN\",Inicio!D4)","v":"FALTA NOMBRE DE COMPETICIÓN"},null,null,null,null,null,null,null,null,"X",null,null,"Instalación","Correcto"]
[null,null,null,null,null,null,null,null,null,null,null,null,null,null,null,"Organización","Incorrecto"]
[null,null,null,"PESO 6000",null,null,null,null,null,"Funda de plástico/goma:",null,null,null,null,null,"Particular"]
[null,null,null,null,null,null,null,null,1,null,null,"Deficiencias                                       no relacionadas                                           con medidas",null,null,null,1]
["Referencia","Válido","Propietario","Marca y modelo","Cert. IAAF","Peso",null,null,"Diámetro",null,null,"Observaciones",null,"Homologador","Fecha"]
[null,null,null,"Color","Art. Comb.",null,null,null,null,null,null,null,null,null,null,null,null,null,null,null,null,null,null,null,null,null,null,null,null,null,null,null,null,null,null,null,null,null,null,null,null,null,null,null,null,null,null,null,null,null,null,null,null,null,null,null,null,null,null,null,null,null,null,null,null,null,null,null,null,"VI","VO","VP","NVI","NVO","NVP","NVPI","NVPO","NVPP","NVMI","NVMO","NVMP","Peso","Ø cabeza","Observ."]
[1,{"$f":"IF(AND(A8<>\"\",C8<>\"\",D8<>\"\",N8<>\"\",O8<>\"\"),IF(SUM(H9,K9,M9)>0,\"NO\",\"SI\"),\"\")","v":""},null,null,null,null,null,null,null,null,null,null,null,null,null,null,{"$f":"C9","v":0},{"$f":"D9","v":0},null,null,null,null,null,null,null,null,null,null,null,null,null,null,null,null,null,null,null,null,null,null,null,null,null,null,null,null,null,null,null,null,null,null,null,null,null,null,null,null,null,null,null,null,null,null,null,null,null,null,null,{"$f":"IF(AND(B8=\"SI\",C8=\"Instalación\"),1,\"\")","v":""},{"$f":"IF(AND(B8=\"SI\",C8=\"Organización\"),1,\"\")","v":""},{"$f":"IF(AND(B8=\"SI\",C8=\"Particular\"),1,\"\")","v":""},{"$f":"IF(AND(B8=\"NO\",C8=\"Instalación\"),1,\"\")","v":""},{"$f":"IF(AND(B8=\"NO\",C8=\"Organización\"),1,\"\")","v":""},{"$f":"IF(AND(B8=\"NO\",C8=\"Particular\"),1,\"\")","v":""},{"$f":"IF(AND(B8=\"NO\",C8=\"Instalación\",H9=1),1,\"\")","v":""},{"$f":"IF(AND(B8=\"NO\",C8=\"Organización\",H9=1),1,\"\")","v":""},{"$f":"IF(AND(B8=\"NO\",C8=\"Particular\",H9=1),1,\"\")","v":""},{"$f":"IF(AND(B8=\"NO\",C8=\"Instalación\"),IF(K9=1,1,\"\"),\"\")","v":""},{"$f":"IF(AND(B8=\"NO\",C8=\"Organización\"),IF(K9=1,1,\"\"),\"\")","v":""},{"$f":"IF(AND(B8=\"NO\",C8=\"Particular\"),IF(K9=1,1,\"\"),\"\")","v":""},{"$f":"IF(AND(H9=1,F8<>\"\"),\"X\",\"\")","v":""},{"$f":"IF(AND(K9=1,I8<>\"\"),\"X\",\"\")","v":""},{"$f":"IF(AND(M9=1,L8<>\"\"),\"X\",\"\")","v":""}]
[null,null,null,null,null,6000,"-",{"$f":"IF(OR((F8<F9),(F8>G9),F8=\"\"),1,0)","v":1},105,{"$f":"IF($P$5=1,125,140)","v":125},{"$f":"IF(OR((I8<I9),(I8>J9),I8=\"\"),1,0)","v":1},null,{"$f":"IF(L8<>\"\",1,0)","v":0}]
[2,{"$f":"IF(AND(A10<>\"\",C10<>\"\",D10<>\"\",N10<>\"\",O10<>\"\"),IF(SUM(H11,K11,M11)>0,\"NO\",\"SI\"),\"\")","v":""},null,null,null,null,null,null,null,null,null,null,null,null,null,null,{"$f":"C11","v":0},{"$f":"D11","v":0},null,null,null,null,null,null,null,null,null,null,null,null,null,null,null,null,null,null,null,null,null,null,null,null,null,null,null,null,null,null,null,null,null,null,null,null,null,null,null,null,null,null,null,null,null,null,null,null,null,null,null,{"$f":"IF(AND(B10=\"SI\",C10=\"Instalación\"),1,\"\")","v":""},{"$f":"IF(AND(B10=\"SI\",C10=\"Organización\"),1,\"\")","v":""},{"$f":"IF(AND(B10=\"SI\",C10=\"Particular\"),1,\"\")","v":""},{"$f":"IF(AND(B10=\"NO\",C10=\"Instalación\"),1,\"\")","v":""},{"$f":"IF(AND(B10=\"NO\",C10=\"Organización\"),1,\"\")","v":""},{"$f":"IF(AND(B10=\"NO\",C10=\"Particular\"),1,\"\")","v":""},{"$f":"IF(AND(B10=\"NO\",C10=\"Instalación\",H11=1),1,\"\")","v":""},{"$f":"IF(AND(B10=\"NO\",C10=\"Organización\",H11=1),1,\"\")","v":""},{"$f":"IF(AND(B10=\"NO\",C10=\"Particular\",H11=1),1,\"\")","v":""},{"$f":"IF(AND(B10=\"NO\",C10=\"Instalación\"),IF(K11=1,1,\"\"),\"\")","v":""},{"$f":"IF(AND(B10=\"NO\",C10=\"Organización\"),IF(K11=1,1,\"\"),\"\")","v":""},{"$f":"IF(AND(B10=\"NO\",C10=\"Particular\"),IF(K11=1,1,\"\"),\"\")","v":""},{"$f":"IF(AND(H11=1,F10<>\"\"),\"X\",\"\")","v":""},{"$f":"IF(AND(K11=1,I10<>\"\"),\"X\",\"\")","v":""},{"$f":"IF(AND(M11=1,L10<>\"\"),\"X\",\"\")","v":""}]
[null,null,null,null,null,6000,"-",{"$f":"IF(OR((F10<F11),(F10>G11),F10=\"\"),1,0)","v":1},105,{"$f":"IF($P$5=1,125,140)","v":125},{"$f":"IF(OR((I10<I11),(I10>J11),I10=\"\"),1,0)","v":1},null,{"$f":"IF(L10<>\"\",1,0)","v":0}]
[]
[]
[]
[]
[]
[]
[]
[]
[]
[]
[]
[]
[]
[]
[]
[]
[]
[]
[]
[]
[]
[]
[]
[]
[]
[]
[]
[]
[]
[]
[]
[]
[]
[]
[]
[]
[]
[]
[]
[]
[]
[]
[]
[]
[]
[]
[]
[]
[]
[]
[]
[]
[]
[]
[]
[]
[]
[]
[]
[]
[]
[]
[]
[]
[]
[]
[]
[]
[]
[]
[]
[]
[]
[]
[]
[]
[]
[]
[]
[]
[]
[]
[]
[]
[]
[]
[]
[]
[]
[]
[]
[]
[]
[]
[]
[]
[]
[]
[]
[]
[]
[]
[]
[]
[]
[]
[]
[]
[]
[]
[]
[]
[]
[]
[]
[]
[]
[]
[]
[]
[]
[]
[]
[]
[]
[]
[]
[]
[]
[]
[]
[]
[]
[]
[]
[]
[]
[]
[]
[]
[]
[]
[]
[]
[]
[]
[]
[]
[]
[]
[]
[]
[]
[]
[]
[]
[]
[]
[]
[]
[]
[]
[]
[]
[]
[]
[]
[]
[]
[]
[]
[]
[]
[]
[]
[]
[]
[]
[]
[]
[]
[]
[]
[]
[null,null,null,null,null,null,null,null,null,null,null,null,null,null,null,null,null,null,null,null,null,null,null,null,null,null,null,null,null,null,null,null,null,null,null,null,null,null,null,null,null,null,null,null,null,null,null,null,null,null,null,null,null,null,null,null,null,null,null,null,null,null,null,null,null,null,null,null,null,{"$f":"SUM(BR8:BR195)","v":0},0,0,0,0,0,0,0,0,0,0,0]

{"sheet":"PES.5000","index":34,"n_rows":200,"n_cols":84,"rows_kept":200,"cut":false,"hidden":true,"merged":[[9,13,10,13],[9,14,10,14],[9,0,10,0],[9,1,10,1],[9,5,9,6],[9,8,9,9],[9,11,10,11],[7,16,8,16],[5,11,6,11],[5,13,6,13],[5,14,6,14],[7,0,8,0],[7,1,8,1],[7,5,7,6],[7,8,7,9],[7,11,8,11],[7,13,8,13],[7,14,8,14],[0,0,4,1],[1,3,1,7],[4,8,4,9],[5,0,6,0],[5,1,6,1],[5,2,6,2],[5,5,6,7],[5,8,6,10]]}
[null,null,"HOMOLOGACIÓN DE ARTEFACTOS",null,null,null,null,null,null,null,null,null,null,null,null,null,null,null,null,null,null,null,null,null,null,null,null,null,null,null,null,null,null,null,null,null,null,null,null,null,null,null,null,null,null,null,null,null,null,null,null,null,null,null,null,null,null,null,null,null,null,null,null,null,null,null,null,null,10]
[null,null,"Competición:",{"$f":"IF(Inicio!D4=\"\",\"FALTA NOMBRE DE COMPETICIÓN\",Inicio!D4)","v":"FALTA NOMBRE DE COMPETICIÓN"},null,null,null,null,null,null,null,null,"X",null,null,"Instalación","Correcto"]
[null,null,null,null,null,null,null,null,null,null,null,null,null,null,null,"Organización","Incorrecto"]
[null,null,null,"PESO 5000",null,null,null,null,null,"Funda de plástico/goma:",null,null,null,null,null,"Particular"]
[null,null,null,null,null,null,null,null,1,null,null,"Deficiencias                                       no relacionadas                                           con medidas",null,null,null,1]
["Referencia","Válido","Propietario","Marca y modelo","Cert. IAAF","Peso",null,null,"Diámetro",null,null,"Observaciones",null,"Homologador","Fecha"]
[null,null,null,"Color","Art. Comb.",null,null,null,null,null,null,null,null,null,null,null,null,null,null,null,null,null,null,null,null,null,null,null,null,null,null,null,null,null,null,null,null,null,null,null,null,null,null,null,null,null,null,null,null,null,null,null,null,null,null,null,null,null,null,null,null,null,null,null,null,null,null,null,null,"VI","VO","VP","NVI","NVO","NVP","NVPI","NVPO","NVPP","NVMI","NVMO","NVMP","Peso","Ø cabeza","Observ."]
[1,{"$f":"IF(AND(A8<>\"\",C8<>\"\",D8<>\"\",N8<>\"\",O8<>\"\"),IF(SUM(H9,K9,M9)>0,\"NO\",\"SI\"),\"\")","v":""},null,null,null,null,null,null,null,null,null,null,null,null,null,null,{"$f":"C9","v":0},{"$f":"D9","v":0},null,null,null,null,null,null,null,null,null,null,null,null,null,null,null,null,null,null,null,null,null,null,null,null,null,null,null,null,null,null,null,null,null,null,null,null,null,null,null,null,null,null,null,null,null,null,null,null,null,null,null,{"$f":"IF(AND(B8=\"SI\",C8=\"Instalación\"),1,\"\")","v":""},{"$f":"IF(AND(B8=\"SI\",C8=\"Organización\"),1,\"\")","v":""},{"$f":"IF(AND(B8=\"SI\",C8=\"Particular\"),1,\"\")","v":""},{"$f":"IF(AND(B8=\"NO\",C8=\"Instalación\"),1,\"\")","v":""},{"$f":"IF(AND(B8=\"NO\",C8=\"Organización\"),1,\"\")","v":""},{"$f":"IF(AND(B8=\"NO\",C8=\"Particular\"),1,\"\")","v":""},{"$f":"IF(AND(B8=\"NO\",C8=\"Instalación\",H9=1),1,\"\")","v":""},{"$f":"IF(AND(B8=\"NO\",C8=\"Organización\",H9=1),1,\"\")","v":""},{"$f":"IF(AND(B8=\"NO\",C8=\"Particular\",H9=1),1,\"\")","v":""},{"$f":"IF(AND(B8=\"NO\",C8=\"Instalación\"),IF(K9=1,1,\"\"),\"\")","v":""},{"$f":"IF(AND(B8=\"NO\",C8=\"Organización\"),IF(K9=1,1,\"\"),\"\")","v":""},{"$f":"IF(AND(B8=\"NO\",C8=\"Particular\"),IF(K9=1,1,\"\"),\"\")","v":""},{"$f":"IF(AND(H9=1,F8<>\"\"),\"X\",\"\")","v":""},{"$f":"IF(AND(K9=1,I8<>\"\"),\"X\",\"\")","v":""},{"$f":"IF(AND(M9=1,L8<>\"\"),\"X\",\"\")","v":""}]
[null,null,null,null,null,5000,"-",{"$f":"IF(OR((F8<F9),(F8>G9),F8=\"\"),1,0)","v":1},100,{"$f":"IF($P$5=1,120,135)","v":120},{"$f":"IF(OR((I8<I9),(I8>J9),I8=\"\"),1,0)","v":1},null,{"$f":"IF(L8<>\"\",1,0)","v":0}]
[2,{"$f":"IF(AND(A10<>\"\",C10<>\"\",D10<>\"\",N10<>\"\",O10<>\"\"),IF(SUM(H11,K11,M11)>0,\"NO\",\"SI\"),\"\")","v":""},null,null,null,null,null,null,null,null,null,null,null,null,null,null,{"$f":"C11","v":0},{"$f":"D11","v":0},null,null,null,null,null,null,null,null,null,null,null,null,null,null,null,null,null,null,null,null,null,null,null,null,null,null,null,null,null,null,null,null,null,null,null,null,null,null,null,null,null,null,null,null,null,null,null,null,null,null,null,{"$f":"IF(AND(B10=\"SI\",C10=\"Instalación\"),1,\"\")","v":""},{"$f":"IF(AND(B10=\"SI\",C10=\"Organización\"),1,\"\")","v":""},{"$f":"IF(AND(B10=\"SI\",C10=\"Particular\"),1,\"\")","v":""},{"$f":"IF(AND(B10=\"NO\",C10=\"Instalación\"),1,\"\")","v":""},{"$f":"IF(AND(B10=\"NO\",C10=\"Organización\"),1,\"\")","v":""},{"$f":"IF(AND(B10=\"NO\",C10=\"Particular\"),1,\"\")","v":""},{"$f":"IF(AND(B10=\"NO\",C10=\"Instalación\",H11=1),1,\"\")","v":""},{"$f":"IF(AND(B10=\"NO\",C10=\"Organización\",H11=1),1,\"\")","v":""},{"$f":"IF(AND(B10=\"NO\",C10=\"Particular\",H11=1),1,\"\")","v":""},{"$f":"IF(AND(B10=\"NO\",C10=\"Instalación\"),IF(K11=1,1,\"\"),\"\")","v":""},{"$f":"IF(AND(B10=\"NO\",C10=\"Organización\"),IF(K11=1,1,\"\"),\"\")","v":""},{"$f":"IF(AND(B10=\"NO\",C10=\"Particular\"),IF(K11=1,1,\"\"),\"\")","v":""},{"$f":"IF(AND(H11=1,F10<>\"\"),\"X\",\"\")","v":""},{"$f":"IF(AND(K11=1,I10<>\"\"),\"X\",\"\")","v":""},{"$f":"IF(AND(M11=1,L10<>\"\"),\"X\",\"\")","v":""}]
[null,null,null,null,null,5000,"-",{"$f":"IF(OR((F10<F11),(F10>G11),F10=\"\"),1,0)","v":1},100,{"$f":"IF($P$5=1,120,135)","v":120},{"$f":"IF(OR((I10<I11),(I10>J11),I10=\"\"),1,0)","v":1},null,{"$f":"IF(L10<>\"\",1,0)","v":0}]
[]
[]
[]
[]
[]
[]
[]
[]
[]
[]
[]
[]
[]
[]
[]
[]
[]
[]
[]
[]
[]
[]
[]
[]
[]
[]
[]
[]
[]
[]
[]
[]
[]
[]
[]
[]
[]
[]
[]
[]
[]
[]
[]
[]
[]
[]
[]
[]
[]
[]
[]
[]
[]
[]
[]
[]
[]
[]
[]
[]
[]
[]
[]
[]
[]
[]
[]
[]
[]
[]
[]
[]
[]
[]
[]
[]
[]
[]
[]
[]
[]
[]
[]
[]
[]
[]
[]
[]
[]
[]
[]
[]
[]
[]
[]
[]
[]
[]
[]
[]
[]
[]
[]
[]
[]
[]
[]
[]
[]
[]
[]
[]
[]
[]
[]
[]
[]
[]
[]
[]
[]
[]
[]
[]
[]
[]
[]
[]
[]
[]
[]
[]
[]
[]
[]
[]
[]
[]
[]
[]
[]
[]
[]
[]
[]
[]
[]
[]
[]
[]
[]
[]
[]
[]
[]
[]
[]
[]
[]
[]
[]
[]
[]
[]
[]
[]
[]
[]
[]
[]
[]
[]
[]
[]
[]
[]
[]
[]
[]
[]
[]
[]
[]
[]
[]
[]
[]
[]
[null,null,null,null,null,null,null,null,null,null,null,null,null,null,null,null,null,null,null,null,null,null,null,null,null,null,null,null,null,null,null,null,null,null,null,null,null,null,null,null,null,null,null,null,null,null,null,null,null,null,null,null,null,null,null,null,null,null,null,null,null,null,null,null,null,null,null,null,null,{"$f":"SUM(BR8:BR199)","v":0},0,0,0,0,0,0,0,0,0,0,0]

{"sheet":"PES.4000M","index":35,"n_rows":206,"n_cols":84,"rows_kept":206,"cut":false,"hidden":true,"merged":[[7,16,8,16],[9,0,10,0],[9,1,10,1],[9,5,9,6],[9,8,9,9],[9,11,10,11],[9,13,10,13],[9,14,10,14],[5,11,6,11],[5,13,6,13],[5,14,6,14],[7,0,8,0],[7,1,8,1],[7,5,7,6],[7,8,7,9],[7,11,8,11],[7,13,8,13],[7,14,8,14],[0,0,4,1],[1,3,1,7],[4,8,4,9],[5,0,6,0],[5,1,6,1],[5,2,6,2],[5,5,6,7],[5,8,6,10]]}
[null,null,"HOMOLOGACIÓN DE ARTEFACTOS",null,null,null,null,null,null,null,null,null,null,null,null,null,null,null,null,null,null,null,null,null,null,null,null,null,null,null,null,null,null,null,null,null,null,null,null,null,null,null,null,null,null,null,null,null,null,null,null,null,null,null,null,null,null,null,null,null,null,null,null,null,null,null,null,null,10]
[null,null,"Competición:",{"$f":"IF(Inicio!D4=\"\",\"FALTA NOMBRE DE COMPETICIÓN\",Inicio!D4)","v":"FALTA NOMBRE DE COMPETICIÓN"},null,null,null,null,null,null,null,null,"X",null,null,"Instalación","Correcto"]
[null,null,null,null,null,null,null,null,null,null,null,null,null,null,null,"Organización","Incorrecto"]
[null,null,null,"PESO 4000 M",null,null,null,null,null,"Funda de plástico/goma:",null,null,null,null,null,"Particular"]
[null,null,null,null,null,null,null,null,1,null,null,"Deficiencias                                       no relacionadas                                           con medidas",null,null,null,1]
["Referencia","Válido","Propietario","Marca y modelo","Cert. IAAF","Peso",null,null,"Diámetro",null,null,"Observaciones",null,"Homologador","Fecha"]
[null,null,null,"Color","Art. Comb.",null,null,null,null,null,null,null,null,null,null,null,null,null,null,null,null,null,null,null,null,null,null,null,null,null,null,null,null,null,null,null,null,null,null,null,null,null,null,null,null,null,null,null,null,null,null,null,null,null,null,null,null,null,null,null,null,null,null,null,null,null,null,null,null,"VI","VO","VP","NVI","NVO","NVP","NVPI","NVPO","NVPP","NVMI","NVMO","NVMP","Peso","Ø cabeza","Observ."]
[1,{"$f":"IF(AND(A8<>\"\",C8<>\"\",D8<>\"\",N8<>\"\",O8<>\"\"),IF(SUM(H9,K9,M9)>0,\"NO\",\"SI\"),\"\")","v":""},null,null,null,null,null,null,null,null,null,null,null,null,null,null,{"$f":"C9","v":0},{"$f":"D9","v":0},null,null,null,null,null,null,null,null,null,null,null,null,null,null,null,null,null,null,null,null,null,null,null,null,null,null,null,null,null,null,null,null,null,null,null,null,null,null,null,null,null,null,null,null,null,null,null,null,null,null,null,{"$f":"IF(AND(B8=\"SI\",C8=\"Instalación\"),1,\"\")","v":""},{"$f":"IF(AND(B8=\"SI\",C8=\"Organización\"),1,\"\")","v":""},{"$f":"IF(AND(B8=\"SI\",C8=\"Particular\"),1,\"\")","v":""},{"$f":"IF(AND(B8=\"NO\",C8=\"Instalación\"),1,\"\")","v":""},{"$f":"IF(AND(B8=\"NO\",C8=\"Organización\"),1,\"\")","v":""},{"$f":"IF(AND(B8=\"NO\",C8=\"Particular\"),1,\"\")","v":""},{"$f":"IF(AND(B8=\"NO\",C8=\"Instalación\",H9=1),1,\"\")","v":""},{"$f":"IF(AND(B8=\"NO\",C8=\"Organización\",H9=1),1,\"\")","v":""},{"$f":"IF(AND(B8=\"NO\",C8=\"Particular\",H9=1),1,\"\")","v":""},{"$f":"IF(AND(B8=\"NO\",C8=\"Instalación\"),IF(K9=1,1,\"\"),\"\")","v":""},{"$f":"IF(AND(B8=\"NO\",C8=\"Organización\"),IF(K9=1,1,\"\"),\"\")","v":""},{"$f":"IF(AND(B8=\"NO\",C8=\"Particular\"),IF(K9=1,1,\"\"),\"\")","v":""},{"$f":"IF(AND(H9=1,F8<>\"\"),\"X\",\"\")","v":""},{"$f":"IF(AND(K9=1,I8<>\"\"),\"X\",\"\")","v":""},{"$f":"IF(AND(M9=1,L8<>\"\"),\"X\",\"\")","v":""}]
[null,null,null,null,null,4000,"-",{"$f":"IF(OR((F8<F9),(F8>G9),F8=\"\"),1,0)","v":1},95,{"$f":"IF($P$5=1,110,130)","v":110},{"$f":"IF(OR((I8<I9),(I8>J9),I8=\"\"),1,0)","v":1},null,{"$f":"IF(L8<>\"\",1,0)","v":0}]
[2,{"$f":"IF(AND(A10<>\"\",C10<>\"\",D10<>\"\",N10<>\"\",O10<>\"\"),IF(SUM(H11,K11,M11)>0,\"NO\",\"SI\"),\"\")","v":""},null,null,null,null,null,null,null,null,null,null,null,null,null,null,{"$f":"C11","v":0},{"$f":"D11","v":0},null,null,null,null,null,null,null,null,null,null,null,null,null,null,null,null,null,null,null,null,null,null,null,null,null,null,null,null,null,null,null,null,null,null,null,null,null,null,null,null,null,null,null,null,null,null,null,null,null,null,null,{"$f":"IF(AND(B10=\"SI\",C10=\"Instalación\"),1,\"\")","v":""},{"$f":"IF(AND(B10=\"SI\",C10=\"Organización\"),1,\"\")","v":""},{"$f":"IF(AND(B10=\"SI\",C10=\"Particular\"),1,\"\")","v":""},{"$f":"IF(AND(B10=\"NO\",C10=\"Instalación\"),1,\"\")","v":""},{"$f":"IF(AND(B10=\"NO\",C10=\"Organización\"),1,\"\")","v":""},{"$f":"IF(AND(B10=\"NO\",C10=\"Particular\"),1,\"\")","v":""},{"$f":"IF(AND(B10=\"NO\",C10=\"Instalación\",H11=1),1,\"\")","v":""},{"$f":"IF(AND(B10=\"NO\",C10=\"Organización\",H11=1),1,\"\")","v":""},{"$f":"IF(AND(B10=\"NO\",C10=\"Particular\",H11=1),1,\"\")","v":""},{"$f":"IF(AND(B10=\"NO\",C10=\"Instalación\"),IF(K11=1,1,\"\"),\"\")","v":""},{"$f":"IF(AND(B10=\"NO\",C10=\"Organización\"),IF(K11=1,1,\"\"),\"\")","v":""},{"$f":"IF(AND(B10=\"NO\",C10=\"Particular\"),IF(K11=1,1,\"\"),\"\")","v":""},{"$f":"IF(AND(H11=1,F10<>\"\"),\"X\",\"\")","v":""},{"$f":"IF(AND(K11=1,I10<>\"\"),\"X\",\"\")","v":""},{"$f":"IF(AND(M11=1,L10<>\"\"),\"X\",\"\")","v":""}]
[null,null,null,null,null,4000,"-",{"$f":"IF(OR((F10<F11),(F10>G11),F10=\"\"),1,0)","v":1},95,{"$f":"IF($P$5=1,110,130)","v":110},{"$f":"IF(OR((I10<I11),(I10>J11),I10=\"\"),1,0)","v":1},null,{"$f":"IF(L10<>\"\",1,0)","v":0}]
[]
[]
[]
[]
[]
[]
[]
[]
[]
[]
[]
[]
[]
[]
[]
[]
[]
[]
[]
[]
[]
[]
[]
[]
[]
[]
[]
[]
[]
[]
[]
[]
[]
[]
[]
[]
[]
[]
[]
[]
[]
[]
[]
[]
[]
[]
[]
[]
[]
[]
[]
[]
[]
[]
[]
[]
[]
[]
[]
[]
[]
[]
[]
[]
[]
[]
[]
[]
[]
[]
[]
[]
[]
[]
[]
[]
[]
[]
[]
[]
[]
[]
[]
[]
[]
[]
[]
[]
[]
[]
[]
[]
[]
[]
[]
[]
[]
[]
[]
[]
[]
[]
[]
[]
[]
[]
[]
[]
[]
[]
[]
[]
[]
[]
[]
[]
[]
[]
[]
[]
[]
[]
[]
[]
[]
[]
[]
[]
[]
[]
[]
[]
[]
[]
[]
[]
[]
[]
[]
[]
[]
[]
[]
[]
[]
[]
[]
[]
[]
[]
[]
[]
[]
[]
[]
[]
[]
[]
[]
[]
[]
[]
[]
[]
[]
[]
[]
[]
[]
[]
[]
[]
[]
[]
[]
[]
[]
[]
[]
[]
[]
[]
[]
[]
[]
[]
[]
[]
[]
[]
[]
[]
[]
[]
[null,null,null,null,null,null,null,null,null,null,null,null,null,null,null,null,null,null,null,null,null,null,null,null,null,null,null,null,null,null,null,null,null,null,null,null,null,null,null,null,null,null,null,null,null,null,null,null,null,null,null,null,null,null,null,null,null,null,null,null,null,null,null,null,null,null,null,null,null,{"$f":"SUM(BR8:BR205)","v":0},0,0,0,0,0,0,0,0,0,0,0]

{"sheet":"PES.4000H","index":36,"n_rows":194,"n_cols":84,"rows_kept":194,"cut":false,"hidden":true,"merged":[[9,13,10,13],[9,14,10,14],[9,0,10,0],[9,1,10,1],[9,5,9,6],[9,8,9,9],[9,11,10,11],[0,0,4,1],[1,3,1,7],[4,8,4,9],[5,0,6,0],[5,1,6,1],[5,2,6,2],[5,5,6,7],[5,8,6,10],[7,16,8,16],[5,11,6,11],[5,13,6,13],[5,14,6,14],[7,0,8,0],[7,1,8,1],[7,5,7,6],[7,8,7,9],[7,11,8,11],[7,13,8,13],[7,14,8,14]]}
[null,null,"HOMOLOGACIÓN DE ARTEFACTOS",null,null,null,null,null,null,null,null,null,null,null,null,null,null,null,null,null,null,null,null,null,null,null,null,null,null,null,null,null,null,null,null,null,null,null,null,null,null,null,null,null,null,null,null,null,null,null,null,null,null,null,null,null,null,null,null,null,null,null,null,null,null,null,null,null,10]
[null,null,"Competición:",{"$f":"IF(Inicio!D4=\"\",\"FALTA NOMBRE DE COMPETICIÓN\",Inicio!D4)","v":"FALTA NOMBRE DE COMPETICIÓN"},null,null,null,null,null,null,null,null,"X",null,null,"Instalación","Correcto"]
[null,null,null,null,null,null,null,null,null,null,null,null,null,null,null,"Organización","Incorrecto"]
[null,null,null,"PESO 4000 H",null,null,null,null,null,"Funda de plástico/goma:",null,null,null,null,null,"Particular"]
[null,null,null,null,null,null,null,null,1,null,null,"Deficiencias                                       no relacionadas                                           con medidas",null,null,null,1]
["Referencia","Válido","Propietario","Marca y modelo","Cert. IAAF","Peso",null,null,"Diámetro",null,null,"Observaciones",null,"Homologador","Fecha"]
[null,null,null,"Color","Art. Comb.",null,null,null,null,null,null,null,null,null,null,null,null,null,null,null,null,null,null,null,null,null,null,null,null,null,null,null,null,null,null,null,null,null,null,null,null,null,null,null,null,null,null,null,null,null,null,null,null,null,null,null,null,null,null,null,null,null,null,null,null,null,null,null,null,"VI","VO","VP","NVI","NVO","NVP","NVPI","NVPO","NVPP","NVMI","NVMO","NVMP","Peso","Ø cabeza","Observ."]
[1,{"$f":"IF(AND(A8<>\"\",C8<>\"\",D8<>\"\",N8<>\"\",O8<>\"\"),IF(SUM(H9,K9,M9)>0,\"NO\",\"SI\"),\"\")","v":""},null,null,null,null,null,null,null,null,null,null,null,null,null,null,{"$f":"C9","v":0},{"$f":"D9","v":0},null,null,null,null,null,null,null,null,null,null,null,null,null,null,null,null,null,null,null,null,null,null,null,null,null,null,null,null,null,null,null,null,null,null,null,null,null,null,null,null,null,null,null,null,null,null,null,null,null,null,null,{"$f":"IF(AND(B8=\"SI\",C8=\"Instalación\"),1,\"\")","v":""},{"$f":"IF(AND(B8=\"SI\",C8=\"Organización\"),1,\"\")","v":""},{"$f":"IF(AND(B8=\"SI\",C8=\"Particular\"),1,\"\")","v":""},{"$f":"IF(AND(B8=\"NO\",C8=\"Instalación\"),1,\"\")","v":""},{"$f":"IF(AND(B8=\"NO\",C8=\"Organización\"),1,\"\")","v":""},{"$f":"IF(AND(B8=\"NO\",C8=\"Particular\"),1,\"\")","v":""},{"$f":"IF(AND(B8=\"NO\",C8=\"Instalación\",H9=1),1,\"\")","v":""},{"$f":"IF(AND(B8=\"NO\",C8=\"Organización\",H9=1),1,\"\")","v":""},{"$f":"IF(AND(B8=\"NO\",C8=\"Particular\",H9=1),1,\"\")","v":""},{"$f":"IF(AND(B8=\"NO\",C8=\"Instalación\"),IF(K9=1,1,\"\"),\"\")","v":""},{"$f":"IF(AND(B8=\"NO\",C8=\"Organización\"),IF(K9=1,1,\"\"),\"\")","v":""},{"$f":"IF(AND(B8=\"NO\",C8=\"Particular\"),IF(K9=1,1,\"\"),\"\")","v":""},{"$f":"IF(AND(H9=1,F8<>\"\"),\"X\",\"\")","v":""},{"$f":"IF(AND(K9=1,I8<>\"\"),\"X\",\"\")","v":""},{"$f":"IF(AND(M9=1,L8<>\"\"),\"X\",\"\")","v":""}]
[null,null,null,null,null,4000,"-",{"$f":"IF(OR((F8<F9),(F8>G9),F8=\"\"),1,0)","v":1},95,{"$f":"IF($P$5=1,120,130)","v":120},{"$f":"IF(OR((I8<I9),(I8>J9),I8=\"\"),1,0)","v":1},null,{"$f":"IF(L8<>\"\",1,0)","v":0}]
[2,{"$f":"IF(AND(A10<>\"\",C10<>\"\",D10<>\"\",N10<>\"\",O10<>\"\"),IF(SUM(H11,K11,M11)>0,\"NO\",\"SI\"),\"\")","v":""},null,null,null,null,null,null,null,null,null,null,null,null,null,null,{"$f":"C11","v":0},{"$f":"D11","v":0},null,null,null,null,null,null,null,null,null,null,null,null,null,null,null,null,null,null,null,null,null,null,null,null,null,null,null,null,null,null,null,null,null,null,null,null,null,null,null,null,null,null,null,null,null,null,null,null,null,null,null,{"$f":"IF(AND(B10=\"SI\",C10=\"Instalación\"),1,\"\")","v":""},{"$f":"IF(AND(B10=\"SI\",C10=\"Organización\"),1,\"\")","v":""},{"$f":"IF(AND(B10=\"SI\",C10=\"Particular\"),1,\"\")","v":""},{"$f":"IF(AND(B10=\"NO\",C10=\"Instalación\"),1,\"\")","v":""},{"$f":"IF(AND(B10=\"NO\",C10=\"Organización\"),1,\"\")","v":""},{"$f":"IF(AND(B10=\"NO\",C10=\"Particular\"),1,\"\")","v":""},{"$f":"IF(AND(B10=\"NO\",C10=\"Instalación\",H11=1),1,\"\")","v":""},{"$f":"IF(AND(B10=\"NO\",C10=\"Organización\",H11=1),1,\"\")","v":""},{"$f":"IF(AND(B10=\"NO\",C10=\"Particular\",H11=1),1,\"\")","v":""},{"$f":"IF(AND(B10=\"NO\",C10=\"Instalación\"),IF(K11=1,1,\"\"),\"\")","v":""},{"$f":"IF(AND(B10=\"NO\",C10=\"Organización\"),IF(K11=1,1,\"\"),\"\")","v":""},{"$f":"IF(AND(B10=\"NO\",C10=\"Particular\"),IF(K11=1,1,\"\"),\"\")","v":""},{"$f":"IF(AND(H11=1,F10<>\"\"),\"X\",\"\")","v":""},{"$f":"IF(AND(K11=1,I10<>\"\"),\"X\",\"\")","v":""},{"$f":"IF(AND(M11=1,L10<>\"\"),\"X\",\"\")","v":""}]
[null,null,null,null,null,4000,"-",{"$f":"IF(OR((F10<F11),(F10>G11),F10=\"\"),1,0)","v":1},95,{"$f":"IF($P$5=1,120,130)","v":120},{"$f":"IF(OR((I10<I11),(I10>J11),I10=\"\"),1,0)","v":1},null,{"$f":"IF(L10<>\"\",1,0)","v":0}]
[]
[]
[]
[]
[]
[]
[]
[]
[]
[]
[]
[]
[]
[]
[]
[]
[]
[]
[]
[]
[]
[]
[]
[]
[]
[]
[]
[]
[]
[]
[]
[]
[]
[]
[]
[]
[]
[]
[]
[]
[]
[]
[]
[]
[]
[]
[]
[]
[]
[]
[]
[]
[]
[]
[]
[]
[]
[]
[]
[]
[]
[]
[]
[]
[]
[]
[]
[]
[]
[]
[]
[]
[]
[]
[]
[]
[]
[]
[]
[]
[]
[]
[]
[]
[]
[]
[]
[]
[]
[]
[]
[]
[]
[]
[]
[]
[]
[]
[]
[]
[]
[]
[]
[]
[]
[]
[]
[]
[]
[]
[]
[]
[]
[]
[]
[]
[]
[]
[]
[]
[]
[]
[]
[]
[]
[]
[]
[]
[]
[]
[]
[]
[]
[]
[]
[]
[]
[]
[]
[]
[]
[]
[]
[]
[]
[]
[]
[]
[]
[]
[]
[]
[]
[]
[]
[]
[]
[]
[]
[]
[]
[]
[]
[]
[]
[]
[]
[]
[]
[]
[]
[]
[]
[]
[]
[]
[]
[]
[]
[]
[]
[]
[null,null,null,null,null,null,null,null,null,null,null,null,null,null,null,null,null,null,null,null,null,null,null,null,null,null,null,null,null,null,null,null,null,null,null,null,null,null,null,null,null,null,null,null,null,null,null,null,null,null,null,null,null,null,null,null,null,null,null,null,null,null,null,null,null,null,null,null,null,{"$f":"SUM(BR8:BR193)","v":0},0,0,0,0,0,0,0,0,0,0,0]

{"sheet":"PES.3000M","index":37,"n_rows":206,"n_cols":84,"rows_kept":206,"cut":false,"hidden":true,"merged":[[7,16,8,16],[9,0,10,0],[9,1,10,1],[9,5,9,6],[9,8,9,9],[9,11,10,11],[9,13,10,13],[9,14,10,14],[5,11,6,11],[5,13,6,13],[5,14,6,14],[7,0,8,0],[7,1,8,1],[7,5,7,6],[7,8,7,9],[7,11,8,11],[7,13,8,13],[7,14,8,14],[0,0,4,1],[1,3,1,7],[4,8,4,9],[5,0,6,0],[5,1,6,1],[5,2,6,2],[5,5,6,7],[5,8,6,10]]}
[null,null,"HOMOLOGACIÓN DE ARTEFACTOS",null,null,null,null,null,null,null,null,null,null,null,null,null,null,null,null,null,null,null,null,null,null,null,null,null,null,null,null,null,null,null,null,null,null,null,null,null,null,null,null,null,null,null,null,null,null,null,null,null,null,null,null,null,null,null,null,null,null,null,null,null,null,null,null,null,10]
[null,null,"Competición:",{"$f":"IF(Inicio!D4=\"\",\"FALTA NOMBRE DE COMPETICIÓN\",Inicio!D4)","v":"FALTA NOMBRE DE COMPETICIÓN"},null,null,null,null,null,null,null,null,"X",null,null,"Instalación"]
[null,null,null,null,null,null,null,null,null,null,null,null,null,null,null,"Organización"]
[null,null,null,"PESO 3000 M",null,null,null,null,null,"Funda de plástico/goma:",null,null,null,null,null,"Particular"]
[null,null,null,null,null,null,null,null,1,null,null,"Deficiencias                                       no relacionadas                                           con medidas",null,null,null,1]
["Referencia","Válido","Propietario","Marca y modelo","Cert. IAAF","Peso",null,null,"Diámetro",null,null,"Observaciones",null,"Homologador","Fecha"]
[null,null,null,"Color","Art. Comb.",null,null,null,null,null,null,null,null,null,null,null,null,null,null,null,null,null,null,null,null,null,null,null,null,null,null,null,null,null,null,null,null,null,null,null,null,null,null,null,null,null,null,null,null,null,null,null,null,null,null,null,null,null,null,null,null,null,null,null,null,null,null,null,null,"VI","VO","VP","NVI","NVO","NVP","NVPI","NVPO","NVPP","NVMI","NVMO","NVMP","Peso","Ø cabeza","Observ."]
[1,{"$f":"IF(AND(A8<>\"\",C8<>\"\",D8<>\"\",N8<>\"\",O8<>\"\"),IF(SUM(H9,K9,M9)>0,\"NO\",\"SI\"),\"\")","v":""},null,null,null,null,null,null,null,null,null,null,null,null,null,null,{"$f":"C9","v":0},{"$f":"D9","v":0},null,null,null,null,null,null,null,null,null,null,null,null,null,null,null,null,null,null,null,null,null,null,null,null,null,null,null,null,null,null,null,null,null,null,null,null,null,null,null,null,null,null,null,null,null,null,null,null,null,null,null,{"$f":"IF(AND(B8=\"SI\",C8=\"Instalación\"),1,\"\")","v":""},{"$f":"IF(AND(B8=\"SI\",C8=\"Organización\"),1,\"\")","v":""},{"$f":"IF(AND(B8=\"SI\",C8=\"Particular\"),1,\"\")","v":""},{"$f":"IF(AND(B8=\"NO\",C8=\"Instalación\"),1,\"\")","v":""},{"$f":"IF(AND(B8=\"NO\",C8=\"Organización\"),1,\"\")","v":""},{"$f":"IF(AND(B8=\"NO\",C8=\"Particular\"),1,\"\")","v":""},{"$f":"IF(AND(B8=\"NO\",C8=\"Instalación\",H9=1),1,\"\")","v":""},{"$f":"IF(AND(B8=\"NO\",C8=\"Organización\",H9=1),1,\"\")","v":""},{"$f":"IF(AND(B8=\"NO\",C8=\"Particular\",H9=1),1,\"\")","v":""},{"$f":"IF(AND(B8=\"NO\",C8=\"Instalación\"),IF(K9=1,1,\"\"),\"\")","v":""},{"$f":"IF(AND(B8=\"NO\",C8=\"Organización\"),IF(K9=1,1,\"\"),\"\")","v":""},{"$f":"IF(AND(B8=\"NO\",C8=\"Particular\"),IF(K9=1,1,\"\"),\"\")","v":""},{"$f":"IF(AND(H9=1,F8<>\"\"),\"X\",\"\")","v":""},{"$f":"IF(AND(K9=1,I8<>\"\"),\"X\",\"\")","v":""},{"$f":"IF(AND(M9=1,L8<>\"\"),\"X\",\"\")","v":""}]
[null,null,null,null,null,3000,"-",{"$f":"IF(OR((F8<F9),(F8>G9),F8=\"\"),1,0)","v":1},85,{"$f":"IF($P$5=1,110,120)","v":110},{"$f":"IF(OR((I8<I9),(I8>J9),I8=\"\"),1,0)","v":1},null,{"$f":"IF(L8<>\"\",1,0)","v":0}]
[2,{"$f":"IF(AND(A10<>\"\",C10<>\"\",D10<>\"\",N10<>\"\",O10<>\"\"),IF(SUM(H11,K11,M11)>0,\"NO\",\"SI\"),\"\")","v":""},null,null,null,null,null,null,null,null,null,null,null,null,null,null,{"$f":"C11","v":0},{"$f":"D11","v":0},null,null,null,null,null,null,null,null,null,null,null,null,null,null,null,null,null,null,null,null,null,null,null,null,null,null,null,null,null,null,null,null,null,null,null,null,null,null,null,null,null,null,null,null,null,null,null,null,null,null,null,{"$f":"IF(AND(B10=\"SI\",C10=\"Instalación\"),1,\"\")","v":""},{"$f":"IF(AND(B10=\"SI\",C10=\"Organización\"),1,\"\")","v":""},{"$f":"IF(AND(B10=\"SI\",C10=\"Particular\"),1,\"\")","v":""},{"$f":"IF(AND(B10=\"NO\",C10=\"Instalación\"),1,\"\")","v":""},{"$f":"IF(AND(B10=\"NO\",C10=\"Organización\"),1,\"\")","v":""},{"$f":"IF(AND(B10=\"NO\",C10=\"Particular\"),1,\"\")","v":""},{"$f":"IF(AND(B10=\"NO\",C10=\"Instalación\",H11=1),1,\"\")","v":""},{"$f":"IF(AND(B10=\"NO\",C10=\"Organización\",H11=1),1,\"\")","v":""},{"$f":"IF(AND(B10=\"NO\",C10=\"Particular\",H11=1),1,\"\")","v":""},{"$f":"IF(AND(B10=\"NO\",C10=\"Instalación\"),IF(K11=1,1,\"\"),\"\")","v":""},{"$f":"IF(AND(B10=\"NO\",C10=\"Organización\"),IF(K11=1,1,\"\"),\"\")","v":""},{"$f":"IF(AND(B10=\"NO\",C10=\"Particular\"),IF(K11=1,1,\"\"),\"\")","v":""},{"$f":"IF(AND(H11=1,F10<>\"\"),\"X\",\"\")","v":""},{"$f":"IF(AND(K11=1,I10<>\"\"),\"X\",\"\")","v":""},{"$f":"IF(AND(M11=1,L10<>\"\"),\"X\",\"\")","v":""}]
[null,null,null,null,null,3000,"-",{"$f":"IF(OR((F10<F11),(F10>G11),F10=\"\"),1,0)","v":1},85,{"$f":"IF($P$5=1,110,120)","v":110},{"$f":"IF(OR((I10<I11),(I10>J11),I10=\"\"),1,0)","v":1},null,{"$f":"IF(L10<>\"\",1,0)","v":0}]
[]
[]
[]
[]
[]
[]
[]
[]
[]
[]
[]
[]
[]
[]
[]
[]
[]
[]
[]
[]
[]
[]
[]
[]
[]
[]
[]
[]
[]
[]
[]
[]
[]
[]
[]
[]
[]
[]
[]
[]
[]
[]
[]
[]
[]
[]
[]
[]
[]
[]
[]
[]
[]
[]
[]
[]
[]
[]
[]
[]
[]
[]
[]
[]
[]
[]
[]
[]
[]
[]
[]
[]
[]
[]
[]
[]
[]
[]
[]
[]
[]
[]
[]
[]
[]
[]
[]
[]
[]
[]
[]
[]
[]
[]
[]
[]
[]
[]
[]
[]
[]
[]
[]
[]
[]
[]
[]
[]
[]
[]
[]
[]
[]
[]
[]
[]
[]
[]
[]
[]
[]
[]
[]
[]
[]
[]
[]
[]
[]
[]
[]
[]
[]
[]
[]
[]
[]
[]
[]
[]
[]
[]
[]
[]
[]
[]
[]
[]
[]
[]
[]
[]
[]
[]
[]
[]
[]
[]
[]
[]
[]
[]
[]
[]
[]
[]
[]
[]
[]
[]
[]
[]
[]
[]
[]
[]
[]
[]
[]
[]
[]
[]
[]
[]
[]
[]
[]
[]
[]
[]
[]
[]
[]
[]
[null,null,null,null,null,null,null,null,null,null,null,null,null,null,null,null,null,null,null,null,null,null,null,null,null,null,null,null,null,null,null,null,null,null,null,null,null,null,null,null,null,null,null,null,null,null,null,null,null,null,null,null,null,null,null,null,null,null,null,null,null,null,null,null,null,null,null,null,null,{"$f":"SUM(BR8:BR205)","v":0},0,0,0,0,0,0,0,0,0,0,0]

{"sheet":"PES.3000H","index":38,"n_rows":194,"n_cols":84,"rows_kept":194,"cut":false,"hidden":true,"merged":[[0,0,4,1],[1,3,1,7],[4,8,4,9],[5,0,6,0],[5,1,6,1],[5,2,6,2],[5,5,6,7],[5,8,6,10],[5,11,6,11],[5,13,6,13],[5,14,6,14],[7,0,8,0],[7,1,8,1],[7,5,7,6],[7,8,7,9],[7,11,8,11],[7,13,8,13],[7,14,8,14],[7,16,8,16],[9,0,10,0],[9,1,10,1],[9,5,9,6],[9,8,9,9],[9,11,10,11],[9,13,10,13],[9,14,10,14]]}
[null,null,"HOMOLOGACIÓN DE ARTEFACTOS",null,null,null,null,null,null,null,null,null,null,null,null,null,null,null,null,null,null,null,null,null,null,null,null,null,null,null,null,null,null,null,null,null,null,null,null,null,null,null,null,null,null,null,null,null,null,null,null,null,null,null,null,null,null,null,null,null,null,null,null,null,null,null,null,null,10]
[null,null,"Competición:",{"$f":"IF(Inicio!D4=\"\",\"FALTA NOMBRE DE COMPETICIÓN\",Inicio!D4)","v":"FALTA NOMBRE DE COMPETICIÓN"},null,null,null,null,null,null,null,null,"X",null,null,"Instalación"]
[null,null,null,null,null,null,null,null,null,null,null,null,null,null,null,"Organización"]
[null,null,null,"PESO 3000 H",null,null,null,null,null,"Funda de plástico/goma:",null,null,null,null,null,"Particular"]
[null,null,null,null,null,null,null,null,1,null,null,"Deficiencias                                       no relacionadas                                           con medidas",null,null,null,1]
["Referencia","Válido","Propietario","Marca y modelo","Cert. IAAF","Peso",null,null,"Diámetro",null,null,"Observaciones",null,"Homologador","Fecha"]
[null,null,null,"Color","Art. Comb.",null,null,null,null,null,null,null,null,null,null,null,null,null,null,null,null,null,null,null,null,null,null,null,null,null,null,null,null,null,null,null,null,null,null,null,null,null,null,null,null,null,null,null,null,null,null,null,null,null,null,null,null,null,null,null,null,null,null,null,null,null,null,null,null,"VI","VO","VP","NVI","NVO","NVP","NVPI","NVPO","NVPP","NVMI","NVMO","NVMP","Peso","Ø cabeza","Observ."]
[1,{"$f":"IF(AND(A8<>\"\",C8<>\"\",D8<>\"\",N8<>\"\",O8<>\"\"),IF(SUM(H9,K9,M9)>0,\"NO\",\"SI\"),\"\")","v":""},null,null,null,null,null,null,null,null,null,null,null,null,null,null,{"$f":"C9","v":0},{"$f":"D9","v":0},null,null,null,null,null,null,null,null,null,null,null,null,null,null,null,null,null,null,null,null,null,null,null,null,null,null,null,null,null,null,null,null,null,null,null,null,null,null,null,null,null,null,null,null,null,null,null,null,null,null,null,{"$f":"IF(AND(B8=\"SI\",C8=\"Instalación\"),1,\"\")","v":""},{"$f":"IF(AND(B8=\"SI\",C8=\"Organización\"),1,\"\")","v":""},{"$f":"IF(AND(B8=\"SI\",C8=\"Particular\"),1,\"\")","v":""},{"$f":"IF(AND(B8=\"NO\",C8=\"Instalación\"),1,\"\")","v":""},{"$f":"IF(AND(B8=\"NO\",C8=\"Organización\"),1,\"\")","v":""},{"$f":"IF(AND(B8=\"NO\",C8=\"Particular\"),1,\"\")","v":""},{"$f":"IF(AND(B8=\"NO\",C8=\"Instalación\",H9=1),1,\"\")","v":""},{"$f":"IF(AND(B8=\"NO\",C8=\"Organización\",H9=1),1,\"\")","v":""},{"$f":"IF(AND(B8=\"NO\",C8=\"Particular\",H9=1),1,\"\")","v":""},{"$f":"IF(AND(B8=\"NO\",C8=\"Instalación\"),IF(K9=1,1,\"\"),\"\")","v":""},{"$f":"IF(AND(B8=\"NO\",C8=\"Organización\"),IF(K9=1,1,\"\"),\"\")","v":""},{"$f":"IF(AND(B8=\"NO\",C8=\"Particular\"),IF(K9=1,1,\"\"),\"\")","v":""},{"$f":"IF(AND(H9=1,F8<>\"\"),\"X\",\"\")","v":""},{"$f":"IF(AND(K9=1,I8<>\"\"),\"X\",\"\")","v":""},{"$f":"IF(AND(M9=1,L8<>\"\"),\"X\",\"\")","v":""}]
[null,null,null,null,null,3000,"-",{"$f":"IF(OR((F8<F9),(F8>G9),F8=\"\"),1,0)","v":1},85,120,{"$f":"IF(OR((I8<I9),(I8>J9),I8=\"\"),1,0)","v":1},null,{"$f":"IF(L8<>\"\",1,0)","v":0}]
[2,{"$f":"IF(AND(A10<>\"\",C10<>\"\",D10<>\"\",N10<>\"\",O10<>\"\"),IF(SUM(H11,K11,M11)>0,\"NO\",\"SI\"),\"\")","v":""},null,null,null,null,null,null,null,null,null,null,null,null,null,null,{"$f":"C11","v":0},{"$f":"D11","v":0},null,null,null,null,null,null,null,null,null,null,null,null,null,null,null,null,null,null,null,null,null,null,null,null,null,null,null,null,null,null,null,null,null,null,null,null,null,null,null,null,null,null,null,null,null,null,null,null,null,null,null,{"$f":"IF(AND(B10=\"SI\",C10=\"Instalación\"),1,\"\")","v":""},{"$f":"IF(AND(B10=\"SI\",C10=\"Organización\"),1,\"\")","v":""},{"$f":"IF(AND(B10=\"SI\",C10=\"Particular\"),1,\"\")","v":""},{"$f":"IF(AND(B10=\"NO\",C10=\"Instalación\"),1,\"\")","v":""},{"$f":"IF(AND(B10=\"NO\",C10=\"Organización\"),1,\"\")","v":""},{"$f":"IF(AND(B10=\"NO\",C10=\"Particular\"),1,\"\")","v":""},{"$f":"IF(AND(B10=\"NO\",C10=\"Instalación\",H11=1),1,\"\")","v":""},{"$f":"IF(AND(B10=\"NO\",C10=\"Organización\",H11=1),1,\"\")","v":""},{"$f":"IF(AND(B10=\"NO\",C10=\"Particular\",H11=1),1,\"\")","v":""},{"$f":"IF(AND(B10=\"NO\",C10=\"Instalación\"),IF(K11=1,1,\"\"),\"\")","v":""},{"$f":"IF(AND(B10=\"NO\",C10=\"Organización\"),IF(K11=1,1,\"\"),\"\")","v":""},{"$f":"IF(AND(B10=\"NO\",C10=\"Particular\"),IF(K11=1,1,\"\"),\"\")","v":""},{"$f":"IF(AND(H11=1,F10<>\"\"),\"X\",\"\")","v":""},{"$f":"IF(AND(K11=1,I10<>\"\"),\"X\",\"\")","v":""},{"$f":"IF(AND(M11=1,L10<>\"\"),\"X\",\"\")","v":""}]
[null,null,null,null,null,3000,"-",{"$f":"IF(OR((F10<F11),(F10>G11),F10=\"\"),1,0)","v":1},85,120,{"$f":"IF(OR((I10<I11),(I10>J11),I10=\"\"),1,0)","v":1},null,{"$f":"IF(L10<>\"\",1,0)","v":0}]
[]
[]
[]
[]
[]
[]
[]
[]
[]
[]
[]
[]
[]
[]
[]
[]
[]
[]
[]
[]
[]
[]
[]
[]
[]
[]
[]
[]
[]
[]
[]
[]
[]
[]
[]
[]
[]
[]
[]
[]
[]
[]
[]
[]
[]
[]
[]
[]
[]
[]
[]
[]
[]
[]
[]
[]
[]
[]
[]
[]
[]
[]
[]
[]
[]
[]
[]
[]
[]
[]
[]
[]
[]
[]
[]
[]
[]
[]
[]
[]
[]
[]
[]
[]
[]
[]
[]
[]
[]
[]
[]
[]
[]
[]
[]
[]
[]
[]
[]
[]
[]
[]
[]
[]
[]
[]
[]
[]
[]
[]
[]
[]
[]
[]
[]
[]
[]
[]
[]
[]
[]
[]
[]
[]
[]
[]
[]
[]
[]
[]
[]
[]
[]
[]
[]
[]
[]
[]
[]
[]
[]
[]
[]
[]
[]
[]
[]
[]
[]
[]
[]
[]
[]
[]
[]
[]
[]
[]
[]
[]
[]
[]
[]
[]
[]
[]
[]
[]
[]
[]
[]
[]
[]
[]
[]
[]
[]
[]
[]
[]
[]
[]
[null,null,null,null,null,null,null,null,null,null,null,null,null,null,null,null,null,null,null,null,null,null,null,null,null,null,null,null,null,null,null,null,null,null,null,null,null,null,null,null,null,null,null,null,null,null,null,null,null,null,null,null,null,null,null,null,null,null,null,null,null,null,null,null,null,null,null,null,null,{"$f":"SUM(BR8:BR193)","v":0},0,0,0,0,0,0,0,0,0,0,0]

{"sheet":"PES.2000","index":39,"n_rows":194,"n_cols":84,"rows_kept":194,"cut":false,"hidden":true,"merged":[[9,13,10,13],[9,14,10,14],[9,0,10,0],[9,1,10,1],[9,5,9,6],[9,8,9,9],[9,11,10,11],[0,0,4,1],[1,3,1,7],[4,8,4,9],[5,0,6,0],[5,1,6,1],[5,2,6,2],[5,5,6,7],[5,8,6,10],[7,16,8,16],[5,11,6,11],[5,13,6,13],[5,14,6,14],[7,0,8,0],[7,1,8,1],[7,5,7,6],[7,8,7,9],[7,11,8,11],[7,13,8,13],[7,14,8,14]]}
[null,null,"HOMOLOGACIÓN DE ARTEFACTOS",null,null,null,null,null,null,null,null,null,null,null,null,null,null,null,null,null,null,null,null,null,null,null,null,null,null,null,null,null,null,null,null,null,null,null,null,null,null,null,null,null,null,null,null,null,null,null,null,null,null,null,null,null,null,null,null,null,null,null,null,null,null,null,null,null,10]
[null,null,"Competición:",{"$f":"IF(Inicio!D4=\"\",\"FALTA NOMBRE DE COMPETICIÓN\",Inicio!D4)","v":"FALTA NOMBRE DE COMPETICIÓN"},null,null,null,null,null,null,null,null,"X",null,null,"Instalación"]
[null,null,null,null,null,null,null,null,null,null,null,null,null,null,null,"Organización"]
[null,null,null,"PESO 2000",null,null,null,null,null,"Funda de plástico/goma:",null,null,null,null,null,"Particular"]
[null,null,null,null,null,null,null,null,1,null,null,"Deficiencias                                       no relacionadas                                           con medidas",null,null,null,1]
["Referencia","Válido","Propietario","Marca y modelo","Cert. IAAF","Peso",null,null,"Diámetro",null,null,"Observaciones",null,"Homologador","Fecha"]
[null,null,null,"Color","Art. Comb.",null,null,null,null,null,null,null,null,null,null,null,null,null,null,null,null,null,null,null,null,null,null,null,null,null,null,null,null,null,null,null,null,null,null,null,null,null,null,null,null,null,null,null,null,null,null,null,null,null,null,null,null,null,null,null,null,null,null,null,null,null,null,null,null,"VI","VO","VP","NVI","NVO","NVP","NVPI","NVPO","NVPP","NVMI","NVMO","NVMP","Peso","Ø cabeza","Observ."]
[1,{"$f":"IF(AND(A8<>\"\",C8<>\"\",D8<>\"\",N8<>\"\",O8<>\"\"),IF(SUM(H9,K9,M9)>0,\"NO\",\"SI\"),\"\")","v":""},null,null,null,null,null,null,null,null,null,null,null,null,null,null,{"$f":"C9","v":0},{"$f":"D9","v":0},null,null,null,null,null,null,null,null,null,null,null,null,null,null,null,null,null,null,null,null,null,null,null,null,null,null,null,null,null,null,null,null,null,null,null,null,null,null,null,null,null,null,null,null,null,null,null,null,null,null,null,{"$f":"IF(AND(B8=\"SI\",C8=\"Instalación\"),1,\"\")","v":""},{"$f":"IF(AND(B8=\"SI\",C8=\"Organización\"),1,\"\")","v":""},{"$f":"IF(AND(B8=\"SI\",C8=\"Particular\"),1,\"\")","v":""},{"$f":"IF(AND(B8=\"NO\",C8=\"Instalación\"),1,\"\")","v":""},{"$f":"IF(AND(B8=\"NO\",C8=\"Organización\"),1,\"\")","v":""},{"$f":"IF(AND(B8=\"NO\",C8=\"Particular\"),1,\"\")","v":""},{"$f":"IF(AND(B8=\"NO\",C8=\"Instalación\",H9=1),1,\"\")","v":""},{"$f":"IF(AND(B8=\"NO\",C8=\"Organización\",H9=1),1,\"\")","v":""},{"$f":"IF(AND(B8=\"NO\",C8=\"Particular\",H9=1),1,\"\")","v":""},{"$f":"IF(AND(B8=\"NO\",C8=\"Instalación\"),IF(K9=1,1,\"\"),\"\")","v":""},{"$f":"IF(AND(B8=\"NO\",C8=\"Organización\"),IF(K9=1,1,\"\"),\"\")","v":""},{"$f":"IF(AND(B8=\"NO\",C8=\"Particular\"),IF(K9=1,1,\"\"),\"\")","v":""},{"$f":"IF(AND(H9=1,F8<>\"\"),\"X\",\"\")","v":""},{"$f":"IF(AND(K9=1,I8<>\"\"),\"X\",\"\")","v":""},{"$f":"IF(AND(M9=1,L8<>\"\"),\"X\",\"\")","v":""}]
[null,null,null,null,null,2000,"-",{"$f":"IF(OR((F8<F9),(F8>G9),F8=\"\"),1,0)","v":1},80,90,{"$f":"IF(OR((I8<I9),(I8>J9),I8=\"\"),1,0)","v":1},null,{"$f":"IF(L8<>\"\",1,0)","v":0}]
[2,{"$f":"IF(AND(A10<>\"\",C10<>\"\",D10<>\"\",N10<>\"\",O10<>\"\"),IF(SUM(H11,K11,M11)>0,\"NO\",\"SI\"),\"\")","v":""},null,null,null,null,null,null,null,null,null,null,null,null,null,null,{"$f":"C11","v":0},{"$f":"D11","v":0},null,null,null,null,null,null,null,null,null,null,null,null,null,null,null,null,null,null,null,null,null,null,null,null,null,null,null,null,null,null,null,null,null,null,null,null,null,null,null,null,null,null,null,null,null,null,null,null,null,null,null,{"$f":"IF(AND(B10=\"SI\",C10=\"Instalación\"),1,\"\")","v":""},{"$f":"IF(AND(B10=\"SI\",C10=\"Organización\"),1,\"\")","v":""},{"$f":"IF(AND(B10=\"SI\",C10=\"Particular\"),1,\"\")","v":""},{"$f":"IF(AND(B10=\"NO\",C10=\"Instalación\"),1,\"\")","v":""},{"$f":"IF(AND(B10=\"NO\",C10=\"Organización\"),1,\"\")","v":""},{"$f":"IF(AND(B10=\"NO\",C10=\"Particular\"),1,\"\")","v":""},{"$f":"IF(AND(B10=\"NO\",C10=\"Instalación\",H11=1),1,\"\")","v":""},{"$f":"IF(AND(B10=\"NO\",C10=\"Organización\",H11=1),1,\"\")","v":""},{"$f":"IF(AND(B10=\"NO\",C10=\"Particular\",H11=1),1,\"\")","v":""},{"$f":"IF(AND(B10=\"NO\",C10=\"Instalación\"),IF(K11=1,1,\"\"),\"\")","v":""},{"$f":"IF(AND(B10=\"NO\",C10=\"Organización\"),IF(K11=1,1,\"\"),\"\")","v":""},{"$f":"IF(AND(B10=\"NO\",C10=\"Particular\"),IF(K11=1,1,\"\"),\"\")","v":""},{"$f":"IF(AND(H11=1,F10<>\"\"),\"X\",\"\")","v":""},{"$f":"IF(AND(K11=1,I10<>\"\"),\"X\",\"\")","v":""},{"$f":"IF(AND(M11=1,L10<>\"\"),\"X\",\"\")","v":""}]
[null,null,null,null,null,2000,"-",{"$f":"IF(OR((F10<F11),(F10>G11),F10=\"\"),1,0)","v":1},80,90,{"$f":"IF(OR((I10<I11),(I10>J11),I10=\"\"),1,0)","v":1},null,{"$f":"IF(L10<>\"\",1,0)","v":0}]
[]
[]
[]
[]
[]
[]
[]
[]
[]
[]
[]
[]
[]
[]
[]
[]
[]
[]
[]
[]
[]
[]
[]
[]
[]
[]
[]
[]
[]
[]
[]
[]
[]
[]
[]
[]
[]
[]
[]
[]
[]
[]
[]
[]
[]
[]
[]
[]
[]
[]
[]
[]
[]
[]
[]
[]
[]
[]
[]
[]
[]
[]
[]
[]
[]
[]
[]
[]
[]
[]
[]
[]
[]
[]
[]
[]
[]
[]
[]
[]
[]
[]
[]
[]
[]
[]
[]
[]
[]
[]
[]
[]
[]
[]
[]
[]
[]
[]
[]
[]
[]
[]
[]
[]
[]
[]
[]
[]
[]
[]
[]
[]
[]
[]
[]
[]
[]
[]
[]
[]
[]
[]
[]
[]
[]
[]
[]
[]
[]
[]
[]
[]
[]
[]
[]
[]
[]
[]
[]
[]
[]
[]
[]
[]
[]
[]
[]
[]
[]
[]
[]
[]
[]
[]
[]
[]
[]
[]
[]
[]
[]
[]
[]
[]
[]
[]
[]
[]
[]
[]
[]
[]
[]
[]
[]
[]
[]
[]
[]
[]
[]
[]
[null,null,null,null,null,null,null,null,null,null,null,null,null,null,null,null,null,null,null,null,null,null,null,null,null,null,null,null,null,null,null,null,null,null,null,null,null,null,null,null,null,null,null,null,null,null,null,null,null,null,null,null,null,null,null,null,null,null,null,null,null,null,null,null,null,null,null,null,null,{"$f":"SUM(BR8:BR193)","v":0},0,0,0,0,0,0,0,0,0,0,0]

{"sheet":"LIS.ALT","index":40,"n_rows":11,"n_cols":69,"rows_kept":11,"cut":false,"hidden":true,"merged":[[9,13,9,14],[9,16,9,17],[9,37,10,37],[9,0,10,0],[9,1,10,1],[9,4,9,5],[9,7,9,8],[9,10,10,11],[4,31,4,36],[5,0,6,0],[5,1,6,1],[5,2,6,2],[5,4,6,6],[5,7,6,9],[5,10,6,12],[5,13,6,15],[5,16,6,18],[5,19,6,21],[0,0,4,1],[1,3,1,13],[4,7,4,8],[4,10,4,11],[4,13,4,14],[4,16,4,30],[5,39,6,39],[5,40,6,40],[7,0,8,0],[7,1,8,1],[7,4,7,5],[7,7,7,8],[7,10,8,11],[7,13,7,14],[7,16,7,17],[7,19,7,20],[5,22,6,24],[5,25,6,27],[5,28,6,30],[5,31,6,33],[5,34,6,36],[5,37,6,37],[7,39,8,39],[7,40,8,40],[7,22,8,23],[7,25,8,26],[7,28,8,29],[7,31,7,32],[7,34,7,35],[7,37,8,37],[9,39,10,39],[9,40,10,40],[9,19,9,20],[9,22,10,23],[9,25,10,26],[9,28,10,29],[9,31,9,32],[9,34,9,35]]}
[null,null,"HOMOLOGACIÓN DE ARTEFACTOS",null,null,null,null,null,null,null,null,null,null,null,null,null,null,null,null,null,null,null,null,null,null,null,null,null,null,null,null,null,null,null,null,null,null,null,null,null,null,null,null,null,null,null,null,null,null,null,null,null,null,null,null,null,null,null,null,null,null,null,null,null,null,null,null,null,10]
[null,null,"Competición:",{"$f":"IF(Inicio!D4=\"\",\"FALTA NOMBRE DE COMPETICIÓN\",Inicio!D4)","v":"FALTA NOMBRE DE COMPETICIÓN"},null,null,null,null,null,null,null,null,null,null,null,null,null,null,null,null,null,null,null,null,null,null,null,null,null,null,null,null,null,null,null,null,null,null,null,null,null,"Instalación","Correcto","Adecuado"]
[null,null,null,null,null,null,null,null,null,null,null,null,null,null,null,null,null,null,null,null,null,null,null,null,null,null,null,null,null,null,null,null,null,null,null,null,null,null,null,null,null,"Organización","Incorrecto","Inadecuado"]
[null,null,null,"LISTÓN DE ALTURA",null,null,null,null,null,null,null,null,null,null,null,null,null,null,null,null,null,null,null,null,null,null,null,null,null,null,null,null,null,null,null,null,null,null,null,null,null,"Particular"]
[null,null,null,null,null,null,null,null,null,null,null,null,null,null,null,null,"E x t r e m o s",null,null,null,null,null,null,null,null,null,null,null,null,null,null,"C o m b a d u r a",null,null,null,null,null,"Deficiencias                                       no relacionadas"]
["Referencia","Válido","Propietario","Marca y modelo","Peso",null,null,"Longitud total",null,null,"Material",null,null,"Sección circular",null,null,"Anchura",null,null,"Longitud",null,null,"Circul. o semicirc. con superf. plana",null,null,"Superf. plana bajo centro secc. transv.",null,null,"Duros y lisos",null,null,"En reposo sobre los saltómetros",null,null,"Con peso de 3 kg",null,null,"Observaciones",null,"Homologador","Fecha"]
[null,null,null,"Color"]
[1,{"$f":"IF(AND(A8<>\"\",C8<>\"\",D8<>\"\",AN8<>\"\",AO8<>\"\"),IF(SUM(G9,J9,M9,P9,S9,V9,Y9,AB9,AE9,AH9,AK9,AM9,)>0,\"NO\",\"SI\"),\"\")","v":""},null,null,null,null,null,null,null,null,null,null,null,null,null,null,null,null,null,null,null,null,null,null,null,null,null,null,null,null,null,null,null,null,null,null,null,null,null,null,null,null,{"$f":"C9","v":0},{"$f":"D9","v":0}]
[null,null,null,null,null,2000,{"$f":"IF(OR((E8<E9),(E8>F9),E8=\"\"),1,0)","v":1},3980,4020,{"$f":"IF(OR((H8<H9),(H8>I9),H8=\"\"),1,0)","v":1},null,null,{"$f":"IF(OR(K8=\"Inadecuado\",K8=\"\"),1,0)","v":1},29,31,{"$f":"IF(OR((N8<N9),(N8>O9),N8=\"\"),1,0)","v":1},30,35,{"$f":"IF(OR((Q8<Q9),(Q8>R9),Q8=\"\"),1,0)","v":1},150,200,{"$f":"IF(OR((T8<T9),(T8>U9),T8=\"\"),1,0)","v":1},null,null,{"$f":"IF(OR(W8=\"Incorrecto\",W8=\"\"),1,0)","v":1},null,null,{"$f":"IF(OR(Z8=\"Incorrecto\",Z8=\"\"),1,0)","v":1},null,null,{"$f":"IF(OR(AC8=\"Incorrecto\",AC8=\"\"),1,0)","v":1},null,20,{"$f":"IF(OR((AF8<AF9),(AF8>AG9),AF8=\"\"),1,0)","v":1},null,70,{"$f":"IF(OR((AI8<AI9),(AI8>AJ9),AI8=\"\"),1,0)","v":1},null,{"$f":"IF(AL8<>\"\",1,0)","v":0}]
[2,{"$f":"IF(AND(A10<>\"\",C10<>\"\",D10<>\"\",AN10<>\"\",AO10<>\"\"),IF(SUM(G11,J11,M11,P11,S11,V11,Y11,AB11,AE11,AH11,AK11,AM11,)>0,\"NO\",\"SI\"),\"\")","v":""},null,null,null,null,null,null,null,null,null,null,null,null,null,null,null,null,null,null,null,null,null,null,null,null,null,null,null,null,null,null,null,null,null,null,null,null,null,null,null,null,{"$f":"C11","v":0},{"$f":"D11","v":0}]
[null,null,null,null,null,2000,{"$f":"IF(OR((E10<E11),(E10>F11),E10=\"\"),1,0)","v":1},3980,4020,{"$f":"IF(OR((H10<H11),(H10>I11),H10=\"\"),1,0)","v":1},null,null,{"$f":"IF(OR(K10=\"Inadecuado\",K10=\"\"),1,0)","v":1},29,31,{"$f":"IF(OR((N10<N11),(N10>O11),N10=\"\"),1,0)","v":1},30,35,{"$f":"IF(OR((Q10<Q11),(Q10>R11),Q10=\"\"),1,0)","v":1},150,200,{"$f":"IF(OR((T10<T11),(T10>U11),T10=\"\"),1,0)","v":1},null,null,{"$f":"IF(OR(W10=\"Incorrecto\",W10=\"\"),1,0)","v":1},null,null,{"$f":"IF(OR(Z10=\"Incorrecto\",Z10=\"\"),1,0)","v":1},null,null,{"$f":"IF(OR(AC10=\"Incorrecto\",AC10=\"\"),1,0)","v":1},null,20,{"$f":"IF(OR((AF10<AF11),(AF10>AG11),AF10=\"\"),1,0)","v":1},null,70,{"$f":"IF(OR((AI10<AI11),(AI10>AJ11),AI10=\"\"),1,0)","v":1},null,{"$f":"IF(AL10<>\"\",1,0)","v":0}]

{"sheet":"LIS.PER","index":41,"n_rows":11,"n_cols":69,"rows_kept":11,"cut":false,"hidden":true,"merged":[[9,13,9,14],[9,16,9,17],[9,0,10,0],[9,1,10,1],[9,4,9,5],[9,7,9,8],[9,10,10,11],[4,31,4,36],[5,0,6,0],[5,1,6,1],[5,2,6,2],[5,4,6,6],[5,7,6,9],[5,10,6,12],[5,13,6,15],[5,16,6,18],[5,19,6,21],[0,0,4,1],[1,3,1,13],[4,7,4,8],[4,10,4,11],[4,13,4,14],[4,16,4,30],[5,39,6,39],[5,40,6,40],[7,0,8,0],[7,1,8,1],[7,4,7,5],[7,7,7,8],[7,10,8,11],[7,13,7,14],[7,16,7,17],[7,19,7,20],[5,22,6,24],[5,25,6,27],[5,28,6,30],[5,31,6,33],[5,34,6,36],[5,37,6,37],[7,39,8,39],[7,40,8,40],[7,42,8,42],[7,22,8,23],[7,25,8,26],[7,28,8,29],[7,31,7,32],[7,34,7,35],[7,37,8,37],[9,37,10,37],[9,39,10,39],[9,40,10,40],[9,19,9,20],[9,22,10,23],[9,25,10,26],[9,28,10,29],[9,31,9,32],[9,34,9,35]]}
[null,null,"HOMOLOGACIÓN DE ARTEFACTOS",null,null,null,null,null,null,null,null,null,null,null,null,null,null,null,null,null,null,null,null,null,null,null,null,null,null,null,null,null,null,null,null,null,null,null,null,null,null,null,null,null,null,null,null,null,null,null,null,null,null,null,null,null,null,null,null,null,null,null,null,null,null,null,null,null,10]
[null,null,"Competición:",{"$f":"IF(Inicio!D4=\"\",\"FALTA NOMBRE DE COMPETICIÓN\",Inicio!D4)","v":"FALTA NOMBRE DE COMPETICIÓN"},null,null,null,null,null,null,null,null,null,null,null,null,null,null,null,null,null,null,null,null,null,null,null,null,null,null,null,null,null,null,null,null,null,null,null,null,null,"Instalación","Correcto","Adecuado"]
[null,null,null,null,null,null,null,null,null,null,null,null,null,null,null,null,null,null,null,null,null,null,null,null,null,null,null,null,null,null,null,null,null,null,null,null,null,null,null,null,null,"Organización","Incorrecto","Inadecuado"]
[null,null,null,"LISTÓN DE PÉRTIGA",null,null,null,null,null,null,null,null,null,null,null,null,null,null,null,null,null,null,null,null,null,null,null,null,null,null,null,null,null,null,null,null,null,null,null,null,null,"Particular"]
[null,null,null,null,null,null,null,null,null,null,null,null,null,null,null,null,"E x t r e m o s",null,null,null,null,null,null,null,null,null,null,null,null,null,null,"C o m b a d u r a",null,null,null,null,null,"Deficiencias                                       no relacionadas"]
["Referencia","Válido","Propietario","Marca y modelo","Peso",null,null,"Longitud total",null,null,"Material",null,null,"Sección circular",null,null,"Anchura",null,null,"Longitud",null,null,"Circul. o semicirc. con superf. plana",null,null,"Superf. plana bajo centro secc. transv.",null,null,"Duros y lisos",null,null,"En reposo sobre los saltómetros",null,null,"Con peso de 3 kg",null,null,"Observaciones",null,"Homologador","Fecha"]
[null,null,null,"Color"]
[1,{"$f":"IF(AND(A8<>\"\",C8<>\"\",D8<>\"\",AN8<>\"\",AO8<>\"\"),IF(SUM(G9,J9,M9,P9,S9,V9,Y9,AB9,AE9,AH9,AK9,AM9,)>0,\"NO\",\"SI\"),\"\")","v":""},null,null,null,null,null,null,null,null,null,null,null,null,null,null,null,null,null,null,null,null,null,null,null,null,null,null,null,null,null,null,null,null,null,null,null,null,null,null,null,null,{"$f":"C9","v":0},{"$f":"D9","v":0}]
[null,null,null,null,null,2250,{"$f":"IF(OR((E8<E9),(E8>F9),E8=\"\"),1,0)","v":1},4480,4520,{"$f":"IF(OR((H8<H9),(H8>I9),H8=\"\"),1,0)","v":1},null,null,{"$f":"IF(OR(K8=\"Inadecuado\",K8=\"\"),1,0)","v":1},29,31,{"$f":"IF(OR((N8<N9),(N8>O9),N8=\"\"),1,0)","v":1},30,35,{"$f":"IF(OR((Q8<Q9),(Q8>R9),Q8=\"\"),1,0)","v":1},150,200,{"$f":"IF(OR((T8<T9),(T8>U9),T8=\"\"),1,0)","v":1},null,null,{"$f":"IF(OR(W8=\"Incorrecto\",W8=\"\"),1,0)","v":1},null,null,{"$f":"IF(OR(Z8=\"Incorrecto\",Z8=\"\"),1,0)","v":1},null,null,{"$f":"IF(OR(AC8=\"Incorrecto\",AC8=\"\"),1,0)","v":1},null,30,{"$f":"IF(OR((AF8<AF9),(AF8>AG9),AF8=\"\"),1,0)","v":1},null,110,{"$f":"IF(OR((AI8<AI9),(AI8>AJ9),AI8=\"\"),1,0)","v":1},null,{"$f":"IF(AL8<>\"\",1,0)","v":0}]
[2,{"$f":"IF(AND(A10<>\"\",C10<>\"\",D10<>\"\",AN10<>\"\",AO10<>\"\"),IF(SUM(G11,J11,M11,P11,S11,V11,Y11,AB11,AE11,AH11,AK11,AM11,)>0,\"NO\",\"SI\"),\"\")","v":""},null,null,null,null,null,null,null,null,null,null,null,null,null,null,null,null,null,null,null,null,null,null,null,null,null,null,null,null,null,null,null,null,null,null,null,null,null,null,null,null,{"$f":"C11","v":0},{"$f":"D11","v":0}]
[null,null,null,null,null,2250,{"$f":"IF(OR((E10<E11),(E10>F11),E10=\"\"),1,0)","v":1},4480,4520,{"$f":"IF(OR((H10<H11),(H10>I11),H10=\"\"),1,0)","v":1},null,null,{"$f":"IF(OR(K10=\"Inadecuado\",K10=\"\"),1,0)","v":1},29,31,{"$f":"IF(OR((N10<N11),(N10>O11),N10=\"\"),1,0)","v":1},30,35,{"$f":"IF(OR((Q10<Q11),(Q10>R11),Q10=\"\"),1,0)","v":1},150,200,{"$f":"IF(OR((T10<T11),(T10>U11),T10=\"\"),1,0)","v":1},null,null,{"$f":"IF(OR(W10=\"Incorrecto\",W10=\"\"),1,0)","v":1},null,null,{"$f":"IF(OR(Z10=\"Incorrecto\",Z10=\"\"),1,0)","v":1},null,null,{"$f":"IF(OR(AC10=\"Incorrecto\",AC10=\"\"),1,0)","v":1},null,30,{"$f":"IF(OR((AF10<AF11),(AF10>AG11),AF10=\"\"),1,0)","v":1},null,110,{"$f":"IF(OR((AI10<AI11),(AI10>AJ11),AI10=\"\"),1,0)","v":1},null,{"$f":"IF(AL10<>\"\",1,0)","v":0}]

{"sheet":"TESTIGOS","index":42,"n_rows":15,"n_cols":69,"rows_kept":15,"cut":false,"hidden":true,"merged":[[13,15,14,15],[13,16,14,16],[5,15,6,15],[5,16,6,16],[7,15,8,15],[7,16,8,16],[7,18,8,18],[9,15,10,15],[9,16,10,16],[11,15,12,15],[11,16,12,16],[7,0,8,0],[7,1,8,1],[7,4,7,5],[7,7,7,8],[7,13,8,13],[7,10,7,11],[5,2,6,2],[5,4,6,6],[5,7,6,9],[5,13,6,13],[0,0,4,1],[1,3,1,6],[4,7,4,8],[5,0,6,0],[5,1,6,1],[4,10,4,11],[5,10,6,12],[9,0,10,0],[9,1,10,1],[9,4,9,5],[9,7,9,8],[9,13,10,13],[9,10,9,11],[13,0,14,0],[13,1,14,1],[13,4,13,5],[13,7,13,8],[13,13,14,13],[13,10,13,11],[11,0,12,0],[11,1,12,1],[11,4,11,5],[11,7,11,8],[11,13,12,13],[11,10,11,11]]}
[null,null,"HOMOLOGACIÓN DE ARTEFACTOS",null,null,null,null,null,null,null,null,null,null,null,null,null,null,null,null,null,null,null,null,null,null,null,null,null,null,null,null,null,null,null,null,null,null,null,null,null,null,null,null,null,null,null,null,null,null,null,null,null,null,null,null,null,null,null,null,null,null,null,null,null,null,null,null,null,14]
[null,null,"Competición:",{"$f":"IF(Inicio!D4=\"\",\"FALTA NOMBRE DE COMPETICIÓN\",Inicio!D4)","v":"FALTA NOMBRE DE COMPETICIÓN"},null,null,null,null,null,null,null,null,null,null,null,null,null,"Instalación","Correcto"]
[null,null,null,null,null,null,null,null,null,null,null,null,null,null,null,null,null,"Organización","Incorrecto"]
[null,null,null,"TESTIGOS",null,null,null,null,null,null,null,null,null,null,null,null,null,"Particular"]
[null,null,null,null,null,null,null,null,null,null,null,null,null,"Deficiencias                                       no relacionadas                                           con medidas"]
["Referencia","Válido","Propietario","Marca y modelo","Peso",null,null,"Diámetro",null,null,"Longitud",null,null,"Observaciones",null,"Homologador","Fecha"]
[null,null,null,"Color"]
[1,{"$f":"IF(AND(A8<>\"\",C8<>\"\",D8<>\"\",P8<>\"\",Q8<>\"\"),IF(SUM(G9,J9,M9,O9)>0,\"NO\",\"SI\"),\"\")","v":""},null,null,null,null,null,null,null,null,null,null,null,null,null,null,null,null,{"$f":"C9","v":0},{"$f":"D9","v":0}]
[null,null,null,null,50,"-",{"$f":"IF(OR((E8<E9),(E8>F9),E8=\"\"),1,0)","v":1},38,42,{"$f":"IF(OR((H8<H9),(H8>I9),H8=\"\"),1,0)","v":1},280,300,{"$f":"IF(OR((K8<K9),(K8>L9),K8=\"\"),1,0)","v":1},null,{"$f":"IF(N8<>\"\",1,\"\")","v":""}]
[2,{"$f":"IF(AND(A10<>\"\",C10<>\"\",D10<>\"\",P10<>\"\",Q10<>\"\"),IF(SUM(G11,J11,M11,O11)>0,\"NO\",\"SI\"),\"\")","v":""},null,null,null,null,null,null,null,null,null,null,null,null,null,null,null,null,{"$f":"C11","v":0},{"$f":"D11","v":0}]
[null,null,null,null,50,"-",{"$f":"IF(OR((E10<E11),(E10>F11),E10=\"\"),1,0)","v":1},38,42,{"$f":"IF(OR((H10<H11),(H10>I11),H10=\"\"),1,0)","v":1},280,300,{"$f":"IF(OR((K10<K11),(K10>L11),K10=\"\"),1,0)","v":1},null,{"$f":"IF(N10<>\"\",1,\"\")","v":""}]
[3,{"$f":"IF(AND(A12<>\"\",C12<>\"\",D12<>\"\",P12<>\"\",Q12<>\"\"),IF(SUM(G13,J13,M13,O13)>0,\"NO\",\"SI\"),\"\")","v":""},null,null,null,null,null,null,null,null,null,null,null,null,null,null,null,null,{"$f":"C13","v":0},{"$f":"D13","v":0}]
[null,null,null,null,50,"-",{"$f":"IF(OR((E12<E13),(E12>F13),E12=\"\"),1,0)","v":1},38,42,{"$f":"IF(OR((H12<H13),(H12>I13),H12=\"\"),1,0)","v":1},280,300,{"$f":"IF(OR((K12<K13),(K12>L13),K12=\"\"),1,0)","v":1},null,{"$f":"IF(N12<>\"\",1,\"\")","v":""}]
[4,{"$f":"IF(AND(A14<>\"\",C14<>\"\",D14<>\"\",P14<>\"\",Q14<>\"\"),IF(SUM(G15,J15,M15,O15)>0,\"NO\",\"SI\"),\"\")","v":""},null,null,null,null,null,null,null,null,null,null,null,null,null,null,null,null,{"$f":"C15","v":0},{"$f":"D15","v":0}]
[null,null,null,null,50,"-",{"$f":"IF(OR((E14<E15),(E14>F15),E14=\"\"),1,0)","v":1},38,42,{"$f":"IF(OR((H14<H15),(H14>I15),H14=\"\"),1,0)","v":1},280,300,{"$f":"IF(OR((K14<K15),(K14>L15),K14=\"\"),1,0)","v":1},null,{"$f":"IF(N14<>\"\",1,\"\")","v":""}]

{"sheet":"Justificante","index":43,"n_rows":37,"n_cols":13,"rows_kept":37,"cut":false,"hidden":true,"merged":[[26,3,26,4],[26,5,26,9],[27,3,27,4],[27,5,27,9],[28,3,30,4],[28,5,30,9],[25,3,25,4],[25,6,25,7],[25,8,25,9],[16,4,16,8],[19,4,19,8],[21,3,21,4],[21,5,21,9],[22,3,22,4],[22,5,22,9],[23,3,23,4],[23,5,23,9],[24,3,24,4],[24,5,24,6],[24,8,24,9],[10,3,10,4],[10,5,10,9],[11,3,11,4],[11,5,11,9],[12,3,14,4],[12,5,14,9],[9,3,9,4],[9,6,9,7],[9,8,9,9],[0,4,0,8],[2,1,2,2],[3,4,3,8],[5,3,5,4],[5,5,5,9],[6,3,6,4],[6,5,6,9],[7,3,7,4],[7,5,7,9],[8,3,8,4],[8,5,8,6],[8,8,8,9]]}
[null,null,null,null,"JUSTIFICANTE ENTREGA DE ARTEFACTO"]
[]
[]
[]
[null,null,null,null,null,null,null,null,null,null,null,null,"Nombre Artefacto"]
[null,null,null,"Propietario/a:"]
[null,null,null,"Club/Equipo:",null,null,null,null,null,null,null,null,"JABALINA 800"]
[null,null,null,"Marca:",null,null,null,null,null,null,null,null,"JABALINA 700"]
[null,null,null,"Modelo:",null,null,null,"Color:",null,null,null,null,"JABALINA 600"]
[null,null,null,"Referencia:",null,null,"Fecha y hora:",null,null,null,null,null,"JABALINA 500"]
[null,null,null,"Recogido por:",null,null,null,null,null,null,null,null,"JABALINA 400"]
[null,null,null,"Observaciones:",null,null,null,null,null,null,null,null,"DISCO 2000"]
[null,null,null,"Firma del receptor del artefacto:",null,null,null,null,null,null,null,null,"DISCO 1750"]
[null,null,null,null,null,null,null,null,null,null,null,null,"DISCO 1500"]
[null,null,null,null,null,null,null,null,null,null,null,null,"DISCO 1000"]
[null,null,null,null,null,null,null,null,null,null,null,null,"DISCO 800"]
[null,null,null,null,"JUSTIFICANTE ENTREGA DE ARTEFACTO",null,null,null,null,null,null,null,"DISCO 750"]
[null,null,null,null,null,null,null,null,null,null,null,null,"MARTILLO 7260"]
[null,null,null,null,null,null,null,null,null,null,null,null,"MARTILLO 6000"]
[null,null,null,null,{"$f":"IF(E4=\"\",\"\",E4)","v":""},null,null,null,null,null,null,null,"MARTILLO 5000"]
[null,null,null,null,null,null,null,null,null,null,null,null,"MARTILLO 4000"]
[null,null,null,"Propietario/a:",null,{"$f":"IF(F6=\"\",\"\",F6)","v":""},null,null,null,null,null,null,"MARTILLO 3000"]
[null,null,null,"Club/Equipo:",null,"",null,null,null,null,null,null,"MARTILLO 2000"]
[null,null,null,"Marca:",null,"",null,null,null,null,null,null,"PESO 7260"]
[null,null,null,"Modelo:",null,"",null,"Color:",{"$f":"IF(I9=\"\",\"\",I9)","v":""},null,null,null,"PESO 6000"]
[null,null,null,"Referencia:",null,"","Fecha y hora:",null,{"$f":"IF(I10=\"\",\"\",I10)","v":""},null,null,null,"PESO 5000"]
[null,null,null,"Recogido por:",null,"",null,null,null,null,null,null,"PESO 4000H"]
[null,null,null,"Observaciones:",null,"",null,null,null,null,null,null,"PESO 4000M"]
[null,null,null,"Firma del receptor del artefacto:",null,null,null,null,null,null,null,null,"PESO 3000H"]
[null,null,null,null,null,null,null,null,null,null,null,null,"PESO 3000M"]
[null,null,null,null,null,null,null,null,null,null,null,null,"PESO 2000"]
[null,null,null,null,null,null,null,null,null,null,null,null,"MARTILLO PESADO 15880"]
[null,null,null,null,null,null,null,null,null,null,null,null,"MARTILLO PESADO 11340"]
[null,null,null,null,null,null,null,null,null,null,null,null,"MARTILLO PESADO 9080"]
[null,null,null,null,null,null,null,null,null,null,null,null,"MARTILLO PESADO 7260"]
[null,null,null,null,null,null,null,null,null,null,null,null,"MARTILLO PESADO 5450"]
[null,null,null,null,null,null,null,null,null,null,null,null,"MARTILLO PESADO 4000"]

{"sheet":"% uso artefactos","index":44,"n_rows":209,"n_cols":26,"rows_kept":209,"cut":false,"hidden":true,"merged":[[0,1,0,3],[2,1,2,3],[2,8,2,9],[4,0,4,1],[4,2,4,3],[9,1,9,2],[11,1,11,2],[8,20,8,25],[8,1,8,2],[6,1,6,3]]}
[null,"RELACIÓN DE ARTEFACTOS"]
[null,null,null,null,null,null,null,null,null,"X"]
[]
[]
["Competición:",null,{"$f":"IF(Inicio!D4=\"\",\"FALTA NOMBRE DE COMPETICIÓN\",Inicio!D4)","v":"FALTA NOMBRE DE COMPETICIÓN"},null,null,null,null,null,"Nombre Artefacto","Nombre Pestaña"]
[]
[]
[null,null,null,null,null,null,null,null,null,null,null,null,null,null,null,null,null,null,null,null,23]
["Ref.","Propietario",null,"Marca/Modelo/Color","Cert. IAAF",{"$f":" COUNTIF(U11:Z25,\"> 0\")","v":0},"Veces util.","Porc. uso",null,{"$f":"IF(B3<>\"\",VLOOKUP(B3,I10:J40,2,FALSE),\"\")","v":""},null,null,null,null,null,null,null,null,null,null,"Intentos"]
[null,null,null,null,null,null,null,null,"JABALINA 800","JAB.800",null,{"$f":"IF($J$9<>\"\",INDIRECT(CONCATENATE($J$9,\"!A8\")),\"\")","v":""},{"$f":"IF($J$9<>\"\",INDIRECT(CONCATENATE($J$9,\"!B8\")),\"\")","v":""},{"$f":"IF($J$9<>\"\",INDIRECT(CONCATENATE($J$9,\"!C8\")),\"\")","v":""},{"$f":"IF($J$9<>\"\",INDIRECT(CONCATENATE($J$9,\"!D8\")),\"\")","v":""},{"$f":"IF($J$9<>\"\",INDIRECT(CONCATENATE($J$9,\"!E8\")),\"\")","v":""},{"$f":"IF($J$9<>\"\",INDIRECT(CONCATENATE($J$9,\"!F8\")),\"\")","v":""},{"$f":"IF($J$9<>\"\",INDIRECT(CONCATENATE($J$9,\"!E9\")),\"\")","v":""},null,null,"1º","2º","3º","4º","5º","6º"]
[null,null,null,null,null,null,null,null,"JABALINA 700","JAB.700",null,{"$f":"IF($J$9<>\"\",INDIRECT(CONCATENATE($J$9,\"!A9\")),\"\")","v":""},{"$f":"IF($J$9<>\"\",INDIRECT(CONCATENATE($J$9,\"!B9\")),\"\")","v":""},{"$f":"IF($J$9<>\"\",INDIRECT(CONCATENATE($J$9,\"!C9\")),\"\")","v":""},{"$f":"IF($J$9<>\"\",INDIRECT(CONCATENATE($J$9,\"!D9\")),\"\")","v":""},{"$f":"IF($J$9<>\"\",INDIRECT(CONCATENATE($J$9,\"!E9\")),\"\")","v":""},{"$f":"IF($J$9<>\"\",INDIRECT(CONCATENATE($J$9,\"!F9\")),\"\")","v":""}]
[null,"TOTAL DE ARTEFACTOS:",null,{"$f":"SUM(F10:F12)","v":0},null,null,null,null,"JABALINA 600","JAB.600",null,{"$f":"IF($J$9<>\"\",INDIRECT(CONCATENATE($J$9,\"!A10\")),\"\")","v":""},{"$f":"IF($J$9<>\"\",INDIRECT(CONCATENATE($J$9,\"!B10\")),\"\")","v":""},{"$f":"IF($J$9<>\"\",INDIRECT(CONCATENATE($J$9,\"!C10\")),\"\")","v":""},{"$f":"IF($J$9<>\"\",INDIRECT(CONCATENATE($J$9,\"!D10\")),\"\")","v":""},{"$f":"IF($J$9<>\"\",INDIRECT(CONCATENATE($J$9,\"!E10\")),\"\")","v":""},{"$f":"IF($J$9<>\"\",INDIRECT(CONCATENATE($J$9,\"!F10\")),\"\")","v":""}]
[null,null,null,null,null,null,null,null,"JABALINA 500","JAB.500",null,{"$f":"IF($J$9<>\"\",INDIRECT(CONCATENATE($J$9,\"!A11\")),\"\")","v":""},{"$f":"IF($J$9<>\"\",INDIRECT(CONCATENATE($J$9,\"!B11\")),\"\")","v":""},{"$f":"IF($J$9<>\"\",INDIRECT(CONCATENATE($J$9,\"!C11\")),\"\")","v":""},{"$f":"IF($J$9<>\"\",INDIRECT(CONCATENATE($J$9,\"!D11\")),\"\")","v":""},{"$f":"IF($J$9<>\"\",INDIRECT(CONCATENATE($J$9,\"!E11\")),\"\")","v":""},{"$f":"IF($J$9<>\"\",INDIRECT(CONCATENATE($J$9,\"!F11\")),\"\")","v":""}]
[null,null,null,null,null,null,null,null,"JABALINA 400","JAB.400",null,{"$f":"IF($J$9<>\"\",INDIRECT(CONCATENATE($J$9,\"!A12\")),\"\")","v":""},{"$f":"IF($J$9<>\"\",INDIRECT(CONCATENATE($J$9,\"!B12\")),\"\")","v":""},{"$f":"IF($J$9<>\"\",INDIRECT(CONCATENATE($J$9,\"!C12\")),\"\")","v":""},{"$f":"IF($J$9<>\"\",INDIRECT(CONCATENATE($J$9,\"!D12\")),\"\")","v":""},{"$f":"IF($J$9<>\"\",INDIRECT(CONCATENATE($J$9,\"!E12\")),\"\")","v":""},{"$f":"IF($J$9<>\"\",INDIRECT(CONCATENATE($J$9,\"!F12\")),\"\")","v":""}]
[null,null,null,null,null,null,null,null,"DISCO 2000","DIS.2000",null,{"$f":"IF($J$9<>\"\",INDIRECT(CONCATENATE($J$9,\"!A13\")),\"\")","v":""},{"$f":"IF($J$9<>\"\",INDIRECT(CONCATENATE($J$9,\"!B13\")),\"\")","v":""},{"$f":"IF($J$9<>\"\",INDIRECT(CONCATENATE($J$9,\"!C13\")),\"\")","v":""},{"$f":"IF($J$9<>\"\",INDIRECT(CONCATENATE($J$9,\"!D13\")),\"\")","v":""},{"$f":"IF($J$9<>\"\",INDIRECT(CONCATENATE($J$9,\"!E13\")),\"\")","v":""},{"$f":"IF($J$9<>\"\",INDIRECT(CONCATENATE($J$9,\"!F13\")),\"\")","v":""}]
[null,null,null,null,null,null,null,null,"DISCO 1750","DIS.1750",null,{"$f":"IF($J$9<>\"\",INDIRECT(CONCATENATE($J$9,\"!A14\")),\"\")","v":""},{"$f":"IF($J$9<>\"\",INDIRECT(CONCATENATE($J$9,\"!B14\")),\"\")","v":""},{"$f":"IF($J$9<>\"\",INDIRECT(CONCATENATE($J$9,\"!C14\")),\"\")","v":""},{"$f":"IF($J$9<>\"\",INDIRECT(CONCATENATE($J$9,\"!D14\")),\"\")","v":""},{"$f":"IF($J$9<>\"\",INDIRECT(CONCATENATE($J$9,\"!E14\")),\"\")","v":""},{"$f":"IF($J$9<>\"\",INDIRECT(CONCATENATE($J$9,\"!F14\")),\"\")","v":""}]
[null,null,null,null,null,null,null,null,"DISCO 1500","DIS.1500",null,{"$f":"IF($J$9<>\"\",INDIRECT(CONCATENATE($J$9,\"!A15\")),\"\")","v":""},{"$f":"IF($J$9<>\"\",INDIRECT(CONCATENATE($J$9,\"!B15\")),\"\")","v":""},{"$f":"IF($J$9<>\"\",INDIRECT(CONCATENATE($J$9,\"!C15\")),\"\")","v":""},{"$f":"IF($J$9<>\"\",INDIRECT(CONCATENATE($J$9,\"!D15\")),\"\")","v":""},{"$f":"IF($J$9<>\"\",INDIRECT(CONCATENATE($J$9,\"!E15\")),\"\")","v":""},{"$f":"IF($J$9<>\"\",INDIRECT(CONCATENATE($J$9,\"!F15\")),\"\")","v":""}]
[null,null,null,null,null,null,null,null,"DISCO 1000","DIS.1000",null,{"$f":"IF($J$9<>\"\",INDIRECT(CONCATENATE($J$9,\"!A16\")),\"\")","v":""},{"$f":"IF($J$9<>\"\",INDIRECT(CONCATENATE($J$9,\"!B16\")),\"\")","v":""},{"$f":"IF($J$9<>\"\",INDIRECT(CONCATENATE($J$9,\"!C16\")),\"\")","v":""},{"$f":"IF($J$9<>\"\",INDIRECT(CONCATENATE($J$9,\"!D16\")),\"\")","v":""},{"$f":"IF($J$9<>\"\",INDIRECT(CONCATENATE($J$9,\"!E16\")),\"\")","v":""},{"$f":"IF($J$9<>\"\",INDIRECT(CONCATENATE($J$9,\"!F16\")),\"\")","v":""}]
[null,null,null,null,null,null,null,null,"DISCO 800","DIS.800",null,{"$f":"IF($J$9<>\"\",INDIRECT(CONCATENATE($J$9,\"!A17\")),\"\")","v":""},{"$f":"IF($J$9<>\"\",INDIRECT(CONCATENATE($J$9,\"!B17\")),\"\")","v":""},{"$f":"IF($J$9<>\"\",INDIRECT(CONCATENATE($J$9,\"!C17\")),\"\")","v":""},{"$f":"IF($J$9<>\"\",INDIRECT(CONCATENATE($J$9,\"!D17\")),\"\")","v":""},{"$f":"IF($J$9<>\"\",INDIRECT(CONCATENATE($J$9,\"!E17\")),\"\")","v":""},{"$f":"IF($J$9<>\"\",INDIRECT(CONCATENATE($J$9,\"!F17\")),\"\")","v":""}]
[null,null,null,null,null,null,null,null,"DISCO 750","DIS.750",null,{"$f":"IF($J$9<>\"\",INDIRECT(CONCATENATE($J$9,\"!A18\")),\"\")","v":""},{"$f":"IF($J$9<>\"\",INDIRECT(CONCATENATE($J$9,\"!B18\")),\"\")","v":""},{"$f":"IF($J$9<>\"\",INDIRECT(CONCATENATE($J$9,\"!C18\")),\"\")","v":""},{"$f":"IF($J$9<>\"\",INDIRECT(CONCATENATE($J$9,\"!D18\")),\"\")","v":""},{"$f":"IF($J$9<>\"\",INDIRECT(CONCATENATE($J$9,\"!E18\")),\"\")","v":""},{"$f":"IF($J$9<>\"\",INDIRECT(CONCATENATE($J$9,\"!F18\")),\"\")","v":""}]
[null,null,null,null,null,null,null,null,"MARTILLO 7260","MAR.7260",null,{"$f":"IF($J$9<>\"\",INDIRECT(CONCATENATE($J$9,\"!A19\")),\"\")","v":""},{"$f":"IF($J$9<>\"\",INDIRECT(CONCATENATE($J$9,\"!B19\")),\"\")","v":""},{"$f":"IF($J$9<>\"\",INDIRECT(CONCATENATE($J$9,\"!C19\")),\"\")","v":""},{"$f":"IF($J$9<>\"\",INDIRECT(CONCATENATE($J$9,\"!D19\")),\"\")","v":""},{"$f":"IF($J$9<>\"\",INDIRECT(CONCATENATE($J$9,\"!E19\")),\"\")","v":""},{"$f":"IF($J$9<>\"\",INDIRECT(CONCATENATE($J$9,\"!F19\")),\"\")","v":""}]
[null,null,null,null,null,null,null,null,"MARTILLO 6000","MAR.6000",null,{"$f":"IF($J$9<>\"\",INDIRECT(CONCATENATE($J$9,\"!A20\")),\"\")","v":""},{"$f":"IF($J$9<>\"\",INDIRECT(CONCATENATE($J$9,\"!B20\")),\"\")","v":""},{"$f":"IF($J$9<>\"\",INDIRECT(CONCATENATE($J$9,\"!C20\")),\"\")","v":""},{"$f":"IF($J$9<>\"\",INDIRECT(CONCATENATE($J$9,\"!D20\")),\"\")","v":""},{"$f":"IF($J$9<>\"\",INDIRECT(CONCATENATE($J$9,\"!E20\")),\"\")","v":""},{"$f":"IF($J$9<>\"\",INDIRECT(CONCATENATE($J$9,\"!F20\")),\"\")","v":""}]
[null,null,null,null,null,null,null,null,"MARTILLO 5000","MAR.5000",null,{"$f":"IF($J$9<>\"\",INDIRECT(CONCATENATE($J$9,\"!A21\")),\"\")","v":""},{"$f":"IF($J$9<>\"\",INDIRECT(CONCATENATE($J$9,\"!B21\")),\"\")","v":""},{"$f":"IF($J$9<>\"\",INDIRECT(CONCATENATE($J$9,\"!C21\")),\"\")","v":""},{"$f":"IF($J$9<>\"\",INDIRECT(CONCATENATE($J$9,\"!D21\")),\"\")","v":""},{"$f":"IF($J$9<>\"\",INDIRECT(CONCATENATE($J$9,\"!E21\")),\"\")","v":""},{"$f":"IF($J$9<>\"\",INDIRECT(CONCATENATE($J$9,\"!F21\")),\"\")","v":""}]
[null,null,null,null,null,null,null,null,"MARTILLO 4000","MAR.4000",null,{"$f":"IF($J$9<>\"\",INDIRECT(CONCATENATE($J$9,\"!A22\")),\"\")","v":""},{"$f":"IF($J$9<>\"\",INDIRECT(CONCATENATE($J$9,\"!B22\")),\"\")","v":""},{"$f":"IF($J$9<>\"\",INDIRECT(CONCATENATE($J$9,\"!C22\")),\"\")","v":""},{"$f":"IF($J$9<>\"\",INDIRECT(CONCATENATE($J$9,\"!D22\")),\"\")","v":""},{"$f":"IF($J$9<>\"\",INDIRECT(CONCATENATE($J$9,\"!E22\")),\"\")","v":""},{"$f":"IF($J$9<>\"\",INDIRECT(CONCATENATE($J$9,\"!F22\")),\"\")","v":""}]
[null,null,null,null,null,null,null,null,"MARTILLO 3000","MAR.3000",null,{"$f":"IF($J$9<>\"\",INDIRECT(CONCATENATE($J$9,\"!A23\")),\"\")","v":""},{"$f":"IF($J$9<>\"\",INDIRECT(CONCATENATE($J$9,\"!B23\")),\"\")","v":""},{"$f":"IF($J$9<>\"\",INDIRECT(CONCATENATE($J$9,\"!C23\")),\"\")","v":""},{"$f":"IF($J$9<>\"\",INDIRECT(CONCATENATE($J$9,\"!D23\")),\"\")","v":""},{"$f":"IF($J$9<>\"\",INDIRECT(CONCATENATE($J$9,\"!E23\")),\"\")","v":""},{"$f":"IF($J$9<>\"\",INDIRECT(CONCATENATE($J$9,\"!F23\")),\"\")","v":""}]
[null,null,null,null,null,null,null,null,"MARTILLO 2000","MAR.2000",null,{"$f":"IF($J$9<>\"\",INDIRECT(CONCATENATE($J$9,\"!A24\")),\"\")","v":""},{"$f":"IF($J$9<>\"\",INDIRECT(CONCATENATE($J$9,\"!B24\")),\"\")","v":""},{"$f":"IF($J$9<>\"\",INDIRECT(CONCATENATE($J$9,\"!C24\")),\"\")","v":""},{"$f":"IF($J$9<>\"\",INDIRECT(CONCATENATE($J$9,\"!D24\")),\"\")","v":""},{"$f":"IF($J$9<>\"\",INDIRECT(CONCATENATE($J$9,\"!E24\")),\"\")","v":""},{"$f":"IF($J$9<>\"\",INDIRECT(CONCATENATE($J$9,\"!F24\")),\"\")","v":""}]
[null,null,null,null,null,null,null,null,"PESO 7260","PES.7260",null,{"$f":"IF($J$9<>\"\",INDIRECT(CONCATENATE($J$9,\"!A25\")),\"\")","v":""},{"$f":"IF($J$9<>\"\",INDIRECT(CONCATENATE($J$9,\"!B25\")),\"\")","v":""},{"$f":"IF($J$9<>\"\",INDIRECT(CONCATENATE($J$9,\"!C25\")),\"\")","v":""},{"$f":"IF($J$9<>\"\",INDIRECT(CONCATENATE($J$9,\"!D25\")),\"\")","v":""},{"$f":"IF($J$9<>\"\",INDIRECT(CONCATENATE($J$9,\"!E25\")),\"\")","v":""},{"$f":"IF($J$9<>\"\",INDIRECT(CONCATENATE($J$9,\"!F25\")),\"\")","v":""}]
[null,null,null,null,null,null,null,null,"PESO 6000","PES.6000",null,{"$f":"IF($J$9<>\"\",INDIRECT(CONCATENATE($J$9,\"!A26\")),\"\")","v":""},{"$f":"IF($J$9<>\"\",INDIRECT(CONCATENATE($J$9,\"!B26\")),\"\")","v":""},{"$f":"IF($J$9<>\"\",INDIRECT(CONCATENATE($J$9,\"!C26\")),\"\")","v":""},{"$f":"IF($J$9<>\"\",INDIRECT(CONCATENATE($J$9,\"!D26\")),\"\")","v":""},{"$f":"IF($J$9<>\"\",INDIRECT(CONCATENATE($J$9,\"!E26\")),\"\")","v":""},{"$f":"IF($J$9<>\"\",INDIRECT(CONCATENATE($J$9,\"!F26\")),\"\")","v":""}]
[null,null,null,null,null,null,null,null,"PESO 5000","PES.5000",null,{"$f":"IF($J$9<>\"\",INDIRECT(CONCATENATE($J$9,\"!A27\")),\"\")","v":""},{"$f":"IF($J$9<>\"\",INDIRECT(CONCATENATE($J$9,\"!B27\")),\"\")","v":""},{"$f":"IF($J$9<>\"\",INDIRECT(CONCATENATE($J$9,\"!C27\")),\"\")","v":""},{"$f":"IF($J$9<>\"\",INDIRECT(CONCATENATE($J$9,\"!D27\")),\"\")","v":""},{"$f":"IF($J$9<>\"\",INDIRECT(CONCATENATE($J$9,\"!E27\")),\"\")","v":""},{"$f":"IF($J$9<>\"\",INDIRECT(CONCATENATE($J$9,\"!F27\")),\"\")","v":""}]
[null,null,null,null,null,null,null,null,"PESO 4000H","PES.4000H",null,{"$f":"IF($J$9<>\"\",INDIRECT(CONCATENATE($J$9,\"!A28\")),\"\")","v":""},{"$f":"IF($J$9<>\"\",INDIRECT(CONCATENATE($J$9,\"!B28\")),\"\")","v":""},{"$f":"IF($J$9<>\"\",INDIRECT(CONCATENATE($J$9,\"!C28\")),\"\")","v":""},{"$f":"IF($J$9<>\"\",INDIRECT(CONCATENATE($J$9,\"!D28\")),\"\")","v":""},{"$f":"IF($J$9<>\"\",INDIRECT(CONCATENATE($J$9,\"!E28\")),\"\")","v":""},{"$f":"IF($J$9<>\"\",INDIRECT(CONCATENATE($J$9,\"!F28\")),\"\")","v":""}]
[null,null,null,null,null,null,null,null,"PESO 4000M","PES.4000M",null,{"$f":"IF($J$9<>\"\",INDIRECT(CONCATENATE($J$9,\"!A29\")),\"\")","v":""},{"$f":"IF($J$9<>\"\",INDIRECT(CONCATENATE($J$9,\"!B29\")),\"\")","v":""},{"$f":"IF($J$9<>\"\",INDIRECT(CONCATENATE($J$9,\"!C29\")),\"\")","v":""},{"$f":"IF($J$9<>\"\",INDIRECT(CONCATENATE($J$9,\"!D29\")),\"\")","v":""},{"$f":"IF($J$9<>\"\",INDIRECT(CONCATENATE($J$9,\"!E29\")),\"\")","v":""},{"$f":"IF($J$9<>\"\",INDIRECT(CONCATENATE($J$9,\"!F29\")),\"\")","v":""}]
[null,null,null,null,null,null,null,null,"PESO 3000H","PES.3000H",null,{"$f":"IF($J$9<>\"\",INDIRECT(CONCATENATE($J$9,\"!A30\")),\"\")","v":""},{"$f":"IF($J$9<>\"\",INDIRECT(CONCATENATE($J$9,\"!B30\")),\"\")","v":""},{"$f":"IF($J$9<>\"\",INDIRECT(CONCATENATE($J$9,\"!C30\")),\"\")","v":""},{"$f":"IF($J$9<>\"\",INDIRECT(CONCATENATE($J$9,\"!D30\")),\"\")","v":""},{"$f":"IF($J$9<>\"\",INDIRECT(CONCATENATE($J$9,\"!E30\")),\"\")","v":""},{"$f":"IF($J$9<>\"\",INDIRECT(CONCATENATE($J$9,\"!F30\")),\"\")","v":""}]
[null,null,null,null,null,null,null,null,"PESO 3000M","PES.3000M",null,{"$f":"IF($J$9<>\"\",INDIRECT(CONCATENATE($J$9,\"!A31\")),\"\")","v":""},{"$f":"IF($J$9<>\"\",INDIRECT(CONCATENATE($J$9,\"!B31\")),\"\")","v":""},{"$f":"IF($J$9<>\"\",INDIRECT(CONCATENATE($J$9,\"!C31\")),\"\")","v":""},{"$f":"IF($J$9<>\"\",INDIRECT(CONCATENATE($J$9,\"!D31\")),\"\")","v":""},{"$f":"IF($J$9<>\"\",INDIRECT(CONCATENATE($J$9,\"!E31\")),\"\")","v":""},{"$f":"IF($J$9<>\"\",INDIRECT(CONCATENATE($J$9,\"!F31\")),\"\")","v":""}]
[null,null,null,null,null,null,null,null,"PESO 2000","PES.2000",null,{"$f":"IF($J$9<>\"\",INDIRECT(CONCATENATE($J$9,\"!A32\")),\"\")","v":""},{"$f":"IF($J$9<>\"\",INDIRECT(CONCATENATE($J$9,\"!B32\")),\"\")","v":""},{"$f":"IF($J$9<>\"\",INDIRECT(CONCATENATE($J$9,\"!C32\")),\"\")","v":""},{"$f":"IF($J$9<>\"\",INDIRECT(CONCATENATE($J$9,\"!D32\")),\"\")","v":""},{"$f":"IF($J$9<>\"\",INDIRECT(CONCATENATE($J$9,\"!E32\")),\"\")","v":""},{"$f":"IF($J$9<>\"\",INDIRECT(CONCATENATE($J$9,\"!F32\")),\"\")","v":""}]
[null,null,null,null,null,null,null,null,"MARTILLO PESADO 15880","MARP.15880",null,{"$f":"IF($J$9<>\"\",INDIRECT(CONCATENATE($J$9,\"!A33\")),\"\")","v":""},{"$f":"IF($J$9<>\"\",INDIRECT(CONCATENATE($J$9,\"!B33\")),\"\")","v":""},{"$f":"IF($J$9<>\"\",INDIRECT(CONCATENATE($J$9,\"!C33\")),\"\")","v":""},{"$f":"IF($J$9<>\"\",INDIRECT(CONCATENATE($J$9,\"!D33\")),\"\")","v":""},{"$f":"IF($J$9<>\"\",INDIRECT(CONCATENATE($J$9,\"!E33\")),\"\")","v":""},{"$f":"IF($J$9<>\"\",INDIRECT(CONCATENATE($J$9,\"!F33\")),\"\")","v":""}]
[null,null,null,null,null,null,null,null,"MARTILLO PESADO 11340","MARP.11340",null,{"$f":"IF($J$9<>\"\",INDIRECT(CONCATENATE($J$9,\"!A34\")),\"\")","v":""},{"$f":"IF($J$9<>\"\",INDIRECT(CONCATENATE($J$9,\"!B34\")),\"\")","v":""},{"$f":"IF($J$9<>\"\",INDIRECT(CONCATENATE($J$9,\"!C34\")),\"\")","v":""},{"$f":"IF($J$9<>\"\",INDIRECT(CONCATENATE($J$9,\"!D34\")),\"\")","v":""},{"$f":"IF($J$9<>\"\",INDIRECT(CONCATENATE($J$9,\"!E34\")),\"\")","v":""},{"$f":"IF($J$9<>\"\",INDIRECT(CONCATENATE($J$9,\"!F34\")),\"\")","v":""}]
[null,null,null,null,null,null,null,null,"MARTILLO PESADO 9080","MARP.9080",null,{"$f":"IF($J$9<>\"\",INDIRECT(CONCATENATE($J$9,\"!A35\")),\"\")","v":""},{"$f":"IF($J$9<>\"\",INDIRECT(CONCATENATE($J$9,\"!B35\")),\"\")","v":""},{"$f":"IF($J$9<>\"\",INDIRECT(CONCATENATE($J$9,\"!C35\")),\"\")","v":""},{"$f":"IF($J$9<>\"\",INDIRECT(CONCATENATE($J$9,\"!D35\")),\"\")","v":""},{"$f":"IF($J$9<>\"\",INDIRECT(CONCATENATE($J$9,\"!E35\")),\"\")","v":""},{"$f":"IF($J$9<>\"\",INDIRECT(CONCATENATE($J$9,\"!F35\")),\"\")","v":""}]
[null,null,null,null,null,null,null,null,"MARTILLO PESADO 7260","MARP.7260",null,{"$f":"IF($J$9<>\"\",INDIRECT(CONCATENATE($J$9,\"!A36\")),\"\")","v":""},{"$f":"IF($J$9<>\"\",INDIRECT(CONCATENATE($J$9,\"!B36\")),\"\")","v":""},{"$f":"IF($J$9<>\"\",INDIRECT(CONCATENATE($J$9,\"!C36\")),\"\")","v":""},{"$f":"IF($J$9<>\"\",INDIRECT(CONCATENATE($J$9,\"!D36\")),\"\")","v":""},{"$f":"IF($J$9<>\"\",INDIRECT(CONCATENATE($J$9,\"!E36\")),\"\")","v":""},{"$f":"IF($J$9<>\"\",INDIRECT(CONCATENATE($J$9,\"!F36\")),\"\")","v":""}]
[null,null,null,null,null,null,null,null,"MARTILLO PESADO 5450","MARP.5450",null,{"$f":"IF($J$9<>\"\",INDIRECT(CONCATENATE($J$9,\"!A37\")),\"\")","v":""},{"$f":"IF($J$9<>\"\",INDIRECT(CONCATENATE($J$9,\"!B37\")),\"\")","v":""},{"$f":"IF($J$9<>\"\",INDIRECT(CONCATENATE($J$9,\"!C37\")),\"\")","v":""},{"$f":"IF($J$9<>\"\",INDIRECT(CONCATENATE($J$9,\"!D37\")),\"\")","v":""},{"$f":"IF($J$9<>\"\",INDIRECT(CONCATENATE($J$9,\"!E37\")),\"\")","v":""},{"$f":"IF($J$9<>\"\",INDIRECT(CONCATENATE($J$9,\"!F37\")),\"\")","v":""}]
[null,null,null,null,null,null,null,null,"MARTILLO PESADO 4000","MARP.4000",null,{"$f":"IF($J$9<>\"\",INDIRECT(CONCATENATE($J$9,\"!A38\")),\"\")","v":""},{"$f":"IF($J$9<>\"\",INDIRECT(CONCATENATE($J$9,\"!B38\")),\"\")","v":""},{"$f":"IF($J$9<>\"\",INDIRECT(CONCATENATE($J$9,\"!C38\")),\"\")","v":""},{"$f":"IF($J$9<>\"\",INDIRECT(CONCATENATE($J$9,\"!D38\")),\"\")","v":""},{"$f":"IF($J$9<>\"\",INDIRECT(CONCATENATE($J$9,\"!E38\")),\"\")","v":""},{"$f":"IF($J$9<>\"\",INDIRECT(CONCATENATE($J$9,\"!F38\")),\"\")","v":""}]
[null,null,null,null,null,null,null,null,null,null,null,{"$f":"IF($J$9<>\"\",INDIRECT(CONCATENATE($J$9,\"!A39\")),\"\")","v":""},{"$f":"IF($J$9<>\"\",INDIRECT(CONCATENATE($J$9,\"!B39\")),\"\")","v":""},{"$f":"IF($J$9<>\"\",INDIRECT(CONCATENATE($J$9,\"!C39\")),\"\")","v":""},{"$f":"IF($J$9<>\"\",INDIRECT(CONCATENATE($J$9,\"!D39\")),\"\")","v":""},{"$f":"IF($J$9<>\"\",INDIRECT(CONCATENATE($J$9,\"!E39\")),\"\")","v":""},{"$f":"IF($J$9<>\"\",INDIRECT(CONCATENATE($J$9,\"!F39\")),\"\")","v":""}]
[null,null,null,null,null,null,null,null,null,null,null,{"$f":"IF($J$9<>\"\",INDIRECT(CONCATENATE($J$9,\"!A40\")),\"\")","v":""},{"$f":"IF($J$9<>\"\",INDIRECT(CONCATENATE($J$9,\"!B40\")),\"\")","v":""},{"$f":"IF($J$9<>\"\",INDIRECT(CONCATENATE($J$9,\"!C40\")),\"\")","v":""},{"$f":"IF($J$9<>\"\",INDIRECT(CONCATENATE($J$9,\"!D40\")),\"\")","v":""},{"$f":"IF($J$9<>\"\",INDIRECT(CONCATENATE($J$9,\"!E40\")),\"\")","v":""},{"$f":"IF($J$9<>\"\",INDIRECT(CONCATENATE($J$9,\"!F40\")),\"\")","v":""}]
[null,null,null,null,null,null,null,null,null,null,null,{"$f":"IF($J$9<>\"\",INDIRECT(CONCATENATE($J$9,\"!A41\")),\"\")","v":""},{"$f":"IF($J$9<>\"\",INDIRECT(CONCATENATE($J$9,\"!B41\")),\"\")","v":""},{"$f":"IF($J$9<>\"\",INDIRECT(CONCATENATE($J$9,\"!C41\")),\"\")","v":""},{"$f":"IF($J$9<>\"\",INDIRECT(CONCATENATE($J$9,\"!D41\")),\"\")","v":""},{"$f":"IF($J$9<>\"\",INDIRECT(CONCATENATE($J$9,\"!E41\")),\"\")","v":""},{"$f":"IF($J$9<>\"\",INDIRECT(CONCATENATE($J$9,\"!F41\")),\"\")","v":""}]
[null,null,null,null,null,null,null,null,null,null,null,{"$f":"IF($J$9<>\"\",INDIRECT(CONCATENATE($J$9,\"!A42\")),\"\")","v":""},{"$f":"IF($J$9<>\"\",INDIRECT(CONCATENATE($J$9,\"!B42\")),\"\")","v":""},{"$f":"IF($J$9<>\"\",INDIRECT(CONCATENATE($J$9,\"!C42\")),\"\")","v":""},{"$f":"IF($J$9<>\"\",INDIRECT(CONCATENATE($J$9,\"!D42\")),\"\")","v":""},{"$f":"IF($J$9<>\"\",INDIRECT(CONCATENATE($J$9,\"!E42\")),\"\")","v":""},{"$f":"IF($J$9<>\"\",INDIRECT(CONCATENATE($J$9,\"!F42\")),\"\")","v":""}]
[null,null,null,null,null,null,null,null,null,null,null,{"$f":"IF($J$9<>\"\",INDIRECT(CONCATENATE($J$9,\"!A43\")),\"\")","v":""},{"$f":"IF($J$9<>\"\",INDIRECT(CONCATENATE($J$9,\"!B43\")),\"\")","v":""},{"$f":"IF($J$9<>\"\",INDIRECT(CONCATENATE($J$9,\"!C43\")),\"\")","v":""},{"$f":"IF($J$9<>\"\",INDIRECT(CONCATENATE($J$9,\"!D43\")),\"\")","v":""},{"$f":"IF($J$9<>\"\",INDIRECT(CONCATENATE($J$9,\"!E43\")),\"\")","v":""},{"$f":"IF($J$9<>\"\",INDIRECT(CONCATENATE($J$9,\"!F43\")),\"\")","v":""}]
[null,null,null,null,null,null,null,null,null,null,null,{"$f":"IF($J$9<>\"\",INDIRECT(CONCATENATE($J$9,\"!A44\")),\"\")","v":""},{"$f":"IF($J$9<>\"\",INDIRECT(CONCATENATE($J$9,\"!B44\")),\"\")","v":""},{"$f":"IF($J$9<>\"\",INDIRECT(CONCATENATE($J$9,\"!C44\")),\"\")","v":""},{"$f":"IF($J$9<>\"\",INDIRECT(CONCATENATE($J$9,\"!D44\")),\"\")","v":""},{"$f":"IF($J$9<>\"\",INDIRECT(CONCATENATE($J$9,\"!E44\")),\"\")","v":""},{"$f":"IF($J$9<>\"\",INDIRECT(CONCATENATE($J$9,\"!F44\")),\"\")","v":""}]
[null,null,null,null,null,null,null,null,null,null,null,{"$f":"IF($J$9<>\"\",INDIRECT(CONCATENATE($J$9,\"!A45\")),\"\")","v":""},{"$f":"IF($J$9<>\"\",INDIRECT(CONCATENATE($J$9,\"!B45\")),\"\")","v":""},{"$f":"IF($J$9<>\"\",INDIRECT(CONCATENATE($J$9,\"!C45\")),\"\")","v":""},{"$f":"IF($J$9<>\"\",INDIRECT(CONCATENATE($J$9,\"!D45\")),\"\")","v":""},{"$f":"IF($J$9<>\"\",INDIRECT(CONCATENATE($J$9,\"!E45\")),\"\")","v":""},{"$f":"IF($J$9<>\"\",INDIRECT(CONCATENATE($J$9,\"!F45\")),\"\")","v":""}]
[null,null,null,null,null,null,null,null,null,null,null,{"$f":"IF($J$9<>\"\",INDIRECT(CONCATENATE($J$9,\"!A46\")),\"\")","v":""},{"$f":"IF($J$9<>\"\",INDIRECT(CONCATENATE($J$9,\"!B46\")),\"\")","v":""},{"$f":"IF($J$9<>\"\",INDIRECT(CONCATENATE($J$9,\"!C46\")),\"\")","v":""},{"$f":"IF($J$9<>\"\",INDIRECT(CONCATENATE($J$9,\"!D46\")),\"\")","v":""},{"$f":"IF($J$9<>\"\",INDIRECT(CONCATENATE($J$9,\"!E46\")),\"\")","v":""},{"$f":"IF($J$9<>\"\",INDIRECT(CONCATENATE($J$9,\"!F46\")),\"\")","v":""}]
[null,null,null,null,null,null,null,null,null,null,null,{"$f":"IF($J$9<>\"\",INDIRECT(CONCATENATE($J$9,\"!A47\")),\"\")","v":""},{"$f":"IF($J$9<>\"\",INDIRECT(CONCATENATE($J$9,\"!B47\")),\"\")","v":""},{"$f":"IF($J$9<>\"\",INDIRECT(CONCATENATE($J$9,\"!C47\")),\"\")","v":""},{"$f":"IF($J$9<>\"\",INDIRECT(CONCATENATE($J$9,\"!D47\")),\"\")","v":""},{"$f":"IF($J$9<>\"\",INDIRECT(CONCATENATE($J$9,\"!E47\")),\"\")","v":""},{"$f":"IF($J$9<>\"\",INDIRECT(CONCATENATE($J$9,\"!F47\")),\"\")","v":""}]
[null,null,null,null,null,null,null,null,null,null,null,{"$f":"IF($J$9<>\"\",INDIRECT(CONCATENATE($J$9,\"!A48\")),\"\")","v":""},{"$f":"IF($J$9<>\"\",INDIRECT(CONCATENATE($J$9,\"!B48\")),\"\")","v":""},{"$f":"IF($J$9<>\"\",INDIRECT(CONCATENATE($J$9,\"!C48\")),\"\")","v":""},{"$f":"IF($J$9<>\"\",INDIRECT(CONCATENATE($J$9,\"!D48\")),\"\")","v":""},{"$f":"IF($J$9<>\"\",INDIRECT(CONCATENATE($J$9,\"!E48\")),\"\")","v":""},{"$f":"IF($J$9<>\"\",INDIRECT(CONCATENATE($J$9,\"!F48\")),\"\")","v":""}]
[null,null,null,null,null,null,null,null,null,null,null,{"$f":"IF($J$9<>\"\",INDIRECT(CONCATENATE($J$9,\"!A49\")),\"\")","v":""},{"$f":"IF($J$9<>\"\",INDIRECT(CONCATENATE($J$9,\"!B49\")),\"\")","v":""},{"$f":"IF($J$9<>\"\",INDIRECT(CONCATENATE($J$9,\"!C49\")),\"\")","v":""},{"$f":"IF($J$9<>\"\",INDIRECT(CONCATENATE($J$9,\"!D49\")),\"\")","v":""},{"$f":"IF($J$9<>\"\",INDIRECT(CONCATENATE($J$9,\"!E49\")),\"\")","v":""},{"$f":"IF($J$9<>\"\",INDIRECT(CONCATENATE($J$9,\"!F49\")),\"\")","v":""}]
[null,null,null,null,null,null,null,null,null,null,null,{"$f":"IF($J$9<>\"\",INDIRECT(CONCATENATE($J$9,\"!A50\")),\"\")","v":""},{"$f":"IF($J$9<>\"\",INDIRECT(CONCATENATE($J$9,\"!B50\")),\"\")","v":""},{"$f":"IF($J$9<>\"\",INDIRECT(CONCATENATE($J$9,\"!C50\")),\"\")","v":""},{"$f":"IF($J$9<>\"\",INDIRECT(CONCATENATE($J$9,\"!D50\")),\"\")","v":""},{"$f":"IF($J$9<>\"\",INDIRECT(CONCATENATE($J$9,\"!E50\")),\"\")","v":""},{"$f":"IF($J$9<>\"\",INDIRECT(CONCATENATE($J$9,\"!F50\")),\"\")","v":""}]
[null,null,null,null,null,null,null,null,null,null,null,{"$f":"IF($J$9<>\"\",INDIRECT(CONCATENATE($J$9,\"!A51\")),\"\")","v":""},{"$f":"IF($J$9<>\"\",INDIRECT(CONCATENATE($J$9,\"!B51\")),\"\")","v":""},{"$f":"IF($J$9<>\"\",INDIRECT(CONCATENATE($J$9,\"!C51\")),\"\")","v":""},{"$f":"IF($J$9<>\"\",INDIRECT(CONCATENATE($J$9,\"!D51\")),\"\")","v":""},{"$f":"IF($J$9<>\"\",INDIRECT(CONCATENATE($J$9,\"!E51\")),\"\")","v":""},{"$f":"IF($J$9<>\"\",INDIRECT(CONCATENATE($J$9,\"!F51\")),\"\")","v":""}]
[null,null,null,null,null,null,null,null,null,null,null,{"$f":"IF($J$9<>\"\",INDIRECT(CONCATENATE($J$9,\"!A52\")),\"\")","v":""},{"$f":"IF($J$9<>\"\",INDIRECT(CONCATENATE($J$9,\"!B52\")),\"\")","v":""},{"$f":"IF($J$9<>\"\",INDIRECT(CONCATENATE($J$9,\"!C52\")),\"\")","v":""},{"$f":"IF($J$9<>\"\",INDIRECT(CONCATENATE($J$9,\"!D52\")),\"\")","v":""},{"$f":"IF($J$9<>\"\",INDIRECT(CONCATENATE($J$9,\"!E52\")),\"\")","v":""},{"$f":"IF($J$9<>\"\",INDIRECT(CONCATENATE($J$9,\"!F52\")),\"\")","v":""}]
[null,null,null,null,null,null,null,null,null,null,null,{"$f":"IF($J$9<>\"\",INDIRECT(CONCATENATE($J$9,\"!A53\")),\"\")","v":""},{"$f":"IF($J$9<>\"\",INDIRECT(CONCATENATE($J$9,\"!B53\")),\"\")","v":""},{"$f":"IF($J$9<>\"\",INDIRECT(CONCATENATE($J$9,\"!C53\")),\"\")","v":""},{"$f":"IF($J$9<>\"\",INDIRECT(CONCATENATE($J$9,\"!D53\")),\"\")","v":""},{"$f":"IF($J$9<>\"\",INDIRECT(CONCATENATE($J$9,\"!E53\")),\"\")","v":""},{"$f":"IF($J$9<>\"\",INDIRECT(CONCATENATE($J$9,\"!F53\")),\"\")","v":""}]
[null,null,null,null,null,null,null,null,null,null,null,{"$f":"IF($J$9<>\"\",INDIRECT(CONCATENATE($J$9,\"!A54\")),\"\")","v":""},{"$f":"IF($J$9<>\"\",INDIRECT(CONCATENATE($J$9,\"!B54\")),\"\")","v":""},{"$f":"IF($J$9<>\"\",INDIRECT(CONCATENATE($J$9,\"!C54\")),\"\")","v":""},{"$f":"IF($J$9<>\"\",INDIRECT(CONCATENATE($J$9,\"!D54\")),\"\")","v":""},{"$f":"IF($J$9<>\"\",INDIRECT(CONCATENATE($J$9,\"!E54\")),\"\")","v":""},{"$f":"IF($J$9<>\"\",INDIRECT(CONCATENATE($J$9,\"!F54\")),\"\")","v":""}]
[null,null,null,null,null,null,null,null,null,null,null,{"$f":"IF($J$9<>\"\",INDIRECT(CONCATENATE($J$9,\"!A55\")),\"\")","v":""},{"$f":"IF($J$9<>\"\",INDIRECT(CONCATENATE($J$9,\"!B55\")),\"\")","v":""},{"$f":"IF($J$9<>\"\",INDIRECT(CONCATENATE($J$9,\"!C55\")),\"\")","v":""},{"$f":"IF($J$9<>\"\",INDIRECT(CONCATENATE($J$9,\"!D55\")),\"\")","v":""},{"$f":"IF($J$9<>\"\",INDIRECT(CONCATENATE($J$9,\"!E55\")),\"\")","v":""},{"$f":"IF($J$9<>\"\",INDIRECT(CONCATENATE($J$9,\"!F55\")),\"\")","v":""}]
[null,null,null,null,null,null,null,null,null,null,null,{"$f":"IF($J$9<>\"\",INDIRECT(CONCATENATE($J$9,\"!A56\")),\"\")","v":""},{"$f":"IF($J$9<>\"\",INDIRECT(CONCATENATE($J$9,\"!B56\")),\"\")","v":""},{"$f":"IF($J$9<>\"\",INDIRECT(CONCATENATE($J$9,\"!C56\")),\"\")","v":""},{"$f":"IF($J$9<>\"\",INDIRECT(CONCATENATE($J$9,\"!D56\")),\"\")","v":""},{"$f":"IF($J$9<>\"\",INDIRECT(CONCATENATE($J$9,\"!E56\")),\"\")","v":""},{"$f":"IF($J$9<>\"\",INDIRECT(CONCATENATE($J$9,\"!F56\")),\"\")","v":""}]
[null,null,null,null,null,null,null,null,null,null,null,{"$f":"IF($J$9<>\"\",INDIRECT(CONCATENATE($J$9,\"!A57\")),\"\")","v":""},{"$f":"IF($J$9<>\"\",INDIRECT(CONCATENATE($J$9,\"!B57\")),\"\")","v":""},{"$f":"IF($J$9<>\"\",INDIRECT(CONCATENATE($J$9,\"!C57\")),\"\")","v":""},{"$f":"IF($J$9<>\"\",INDIRECT(CONCATENATE($J$9,\"!D57\")),\"\")","v":""},{"$f":"IF($J$9<>\"\",INDIRECT(CONCATENATE($J$9,\"!E57\")),\"\")","v":""},{"$f":"IF($J$9<>\"\",INDIRECT(CONCATENATE($J$9,\"!F57\")),\"\")","v":""}]
[null,null,null,null,null,null,null,null,null,null,null,{"$f":"IF($J$9<>\"\",INDIRECT(CONCATENATE($J$9,\"!A58\")),\"\")","v":""},{"$f":"IF($J$9<>\"\",INDIRECT(CONCATENATE($J$9,\"!B58\")),\"\")","v":""},{"$f":"IF($J$9<>\"\",INDIRECT(CONCATENATE($J$9,\"!C58\")),\"\")","v":""},{"$f":"IF($J$9<>\"\",INDIRECT(CONCATENATE($J$9,\"!D58\")),\"\")","v":""},{"$f":"IF($J$9<>\"\",INDIRECT(CONCATENATE($J$9,\"!E58\")),\"\")","v":""},{"$f":"IF($J$9<>\"\",INDIRECT(CONCATENATE($J$9,\"!F58\")),\"\")","v":""}]
[null,null,null,null,null,null,null,null,null,null,null,{"$f":"IF($J$9<>\"\",INDIRECT(CONCATENATE($J$9,\"!A59\")),\"\")","v":""},{"$f":"IF($J$9<>\"\",INDIRECT(CONCATENATE($J$9,\"!B59\")),\"\")","v":""},{"$f":"IF($J$9<>\"\",INDIRECT(CONCATENATE($J$9,\"!C59\")),\"\")","v":""},{"$f":"IF($J$9<>\"\",INDIRECT(CONCATENATE($J$9,\"!D59\")),\"\")","v":""},{"$f":"IF($J$9<>\"\",INDIRECT(CONCATENATE($J$9,\"!E59\")),\"\")","v":""},{"$f":"IF($J$9<>\"\",INDIRECT(CONCATENATE($J$9,\"!F59\")),\"\")","v":""}]
[null,null,null,null,null,null,null,null,null,null,null,{"$f":"IF($J$9<>\"\",INDIRECT(CONCATENATE($J$9,\"!A60\")),\"\")","v":""},{"$f":"IF($J$9<>\"\",INDIRECT(CONCATENATE($J$9,\"!B60\")),\"\")","v":""},{"$f":"IF($J$9<>\"\",INDIRECT(CONCATENATE($J$9,\"!C60\")),\"\")","v":""},{"$f":"IF($J$9<>\"\",INDIRECT(CONCATENATE($J$9,\"!D60\")),\"\")","v":""},{"$f":"IF($J$9<>\"\",INDIRECT(CONCATENATE($J$9,\"!E60\")),\"\")","v":""},{"$f":"IF($J$9<>\"\",INDIRECT(CONCATENATE($J$9,\"!F60\")),\"\")","v":""}]
[null,null,null,null,null,null,null,null,null,null,null,{"$f":"IF($J$9<>\"\",INDIRECT(CONCATENATE($J$9,\"!A61\")),\"\")","v":""},{"$f":"IF($J$9<>\"\",INDIRECT(CONCATENATE($J$9,\"!B61\")),\"\")","v":""},{"$f":"IF($J$9<>\"\",INDIRECT(CONCATENATE($J$9,\"!C61\")),\"\")","v":""},{"$f":"IF($J$9<>\"\",INDIRECT(CONCATENATE($J$9,\"!D61\")),\"\")","v":""},{"$f":"IF($J$9<>\"\",INDIRECT(CONCATENATE($J$9,\"!E61\")),\"\")","v":""},{"$f":"IF($J$9<>\"\",INDIRECT(CONCATENATE($J$9,\"!F61\")),\"\")","v":""}]
[null,null,null,null,null,null,null,null,null,null,null,{"$f":"IF($J$9<>\"\",INDIRECT(CONCATENATE($J$9,\"!A62\")),\"\")","v":""},{"$f":"IF($J$9<>\"\",INDIRECT(CONCATENATE($J$9,\"!B62\")),\"\")","v":""},{"$f":"IF($J$9<>\"\",INDIRECT(CONCATENATE($J$9,\"!C62\")),\"\")","v":""},{"$f":"IF($J$9<>\"\",INDIRECT(CONCATENATE($J$9,\"!D62\")),\"\")","v":""},{"$f":"IF($J$9<>\"\",INDIRECT(CONCATENATE($J$9,\"!E62\")),\"\")","v":""},{"$f":"IF($J$9<>\"\",INDIRECT(CONCATENATE($J$9,\"!F62\")),\"\")","v":""}]
[null,null,null,null,null,null,null,null,null,null,null,{"$f":"IF($J$9<>\"\",INDIRECT(CONCATENATE($J$9,\"!A63\")),\"\")","v":""},{"$f":"IF($J$9<>\"\",INDIRECT(CONCATENATE($J$9,\"!B63\")),\"\")","v":""},{"$f":"IF($J$9<>\"\",INDIRECT(CONCATENATE($J$9,\"!C63\")),\"\")","v":""},{"$f":"IF($J$9<>\"\",INDIRECT(CONCATENATE($J$9,\"!D63\")),\"\")","v":""},{"$f":"IF($J$9<>\"\",INDIRECT(CONCATENATE($J$9,\"!E63\")),\"\")","v":""},{"$f":"IF($J$9<>\"\",INDIRECT(CONCATENATE($J$9,\"!F63\")),\"\")","v":""}]
[null,null,null,null,null,null,null,null,null,null,null,{"$f":"IF($J$9<>\"\",INDIRECT(CONCATENATE($J$9,\"!A64\")),\"\")","v":""},{"$f":"IF($J$9<>\"\",INDIRECT(CONCATENATE($J$9,\"!B64\")),\"\")","v":""},{"$f":"IF($J$9<>\"\",INDIRECT(CONCATENATE($J$9,\"!C64\")),\"\")","v":""},{"$f":"IF($J$9<>\"\",INDIRECT(CONCATENATE($J$9,\"!D64\")),\"\")","v":""},{"$f":"IF($J$9<>\"\",INDIRECT(CONCATENATE($J$9,\"!E64\")),\"\")","v":""},{"$f":"IF($J$9<>\"\",INDIRECT(CONCATENATE($J$9,\"!F64\")),\"\")","v":""}]
[null,null,null,null,null,null,null,null,null,null,null,{"$f":"IF($J$9<>\"\",INDIRECT(CONCATENATE($J$9,\"!A65\")),\"\")","v":""},{"$f":"IF($J$9<>\"\",INDIRECT(CONCATENATE($J$9,\"!B65\")),\"\")","v":""},{"$f":"IF($J$9<>\"\",INDIRECT(CONCATENATE($J$9,\"!C65\")),\"\")","v":""},{"$f":"IF($J$9<>\"\",INDIRECT(CONCATENATE($J$9,\"!D65\")),\"\")","v":""},{"$f":"IF($J$9<>\"\",INDIRECT(CONCATENATE($J$9,\"!E65\")),\"\")","v":""},{"$f":"IF($J$9<>\"\",INDIRECT(CONCATENATE($J$9,\"!F65\")),\"\")","v":""}]
[null,null,null,null,null,null,null,null,null,null,null,{"$f":"IF($J$9<>\"\",INDIRECT(CONCATENATE($J$9,\"!A66\")),\"\")","v":""},{"$f":"IF($J$9<>\"\",INDIRECT(CONCATENATE($J$9,\"!B66\")),\"\")","v":""},{"$f":"IF($J$9<>\"\",INDIRECT(CONCATENATE($J$9,\"!C66\")),\"\")","v":""},{"$f":"IF($J$9<>\"\",INDIRECT(CONCATENATE($J$9,\"!D66\")),\"\")","v":""},{"$f":"IF($J$9<>\"\",INDIRECT(CONCATENATE($J$9,\"!E66\")),\"\")","v":""},{"$f":"IF($J$9<>\"\",INDIRECT(CONCATENATE($J$9,\"!F66\")),\"\")","v":""}]
[null,null,null,null,null,null,null,null,null,null,null,{"$f":"IF($J$9<>\"\",INDIRECT(CONCATENATE($J$9,\"!A67\")),\"\")","v":""},{"$f":"IF($J$9<>\"\",INDIRECT(CONCATENATE($J$9,\"!B67\")),\"\")","v":""},{"$f":"IF($J$9<>\"\",INDIRECT(CONCATENATE($J$9,\"!C67\")),\"\")","v":""},{"$f":"IF($J$9<>\"\",INDIRECT(CONCATENATE($J$9,\"!D67\")),\"\")","v":""},{"$f":"IF($J$9<>\"\",INDIRECT(CONCATENATE($J$9,\"!E67\")),\"\")","v":""},{"$f":"IF($J$9<>\"\",INDIRECT(CONCATENATE($J$9,\"!F67\")),\"\")","v":""}]
[null,null,null,null,null,null,null,null,null,null,null,{"$f":"IF($J$9<>\"\",INDIRECT(CONCATENATE($J$9,\"!A68\")),\"\")","v":""},{"$f":"IF($J$9<>\"\",INDIRECT(CONCATENATE($J$9,\"!B68\")),\"\")","v":""},{"$f":"IF($J$9<>\"\",INDIRECT(CONCATENATE($J$9,\"!C68\")),\"\")","v":""},{"$f":"IF($J$9<>\"\",INDIRECT(CONCATENATE($J$9,\"!D68\")),\"\")","v":""},{"$f":"IF($J$9<>\"\",INDIRECT(CONCATENATE($J$9,\"!E68\")),\"\")","v":""},{"$f":"IF($J$9<>\"\",INDIRECT(CONCATENATE($J$9,\"!F68\")),\"\")","v":""}]
[null,null,null,null,null,null,null,null,null,null,null,{"$f":"IF($J$9<>\"\",INDIRECT(CONCATENATE($J$9,\"!A69\")),\"\")","v":""},{"$f":"IF($J$9<>\"\",INDIRECT(CONCATENATE($J$9,\"!B69\")),\"\")","v":""},{"$f":"IF($J$9<>\"\",INDIRECT(CONCATENATE($J$9,\"!C69\")),\"\")","v":""},{"$f":"IF($J$9<>\"\",INDIRECT(CONCATENATE($J$9,\"!D69\")),\"\")","v":""},{"$f":"IF($J$9<>\"\",INDIRECT(CONCATENATE($J$9,\"!E69\")),\"\")","v":""},{"$f":"IF($J$9<>\"\",INDIRECT(CONCATENATE($J$9,\"!F69\")),\"\")","v":""}]
[null,null,null,null,null,null,null,null,null,null,null,{"$f":"IF($J$9<>\"\",INDIRECT(CONCATENATE($J$9,\"!A70\")),\"\")","v":""},{"$f":"IF($J$9<>\"\",INDIRECT(CONCATENATE($J$9,\"!B70\")),\"\")","v":""},{"$f":"IF($J$9<>\"\",INDIRECT(CONCATENATE($J$9,\"!C70\")),\"\")","v":""},{"$f":"IF($J$9<>\"\",INDIRECT(CONCATENATE($J$9,\"!D70\")),\"\")","v":""},{"$f":"IF($J$9<>\"\",INDIRECT(CONCATENATE($J$9,\"!E70\")),\"\")","v":""},{"$f":"IF($J$9<>\"\",INDIRECT(CONCATENATE($J$9,\"!F70\")),\"\")","v":""}]
[null,null,null,null,null,null,null,null,null,null,null,{"$f":"IF($J$9<>\"\",INDIRECT(CONCATENATE($J$9,\"!A71\")),\"\")","v":""},{"$f":"IF($J$9<>\"\",INDIRECT(CONCATENATE($J$9,\"!B71\")),\"\")","v":""},{"$f":"IF($J$9<>\"\",INDIRECT(CONCATENATE($J$9,\"!C71\")),\"\")","v":""},{"$f":"IF($J$9<>\"\",INDIRECT(CONCATENATE($J$9,\"!D71\")),\"\")","v":""},{"$f":"IF($J$9<>\"\",INDIRECT(CONCATENATE($J$9,\"!E71\")),\"\")","v":""},{"$f":"IF($J$9<>\"\",INDIRECT(CONCATENATE($J$9,\"!F71\")),\"\")","v":""}]
[null,null,null,null,null,null,null,null,null,null,null,{"$f":"IF($J$9<>\"\",INDIRECT(CONCATENATE($J$9,\"!A72\")),\"\")","v":""},{"$f":"IF($J$9<>\"\",INDIRECT(CONCATENATE($J$9,\"!B72\")),\"\")","v":""},{"$f":"IF($J$9<>\"\",INDIRECT(CONCATENATE($J$9,\"!C72\")),\"\")","v":""},{"$f":"IF($J$9<>\"\",INDIRECT(CONCATENATE($J$9,\"!D72\")),\"\")","v":""},{"$f":"IF($J$9<>\"\",INDIRECT(CONCATENATE($J$9,\"!E72\")),\"\")","v":""},{"$f":"IF($J$9<>\"\",INDIRECT(CONCATENATE($J$9,\"!F72\")),\"\")","v":""}]
[null,null,null,null,null,null,null,null,null,null,null,{"$f":"IF($J$9<>\"\",INDIRECT(CONCATENATE($J$9,\"!A73\")),\"\")","v":""},{"$f":"IF($J$9<>\"\",INDIRECT(CONCATENATE($J$9,\"!B73\")),\"\")","v":""},{"$f":"IF($J$9<>\"\",INDIRECT(CONCATENATE($J$9,\"!C73\")),\"\")","v":""},{"$f":"IF($J$9<>\"\",INDIRECT(CONCATENATE($J$9,\"!D73\")),\"\")","v":""},{"$f":"IF($J$9<>\"\",INDIRECT(CONCATENATE($J$9,\"!E73\")),\"\")","v":""},{"$f":"IF($J$9<>\"\",INDIRECT(CONCATENATE($J$9,\"!F73\")),\"\")","v":""}]
[null,null,null,null,null,null,null,null,null,null,null,{"$f":"IF($J$9<>\"\",INDIRECT(CONCATENATE($J$9,\"!A74\")),\"\")","v":""},{"$f":"IF($J$9<>\"\",INDIRECT(CONCATENATE($J$9,\"!B74\")),\"\")","v":""},{"$f":"IF($J$9<>\"\",INDIRECT(CONCATENATE($J$9,\"!C74\")),\"\")","v":""},{"$f":"IF($J$9<>\"\",INDIRECT(CONCATENATE($J$9,\"!D74\")),\"\")","v":""},{"$f":"IF($J$9<>\"\",INDIRECT(CONCATENATE($J$9,\"!E74\")),\"\")","v":""},{"$f":"IF($J$9<>\"\",INDIRECT(CONCATENATE($J$9,\"!F74\")),\"\")","v":""}]
[null,null,null,null,null,null,null,null,null,null,null,{"$f":"IF($J$9<>\"\",INDIRECT(CONCATENATE($J$9,\"!A75\")),\"\")","v":""},{"$f":"IF($J$9<>\"\",INDIRECT(CONCATENATE($J$9,\"!B75\")),\"\")","v":""},{"$f":"IF($J$9<>\"\",INDIRECT(CONCATENATE($J$9,\"!C75\")),\"\")","v":""},{"$f":"IF($J$9<>\"\",INDIRECT(CONCATENATE($J$9,\"!D75\")),\"\")","v":""},{"$f":"IF($J$9<>\"\",INDIRECT(CONCATENATE($J$9,\"!E75\")),\"\")","v":""},{"$f":"IF($J$9<>\"\",INDIRECT(CONCATENATE($J$9,\"!F75\")),\"\")","v":""}]
[null,null,null,null,null,null,null,null,null,null,null,{"$f":"IF($J$9<>\"\",INDIRECT(CONCATENATE($J$9,\"!A76\")),\"\")","v":""},{"$f":"IF($J$9<>\"\",INDIRECT(CONCATENATE($J$9,\"!B76\")),\"\")","v":""},{"$f":"IF($J$9<>\"\",INDIRECT(CONCATENATE($J$9,\"!C76\")),\"\")","v":""},{"$f":"IF($J$9<>\"\",INDIRECT(CONCATENATE($J$9,\"!D76\")),\"\")","v":""},{"$f":"IF($J$9<>\"\",INDIRECT(CONCATENATE($J$9,\"!E76\")),\"\")","v":""},{"$f":"IF($J$9<>\"\",INDIRECT(CONCATENATE($J$9,\"!F76\")),\"\")","v":""}]
[null,null,null,null,null,null,null,null,null,null,null,{"$f":"IF($J$9<>\"\",INDIRECT(CONCATENATE($J$9,\"!A77\")),\"\")","v":""},{"$f":"IF($J$9<>\"\",INDIRECT(CONCATENATE($J$9,\"!B77\")),\"\")","v":""},{"$f":"IF($J$9<>\"\",INDIRECT(CONCATENATE($J$9,\"!C77\")),\"\")","v":""},{"$f":"IF($J$9<>\"\",INDIRECT(CONCATENATE($J$9,\"!D77\")),\"\")","v":""},{"$f":"IF($J$9<>\"\",INDIRECT(CONCATENATE($J$9,\"!E77\")),\"\")","v":""},{"$f":"IF($J$9<>\"\",INDIRECT(CONCATENATE($J$9,\"!F77\")),\"\")","v":""}]
[null,null,null,null,null,null,null,null,null,null,null,{"$f":"IF($J$9<>\"\",INDIRECT(CONCATENATE($J$9,\"!A78\")),\"\")","v":""},{"$f":"IF($J$9<>\"\",INDIRECT(CONCATENATE($J$9,\"!B78\")),\"\")","v":""},{"$f":"IF($J$9<>\"\",INDIRECT(CONCATENATE($J$9,\"!C78\")),\"\")","v":""},{"$f":"IF($J$9<>\"\",INDIRECT(CONCATENATE($J$9,\"!D78\")),\"\")","v":""},{"$f":"IF($J$9<>\"\",INDIRECT(CONCATENATE($J$9,\"!E78\")),\"\")","v":""},{"$f":"IF($J$9<>\"\",INDIRECT(CONCATENATE($J$9,\"!F78\")),\"\")","v":""}]
[null,null,null,null,null,null,null,null,null,null,null,{"$f":"IF($J$9<>\"\",INDIRECT(CONCATENATE($J$9,\"!A79\")),\"\")","v":""},{"$f":"IF($J$9<>\"\",INDIRECT(CONCATENATE($J$9,\"!B79\")),\"\")","v":""},{"$f":"IF($J$9<>\"\",INDIRECT(CONCATENATE($J$9,\"!C79\")),\"\")","v":""},{"$f":"IF($J$9<>\"\",INDIRECT(CONCATENATE($J$9,\"!D79\")),\"\")","v":""},{"$f":"IF($J$9<>\"\",INDIRECT(CONCATENATE($J$9,\"!E79\")),\"\")","v":""},{"$f":"IF($J$9<>\"\",INDIRECT(CONCATENATE($J$9,\"!F79\")),\"\")","v":""}]
[null,null,null,null,null,null,null,null,null,null,null,{"$f":"IF($J$9<>\"\",INDIRECT(CONCATENATE($J$9,\"!A80\")),\"\")","v":""},{"$f":"IF($J$9<>\"\",INDIRECT(CONCATENATE($J$9,\"!B80\")),\"\")","v":""},{"$f":"IF($J$9<>\"\",INDIRECT(CONCATENATE($J$9,\"!C80\")),\"\")","v":""},{"$f":"IF($J$9<>\"\",INDIRECT(CONCATENATE($J$9,\"!D80\")),\"\")","v":""},{"$f":"IF($J$9<>\"\",INDIRECT(CONCATENATE($J$9,\"!E80\")),\"\")","v":""},{"$f":"IF($J$9<>\"\",INDIRECT(CONCATENATE($J$9,\"!F80\")),\"\")","v":""}]
[null,null,null,null,null,null,null,null,null,null,null,{"$f":"IF($J$9<>\"\",INDIRECT(CONCATENATE($J$9,\"!A81\")),\"\")","v":""},{"$f":"IF($J$9<>\"\",INDIRECT(CONCATENATE($J$9,\"!B81\")),\"\")","v":""},{"$f":"IF($J$9<>\"\",INDIRECT(CONCATENATE($J$9,\"!C81\")),\"\")","v":""},{"$f":"IF($J$9<>\"\",INDIRECT(CONCATENATE($J$9,\"!D81\")),\"\")","v":""},{"$f":"IF($J$9<>\"\",INDIRECT(CONCATENATE($J$9,\"!E81\")),\"\")","v":""},{"$f":"IF($J$9<>\"\",INDIRECT(CONCATENATE($J$9,\"!F81\")),\"\")","v":""}]
[null,null,null,null,null,null,null,null,null,null,null,{"$f":"IF($J$9<>\"\",INDIRECT(CONCATENATE($J$9,\"!A82\")),\"\")","v":""},{"$f":"IF($J$9<>\"\",INDIRECT(CONCATENATE($J$9,\"!B82\")),\"\")","v":""},{"$f":"IF($J$9<>\"\",INDIRECT(CONCATENATE($J$9,\"!C82\")),\"\")","v":""},{"$f":"IF($J$9<>\"\",INDIRECT(CONCATENATE($J$9,\"!D82\")),\"\")","v":""},{"$f":"IF($J$9<>\"\",INDIRECT(CONCATENATE($J$9,\"!E82\")),\"\")","v":""},{"$f":"IF($J$9<>\"\",INDIRECT(CONCATENATE($J$9,\"!F82\")),\"\")","v":""}]
[null,null,null,null,null,null,null,null,null,null,null,{"$f":"IF($J$9<>\"\",INDIRECT(CONCATENATE($J$9,\"!A83\")),\"\")","v":""},{"$f":"IF($J$9<>\"\",INDIRECT(CONCATENATE($J$9,\"!B83\")),\"\")","v":""},{"$f":"IF($J$9<>\"\",INDIRECT(CONCATENATE($J$9,\"!C83\")),\"\")","v":""},{"$f":"IF($J$9<>\"\",INDIRECT(CONCATENATE($J$9,\"!D83\")),\"\")","v":""},{"$f":"IF($J$9<>\"\",INDIRECT(CONCATENATE($J$9,\"!E83\")),\"\")","v":""},{"$f":"IF($J$9<>\"\",INDIRECT(CONCATENATE($J$9,\"!F83\")),\"\")","v":""}]
[null,null,null,null,null,null,null,null,null,null,null,{"$f":"IF($J$9<>\"\",INDIRECT(CONCATENATE($J$9,\"!A84\")),\"\")","v":""},{"$f":"IF($J$9<>\"\",INDIRECT(CONCATENATE($J$9,\"!B84\")),\"\")","v":""},{"$f":"IF($J$9<>\"\",INDIRECT(CONCATENATE($J$9,\"!C84\")),\"\")","v":""},{"$f":"IF($J$9<>\"\",INDIRECT(CONCATENATE($J$9,\"!D84\")),\"\")","v":""},{"$f":"IF($J$9<>\"\",INDIRECT(CONCATENATE($J$9,\"!E84\")),\"\")","v":""},{"$f":"IF($J$9<>\"\",INDIRECT(CONCATENATE($J$9,\"!F84\")),\"\")","v":""}]
[null,null,null,null,null,null,null,null,null,null,null,{"$f":"IF($J$9<>\"\",INDIRECT(CONCATENATE($J$9,\"!A85\")),\"\")","v":""},{"$f":"IF($J$9<>\"\",INDIRECT(CONCATENATE($J$9,\"!B85\")),\"\")","v":""},{"$f":"IF($J$9<>\"\",INDIRECT(CONCATENATE($J$9,\"!C85\")),\"\")","v":""},{"$f":"IF($J$9<>\"\",INDIRECT(CONCATENATE($J$9,\"!D85\")),\"\")","v":""},{"$f":"IF($J$9<>\"\",INDIRECT(CONCATENATE($J$9,\"!E85\")),\"\")","v":""},{"$f":"IF($J$9<>\"\",INDIRECT(CONCATENATE($J$9,\"!F85\")),\"\")","v":""}]
[null,null,null,null,null,null,null,null,null,null,null,{"$f":"IF($J$9<>\"\",INDIRECT(CONCATENATE($J$9,\"!A86\")),\"\")","v":""},{"$f":"IF($J$9<>\"\",INDIRECT(CONCATENATE($J$9,\"!B86\")),\"\")","v":""},{"$f":"IF($J$9<>\"\",INDIRECT(CONCATENATE($J$9,\"!C86\")),\"\")","v":""},{"$f":"IF($J$9<>\"\",INDIRECT(CONCATENATE($J$9,\"!D86\")),\"\")","v":""},{"$f":"IF($J$9<>\"\",INDIRECT(CONCATENATE($J$9,\"!E86\")),\"\")","v":""},{"$f":"IF($J$9<>\"\",INDIRECT(CONCATENATE($J$9,\"!F86\")),\"\")","v":""}]
[null,null,null,null,null,null,null,null,null,null,null,{"$f":"IF($J$9<>\"\",INDIRECT(CONCATENATE($J$9,\"!A87\")),\"\")","v":""},{"$f":"IF($J$9<>\"\",INDIRECT(CONCATENATE($J$9,\"!B87\")),\"\")","v":""},{"$f":"IF($J$9<>\"\",INDIRECT(CONCATENATE($J$9,\"!C87\")),\"\")","v":""},{"$f":"IF($J$9<>\"\",INDIRECT(CONCATENATE($J$9,\"!D87\")),\"\")","v":""},{"$f":"IF($J$9<>\"\",INDIRECT(CONCATENATE($J$9,\"!E87\")),\"\")","v":""},{"$f":"IF($J$9<>\"\",INDIRECT(CONCATENATE($J$9,\"!F87\")),\"\")","v":""}]
[null,null,null,null,null,null,null,null,null,null,null,{"$f":"IF($J$9<>\"\",INDIRECT(CONCATENATE($J$9,\"!A88\")),\"\")","v":""},{"$f":"IF($J$9<>\"\",INDIRECT(CONCATENATE($J$9,\"!B88\")),\"\")","v":""},{"$f":"IF($J$9<>\"\",INDIRECT(CONCATENATE($J$9,\"!C88\")),\"\")","v":""},{"$f":"IF($J$9<>\"\",INDIRECT(CONCATENATE($J$9,\"!D88\")),\"\")","v":""},{"$f":"IF($J$9<>\"\",INDIRECT(CONCATENATE($J$9,\"!E88\")),\"\")","v":""},{"$f":"IF($J$9<>\"\",INDIRECT(CONCATENATE($J$9,\"!F88\")),\"\")","v":""}]
[null,null,null,null,null,null,null,null,null,null,null,{"$f":"IF($J$9<>\"\",INDIRECT(CONCATENATE($J$9,\"!A89\")),\"\")","v":""},{"$f":"IF($J$9<>\"\",INDIRECT(CONCATENATE($J$9,\"!B89\")),\"\")","v":""},{"$f":"IF($J$9<>\"\",INDIRECT(CONCATENATE($J$9,\"!C89\")),\"\")","v":""},{"$f":"IF($J$9<>\"\",INDIRECT(CONCATENATE($J$9,\"!D89\")),\"\")","v":""},{"$f":"IF($J$9<>\"\",INDIRECT(CONCATENATE($J$9,\"!E89\")),\"\")","v":""},{"$f":"IF($J$9<>\"\",INDIRECT(CONCATENATE($J$9,\"!F89\")),\"\")","v":""}]
[null,null,null,null,null,null,null,null,null,null,null,{"$f":"IF($J$9<>\"\",INDIRECT(CONCATENATE($J$9,\"!A90\")),\"\")","v":""},{"$f":"IF($J$9<>\"\",INDIRECT(CONCATENATE($J$9,\"!B90\")),\"\")","v":""},{"$f":"IF($J$9<>\"\",INDIRECT(CONCATENATE($J$9,\"!C90\")),\"\")","v":""},{"$f":"IF($J$9<>\"\",INDIRECT(CONCATENATE($J$9,\"!D90\")),\"\")","v":""},{"$f":"IF($J$9<>\"\",INDIRECT(CONCATENATE($J$9,\"!E90\")),\"\")","v":""},{"$f":"IF($J$9<>\"\",INDIRECT(CONCATENATE($J$9,\"!F90\")),\"\")","v":""}]
[null,null,null,null,null,null,null,null,null,null,null,{"$f":"IF($J$9<>\"\",INDIRECT(CONCATENATE($J$9,\"!A91\")),\"\")","v":""},{"$f":"IF($J$9<>\"\",INDIRECT(CONCATENATE($J$9,\"!B91\")),\"\")","v":""},{"$f":"IF($J$9<>\"\",INDIRECT(CONCATENATE($J$9,\"!C91\")),\"\")","v":""},{"$f":"IF($J$9<>\"\",INDIRECT(CONCATENATE($J$9,\"!D91\")),\"\")","v":""},{"$f":"IF($J$9<>\"\",INDIRECT(CONCATENATE($J$9,\"!E91\")),\"\")","v":""},{"$f":"IF($J$9<>\"\",INDIRECT(CONCATENATE($J$9,\"!F91\")),\"\")","v":""}]
[null,null,null,null,null,null,null,null,null,null,null,{"$f":"IF($J$9<>\"\",INDIRECT(CONCATENATE($J$9,\"!A92\")),\"\")","v":""},{"$f":"IF($J$9<>\"\",INDIRECT(CONCATENATE($J$9,\"!B92\")),\"\")","v":""},{"$f":"IF($J$9<>\"\",INDIRECT(CONCATENATE($J$9,\"!C92\")),\"\")","v":""},{"$f":"IF($J$9<>\"\",INDIRECT(CONCATENATE($J$9,\"!D92\")),\"\")","v":""},{"$f":"IF($J$9<>\"\",INDIRECT(CONCATENATE($J$9,\"!E92\")),\"\")","v":""},{"$f":"IF($J$9<>\"\",INDIRECT(CONCATENATE($J$9,\"!F92\")),\"\")","v":""}]
[null,null,null,null,null,null,null,null,null,null,null,{"$f":"IF($J$9<>\"\",INDIRECT(CONCATENATE($J$9,\"!A93\")),\"\")","v":""},{"$f":"IF($J$9<>\"\",INDIRECT(CONCATENATE($J$9,\"!B93\")),\"\")","v":""},{"$f":"IF($J$9<>\"\",INDIRECT(CONCATENATE($J$9,\"!C93\")),\"\")","v":""},{"$f":"IF($J$9<>\"\",INDIRECT(CONCATENATE($J$9,\"!D93\")),\"\")","v":""},{"$f":"IF($J$9<>\"\",INDIRECT(CONCATENATE($J$9,\"!E93\")),\"\")","v":""},{"$f":"IF($J$9<>\"\",INDIRECT(CONCATENATE($J$9,\"!F93\")),\"\")","v":""}]
[null,null,null,null,null,null,null,null,null,null,null,{"$f":"IF($J$9<>\"\",INDIRECT(CONCATENATE($J$9,\"!A94\")),\"\")","v":""},{"$f":"IF($J$9<>\"\",INDIRECT(CONCATENATE($J$9,\"!B94\")),\"\")","v":""},{"$f":"IF($J$9<>\"\",INDIRECT(CONCATENATE($J$9,\"!C94\")),\"\")","v":""},{"$f":"IF($J$9<>\"\",INDIRECT(CONCATENATE($J$9,\"!D94\")),\"\")","v":""},{"$f":"IF($J$9<>\"\",INDIRECT(CONCATENATE($J$9,\"!E94\")),\"\")","v":""},{"$f":"IF($J$9<>\"\",INDIRECT(CONCATENATE($J$9,\"!F94\")),\"\")","v":""}]
[null,null,null,null,null,null,null,null,null,null,null,{"$f":"IF($J$9<>\"\",INDIRECT(CONCATENATE($J$9,\"!A95\")),\"\")","v":""},{"$f":"IF($J$9<>\"\",INDIRECT(CONCATENATE($J$9,\"!B95\")),\"\")","v":""},{"$f":"IF($J$9<>\"\",INDIRECT(CONCATENATE($J$9,\"!C95\")),\"\")","v":""},{"$f":"IF($J$9<>\"\",INDIRECT(CONCATENATE($J$9,\"!D95\")),\"\")","v":""},{"$f":"IF($J$9<>\"\",INDIRECT(CONCATENATE($J$9,\"!E95\")),\"\")","v":""},{"$f":"IF($J$9<>\"\",INDIRECT(CONCATENATE($J$9,\"!F95\")),\"\")","v":""}]
[null,null,null,null,null,null,null,null,null,null,null,{"$f":"IF($J$9<>\"\",INDIRECT(CONCATENATE($J$9,\"!A96\")),\"\")","v":""},{"$f":"IF($J$9<>\"\",INDIRECT(CONCATENATE($J$9,\"!B96\")),\"\")","v":""},{"$f":"IF($J$9<>\"\",INDIRECT(CONCATENATE($J$9,\"!C96\")),\"\")","v":""},{"$f":"IF($J$9<>\"\",INDIRECT(CONCATENATE($J$9,\"!D96\")),\"\")","v":""},{"$f":"IF($J$9<>\"\",INDIRECT(CONCATENATE($J$9,\"!E96\")),\"\")","v":""},{"$f":"IF($J$9<>\"\",INDIRECT(CONCATENATE($J$9,\"!F96\")),\"\")","v":""}]
[null,null,null,null,null,null,null,null,null,null,null,{"$f":"IF($J$9<>\"\",INDIRECT(CONCATENATE($J$9,\"!A97\")),\"\")","v":""},{"$f":"IF($J$9<>\"\",INDIRECT(CONCATENATE($J$9,\"!B97\")),\"\")","v":""},{"$f":"IF($J$9<>\"\",INDIRECT(CONCATENATE($J$9,\"!C97\")),\"\")","v":""},{"$f":"IF($J$9<>\"\",INDIRECT(CONCATENATE($J$9,\"!D97\")),\"\")","v":""},{"$f":"IF($J$9<>\"\",INDIRECT(CONCATENATE($J$9,\"!E97\")),\"\")","v":""},{"$f":"IF($J$9<>\"\",INDIRECT(CONCATENATE($J$9,\"!F97\")),\"\")","v":""}]
[null,null,null,null,null,null,null,null,null,null,null,{"$f":"IF($J$9<>\"\",INDIRECT(CONCATENATE($J$9,\"!A98\")),\"\")","v":""},{"$f":"IF($J$9<>\"\",INDIRECT(CONCATENATE($J$9,\"!B98\")),\"\")","v":""},{"$f":"IF($J$9<>\"\",INDIRECT(CONCATENATE($J$9,\"!C98\")),\"\")","v":""},{"$f":"IF($J$9<>\"\",INDIRECT(CONCATENATE($J$9,\"!D98\")),\"\")","v":""},{"$f":"IF($J$9<>\"\",INDIRECT(CONCATENATE($J$9,\"!E98\")),\"\")","v":""},{"$f":"IF($J$9<>\"\",INDIRECT(CONCATENATE($J$9,\"!F98\")),\"\")","v":""}]
[null,null,null,null,null,null,null,null,null,null,null,{"$f":"IF($J$9<>\"\",INDIRECT(CONCATENATE($J$9,\"!A99\")),\"\")","v":""},{"$f":"IF($J$9<>\"\",INDIRECT(CONCATENATE($J$9,\"!B99\")),\"\")","v":""},{"$f":"IF($J$9<>\"\",INDIRECT(CONCATENATE($J$9,\"!C99\")),\"\")","v":""},{"$f":"IF($J$9<>\"\",INDIRECT(CONCATENATE($J$9,\"!D99\")),\"\")","v":""},{"$f":"IF($J$9<>\"\",INDIRECT(CONCATENATE($J$9,\"!E99\")),\"\")","v":""},{"$f":"IF($J$9<>\"\",INDIRECT(CONCATENATE($J$9,\"!F99\")),\"\")","v":""}]
[null,null,null,null,null,null,null,null,null,null,null,{"$f":"IF($J$9<>\"\",INDIRECT(CONCATENATE($J$9,\"!A100\")),\"\")","v":""},{"$f":"IF($J$9<>\"\",INDIRECT(CONCATENATE($J$9,\"!B100\")),\"\")","v":""},{"$f":"IF($J$9<>\"\",INDIRECT(CONCATENATE($J$9,\"!C100\")),\"\")","v":""},{"$f":"IF($J$9<>\"\",INDIRECT(CONCATENATE($J$9,\"!D100\")),\"\")","v":""},{"$f":"IF($J$9<>\"\",INDIRECT(CONCATENATE($J$9,\"!E100\")),\"\")","v":""},{"$f":"IF($J$9<>\"\",INDIRECT(CONCATENATE($J$9,\"!F100\")),\"\")","v":""}]
[null,null,null,null,null,null,null,null,null,null,null,{"$f":"IF($J$9<>\"\",INDIRECT(CONCATENATE($J$9,\"!A101\")),\"\")","v":""},{"$f":"IF($J$9<>\"\",INDIRECT(CONCATENATE($J$9,\"!B101\")),\"\")","v":""},{"$f":"IF($J$9<>\"\",INDIRECT(CONCATENATE($J$9,\"!C101\")),\"\")","v":""},{"$f":"IF($J$9<>\"\",INDIRECT(CONCATENATE($J$9,\"!D101\")),\"\")","v":""},{"$f":"IF($J$9<>\"\",INDIRECT(CONCATENATE($J$9,\"!E101\")),\"\")","v":""},{"$f":"IF($J$9<>\"\",INDIRECT(CONCATENATE($J$9,\"!F101\")),\"\")","v":""}]
[null,null,null,null,null,null,null,null,null,null,null,{"$f":"IF($J$9<>\"\",INDIRECT(CONCATENATE($J$9,\"!A102\")),\"\")","v":""},{"$f":"IF($J$9<>\"\",INDIRECT(CONCATENATE($J$9,\"!B102\")),\"\")","v":""},{"$f":"IF($J$9<>\"\",INDIRECT(CONCATENATE($J$9,\"!C102\")),\"\")","v":""},{"$f":"IF($J$9<>\"\",INDIRECT(CONCATENATE($J$9,\"!D102\")),\"\")","v":""},{"$f":"IF($J$9<>\"\",INDIRECT(CONCATENATE($J$9,\"!E102\")),\"\")","v":""},{"$f":"IF($J$9<>\"\",INDIRECT(CONCATENATE($J$9,\"!F102\")),\"\")","v":""}]
[null,null,null,null,null,null,null,null,null,null,null,{"$f":"IF($J$9<>\"\",INDIRECT(CONCATENATE($J$9,\"!A103\")),\"\")","v":""},{"$f":"IF($J$9<>\"\",INDIRECT(CONCATENATE($J$9,\"!B103\")),\"\")","v":""},{"$f":"IF($J$9<>\"\",INDIRECT(CONCATENATE($J$9,\"!C103\")),\"\")","v":""},{"$f":"IF($J$9<>\"\",INDIRECT(CONCATENATE($J$9,\"!D103\")),\"\")","v":""},{"$f":"IF($J$9<>\"\",INDIRECT(CONCATENATE($J$9,\"!E103\")),\"\")","v":""},{"$f":"IF($J$9<>\"\",INDIRECT(CONCATENATE($J$9,\"!F103\")),\"\")","v":""}]
[null,null,null,null,null,null,null,null,null,null,null,{"$f":"IF($J$9<>\"\",INDIRECT(CONCATENATE($J$9,\"!A104\")),\"\")","v":""},{"$f":"IF($J$9<>\"\",INDIRECT(CONCATENATE($J$9,\"!B104\")),\"\")","v":""},{"$f":"IF($J$9<>\"\",INDIRECT(CONCATENATE($J$9,\"!C104\")),\"\")","v":""},{"$f":"IF($J$9<>\"\",INDIRECT(CONCATENATE($J$9,\"!D104\")),\"\")","v":""},{"$f":"IF($J$9<>\"\",INDIRECT(CONCATENATE($J$9,\"!E104\")),\"\")","v":""},{"$f":"IF($J$9<>\"\",INDIRECT(CONCATENATE($J$9,\"!F104\")),\"\")","v":""}]
[null,null,null,null,null,null,null,null,null,null,null,{"$f":"IF($J$9<>\"\",INDIRECT(CONCATENATE($J$9,\"!A105\")),\"\")","v":""},{"$f":"IF($J$9<>\"\",INDIRECT(CONCATENATE($J$9,\"!B105\")),\"\")","v":""},{"$f":"IF($J$9<>\"\",INDIRECT(CONCATENATE($J$9,\"!C105\")),\"\")","v":""},{"$f":"IF($J$9<>\"\",INDIRECT(CONCATENATE($J$9,\"!D105\")),\"\")","v":""},{"$f":"IF($J$9<>\"\",INDIRECT(CONCATENATE($J$9,\"!E105\")),\"\")","v":""},{"$f":"IF($J$9<>\"\",INDIRECT(CONCATENATE($J$9,\"!F105\")),\"\")","v":""}]
[null,null,null,null,null,null,null,null,null,null,null,{"$f":"IF($J$9<>\"\",INDIRECT(CONCATENATE($J$9,\"!A106\")),\"\")","v":""},{"$f":"IF($J$9<>\"\",INDIRECT(CONCATENATE($J$9,\"!B106\")),\"\")","v":""},{"$f":"IF($J$9<>\"\",INDIRECT(CONCATENATE($J$9,\"!C106\")),\"\")","v":""},{"$f":"IF($J$9<>\"\",INDIRECT(CONCATENATE($J$9,\"!D106\")),\"\")","v":""},{"$f":"IF($J$9<>\"\",INDIRECT(CONCATENATE($J$9,\"!E106\")),\"\")","v":""},{"$f":"IF($J$9<>\"\",INDIRECT(CONCATENATE($J$9,\"!F106\")),\"\")","v":""}]
[null,null,null,null,null,null,null,null,null,null,null,{"$f":"IF($J$9<>\"\",INDIRECT(CONCATENATE($J$9,\"!A107\")),\"\")","v":""},{"$f":"IF($J$9<>\"\",INDIRECT(CONCATENATE($J$9,\"!B107\")),\"\")","v":""},{"$f":"IF($J$9<>\"\",INDIRECT(CONCATENATE($J$9,\"!C107\")),\"\")","v":""},{"$f":"IF($J$9<>\"\",INDIRECT(CONCATENATE($J$9,\"!D107\")),\"\")","v":""},{"$f":"IF($J$9<>\"\",INDIRECT(CONCATENATE($J$9,\"!E107\")),\"\")","v":""},{"$f":"IF($J$9<>\"\",INDIRECT(CONCATENATE($J$9,\"!F107\")),\"\")","v":""}]
[null,null,null,null,null,null,null,null,null,null,null,{"$f":"IF($J$9<>\"\",INDIRECT(CONCATENATE($J$9,\"!A108\")),\"\")","v":""},{"$f":"IF($J$9<>\"\",INDIRECT(CONCATENATE($J$9,\"!B108\")),\"\")","v":""},{"$f":"IF($J$9<>\"\",INDIRECT(CONCATENATE($J$9,\"!C108\")),\"\")","v":""},{"$f":"IF($J$9<>\"\",INDIRECT(CONCATENATE($J$9,\"!D108\")),\"\")","v":""},{"$f":"IF($J$9<>\"\",INDIRECT(CONCATENATE($J$9,\"!E108\")),\"\")","v":""},{"$f":"IF($J$9<>\"\",INDIRECT(CONCATENATE($J$9,\"!F108\")),\"\")","v":""}]
[null,null,null,null,null,null,null,null,null,null,null,{"$f":"IF($J$9<>\"\",INDIRECT(CONCATENATE($J$9,\"!A109\")),\"\")","v":""},{"$f":"IF($J$9<>\"\",INDIRECT(CONCATENATE($J$9,\"!B109\")),\"\")","v":""},{"$f":"IF($J$9<>\"\",INDIRECT(CONCATENATE($J$9,\"!C109\")),\"\")","v":""},{"$f":"IF($J$9<>\"\",INDIRECT(CONCATENATE($J$9,\"!D109\")),\"\")","v":""},{"$f":"IF($J$9<>\"\",INDIRECT(CONCATENATE($J$9,\"!E109\")),\"\")","v":""},{"$f":"IF($J$9<>\"\",INDIRECT(CONCATENATE($J$9,\"!F109\")),\"\")","v":""}]
[null,null,null,null,null,null,null,null,null,null,null,{"$f":"IF($J$9<>\"\",INDIRECT(CONCATENATE($J$9,\"!A110\")),\"\")","v":""},{"$f":"IF($J$9<>\"\",INDIRECT(CONCATENATE($J$9,\"!B110\")),\"\")","v":""},{"$f":"IF($J$9<>\"\",INDIRECT(CONCATENATE($J$9,\"!C110\")),\"\")","v":""},{"$f":"IF($J$9<>\"\",INDIRECT(CONCATENATE($J$9,\"!D110\")),\"\")","v":""},{"$f":"IF($J$9<>\"\",INDIRECT(CONCATENATE($J$9,\"!E110\")),\"\")","v":""},{"$f":"IF($J$9<>\"\",INDIRECT(CONCATENATE($J$9,\"!F110\")),\"\")","v":""}]
[null,null,null,null,null,null,null,null,null,null,null,{"$f":"IF($J$9<>\"\",INDIRECT(CONCATENATE($J$9,\"!A111\")),\"\")","v":""},{"$f":"IF($J$9<>\"\",INDIRECT(CONCATENATE($J$9,\"!B111\")),\"\")","v":""},{"$f":"IF($J$9<>\"\",INDIRECT(CONCATENATE($J$9,\"!C111\")),\"\")","v":""},{"$f":"IF($J$9<>\"\",INDIRECT(CONCATENATE($J$9,\"!D111\")),\"\")","v":""},{"$f":"IF($J$9<>\"\",INDIRECT(CONCATENATE($J$9,\"!E111\")),\"\")","v":""},{"$f":"IF($J$9<>\"\",INDIRECT(CONCATENATE($J$9,\"!F111\")),\"\")","v":""}]
[null,null,null,null,null,null,null,null,null,null,null,{"$f":"IF($J$9<>\"\",INDIRECT(CONCATENATE($J$9,\"!A112\")),\"\")","v":""},{"$f":"IF($J$9<>\"\",INDIRECT(CONCATENATE($J$9,\"!B112\")),\"\")","v":""},{"$f":"IF($J$9<>\"\",INDIRECT(CONCATENATE($J$9,\"!C112\")),\"\")","v":""},{"$f":"IF($J$9<>\"\",INDIRECT(CONCATENATE($J$9,\"!D112\")),\"\")","v":""},{"$f":"IF($J$9<>\"\",INDIRECT(CONCATENATE($J$9,\"!E112\")),\"\")","v":""},{"$f":"IF($J$9<>\"\",INDIRECT(CONCATENATE($J$9,\"!F112\")),\"\")","v":""}]
[null,null,null,null,null,null,null,null,null,null,null,{"$f":"IF($J$9<>\"\",INDIRECT(CONCATENATE($J$9,\"!A113\")),\"\")","v":""},{"$f":"IF($J$9<>\"\",INDIRECT(CONCATENATE($J$9,\"!B113\")),\"\")","v":""},{"$f":"IF($J$9<>\"\",INDIRECT(CONCATENATE($J$9,\"!C113\")),\"\")","v":""},{"$f":"IF($J$9<>\"\",INDIRECT(CONCATENATE($J$9,\"!D113\")),\"\")","v":""},{"$f":"IF($J$9<>\"\",INDIRECT(CONCATENATE($J$9,\"!E113\")),\"\")","v":""},{"$f":"IF($J$9<>\"\",INDIRECT(CONCATENATE($J$9,\"!F113\")),\"\")","v":""}]
[null,null,null,null,null,null,null,null,null,null,null,{"$f":"IF($J$9<>\"\",INDIRECT(CONCATENATE($J$9,\"!A114\")),\"\")","v":""},{"$f":"IF($J$9<>\"\",INDIRECT(CONCATENATE($J$9,\"!B114\")),\"\")","v":""},{"$f":"IF($J$9<>\"\",INDIRECT(CONCATENATE($J$9,\"!C114\")),\"\")","v":""},{"$f":"IF($J$9<>\"\",INDIRECT(CONCATENATE($J$9,\"!D114\")),\"\")","v":""},{"$f":"IF($J$9<>\"\",INDIRECT(CONCATENATE($J$9,\"!E114\")),\"\")","v":""},{"$f":"IF($J$9<>\"\",INDIRECT(CONCATENATE($J$9,\"!F114\")),\"\")","v":""}]
[null,null,null,null,null,null,null,null,null,null,null,{"$f":"IF($J$9<>\"\",INDIRECT(CONCATENATE($J$9,\"!A115\")),\"\")","v":""},{"$f":"IF($J$9<>\"\",INDIRECT(CONCATENATE($J$9,\"!B115\")),\"\")","v":""},{"$f":"IF($J$9<>\"\",INDIRECT(CONCATENATE($J$9,\"!C115\")),\"\")","v":""},{"$f":"IF($J$9<>\"\",INDIRECT(CONCATENATE($J$9,\"!D115\")),\"\")","v":""},{"$f":"IF($J$9<>\"\",INDIRECT(CONCATENATE($J$9,\"!E115\")),\"\")","v":""},{"$f":"IF($J$9<>\"\",INDIRECT(CONCATENATE($J$9,\"!F115\")),\"\")","v":""}]
[null,null,null,null,null,null,null,null,null,null,null,{"$f":"IF($J$9<>\"\",INDIRECT(CONCATENATE($J$9,\"!A116\")),\"\")","v":""},{"$f":"IF($J$9<>\"\",INDIRECT(CONCATENATE($J$9,\"!B116\")),\"\")","v":""},{"$f":"IF($J$9<>\"\",INDIRECT(CONCATENATE($J$9,\"!C116\")),\"\")","v":""},{"$f":"IF($J$9<>\"\",INDIRECT(CONCATENATE($J$9,\"!D116\")),\"\")","v":""},{"$f":"IF($J$9<>\"\",INDIRECT(CONCATENATE($J$9,\"!E116\")),\"\")","v":""},{"$f":"IF($J$9<>\"\",INDIRECT(CONCATENATE($J$9,\"!F116\")),\"\")","v":""}]
[null,null,null,null,null,null,null,null,null,null,null,{"$f":"IF($J$9<>\"\",INDIRECT(CONCATENATE($J$9,\"!A117\")),\"\")","v":""},{"$f":"IF($J$9<>\"\",INDIRECT(CONCATENATE($J$9,\"!B117\")),\"\")","v":""},{"$f":"IF($J$9<>\"\",INDIRECT(CONCATENATE($J$9,\"!C117\")),\"\")","v":""},{"$f":"IF($J$9<>\"\",INDIRECT(CONCATENATE($J$9,\"!D117\")),\"\")","v":""},{"$f":"IF($J$9<>\"\",INDIRECT(CONCATENATE($J$9,\"!E117\")),\"\")","v":""},{"$f":"IF($J$9<>\"\",INDIRECT(CONCATENATE($J$9,\"!F117\")),\"\")","v":""}]
[null,null,null,null,null,null,null,null,null,null,null,{"$f":"IF($J$9<>\"\",INDIRECT(CONCATENATE($J$9,\"!A118\")),\"\")","v":""},{"$f":"IF($J$9<>\"\",INDIRECT(CONCATENATE($J$9,\"!B118\")),\"\")","v":""},{"$f":"IF($J$9<>\"\",INDIRECT(CONCATENATE($J$9,\"!C118\")),\"\")","v":""},{"$f":"IF($J$9<>\"\",INDIRECT(CONCATENATE($J$9,\"!D118\")),\"\")","v":""},{"$f":"IF($J$9<>\"\",INDIRECT(CONCATENATE($J$9,\"!E118\")),\"\")","v":""},{"$f":"IF($J$9<>\"\",INDIRECT(CONCATENATE($J$9,\"!F118\")),\"\")","v":""}]
[null,null,null,null,null,null,null,null,null,null,null,{"$f":"IF($J$9<>\"\",INDIRECT(CONCATENATE($J$9,\"!A119\")),\"\")","v":""},{"$f":"IF($J$9<>\"\",INDIRECT(CONCATENATE($J$9,\"!B119\")),\"\")","v":""},{"$f":"IF($J$9<>\"\",INDIRECT(CONCATENATE($J$9,\"!C119\")),\"\")","v":""},{"$f":"IF($J$9<>\"\",INDIRECT(CONCATENATE($J$9,\"!D119\")),\"\")","v":""},{"$f":"IF($J$9<>\"\",INDIRECT(CONCATENATE($J$9,\"!E119\")),\"\")","v":""},{"$f":"IF($J$9<>\"\",INDIRECT(CONCATENATE($J$9,\"!F119\")),\"\")","v":""}]
[null,null,null,null,null,null,null,null,null,null,null,{"$f":"IF($J$9<>\"\",INDIRECT(CONCATENATE($J$9,\"!A120\")),\"\")","v":""},{"$f":"IF($J$9<>\"\",INDIRECT(CONCATENATE($J$9,\"!B120\")),\"\")","v":""},{"$f":"IF($J$9<>\"\",INDIRECT(CONCATENATE($J$9,\"!C120\")),\"\")","v":""},{"$f":"IF($J$9<>\"\",INDIRECT(CONCATENATE($J$9,\"!D120\")),\"\")","v":""},{"$f":"IF($J$9<>\"\",INDIRECT(CONCATENATE($J$9,\"!E120\")),\"\")","v":""},{"$f":"IF($J$9<>\"\",INDIRECT(CONCATENATE($J$9,\"!F120\")),\"\")","v":""}]
[null,null,null,null,null,null,null,null,null,null,null,{"$f":"IF($J$9<>\"\",INDIRECT(CONCATENATE($J$9,\"!A121\")),\"\")","v":""},{"$f":"IF($J$9<>\"\",INDIRECT(CONCATENATE($J$9,\"!B121\")),\"\")","v":""},{"$f":"IF($J$9<>\"\",INDIRECT(CONCATENATE($J$9,\"!C121\")),\"\")","v":""},{"$f":"IF($J$9<>\"\",INDIRECT(CONCATENATE($J$9,\"!D121\")),\"\")","v":""},{"$f":"IF($J$9<>\"\",INDIRECT(CONCATENATE($J$9,\"!E121\")),\"\")","v":""},{"$f":"IF($J$9<>\"\",INDIRECT(CONCATENATE($J$9,\"!F121\")),\"\")","v":""}]
[null,null,null,null,null,null,null,null,null,null,null,{"$f":"IF($J$9<>\"\",INDIRECT(CONCATENATE($J$9,\"!A122\")),\"\")","v":""},{"$f":"IF($J$9<>\"\",INDIRECT(CONCATENATE($J$9,\"!B122\")),\"\")","v":""},{"$f":"IF($J$9<>\"\",INDIRECT(CONCATENATE($J$9,\"!C122\")),\"\")","v":""},{"$f":"IF($J$9<>\"\",INDIRECT(CONCATENATE($J$9,\"!D122\")),\"\")","v":""},{"$f":"IF($J$9<>\"\",INDIRECT(CONCATENATE($J$9,\"!E122\")),\"\")","v":""},{"$f":"IF($J$9<>\"\",INDIRECT(CONCATENATE($J$9,\"!F122\")),\"\")","v":""}]
[null,null,null,null,null,null,null,null,null,null,null,{"$f":"IF($J$9<>\"\",INDIRECT(CONCATENATE($J$9,\"!A123\")),\"\")","v":""},{"$f":"IF($J$9<>\"\",INDIRECT(CONCATENATE($J$9,\"!B123\")),\"\")","v":""},{"$f":"IF($J$9<>\"\",INDIRECT(CONCATENATE($J$9,\"!C123\")),\"\")","v":""},{"$f":"IF($J$9<>\"\",INDIRECT(CONCATENATE($J$9,\"!D123\")),\"\")","v":""},{"$f":"IF($J$9<>\"\",INDIRECT(CONCATENATE($J$9,\"!E123\")),\"\")","v":""},{"$f":"IF($J$9<>\"\",INDIRECT(CONCATENATE($J$9,\"!F123\")),\"\")","v":""}]
[null,null,null,null,null,null,null,null,null,null,null,{"$f":"IF($J$9<>\"\",INDIRECT(CONCATENATE($J$9,\"!A124\")),\"\")","v":""},{"$f":"IF($J$9<>\"\",INDIRECT(CONCATENATE($J$9,\"!B124\")),\"\")","v":""},{"$f":"IF($J$9<>\"\",INDIRECT(CONCATENATE($J$9,\"!C124\")),\"\")","v":""},{"$f":"IF($J$9<>\"\",INDIRECT(CONCATENATE($J$9,\"!D124\")),\"\")","v":""},{"$f":"IF($J$9<>\"\",INDIRECT(CONCATENATE($J$9,\"!E124\")),\"\")","v":""},{"$f":"IF($J$9<>\"\",INDIRECT(CONCATENATE($J$9,\"!F124\")),\"\")","v":""}]
[null,null,null,null,null,null,null,null,null,null,null,{"$f":"IF($J$9<>\"\",INDIRECT(CONCATENATE($J$9,\"!A125\")),\"\")","v":""},{"$f":"IF($J$9<>\"\",INDIRECT(CONCATENATE($J$9,\"!B125\")),\"\")","v":""},{"$f":"IF($J$9<>\"\",INDIRECT(CONCATENATE($J$9,\"!C125\")),\"\")","v":""},{"$f":"IF($J$9<>\"\",INDIRECT(CONCATENATE($J$9,\"!D125\")),\"\")","v":""},{"$f":"IF($J$9<>\"\",INDIRECT(CONCATENATE($J$9,\"!E125\")),\"\")","v":""},{"$f":"IF($J$9<>\"\",INDIRECT(CONCATENATE($J$9,\"!F125\")),\"\")","v":""}]
[null,null,null,null,null,null,null,null,null,null,null,{"$f":"IF($J$9<>\"\",INDIRECT(CONCATENATE($J$9,\"!A126\")),\"\")","v":""},{"$f":"IF($J$9<>\"\",INDIRECT(CONCATENATE($J$9,\"!B126\")),\"\")","v":""},{"$f":"IF($J$9<>\"\",INDIRECT(CONCATENATE($J$9,\"!C126\")),\"\")","v":""},{"$f":"IF($J$9<>\"\",INDIRECT(CONCATENATE($J$9,\"!D126\")),\"\")","v":""},{"$f":"IF($J$9<>\"\",INDIRECT(CONCATENATE($J$9,\"!E126\")),\"\")","v":""},{"$f":"IF($J$9<>\"\",INDIRECT(CONCATENATE($J$9,\"!F126\")),\"\")","v":""}]
[null,null,null,null,null,null,null,null,null,null,null,{"$f":"IF($J$9<>\"\",INDIRECT(CONCATENATE($J$9,\"!A127\")),\"\")","v":""},{"$f":"IF($J$9<>\"\",INDIRECT(CONCATENATE($J$9,\"!B127\")),\"\")","v":""},{"$f":"IF($J$9<>\"\",INDIRECT(CONCATENATE($J$9,\"!C127\")),\"\")","v":""},{"$f":"IF($J$9<>\"\",INDIRECT(CONCATENATE($J$9,\"!D127\")),\"\")","v":""},{"$f":"IF($J$9<>\"\",INDIRECT(CONCATENATE($J$9,\"!E127\")),\"\")","v":""},{"$f":"IF($J$9<>\"\",INDIRECT(CONCATENATE($J$9,\"!F127\")),\"\")","v":""}]
[null,null,null,null,null,null,null,null,null,null,null,{"$f":"IF($J$9<>\"\",INDIRECT(CONCATENATE($J$9,\"!A128\")),\"\")","v":""},{"$f":"IF($J$9<>\"\",INDIRECT(CONCATENATE($J$9,\"!B128\")),\"\")","v":""},{"$f":"IF($J$9<>\"\",INDIRECT(CONCATENATE($J$9,\"!C128\")),\"\")","v":""},{"$f":"IF($J$9<>\"\",INDIRECT(CONCATENATE($J$9,\"!D128\")),\"\")","v":""},{"$f":"IF($J$9<>\"\",INDIRECT(CONCATENATE($J$9,\"!E128\")),\"\")","v":""},{"$f":"IF($J$9<>\"\",INDIRECT(CONCATENATE($J$9,\"!F128\")),\"\")","v":""}]
[null,null,null,null,null,null,null,null,null,null,null,{"$f":"IF($J$9<>\"\",INDIRECT(CONCATENATE($J$9,\"!A129\")),\"\")","v":""},{"$f":"IF($J$9<>\"\",INDIRECT(CONCATENATE($J$9,\"!B129\")),\"\")","v":""},{"$f":"IF($J$9<>\"\",INDIRECT(CONCATENATE($J$9,\"!C129\")),\"\")","v":""},{"$f":"IF($J$9<>\"\",INDIRECT(CONCATENATE($J$9,\"!D129\")),\"\")","v":""},{"$f":"IF($J$9<>\"\",INDIRECT(CONCATENATE($J$9,\"!E129\")),\"\")","v":""},{"$f":"IF($J$9<>\"\",INDIRECT(CONCATENATE($J$9,\"!F129\")),\"\")","v":""}]
[null,null,null,null,null,null,null,null,null,null,null,{"$f":"IF($J$9<>\"\",INDIRECT(CONCATENATE($J$9,\"!A130\")),\"\")","v":""},{"$f":"IF($J$9<>\"\",INDIRECT(CONCATENATE($J$9,\"!B130\")),\"\")","v":""},{"$f":"IF($J$9<>\"\",INDIRECT(CONCATENATE($J$9,\"!C130\")),\"\")","v":""},{"$f":"IF($J$9<>\"\",INDIRECT(CONCATENATE($J$9,\"!D130\")),\"\")","v":""},{"$f":"IF($J$9<>\"\",INDIRECT(CONCATENATE($J$9,\"!E130\")),\"\")","v":""},{"$f":"IF($J$9<>\"\",INDIRECT(CONCATENATE($J$9,\"!F130\")),\"\")","v":""}]
[null,null,null,null,null,null,null,null,null,null,null,{"$f":"IF($J$9<>\"\",INDIRECT(CONCATENATE($J$9,\"!A131\")),\"\")","v":""},{"$f":"IF($J$9<>\"\",INDIRECT(CONCATENATE($J$9,\"!B131\")),\"\")","v":""},{"$f":"IF($J$9<>\"\",INDIRECT(CONCATENATE($J$9,\"!C131\")),\"\")","v":""},{"$f":"IF($J$9<>\"\",INDIRECT(CONCATENATE($J$9,\"!D131\")),\"\")","v":""},{"$f":"IF($J$9<>\"\",INDIRECT(CONCATENATE($J$9,\"!E131\")),\"\")","v":""},{"$f":"IF($J$9<>\"\",INDIRECT(CONCATENATE($J$9,\"!F131\")),\"\")","v":""}]
[null,null,null,null,null,null,null,null,null,null,null,{"$f":"IF($J$9<>\"\",INDIRECT(CONCATENATE($J$9,\"!A132\")),\"\")","v":""},{"$f":"IF($J$9<>\"\",INDIRECT(CONCATENATE($J$9,\"!B132\")),\"\")","v":""},{"$f":"IF($J$9<>\"\",INDIRECT(CONCATENATE($J$9,\"!C132\")),\"\")","v":""},{"$f":"IF($J$9<>\"\",INDIRECT(CONCATENATE($J$9,\"!D132\")),\"\")","v":""},{"$f":"IF($J$9<>\"\",INDIRECT(CONCATENATE($J$9,\"!E132\")),\"\")","v":""},{"$f":"IF($J$9<>\"\",INDIRECT(CONCATENATE($J$9,\"!F132\")),\"\")","v":""}]
[null,null,null,null,null,null,null,null,null,null,null,{"$f":"IF($J$9<>\"\",INDIRECT(CONCATENATE($J$9,\"!A133\")),\"\")","v":""},{"$f":"IF($J$9<>\"\",INDIRECT(CONCATENATE($J$9,\"!B133\")),\"\")","v":""},{"$f":"IF($J$9<>\"\",INDIRECT(CONCATENATE($J$9,\"!C133\")),\"\")","v":""},{"$f":"IF($J$9<>\"\",INDIRECT(CONCATENATE($J$9,\"!D133\")),\"\")","v":""},{"$f":"IF($J$9<>\"\",INDIRECT(CONCATENATE($J$9,\"!E133\")),\"\")","v":""},{"$f":"IF($J$9<>\"\",INDIRECT(CONCATENATE($J$9,\"!F133\")),\"\")","v":""}]
[null,null,null,null,null,null,null,null,null,null,null,{"$f":"IF($J$9<>\"\",INDIRECT(CONCATENATE($J$9,\"!A134\")),\"\")","v":""},{"$f":"IF($J$9<>\"\",INDIRECT(CONCATENATE($J$9,\"!B134\")),\"\")","v":""},{"$f":"IF($J$9<>\"\",INDIRECT(CONCATENATE($J$9,\"!C134\")),\"\")","v":""},{"$f":"IF($J$9<>\"\",INDIRECT(CONCATENATE($J$9,\"!D134\")),\"\")","v":""},{"$f":"IF($J$9<>\"\",INDIRECT(CONCATENATE($J$9,\"!E134\")),\"\")","v":""},{"$f":"IF($J$9<>\"\",INDIRECT(CONCATENATE($J$9,\"!F134\")),\"\")","v":""}]
[null,null,null,null,null,null,null,null,null,null,null,{"$f":"IF($J$9<>\"\",INDIRECT(CONCATENATE($J$9,\"!A135\")),\"\")","v":""},{"$f":"IF($J$9<>\"\",INDIRECT(CONCATENATE($J$9,\"!B135\")),\"\")","v":""},{"$f":"IF($J$9<>\"\",INDIRECT(CONCATENATE($J$9,\"!C135\")),\"\")","v":""},{"$f":"IF($J$9<>\"\",INDIRECT(CONCATENATE($J$9,\"!D135\")),\"\")","v":""},{"$f":"IF($J$9<>\"\",INDIRECT(CONCATENATE($J$9,\"!E135\")),\"\")","v":""},{"$f":"IF($J$9<>\"\",INDIRECT(CONCATENATE($J$9,\"!F135\")),\"\")","v":""}]
[null,null,null,null,null,null,null,null,null,null,null,{"$f":"IF($J$9<>\"\",INDIRECT(CONCATENATE($J$9,\"!A136\")),\"\")","v":""},{"$f":"IF($J$9<>\"\",INDIRECT(CONCATENATE($J$9,\"!B136\")),\"\")","v":""},{"$f":"IF($J$9<>\"\",INDIRECT(CONCATENATE($J$9,\"!C136\")),\"\")","v":""},{"$f":"IF($J$9<>\"\",INDIRECT(CONCATENATE($J$9,\"!D136\")),\"\")","v":""},{"$f":"IF($J$9<>\"\",INDIRECT(CONCATENATE($J$9,\"!E136\")),\"\")","v":""},{"$f":"IF($J$9<>\"\",INDIRECT(CONCATENATE($J$9,\"!F136\")),\"\")","v":""}]
[null,null,null,null,null,null,null,null,null,null,null,{"$f":"IF($J$9<>\"\",INDIRECT(CONCATENATE($J$9,\"!A137\")),\"\")","v":""},{"$f":"IF($J$9<>\"\",INDIRECT(CONCATENATE($J$9,\"!B137\")),\"\")","v":""},{"$f":"IF($J$9<>\"\",INDIRECT(CONCATENATE($J$9,\"!C137\")),\"\")","v":""},{"$f":"IF($J$9<>\"\",INDIRECT(CONCATENATE($J$9,\"!D137\")),\"\")","v":""},{"$f":"IF($J$9<>\"\",INDIRECT(CONCATENATE($J$9,\"!E137\")),\"\")","v":""},{"$f":"IF($J$9<>\"\",INDIRECT(CONCATENATE($J$9,\"!F137\")),\"\")","v":""}]
[null,null,null,null,null,null,null,null,null,null,null,{"$f":"IF($J$9<>\"\",INDIRECT(CONCATENATE($J$9,\"!A138\")),\"\")","v":""},{"$f":"IF($J$9<>\"\",INDIRECT(CONCATENATE($J$9,\"!B138\")),\"\")","v":""},{"$f":"IF($J$9<>\"\",INDIRECT(CONCATENATE($J$9,\"!C138\")),\"\")","v":""},{"$f":"IF($J$9<>\"\",INDIRECT(CONCATENATE($J$9,\"!D138\")),\"\")","v":""},{"$f":"IF($J$9<>\"\",INDIRECT(CONCATENATE($J$9,\"!E138\")),\"\")","v":""},{"$f":"IF($J$9<>\"\",INDIRECT(CONCATENATE($J$9,\"!F138\")),\"\")","v":""}]
[null,null,null,null,null,null,null,null,null,null,null,{"$f":"IF($J$9<>\"\",INDIRECT(CONCATENATE($J$9,\"!A139\")),\"\")","v":""},{"$f":"IF($J$9<>\"\",INDIRECT(CONCATENATE($J$9,\"!B139\")),\"\")","v":""},{"$f":"IF($J$9<>\"\",INDIRECT(CONCATENATE($J$9,\"!C139\")),\"\")","v":""},{"$f":"IF($J$9<>\"\",INDIRECT(CONCATENATE($J$9,\"!D139\")),\"\")","v":""},{"$f":"IF($J$9<>\"\",INDIRECT(CONCATENATE($J$9,\"!E139\")),\"\")","v":""},{"$f":"IF($J$9<>\"\",INDIRECT(CONCATENATE($J$9,\"!F139\")),\"\")","v":""}]
[null,null,null,null,null,null,null,null,null,null,null,{"$f":"IF($J$9<>\"\",INDIRECT(CONCATENATE($J$9,\"!A140\")),\"\")","v":""},{"$f":"IF($J$9<>\"\",INDIRECT(CONCATENATE($J$9,\"!B140\")),\"\")","v":""},{"$f":"IF($J$9<>\"\",INDIRECT(CONCATENATE($J$9,\"!C140\")),\"\")","v":""},{"$f":"IF($J$9<>\"\",INDIRECT(CONCATENATE($J$9,\"!D140\")),\"\")","v":""},{"$f":"IF($J$9<>\"\",INDIRECT(CONCATENATE($J$9,\"!E140\")),\"\")","v":""},{"$f":"IF($J$9<>\"\",INDIRECT(CONCATENATE($J$9,\"!F140\")),\"\")","v":""}]
[null,null,null,null,null,null,null,null,null,null,null,{"$f":"IF($J$9<>\"\",INDIRECT(CONCATENATE($J$9,\"!A141\")),\"\")","v":""},{"$f":"IF($J$9<>\"\",INDIRECT(CONCATENATE($J$9,\"!B141\")),\"\")","v":""},{"$f":"IF($J$9<>\"\",INDIRECT(CONCATENATE($J$9,\"!C141\")),\"\")","v":""},{"$f":"IF($J$9<>\"\",INDIRECT(CONCATENATE($J$9,\"!D141\")),\"\")","v":""},{"$f":"IF($J$9<>\"\",INDIRECT(CONCATENATE($J$9,\"!E141\")),\"\")","v":""},{"$f":"IF($J$9<>\"\",INDIRECT(CONCATENATE($J$9,\"!F141\")),\"\")","v":""}]
[null,null,null,null,null,null,null,null,null,null,null,{"$f":"IF($J$9<>\"\",INDIRECT(CONCATENATE($J$9,\"!A142\")),\"\")","v":""},{"$f":"IF($J$9<>\"\",INDIRECT(CONCATENATE($J$9,\"!B142\")),\"\")","v":""},{"$f":"IF($J$9<>\"\",INDIRECT(CONCATENATE($J$9,\"!C142\")),\"\")","v":""},{"$f":"IF($J$9<>\"\",INDIRECT(CONCATENATE($J$9,\"!D142\")),\"\")","v":""},{"$f":"IF($J$9<>\"\",INDIRECT(CONCATENATE($J$9,\"!E142\")),\"\")","v":""},{"$f":"IF($J$9<>\"\",INDIRECT(CONCATENATE($J$9,\"!F142\")),\"\")","v":""}]
[null,null,null,null,null,null,null,null,null,null,null,{"$f":"IF($J$9<>\"\",INDIRECT(CONCATENATE($J$9,\"!A143\")),\"\")","v":""},{"$f":"IF($J$9<>\"\",INDIRECT(CONCATENATE($J$9,\"!B143\")),\"\")","v":""},{"$f":"IF($J$9<>\"\",INDIRECT(CONCATENATE($J$9,\"!C143\")),\"\")","v":""},{"$f":"IF($J$9<>\"\",INDIRECT(CONCATENATE($J$9,\"!D143\")),\"\")","v":""},{"$f":"IF($J$9<>\"\",INDIRECT(CONCATENATE($J$9,\"!E143\")),\"\")","v":""},{"$f":"IF($J$9<>\"\",INDIRECT(CONCATENATE($J$9,\"!F143\")),\"\")","v":""}]
[null,null,null,null,null,null,null,null,null,null,null,{"$f":"IF($J$9<>\"\",INDIRECT(CONCATENATE($J$9,\"!A144\")),\"\")","v":""},{"$f":"IF($J$9<>\"\",INDIRECT(CONCATENATE($J$9,\"!B144\")),\"\")","v":""},{"$f":"IF($J$9<>\"\",INDIRECT(CONCATENATE($J$9,\"!C144\")),\"\")","v":""},{"$f":"IF($J$9<>\"\",INDIRECT(CONCATENATE($J$9,\"!D144\")),\"\")","v":""},{"$f":"IF($J$9<>\"\",INDIRECT(CONCATENATE($J$9,\"!E144\")),\"\")","v":""},{"$f":"IF($J$9<>\"\",INDIRECT(CONCATENATE($J$9,\"!F144\")),\"\")","v":""}]
[null,null,null,null,null,null,null,null,null,null,null,{"$f":"IF($J$9<>\"\",INDIRECT(CONCATENATE($J$9,\"!A145\")),\"\")","v":""},{"$f":"IF($J$9<>\"\",INDIRECT(CONCATENATE($J$9,\"!B145\")),\"\")","v":""},{"$f":"IF($J$9<>\"\",INDIRECT(CONCATENATE($J$9,\"!C145\")),\"\")","v":""},{"$f":"IF($J$9<>\"\",INDIRECT(CONCATENATE($J$9,\"!D145\")),\"\")","v":""},{"$f":"IF($J$9<>\"\",INDIRECT(CONCATENATE($J$9,\"!E145\")),\"\")","v":""},{"$f":"IF($J$9<>\"\",INDIRECT(CONCATENATE($J$9,\"!F145\")),\"\")","v":""}]
[null,null,null,null,null,null,null,null,null,null,null,{"$f":"IF($J$9<>\"\",INDIRECT(CONCATENATE($J$9,\"!A146\")),\"\")","v":""},{"$f":"IF($J$9<>\"\",INDIRECT(CONCATENATE($J$9,\"!B146\")),\"\")","v":""},{"$f":"IF($J$9<>\"\",INDIRECT(CONCATENATE($J$9,\"!C146\")),\"\")","v":""},{"$f":"IF($J$9<>\"\",INDIRECT(CONCATENATE($J$9,\"!D146\")),\"\")","v":""},{"$f":"IF($J$9<>\"\",INDIRECT(CONCATENATE($J$9,\"!E146\")),\"\")","v":""},{"$f":"IF($J$9<>\"\",INDIRECT(CONCATENATE($J$9,\"!F146\")),\"\")","v":""}]
[null,null,null,null,null,null,null,null,null,null,null,{"$f":"IF($J$9<>\"\",INDIRECT(CONCATENATE($J$9,\"!A147\")),\"\")","v":""},{"$f":"IF($J$9<>\"\",INDIRECT(CONCATENATE($J$9,\"!B147\")),\"\")","v":""},{"$f":"IF($J$9<>\"\",INDIRECT(CONCATENATE($J$9,\"!C147\")),\"\")","v":""},{"$f":"IF($J$9<>\"\",INDIRECT(CONCATENATE($J$9,\"!D147\")),\"\")","v":""},{"$f":"IF($J$9<>\"\",INDIRECT(CONCATENATE($J$9,\"!E147\")),\"\")","v":""},{"$f":"IF($J$9<>\"\",INDIRECT(CONCATENATE($J$9,\"!F147\")),\"\")","v":""}]
[null,null,null,null,null,null,null,null,null,null,null,{"$f":"IF($J$9<>\"\",INDIRECT(CONCATENATE($J$9,\"!A148\")),\"\")","v":""},{"$f":"IF($J$9<>\"\",INDIRECT(CONCATENATE($J$9,\"!B148\")),\"\")","v":""},{"$f":"IF($J$9<>\"\",INDIRECT(CONCATENATE($J$9,\"!C148\")),\"\")","v":""},{"$f":"IF($J$9<>\"\",INDIRECT(CONCATENATE($J$9,\"!D148\")),\"\")","v":""},{"$f":"IF($J$9<>\"\",INDIRECT(CONCATENATE($J$9,\"!E148\")),\"\")","v":""},{"$f":"IF($J$9<>\"\",INDIRECT(CONCATENATE($J$9,\"!F148\")),\"\")","v":""}]
[null,null,null,null,null,null,null,null,null,null,null,{"$f":"IF($J$9<>\"\",INDIRECT(CONCATENATE($J$9,\"!A149\")),\"\")","v":""},{"$f":"IF($J$9<>\"\",INDIRECT(CONCATENATE($J$9,\"!B149\")),\"\")","v":""},{"$f":"IF($J$9<>\"\",INDIRECT(CONCATENATE($J$9,\"!C149\")),\"\")","v":""},{"$f":"IF($J$9<>\"\",INDIRECT(CONCATENATE($J$9,\"!D149\")),\"\")","v":""},{"$f":"IF($J$9<>\"\",INDIRECT(CONCATENATE($J$9,\"!E149\")),\"\")","v":""},{"$f":"IF($J$9<>\"\",INDIRECT(CONCATENATE($J$9,\"!F149\")),\"\")","v":""}]
[null,null,null,null,null,null,null,null,null,null,null,{"$f":"IF($J$9<>\"\",INDIRECT(CONCATENATE($J$9,\"!A150\")),\"\")","v":""},{"$f":"IF($J$9<>\"\",INDIRECT(CONCATENATE($J$9,\"!B150\")),\"\")","v":""},{"$f":"IF($J$9<>\"\",INDIRECT(CONCATENATE($J$9,\"!C150\")),\"\")","v":""},{"$f":"IF($J$9<>\"\",INDIRECT(CONCATENATE($J$9,\"!D150\")),\"\")","v":""},{"$f":"IF($J$9<>\"\",INDIRECT(CONCATENATE($J$9,\"!E150\")),\"\")","v":""},{"$f":"IF($J$9<>\"\",INDIRECT(CONCATENATE($J$9,\"!F150\")),\"\")","v":""}]
[null,null,null,null,null,null,null,null,null,null,null,{"$f":"IF($J$9<>\"\",INDIRECT(CONCATENATE($J$9,\"!A151\")),\"\")","v":""},{"$f":"IF($J$9<>\"\",INDIRECT(CONCATENATE($J$9,\"!B151\")),\"\")","v":""},{"$f":"IF($J$9<>\"\",INDIRECT(CONCATENATE($J$9,\"!C151\")),\"\")","v":""},{"$f":"IF($J$9<>\"\",INDIRECT(CONCATENATE($J$9,\"!D151\")),\"\")","v":""},{"$f":"IF($J$9<>\"\",INDIRECT(CONCATENATE($J$9,\"!E151\")),\"\")","v":""},{"$f":"IF($J$9<>\"\",INDIRECT(CONCATENATE($J$9,\"!F151\")),\"\")","v":""}]
[null,null,null,null,null,null,null,null,null,null,null,{"$f":"IF($J$9<>\"\",INDIRECT(CONCATENATE($J$9,\"!A152\")),\"\")","v":""},{"$f":"IF($J$9<>\"\",INDIRECT(CONCATENATE($J$9,\"!B152\")),\"\")","v":""},{"$f":"IF($J$9<>\"\",INDIRECT(CONCATENATE($J$9,\"!C152\")),\"\")","v":""},{"$f":"IF($J$9<>\"\",INDIRECT(CONCATENATE($J$9,\"!D152\")),\"\")","v":""},{"$f":"IF($J$9<>\"\",INDIRECT(CONCATENATE($J$9,\"!E152\")),\"\")","v":""},{"$f":"IF($J$9<>\"\",INDIRECT(CONCATENATE($J$9,\"!F152\")),\"\")","v":""}]
[null,null,null,null,null,null,null,null,null,null,null,{"$f":"IF($J$9<>\"\",INDIRECT(CONCATENATE($J$9,\"!A153\")),\"\")","v":""},{"$f":"IF($J$9<>\"\",INDIRECT(CONCATENATE($J$9,\"!B153\")),\"\")","v":""},{"$f":"IF($J$9<>\"\",INDIRECT(CONCATENATE($J$9,\"!C153\")),\"\")","v":""},{"$f":"IF($J$9<>\"\",INDIRECT(CONCATENATE($J$9,\"!D153\")),\"\")","v":""},{"$f":"IF($J$9<>\"\",INDIRECT(CONCATENATE($J$9,\"!E153\")),\"\")","v":""},{"$f":"IF($J$9<>\"\",INDIRECT(CONCATENATE($J$9,\"!F153\")),\"\")","v":""}]
[null,null,null,null,null,null,null,null,null,null,null,{"$f":"IF($J$9<>\"\",INDIRECT(CONCATENATE($J$9,\"!A154\")),\"\")","v":""},{"$f":"IF($J$9<>\"\",INDIRECT(CONCATENATE($J$9,\"!B154\")),\"\")","v":""},{"$f":"IF($J$9<>\"\",INDIRECT(CONCATENATE($J$9,\"!C154\")),\"\")","v":""},{"$f":"IF($J$9<>\"\",INDIRECT(CONCATENATE($J$9,\"!D154\")),\"\")","v":""},{"$f":"IF($J$9<>\"\",INDIRECT(CONCATENATE($J$9,\"!E154\")),\"\")","v":""},{"$f":"IF($J$9<>\"\",INDIRECT(CONCATENATE($J$9,\"!F154\")),\"\")","v":""}]
[null,null,null,null,null,null,null,null,null,null,null,{"$f":"IF($J$9<>\"\",INDIRECT(CONCATENATE($J$9,\"!A155\")),\"\")","v":""},{"$f":"IF($J$9<>\"\",INDIRECT(CONCATENATE($J$9,\"!B155\")),\"\")","v":""},{"$f":"IF($J$9<>\"\",INDIRECT(CONCATENATE($J$9,\"!C155\")),\"\")","v":""},{"$f":"IF($J$9<>\"\",INDIRECT(CONCATENATE($J$9,\"!D155\")),\"\")","v":""},{"$f":"IF($J$9<>\"\",INDIRECT(CONCATENATE($J$9,\"!E155\")),\"\")","v":""},{"$f":"IF($J$9<>\"\",INDIRECT(CONCATENATE($J$9,\"!F155\")),\"\")","v":""}]
[null,null,null,null,null,null,null,null,null,null,null,{"$f":"IF($J$9<>\"\",INDIRECT(CONCATENATE($J$9,\"!A156\")),\"\")","v":""},{"$f":"IF($J$9<>\"\",INDIRECT(CONCATENATE($J$9,\"!B156\")),\"\")","v":""},{"$f":"IF($J$9<>\"\",INDIRECT(CONCATENATE($J$9,\"!C156\")),\"\")","v":""},{"$f":"IF($J$9<>\"\",INDIRECT(CONCATENATE($J$9,\"!D156\")),\"\")","v":""},{"$f":"IF($J$9<>\"\",INDIRECT(CONCATENATE($J$9,\"!E156\")),\"\")","v":""},{"$f":"IF($J$9<>\"\",INDIRECT(CONCATENATE($J$9,\"!F156\")),\"\")","v":""}]
[null,null,null,null,null,null,null,null,null,null,null,{"$f":"IF($J$9<>\"\",INDIRECT(CONCATENATE($J$9,\"!A157\")),\"\")","v":""},{"$f":"IF($J$9<>\"\",INDIRECT(CONCATENATE($J$9,\"!B157\")),\"\")","v":""},{"$f":"IF($J$9<>\"\",INDIRECT(CONCATENATE($J$9,\"!C157\")),\"\")","v":""},{"$f":"IF($J$9<>\"\",INDIRECT(CONCATENATE($J$9,\"!D157\")),\"\")","v":""},{"$f":"IF($J$9<>\"\",INDIRECT(CONCATENATE($J$9,\"!E157\")),\"\")","v":""},{"$f":"IF($J$9<>\"\",INDIRECT(CONCATENATE($J$9,\"!F157\")),\"\")","v":""}]
[null,null,null,null,null,null,null,null,null,null,null,{"$f":"IF($J$9<>\"\",INDIRECT(CONCATENATE($J$9,\"!A158\")),\"\")","v":""},{"$f":"IF($J$9<>\"\",INDIRECT(CONCATENATE($J$9,\"!B158\")),\"\")","v":""},{"$f":"IF($J$9<>\"\",INDIRECT(CONCATENATE($J$9,\"!C158\")),\"\")","v":""},{"$f":"IF($J$9<>\"\",INDIRECT(CONCATENATE($J$9,\"!D158\")),\"\")","v":""},{"$f":"IF($J$9<>\"\",INDIRECT(CONCATENATE($J$9,\"!E158\")),\"\")","v":""},{"$f":"IF($J$9<>\"\",INDIRECT(CONCATENATE($J$9,\"!F158\")),\"\")","v":""}]
[null,null,null,null,null,null,null,null,null,null,null,{"$f":"IF($J$9<>\"\",INDIRECT(CONCATENATE($J$9,\"!A159\")),\"\")","v":""},{"$f":"IF($J$9<>\"\",INDIRECT(CONCATENATE($J$9,\"!B159\")),\"\")","v":""},{"$f":"IF($J$9<>\"\",INDIRECT(CONCATENATE($J$9,\"!C159\")),\"\")","v":""},{"$f":"IF($J$9<>\"\",INDIRECT(CONCATENATE($J$9,\"!D159\")),\"\")","v":""},{"$f":"IF($J$9<>\"\",INDIRECT(CONCATENATE($J$9,\"!E159\")),\"\")","v":""},{"$f":"IF($J$9<>\"\",INDIRECT(CONCATENATE($J$9,\"!F159\")),\"\")","v":""}]
[null,null,null,null,null,null,null,null,null,null,null,{"$f":"IF($J$9<>\"\",INDIRECT(CONCATENATE($J$9,\"!A160\")),\"\")","v":""},{"$f":"IF($J$9<>\"\",INDIRECT(CONCATENATE($J$9,\"!B160\")),\"\")","v":""},{"$f":"IF($J$9<>\"\",INDIRECT(CONCATENATE($J$9,\"!C160\")),\"\")","v":""},{"$f":"IF($J$9<>\"\",INDIRECT(CONCATENATE($J$9,\"!D160\")),\"\")","v":""},{"$f":"IF($J$9<>\"\",INDIRECT(CONCATENATE($J$9,\"!E160\")),\"\")","v":""},{"$f":"IF($J$9<>\"\",INDIRECT(CONCATENATE($J$9,\"!F160\")),\"\")","v":""}]
[null,null,null,null,null,null,null,null,null,null,null,{"$f":"IF($J$9<>\"\",INDIRECT(CONCATENATE($J$9,\"!A161\")),\"\")","v":""},{"$f":"IF($J$9<>\"\",INDIRECT(CONCATENATE($J$9,\"!B161\")),\"\")","v":""},{"$f":"IF($J$9<>\"\",INDIRECT(CONCATENATE($J$9,\"!C161\")),\"\")","v":""},{"$f":"IF($J$9<>\"\",INDIRECT(CONCATENATE($J$9,\"!D161\")),\"\")","v":""},{"$f":"IF($J$9<>\"\",INDIRECT(CONCATENATE($J$9,\"!E161\")),\"\")","v":""},{"$f":"IF($J$9<>\"\",INDIRECT(CONCATENATE($J$9,\"!F161\")),\"\")","v":""}]
[null,null,null,null,null,null,null,null,null,null,null,{"$f":"IF($J$9<>\"\",INDIRECT(CONCATENATE($J$9,\"!A162\")),\"\")","v":""},{"$f":"IF($J$9<>\"\",INDIRECT(CONCATENATE($J$9,\"!B162\")),\"\")","v":""},{"$f":"IF($J$9<>\"\",INDIRECT(CONCATENATE($J$9,\"!C162\")),\"\")","v":""},{"$f":"IF($J$9<>\"\",INDIRECT(CONCATENATE($J$9,\"!D162\")),\"\")","v":""},{"$f":"IF($J$9<>\"\",INDIRECT(CONCATENATE($J$9,\"!E162\")),\"\")","v":""},{"$f":"IF($J$9<>\"\",INDIRECT(CONCATENATE($J$9,\"!F162\")),\"\")","v":""}]
[null,null,null,null,null,null,null,null,null,null,null,{"$f":"IF($J$9<>\"\",INDIRECT(CONCATENATE($J$9,\"!A163\")),\"\")","v":""},{"$f":"IF($J$9<>\"\",INDIRECT(CONCATENATE($J$9,\"!B163\")),\"\")","v":""},{"$f":"IF($J$9<>\"\",INDIRECT(CONCATENATE($J$9,\"!C163\")),\"\")","v":""},{"$f":"IF($J$9<>\"\",INDIRECT(CONCATENATE($J$9,\"!D163\")),\"\")","v":""},{"$f":"IF($J$9<>\"\",INDIRECT(CONCATENATE($J$9,\"!E163\")),\"\")","v":""},{"$f":"IF($J$9<>\"\",INDIRECT(CONCATENATE($J$9,\"!F163\")),\"\")","v":""}]
[null,null,null,null,null,null,null,null,null,null,null,{"$f":"IF($J$9<>\"\",INDIRECT(CONCATENATE($J$9,\"!A164\")),\"\")","v":""},{"$f":"IF($J$9<>\"\",INDIRECT(CONCATENATE($J$9,\"!B164\")),\"\")","v":""},{"$f":"IF($J$9<>\"\",INDIRECT(CONCATENATE($J$9,\"!C164\")),\"\")","v":""},{"$f":"IF($J$9<>\"\",INDIRECT(CONCATENATE($J$9,\"!D164\")),\"\")","v":""},{"$f":"IF($J$9<>\"\",INDIRECT(CONCATENATE($J$9,\"!E164\")),\"\")","v":""},{"$f":"IF($J$9<>\"\",INDIRECT(CONCATENATE($J$9,\"!F164\")),\"\")","v":""}]
[null,null,null,null,null,null,null,null,null,null,null,{"$f":"IF($J$9<>\"\",INDIRECT(CONCATENATE($J$9,\"!A165\")),\"\")","v":""},{"$f":"IF($J$9<>\"\",INDIRECT(CONCATENATE($J$9,\"!B165\")),\"\")","v":""},{"$f":"IF($J$9<>\"\",INDIRECT(CONCATENATE($J$9,\"!C165\")),\"\")","v":""},{"$f":"IF($J$9<>\"\",INDIRECT(CONCATENATE($J$9,\"!D165\")),\"\")","v":""},{"$f":"IF($J$9<>\"\",INDIRECT(CONCATENATE($J$9,\"!E165\")),\"\")","v":""},{"$f":"IF($J$9<>\"\",INDIRECT(CONCATENATE($J$9,\"!F165\")),\"\")","v":""}]
[null,null,null,null,null,null,null,null,null,null,null,{"$f":"IF($J$9<>\"\",INDIRECT(CONCATENATE($J$9,\"!A166\")),\"\")","v":""},{"$f":"IF($J$9<>\"\",INDIRECT(CONCATENATE($J$9,\"!B166\")),\"\")","v":""},{"$f":"IF($J$9<>\"\",INDIRECT(CONCATENATE($J$9,\"!C166\")),\"\")","v":""},{"$f":"IF($J$9<>\"\",INDIRECT(CONCATENATE($J$9,\"!D166\")),\"\")","v":""},{"$f":"IF($J$9<>\"\",INDIRECT(CONCATENATE($J$9,\"!E166\")),\"\")","v":""},{"$f":"IF($J$9<>\"\",INDIRECT(CONCATENATE($J$9,\"!F166\")),\"\")","v":""}]
[null,null,null,null,null,null,null,null,null,null,null,{"$f":"IF($J$9<>\"\",INDIRECT(CONCATENATE($J$9,\"!A167\")),\"\")","v":""},{"$f":"IF($J$9<>\"\",INDIRECT(CONCATENATE($J$9,\"!B167\")),\"\")","v":""},{"$f":"IF($J$9<>\"\",INDIRECT(CONCATENATE($J$9,\"!C167\")),\"\")","v":""},{"$f":"IF($J$9<>\"\",INDIRECT(CONCATENATE($J$9,\"!D167\")),\"\")","v":""},{"$f":"IF($J$9<>\"\",INDIRECT(CONCATENATE($J$9,\"!E167\")),\"\")","v":""},{"$f":"IF($J$9<>\"\",INDIRECT(CONCATENATE($J$9,\"!F167\")),\"\")","v":""}]
[null,null,null,null,null,null,null,null,null,null,null,{"$f":"IF($J$9<>\"\",INDIRECT(CONCATENATE($J$9,\"!A168\")),\"\")","v":""},{"$f":"IF($J$9<>\"\",INDIRECT(CONCATENATE($J$9,\"!B168\")),\"\")","v":""},{"$f":"IF($J$9<>\"\",INDIRECT(CONCATENATE($J$9,\"!C168\")),\"\")","v":""},{"$f":"IF($J$9<>\"\",INDIRECT(CONCATENATE($J$9,\"!D168\")),\"\")","v":""},{"$f":"IF($J$9<>\"\",INDIRECT(CONCATENATE($J$9,\"!E168\")),\"\")","v":""},{"$f":"IF($J$9<>\"\",INDIRECT(CONCATENATE($J$9,\"!F168\")),\"\")","v":""}]
[null,null,null,null,null,null,null,null,null,null,null,{"$f":"IF($J$9<>\"\",INDIRECT(CONCATENATE($J$9,\"!A169\")),\"\")","v":""},{"$f":"IF($J$9<>\"\",INDIRECT(CONCATENATE($J$9,\"!B169\")),\"\")","v":""},{"$f":"IF($J$9<>\"\",INDIRECT(CONCATENATE($J$9,\"!C169\")),\"\")","v":""},{"$f":"IF($J$9<>\"\",INDIRECT(CONCATENATE($J$9,\"!D169\")),\"\")","v":""},{"$f":"IF($J$9<>\"\",INDIRECT(CONCATENATE($J$9,\"!E169\")),\"\")","v":""},{"$f":"IF($J$9<>\"\",INDIRECT(CONCATENATE($J$9,\"!F169\")),\"\")","v":""}]
[null,null,null,null,null,null,null,null,null,null,null,{"$f":"IF($J$9<>\"\",INDIRECT(CONCATENATE($J$9,\"!A170\")),\"\")","v":""},{"$f":"IF($J$9<>\"\",INDIRECT(CONCATENATE($J$9,\"!B170\")),\"\")","v":""},{"$f":"IF($J$9<>\"\",INDIRECT(CONCATENATE($J$9,\"!C170\")),\"\")","v":""},{"$f":"IF($J$9<>\"\",INDIRECT(CONCATENATE($J$9,\"!D170\")),\"\")","v":""},{"$f":"IF($J$9<>\"\",INDIRECT(CONCATENATE($J$9,\"!E170\")),\"\")","v":""},{"$f":"IF($J$9<>\"\",INDIRECT(CONCATENATE($J$9,\"!F170\")),\"\")","v":""}]
[null,null,null,null,null,null,null,null,null,null,null,{"$f":"IF($J$9<>\"\",INDIRECT(CONCATENATE($J$9,\"!A171\")),\"\")","v":""},{"$f":"IF($J$9<>\"\",INDIRECT(CONCATENATE($J$9,\"!B171\")),\"\")","v":""},{"$f":"IF($J$9<>\"\",INDIRECT(CONCATENATE($J$9,\"!C171\")),\"\")","v":""},{"$f":"IF($J$9<>\"\",INDIRECT(CONCATENATE($J$9,\"!D171\")),\"\")","v":""},{"$f":"IF($J$9<>\"\",INDIRECT(CONCATENATE($J$9,\"!E171\")),\"\")","v":""},{"$f":"IF($J$9<>\"\",INDIRECT(CONCATENATE($J$9,\"!F171\")),\"\")","v":""}]
[null,null,null,null,null,null,null,null,null,null,null,{"$f":"IF($J$9<>\"\",INDIRECT(CONCATENATE($J$9,\"!A172\")),\"\")","v":""},{"$f":"IF($J$9<>\"\",INDIRECT(CONCATENATE($J$9,\"!B172\")),\"\")","v":""},{"$f":"IF($J$9<>\"\",INDIRECT(CONCATENATE($J$9,\"!C172\")),\"\")","v":""},{"$f":"IF($J$9<>\"\",INDIRECT(CONCATENATE($J$9,\"!D172\")),\"\")","v":""},{"$f":"IF($J$9<>\"\",INDIRECT(CONCATENATE($J$9,\"!E172\")),\"\")","v":""},{"$f":"IF($J$9<>\"\",INDIRECT(CONCATENATE($J$9,\"!F172\")),\"\")","v":""}]
[null,null,null,null,null,null,null,null,null,null,null,{"$f":"IF($J$9<>\"\",INDIRECT(CONCATENATE($J$9,\"!A173\")),\"\")","v":""},{"$f":"IF($J$9<>\"\",INDIRECT(CONCATENATE($J$9,\"!B173\")),\"\")","v":""},{"$f":"IF($J$9<>\"\",INDIRECT(CONCATENATE($J$9,\"!C173\")),\"\")","v":""},{"$f":"IF($J$9<>\"\",INDIRECT(CONCATENATE($J$9,\"!D173\")),\"\")","v":""},{"$f":"IF($J$9<>\"\",INDIRECT(CONCATENATE($J$9,\"!E173\")),\"\")","v":""},{"$f":"IF($J$9<>\"\",INDIRECT(CONCATENATE($J$9,\"!F173\")),\"\")","v":""}]
[null,null,null,null,null,null,null,null,null,null,null,{"$f":"IF($J$9<>\"\",INDIRECT(CONCATENATE($J$9,\"!A174\")),\"\")","v":""},{"$f":"IF($J$9<>\"\",INDIRECT(CONCATENATE($J$9,\"!B174\")),\"\")","v":""},{"$f":"IF($J$9<>\"\",INDIRECT(CONCATENATE($J$9,\"!C174\")),\"\")","v":""},{"$f":"IF($J$9<>\"\",INDIRECT(CONCATENATE($J$9,\"!D174\")),\"\")","v":""},{"$f":"IF($J$9<>\"\",INDIRECT(CONCATENATE($J$9,\"!E174\")),\"\")","v":""},{"$f":"IF($J$9<>\"\",INDIRECT(CONCATENATE($J$9,\"!F174\")),\"\")","v":""}]
[null,null,null,null,null,null,null,null,null,null,null,{"$f":"IF($J$9<>\"\",INDIRECT(CONCATENATE($J$9,\"!A175\")),\"\")","v":""},{"$f":"IF($J$9<>\"\",INDIRECT(CONCATENATE($J$9,\"!B175\")),\"\")","v":""},{"$f":"IF($J$9<>\"\",INDIRECT(CONCATENATE($J$9,\"!C175\")),\"\")","v":""},{"$f":"IF($J$9<>\"\",INDIRECT(CONCATENATE($J$9,\"!D175\")),\"\")","v":""},{"$f":"IF($J$9<>\"\",INDIRECT(CONCATENATE($J$9,\"!E175\")),\"\")","v":""},{"$f":"IF($J$9<>\"\",INDIRECT(CONCATENATE($J$9,\"!F175\")),\"\")","v":""}]
[null,null,null,null,null,null,null,null,null,null,null,{"$f":"IF($J$9<>\"\",INDIRECT(CONCATENATE($J$9,\"!A176\")),\"\")","v":""},{"$f":"IF($J$9<>\"\",INDIRECT(CONCATENATE($J$9,\"!B176\")),\"\")","v":""},{"$f":"IF($J$9<>\"\",INDIRECT(CONCATENATE($J$9,\"!C176\")),\"\")","v":""},{"$f":"IF($J$9<>\"\",INDIRECT(CONCATENATE($J$9,\"!D176\")),\"\")","v":""},{"$f":"IF($J$9<>\"\",INDIRECT(CONCATENATE($J$9,\"!E176\")),\"\")","v":""},{"$f":"IF($J$9<>\"\",INDIRECT(CONCATENATE($J$9,\"!F176\")),\"\")","v":""}]
[null,null,null,null,null,null,null,null,null,null,null,{"$f":"IF($J$9<>\"\",INDIRECT(CONCATENATE($J$9,\"!A177\")),\"\")","v":""},{"$f":"IF($J$9<>\"\",INDIRECT(CONCATENATE($J$9,\"!B177\")),\"\")","v":""},{"$f":"IF($J$9<>\"\",INDIRECT(CONCATENATE($J$9,\"!C177\")),\"\")","v":""},{"$f":"IF($J$9<>\"\",INDIRECT(CONCATENATE($J$9,\"!D177\")),\"\")","v":""},{"$f":"IF($J$9<>\"\",INDIRECT(CONCATENATE($J$9,\"!E177\")),\"\")","v":""},{"$f":"IF($J$9<>\"\",INDIRECT(CONCATENATE($J$9,\"!F177\")),\"\")","v":""}]
[null,null,null,null,null,null,null,null,null,null,null,{"$f":"IF($J$9<>\"\",INDIRECT(CONCATENATE($J$9,\"!A178\")),\"\")","v":""},{"$f":"IF($J$9<>\"\",INDIRECT(CONCATENATE($J$9,\"!B178\")),\"\")","v":""},{"$f":"IF($J$9<>\"\",INDIRECT(CONCATENATE($J$9,\"!C178\")),\"\")","v":""},{"$f":"IF($J$9<>\"\",INDIRECT(CONCATENATE($J$9,\"!D178\")),\"\")","v":""},{"$f":"IF($J$9<>\"\",INDIRECT(CONCATENATE($J$9,\"!E178\")),\"\")","v":""},{"$f":"IF($J$9<>\"\",INDIRECT(CONCATENATE($J$9,\"!F178\")),\"\")","v":""}]
[null,null,null,null,null,null,null,null,null,null,null,{"$f":"IF($J$9<>\"\",INDIRECT(CONCATENATE($J$9,\"!A179\")),\"\")","v":""},{"$f":"IF($J$9<>\"\",INDIRECT(CONCATENATE($J$9,\"!B179\")),\"\")","v":""},{"$f":"IF($J$9<>\"\",INDIRECT(CONCATENATE($J$9,\"!C179\")),\"\")","v":""},{"$f":"IF($J$9<>\"\",INDIRECT(CONCATENATE($J$9,\"!D179\")),\"\")","v":""},{"$f":"IF($J$9<>\"\",INDIRECT(CONCATENATE($J$9,\"!E179\")),\"\")","v":""},{"$f":"IF($J$9<>\"\",INDIRECT(CONCATENATE($J$9,\"!F179\")),\"\")","v":""}]
[null,null,null,null,null,null,null,null,null,null,null,{"$f":"IF($J$9<>\"\",INDIRECT(CONCATENATE($J$9,\"!A180\")),\"\")","v":""},{"$f":"IF($J$9<>\"\",INDIRECT(CONCATENATE($J$9,\"!B180\")),\"\")","v":""},{"$f":"IF($J$9<>\"\",INDIRECT(CONCATENATE($J$9,\"!C180\")),\"\")","v":""},{"$f":"IF($J$9<>\"\",INDIRECT(CONCATENATE($J$9,\"!D180\")),\"\")","v":""},{"$f":"IF($J$9<>\"\",INDIRECT(CONCATENATE($J$9,\"!E180\")),\"\")","v":""},{"$f":"IF($J$9<>\"\",INDIRECT(CONCATENATE($J$9,\"!F180\")),\"\")","v":""}]
[null,null,null,null,null,null,null,null,null,null,null,{"$f":"IF($J$9<>\"\",INDIRECT(CONCATENATE($J$9,\"!A181\")),\"\")","v":""},{"$f":"IF($J$9<>\"\",INDIRECT(CONCATENATE($J$9,\"!B181\")),\"\")","v":""},{"$f":"IF($J$9<>\"\",INDIRECT(CONCATENATE($J$9,\"!C181\")),\"\")","v":""},{"$f":"IF($J$9<>\"\",INDIRECT(CONCATENATE($J$9,\"!D181\")),\"\")","v":""},{"$f":"IF($J$9<>\"\",INDIRECT(CONCATENATE($J$9,\"!E181\")),\"\")","v":""},{"$f":"IF($J$9<>\"\",INDIRECT(CONCATENATE($J$9,\"!F181\")),\"\")","v":""}]
[null,null,null,null,null,null,null,null,null,null,null,{"$f":"IF($J$9<>\"\",INDIRECT(CONCATENATE($J$9,\"!A182\")),\"\")","v":""},{"$f":"IF($J$9<>\"\",INDIRECT(CONCATENATE($J$9,\"!B182\")),\"\")","v":""},{"$f":"IF($J$9<>\"\",INDIRECT(CONCATENATE($J$9,\"!C182\")),\"\")","v":""},{"$f":"IF($J$9<>\"\",INDIRECT(CONCATENATE($J$9,\"!D182\")),\"\")","v":""},{"$f":"IF($J$9<>\"\",INDIRECT(CONCATENATE($J$9,\"!E182\")),\"\")","v":""},{"$f":"IF($J$9<>\"\",INDIRECT(CONCATENATE($J$9,\"!F182\")),\"\")","v":""}]
[null,null,null,null,null,null,null,null,null,null,null,{"$f":"IF($J$9<>\"\",INDIRECT(CONCATENATE($J$9,\"!A183\")),\"\")","v":""},{"$f":"IF($J$9<>\"\",INDIRECT(CONCATENATE($J$9,\"!B183\")),\"\")","v":""},{"$f":"IF($J$9<>\"\",INDIRECT(CONCATENATE($J$9,\"!C183\")),\"\")","v":""},{"$f":"IF($J$9<>\"\",INDIRECT(CONCATENATE($J$9,\"!D183\")),\"\")","v":""},{"$f":"IF($J$9<>\"\",INDIRECT(CONCATENATE($J$9,\"!E183\")),\"\")","v":""},{"$f":"IF($J$9<>\"\",INDIRECT(CONCATENATE($J$9,\"!F183\")),\"\")","v":""}]
[null,null,null,null,null,null,null,null,null,null,null,{"$f":"IF($J$9<>\"\",INDIRECT(CONCATENATE($J$9,\"!A184\")),\"\")","v":""},{"$f":"IF($J$9<>\"\",INDIRECT(CONCATENATE($J$9,\"!B184\")),\"\")","v":""},{"$f":"IF($J$9<>\"\",INDIRECT(CONCATENATE($J$9,\"!C184\")),\"\")","v":""},{"$f":"IF($J$9<>\"\",INDIRECT(CONCATENATE($J$9,\"!D184\")),\"\")","v":""},{"$f":"IF($J$9<>\"\",INDIRECT(CONCATENATE($J$9,\"!E184\")),\"\")","v":""},{"$f":"IF($J$9<>\"\",INDIRECT(CONCATENATE($J$9,\"!F184\")),\"\")","v":""}]
[null,null,null,null,null,null,null,null,null,null,null,{"$f":"IF($J$9<>\"\",INDIRECT(CONCATENATE($J$9,\"!A185\")),\"\")","v":""},{"$f":"IF($J$9<>\"\",INDIRECT(CONCATENATE($J$9,\"!B185\")),\"\")","v":""},{"$f":"IF($J$9<>\"\",INDIRECT(CONCATENATE($J$9,\"!C185\")),\"\")","v":""},{"$f":"IF($J$9<>\"\",INDIRECT(CONCATENATE($J$9,\"!D185\")),\"\")","v":""},{"$f":"IF($J$9<>\"\",INDIRECT(CONCATENATE($J$9,\"!E185\")),\"\")","v":""},{"$f":"IF($J$9<>\"\",INDIRECT(CONCATENATE($J$9,\"!F185\")),\"\")","v":""}]
[null,null,null,null,null,null,null,null,null,null,null,{"$f":"IF($J$9<>\"\",INDIRECT(CONCATENATE($J$9,\"!A186\")),\"\")","v":""},{"$f":"IF($J$9<>\"\",INDIRECT(CONCATENATE($J$9,\"!B186\")),\"\")","v":""},{"$f":"IF($J$9<>\"\",INDIRECT(CONCATENATE($J$9,\"!C186\")),\"\")","v":""},{"$f":"IF($J$9<>\"\",INDIRECT(CONCATENATE($J$9,\"!D186\")),\"\")","v":""},{"$f":"IF($J$9<>\"\",INDIRECT(CONCATENATE($J$9,\"!E186\")),\"\")","v":""},{"$f":"IF($J$9<>\"\",INDIRECT(CONCATENATE($J$9,\"!F186\")),\"\")","v":""}]
[null,null,null,null,null,null,null,null,null,null,null,{"$f":"IF($J$9<>\"\",INDIRECT(CONCATENATE($J$9,\"!A187\")),\"\")","v":""},{"$f":"IF($J$9<>\"\",INDIRECT(CONCATENATE($J$9,\"!B187\")),\"\")","v":""},{"$f":"IF($J$9<>\"\",INDIRECT(CONCATENATE($J$9,\"!C187\")),\"\")","v":""},{"$f":"IF($J$9<>\"\",INDIRECT(CONCATENATE($J$9,\"!D187\")),\"\")","v":""},{"$f":"IF($J$9<>\"\",INDIRECT(CONCATENATE($J$9,\"!E187\")),\"\")","v":""},{"$f":"IF($J$9<>\"\",INDIRECT(CONCATENATE($J$9,\"!F187\")),\"\")","v":""}]
[null,null,null,null,null,null,null,null,null,null,null,{"$f":"IF($J$9<>\"\",INDIRECT(CONCATENATE($J$9,\"!A188\")),\"\")","v":""},{"$f":"IF($J$9<>\"\",INDIRECT(CONCATENATE($J$9,\"!B188\")),\"\")","v":""},{"$f":"IF($J$9<>\"\",INDIRECT(CONCATENATE($J$9,\"!C188\")),\"\")","v":""},{"$f":"IF($J$9<>\"\",INDIRECT(CONCATENATE($J$9,\"!D188\")),\"\")","v":""},{"$f":"IF($J$9<>\"\",INDIRECT(CONCATENATE($J$9,\"!E188\")),\"\")","v":""},{"$f":"IF($J$9<>\"\",INDIRECT(CONCATENATE($J$9,\"!F188\")),\"\")","v":""}]
[null,null,null,null,null,null,null,null,null,null,null,{"$f":"IF($J$9<>\"\",INDIRECT(CONCATENATE($J$9,\"!A189\")),\"\")","v":""},{"$f":"IF($J$9<>\"\",INDIRECT(CONCATENATE($J$9,\"!B189\")),\"\")","v":""},{"$f":"IF($J$9<>\"\",INDIRECT(CONCATENATE($J$9,\"!C189\")),\"\")","v":""},{"$f":"IF($J$9<>\"\",INDIRECT(CONCATENATE($J$9,\"!D189\")),\"\")","v":""},{"$f":"IF($J$9<>\"\",INDIRECT(CONCATENATE($J$9,\"!E189\")),\"\")","v":""},{"$f":"IF($J$9<>\"\",INDIRECT(CONCATENATE($J$9,\"!F189\")),\"\")","v":""}]
[null,null,null,null,null,null,null,null,null,null,null,{"$f":"IF($J$9<>\"\",INDIRECT(CONCATENATE($J$9,\"!A190\")),\"\")","v":""},{"$f":"IF($J$9<>\"\",INDIRECT(CONCATENATE($J$9,\"!B190\")),\"\")","v":""},{"$f":"IF($J$9<>\"\",INDIRECT(CONCATENATE($J$9,\"!C190\")),\"\")","v":""},{"$f":"IF($J$9<>\"\",INDIRECT(CONCATENATE($J$9,\"!D190\")),\"\")","v":""},{"$f":"IF($J$9<>\"\",INDIRECT(CONCATENATE($J$9,\"!E190\")),\"\")","v":""},{"$f":"IF($J$9<>\"\",INDIRECT(CONCATENATE($J$9,\"!F190\")),\"\")","v":""}]
[null,null,null,null,null,null,null,null,null,null,null,{"$f":"IF($J$9<>\"\",INDIRECT(CONCATENATE($J$9,\"!A191\")),\"\")","v":""},{"$f":"IF($J$9<>\"\",INDIRECT(CONCATENATE($J$9,\"!B191\")),\"\")","v":""},{"$f":"IF($J$9<>\"\",INDIRECT(CONCATENATE($J$9,\"!C191\")),\"\")","v":""},{"$f":"IF($J$9<>\"\",INDIRECT(CONCATENATE($J$9,\"!D191\")),\"\")","v":""},{"$f":"IF($J$9<>\"\",INDIRECT(CONCATENATE($J$9,\"!E191\")),\"\")","v":""},{"$f":"IF($J$9<>\"\",INDIRECT(CONCATENATE($J$9,\"!F191\")),\"\")","v":""}]
[null,null,null,null,null,null,null,null,null,null,null,{"$f":"IF($J$9<>\"\",INDIRECT(CONCATENATE($J$9,\"!A192\")),\"\")","v":""},{"$f":"IF($J$9<>\"\",INDIRECT(CONCATENATE($J$9,\"!B192\")),\"\")","v":""},{"$f":"IF($J$9<>\"\",INDIRECT(CONCATENATE($J$9,\"!C192\")),\"\")","v":""},{"$f":"IF($J$9<>\"\",INDIRECT(CONCATENATE($J$9,\"!D192\")),\"\")","v":""},{"$f":"IF($J$9<>\"\",INDIRECT(CONCATENATE($J$9,\"!E192\")),\"\")","v":""},{"$f":"IF($J$9<>\"\",INDIRECT(CONCATENATE($J$9,\"!F192\")),\"\")","v":""}]
[null,null,null,null,null,null,null,null,null,null,null,{"$f":"IF($J$9<>\"\",INDIRECT(CONCATENATE($J$9,\"!A193\")),\"\")","v":""},{"$f":"IF($J$9<>\"\",INDIRECT(CONCATENATE($J$9,\"!B193\")),\"\")","v":""},{"$f":"IF($J$9<>\"\",INDIRECT(CONCATENATE($J$9,\"!C193\")),\"\")","v":""},{"$f":"IF($J$9<>\"\",INDIRECT(CONCATENATE($J$9,\"!D193\")),\"\")","v":""},{"$f":"IF($J$9<>\"\",INDIRECT(CONCATENATE($J$9,\"!E193\")),\"\")","v":""},{"$f":"IF($J$9<>\"\",INDIRECT(CONCATENATE($J$9,\"!F193\")),\"\")","v":""}]
[null,null,null,null,null,null,null,null,null,null,null,{"$f":"IF($J$9<>\"\",INDIRECT(CONCATENATE($J$9,\"!A194\")),\"\")","v":""},{"$f":"IF($J$9<>\"\",INDIRECT(CONCATENATE($J$9,\"!B194\")),\"\")","v":""},{"$f":"IF($J$9<>\"\",INDIRECT(CONCATENATE($J$9,\"!C194\")),\"\")","v":""},{"$f":"IF($J$9<>\"\",INDIRECT(CONCATENATE($J$9,\"!D194\")),\"\")","v":""},{"$f":"IF($J$9<>\"\",INDIRECT(CONCATENATE($J$9,\"!E194\")),\"\")","v":""},{"$f":"IF($J$9<>\"\",INDIRECT(CONCATENATE($J$9,\"!F194\")),\"\")","v":""}]
[null,null,null,null,null,null,null,null,null,null,null,{"$f":"IF($J$9<>\"\",INDIRECT(CONCATENATE($J$9,\"!A195\")),\"\")","v":""},{"$f":"IF($J$9<>\"\",INDIRECT(CONCATENATE($J$9,\"!B195\")),\"\")","v":""},{"$f":"IF($J$9<>\"\",INDIRECT(CONCATENATE($J$9,\"!C195\")),\"\")","v":""},{"$f":"IF($J$9<>\"\",INDIRECT(CONCATENATE($J$9,\"!D195\")),\"\")","v":""},{"$f":"IF($J$9<>\"\",INDIRECT(CONCATENATE($J$9,\"!E195\")),\"\")","v":""},{"$f":"IF($J$9<>\"\",INDIRECT(CONCATENATE($J$9,\"!F195\")),\"\")","v":""}]
[null,null,null,null,null,null,null,null,null,null,null,{"$f":"IF($J$9<>\"\",INDIRECT(CONCATENATE($J$9,\"!A196\")),\"\")","v":""},{"$f":"IF($J$9<>\"\",INDIRECT(CONCATENATE($J$9,\"!B196\")),\"\")","v":""},{"$f":"IF($J$9<>\"\",INDIRECT(CONCATENATE($J$9,\"!C196\")),\"\")","v":""},{"$f":"IF($J$9<>\"\",INDIRECT(CONCATENATE($J$9,\"!D196\")),\"\")","v":""},{"$f":"IF($J$9<>\"\",INDIRECT(CONCATENATE($J$9,\"!E196\")),\"\")","v":""},{"$f":"IF($J$9<>\"\",INDIRECT(CONCATENATE($J$9,\"!F196\")),\"\")","v":""}]
[null,null,null,null,null,null,null,null,null,null,null,{"$f":"IF($J$9<>\"\",INDIRECT(CONCATENATE($J$9,\"!A197\")),\"\")","v":""},{"$f":"IF($J$9<>\"\",INDIRECT(CONCATENATE($J$9,\"!B197\")),\"\")","v":""},{"$f":"IF($J$9<>\"\",INDIRECT(CONCATENATE($J$9,\"!C197\")),\"\")","v":""},{"$f":"IF($J$9<>\"\",INDIRECT(CONCATENATE($J$9,\"!D197\")),\"\")","v":""},{"$f":"IF($J$9<>\"\",INDIRECT(CONCATENATE($J$9,\"!E197\")),\"\")","v":""},{"$f":"IF($J$9<>\"\",INDIRECT(CONCATENATE($J$9,\"!F197\")),\"\")","v":""}]
[null,null,null,null,null,null,null,null,null,null,null,{"$f":"IF($J$9<>\"\",INDIRECT(CONCATENATE($J$9,\"!A198\")),\"\")","v":""},{"$f":"IF($J$9<>\"\",INDIRECT(CONCATENATE($J$9,\"!B198\")),\"\")","v":""},{"$f":"IF($J$9<>\"\",INDIRECT(CONCATENATE($J$9,\"!C198\")),\"\")","v":""},{"$f":"IF($J$9<>\"\",INDIRECT(CONCATENATE($J$9,\"!D198\")),\"\")","v":""},{"$f":"IF($J$9<>\"\",INDIRECT(CONCATENATE($J$9,\"!E198\")),\"\")","v":""},{"$f":"IF($J$9<>\"\",INDIRECT(CONCATENATE($J$9,\"!F198\")),\"\")","v":""}]
[null,null,null,null,null,null,null,null,null,null,null,{"$f":"IF($J$9<>\"\",INDIRECT(CONCATENATE($J$9,\"!A199\")),\"\")","v":""},{"$f":"IF($J$9<>\"\",INDIRECT(CONCATENATE($J$9,\"!B199\")),\"\")","v":""},{"$f":"IF($J$9<>\"\",INDIRECT(CONCATENATE($J$9,\"!C199\")),\"\")","v":""},{"$f":"IF($J$9<>\"\",INDIRECT(CONCATENATE($J$9,\"!D199\")),\"\")","v":""},{"$f":"IF($J$9<>\"\",INDIRECT(CONCATENATE($J$9,\"!E199\")),\"\")","v":""},{"$f":"IF($J$9<>\"\",INDIRECT(CONCATENATE($J$9,\"!F199\")),\"\")","v":""}]
[null,null,null,null,null,null,null,null,null,null,null,{"$f":"IF($J$9<>\"\",INDIRECT(CONCATENATE($J$9,\"!A200\")),\"\")","v":""},{"$f":"IF($J$9<>\"\",INDIRECT(CONCATENATE($J$9,\"!B200\")),\"\")","v":""},{"$f":"IF($J$9<>\"\",INDIRECT(CONCATENATE($J$9,\"!C200\")),\"\")","v":""},{"$f":"IF($J$9<>\"\",INDIRECT(CONCATENATE($J$9,\"!D200\")),\"\")","v":""},{"$f":"IF($J$9<>\"\",INDIRECT(CONCATENATE($J$9,\"!E200\")),\"\")","v":""},{"$f":"IF($J$9<>\"\",INDIRECT(CONCATENATE($J$9,\"!F200\")),\"\")","v":""}]
[null,null,null,null,null,null,null,null,null,null,null,{"$f":"IF($J$9<>\"\",INDIRECT(CONCATENATE($J$9,\"!A201\")),\"\")","v":""},{"$f":"IF($J$9<>\"\",INDIRECT(CONCATENATE($J$9,\"!B201\")),\"\")","v":""},{"$f":"IF($J$9<>\"\",INDIRECT(CONCATENATE($J$9,\"!C201\")),\"\")","v":""},{"$f":"IF($J$9<>\"\",INDIRECT(CONCATENATE($J$9,\"!D201\")),\"\")","v":""},{"$f":"IF($J$9<>\"\",INDIRECT(CONCATENATE($J$9,\"!E201\")),\"\")","v":""},{"$f":"IF($J$9<>\"\",INDIRECT(CONCATENATE($J$9,\"!F201\")),\"\")","v":""}]
[null,null,null,null,null,null,null,null,null,null,null,{"$f":"IF($J$9<>\"\",INDIRECT(CONCATENATE($J$9,\"!A202\")),\"\")","v":""},{"$f":"IF($J$9<>\"\",INDIRECT(CONCATENATE($J$9,\"!B202\")),\"\")","v":""},{"$f":"IF($J$9<>\"\",INDIRECT(CONCATENATE($J$9,\"!C202\")),\"\")","v":""},{"$f":"IF($J$9<>\"\",INDIRECT(CONCATENATE($J$9,\"!D202\")),\"\")","v":""},{"$f":"IF($J$9<>\"\",INDIRECT(CONCATENATE($J$9,\"!E202\")),\"\")","v":""},{"$f":"IF($J$9<>\"\",INDIRECT(CONCATENATE($J$9,\"!F202\")),\"\")","v":""}]
[null,null,null,null,null,null,null,null,null,null,null,{"$f":"IF($J$9<>\"\",INDIRECT(CONCATENATE($J$9,\"!A203\")),\"\")","v":""},{"$f":"IF($J$9<>\"\",INDIRECT(CONCATENATE($J$9,\"!B203\")),\"\")","v":""},{"$f":"IF($J$9<>\"\",INDIRECT(CONCATENATE($J$9,\"!C203\")),\"\")","v":""},{"$f":"IF($J$9<>\"\",INDIRECT(CONCATENATE($J$9,\"!D203\")),\"\")","v":""},{"$f":"IF($J$9<>\"\",INDIRECT(CONCATENATE($J$9,\"!E203\")),\"\")","v":""},{"$f":"IF($J$9<>\"\",INDIRECT(CONCATENATE($J$9,\"!F203\")),\"\")","v":""}]
[null,null,null,null,null,null,null,null,null,null,null,{"$f":"IF($J$9<>\"\",INDIRECT(CONCATENATE($J$9,\"!A204\")),\"\")","v":""},{"$f":"IF($J$9<>\"\",INDIRECT(CONCATENATE($J$9,\"!B204\")),\"\")","v":""},{"$f":"IF($J$9<>\"\",INDIRECT(CONCATENATE($J$9,\"!C204\")),\"\")","v":""},{"$f":"IF($J$9<>\"\",INDIRECT(CONCATENATE($J$9,\"!D204\")),\"\")","v":""},{"$f":"IF($J$9<>\"\",INDIRECT(CONCATENATE($J$9,\"!E204\")),\"\")","v":""},{"$f":"IF($J$9<>\"\",INDIRECT(CONCATENATE($J$9,\"!F204\")),\"\")","v":""}]
[null,null,null,null,null,null,null,null,null,null,null,{"$f":"IF($J$9<>\"\",INDIRECT(CONCATENATE($J$9,\"!A205\")),\"\")","v":""},{"$f":"IF($J$9<>\"\",INDIRECT(CONCATENATE($J$9,\"!B205\")),\"\")","v":""},{"$f":"IF($J$9<>\"\",INDIRECT(CONCATENATE($J$9,\"!C205\")),\"\")","v":""},{"$f":"IF($J$9<>\"\",INDIRECT(CONCATENATE($J$9,\"!D205\")),\"\")","v":""},{"$f":"IF($J$9<>\"\",INDIRECT(CONCATENATE($J$9,\"!E205\")),\"\")","v":""},{"$f":"IF($J$9<>\"\",INDIRECT(CONCATENATE($J$9,\"!F205\")),\"\")","v":""}]
[null,null,null,null,null,null,null,null,null,null,null,{"$f":"IF($J$9<>\"\",INDIRECT(CONCATENATE($J$9,\"!A206\")),\"\")","v":""},{"$f":"IF($J$9<>\"\",INDIRECT(CONCATENATE($J$9,\"!B206\")),\"\")","v":""},{"$f":"IF($J$9<>\"\",INDIRECT(CONCATENATE($J$9,\"!C206\")),\"\")","v":""},{"$f":"IF($J$9<>\"\",INDIRECT(CONCATENATE($J$9,\"!D206\")),\"\")","v":""},{"$f":"IF($J$9<>\"\",INDIRECT(CONCATENATE($J$9,\"!E206\")),\"\")","v":""},{"$f":"IF($J$9<>\"\",INDIRECT(CONCATENATE($J$9,\"!F206\")),\"\")","v":""}]
[null,null,null,null,null,null,null,null,null,null,null,{"$f":"IF($J$9<>\"\",INDIRECT(CONCATENATE($J$9,\"!A207\")),\"\")","v":""},{"$f":"IF($J$9<>\"\",INDIRECT(CONCATENATE($J$9,\"!B207\")),\"\")","v":""},{"$f":"IF($J$9<>\"\",INDIRECT(CONCATENATE($J$9,\"!C207\")),\"\")","v":""},{"$f":"IF($J$9<>\"\",INDIRECT(CONCATENATE($J$9,\"!D207\")),\"\")","v":""},{"$f":"IF($J$9<>\"\",INDIRECT(CONCATENATE($J$9,\"!E207\")),\"\")","v":""},{"$f":"IF($J$9<>\"\",INDIRECT(CONCATENATE($J$9,\"!F207\")),\"\")","v":""}]

{"sheet":"% u.a.","index":45,"n_rows":209,"n_cols":21,"rows_kept":209,"cut":false,"hidden":true,"merged":[[13,1,13,2],[8,1,8,2],[8,20,8,25],[9,1,9,2],[11,1,11,2],[6,1,6,3],[10,1,10,2],[0,1,0,3],[2,1,2,3],[2,8,2,9],[4,0,4,1],[4,2,4,3]]}
[]
[null,null,null,null,null,null,null,null,null,"X"]
[]
[]
[null,null,null,null,null,null,null,null,"Nombre Artefacto","Nombre Pestaña"]
[]
[]
[null,null,null,null,null,null,null,null,null,null,null,null,null,null,null,null,null,null,null,null,23]
[null,null,null,null,null,null,null,null,null,{"$f":"IF(B3<>\"\",VLOOKUP(B3,I10:J40,2,FALSE),\"\")","v":""},{"$f":"IF(B3<>\"\",VLOOKUP(B3,I10:K40,3,FALSE),\"\")","v":""}]
[null,null,null,null,null,null,null,null,"JABALINA 800","JAB.800",825,{"$f":"IF($J$9<>\"\",INDIRECT(CONCATENATE($J$9,\"!A8\")),\"\")","v":""},{"$f":"IF($J$9<>\"\",INDIRECT(CONCATENATE($J$9,\"!B8\")),\"\")","v":""},{"$f":"IF($J$9<>\"\",INDIRECT(CONCATENATE($J$9,\"!C8\")),\"\")","v":""},{"$f":"IF($J$9<>\"\",INDIRECT(CONCATENATE($J$9,\"!D8\")),\"\")","v":""},{"$f":"IF($J$9<>\"\",INDIRECT(CONCATENATE($J$9,\"!E8\")),\"\")","v":""},{"$f":"IF($J$9<>\"\",INDIRECT(CONCATENATE($J$9,\"!F8\")),\"\")","v":""},{"$f":"IF($J$9<>\"\",INDIRECT(CONCATENATE($J$9,\"!E9\")),\"\")","v":""}]
[null,null,null,null,null,null,null,null,"JABALINA 700","JAB.700",725,{"$f":"IF($J$9<>\"\",INDIRECT(CONCATENATE($J$9,\"!A9\")),\"\")","v":""},{"$f":"IF($J$9<>\"\",INDIRECT(CONCATENATE($J$9,\"!B9\")),\"\")","v":""},{"$f":"IF($J$9<>\"\",INDIRECT(CONCATENATE($J$9,\"!C9\")),\"\")","v":""},{"$f":"IF($J$9<>\"\",INDIRECT(CONCATENATE($J$9,\"!D9\")),\"\")","v":""},{"$f":"IF($J$9<>\"\",INDIRECT(CONCATENATE($J$9,\"!E9\")),\"\")","v":""},{"$f":"IF($J$9<>\"\",INDIRECT(CONCATENATE($J$9,\"!F9\")),\"\")","v":""}]
[null,null,null,null,null,null,null,null,"JABALINA 600","JAB.600",625,{"$f":"IF($J$9<>\"\",INDIRECT(CONCATENATE($J$9,\"!A10\")),\"\")","v":""},{"$f":"IF($J$9<>\"\",INDIRECT(CONCATENATE($J$9,\"!B10\")),\"\")","v":""},{"$f":"IF($J$9<>\"\",INDIRECT(CONCATENATE($J$9,\"!C10\")),\"\")","v":""},{"$f":"IF($J$9<>\"\",INDIRECT(CONCATENATE($J$9,\"!D10\")),\"\")","v":""},{"$f":"IF($J$9<>\"\",INDIRECT(CONCATENATE($J$9,\"!E10\")),\"\")","v":""},{"$f":"IF($J$9<>\"\",INDIRECT(CONCATENATE($J$9,\"!F10\")),\"\")","v":""}]
[null,null,null,null,null,null,null,null,"JABALINA 500","JAB.500",525,{"$f":"IF($J$9<>\"\",INDIRECT(CONCATENATE($J$9,\"!A11\")),\"\")","v":""},{"$f":"IF($J$9<>\"\",INDIRECT(CONCATENATE($J$9,\"!B11\")),\"\")","v":""},{"$f":"IF($J$9<>\"\",INDIRECT(CONCATENATE($J$9,\"!C11\")),\"\")","v":""},{"$f":"IF($J$9<>\"\",INDIRECT(CONCATENATE($J$9,\"!D11\")),\"\")","v":""},{"$f":"IF($J$9<>\"\",INDIRECT(CONCATENATE($J$9,\"!E11\")),\"\")","v":""},{"$f":"IF($J$9<>\"\",INDIRECT(CONCATENATE($J$9,\"!F11\")),\"\")","v":""}]
[null,null,null,null,null,null,null,null,"JABALINA 400","JAB.400",425,{"$f":"IF($J$9<>\"\",INDIRECT(CONCATENATE($J$9,\"!A12\")),\"\")","v":""},{"$f":"IF($J$9<>\"\",INDIRECT(CONCATENATE($J$9,\"!B12\")),\"\")","v":""},{"$f":"IF($J$9<>\"\",INDIRECT(CONCATENATE($J$9,\"!C12\")),\"\")","v":""},{"$f":"IF($J$9<>\"\",INDIRECT(CONCATENATE($J$9,\"!D12\")),\"\")","v":""},{"$f":"IF($J$9<>\"\",INDIRECT(CONCATENATE($J$9,\"!E12\")),\"\")","v":""},{"$f":"IF($J$9<>\"\",INDIRECT(CONCATENATE($J$9,\"!F12\")),\"\")","v":""}]
[null,null,null,null,null,null,null,null,"DISCO 2000","DIS.2000",2025,{"$f":"IF($J$9<>\"\",INDIRECT(CONCATENATE($J$9,\"!A13\")),\"\")","v":""},{"$f":"IF($J$9<>\"\",INDIRECT(CONCATENATE($J$9,\"!B13\")),\"\")","v":""},{"$f":"IF($J$9<>\"\",INDIRECT(CONCATENATE($J$9,\"!C13\")),\"\")","v":""},{"$f":"IF($J$9<>\"\",INDIRECT(CONCATENATE($J$9,\"!D13\")),\"\")","v":""},{"$f":"IF($J$9<>\"\",INDIRECT(CONCATENATE($J$9,\"!E13\")),\"\")","v":""},{"$f":"IF($J$9<>\"\",INDIRECT(CONCATENATE($J$9,\"!F13\")),\"\")","v":""}]
[null,null,null,null,null,null,null,null,"DISCO 1750","DIS.1750",1775,{"$f":"IF($J$9<>\"\",INDIRECT(CONCATENATE($J$9,\"!A14\")),\"\")","v":""},{"$f":"IF($J$9<>\"\",INDIRECT(CONCATENATE($J$9,\"!B14\")),\"\")","v":""},{"$f":"IF($J$9<>\"\",INDIRECT(CONCATENATE($J$9,\"!C14\")),\"\")","v":""},{"$f":"IF($J$9<>\"\",INDIRECT(CONCATENATE($J$9,\"!D14\")),\"\")","v":""},{"$f":"IF($J$9<>\"\",INDIRECT(CONCATENATE($J$9,\"!E14\")),\"\")","v":""},{"$f":"IF($J$9<>\"\",INDIRECT(CONCATENATE($J$9,\"!F14\")),\"\")","v":""}]
[null,null,null,null,null,null,null,null,"DISCO 1500","DIS.1500",1525,{"$f":"IF($J$9<>\"\",INDIRECT(CONCATENATE($J$9,\"!A15\")),\"\")","v":""},{"$f":"IF($J$9<>\"\",INDIRECT(CONCATENATE($J$9,\"!B15\")),\"\")","v":""},{"$f":"IF($J$9<>\"\",INDIRECT(CONCATENATE($J$9,\"!C15\")),\"\")","v":""},{"$f":"IF($J$9<>\"\",INDIRECT(CONCATENATE($J$9,\"!D15\")),\"\")","v":""},{"$f":"IF($J$9<>\"\",INDIRECT(CONCATENATE($J$9,\"!E15\")),\"\")","v":""},{"$f":"IF($J$9<>\"\",INDIRECT(CONCATENATE($J$9,\"!F15\")),\"\")","v":""}]
[null,null,null,null,null,null,null,null,"DISCO 1000","DIS.1000",1025,{"$f":"IF($J$9<>\"\",INDIRECT(CONCATENATE($J$9,\"!A16\")),\"\")","v":""},{"$f":"IF($J$9<>\"\",INDIRECT(CONCATENATE($J$9,\"!B16\")),\"\")","v":""},{"$f":"IF($J$9<>\"\",INDIRECT(CONCATENATE($J$9,\"!C16\")),\"\")","v":""},{"$f":"IF($J$9<>\"\",INDIRECT(CONCATENATE($J$9,\"!D16\")),\"\")","v":""},{"$f":"IF($J$9<>\"\",INDIRECT(CONCATENATE($J$9,\"!E16\")),\"\")","v":""},{"$f":"IF($J$9<>\"\",INDIRECT(CONCATENATE($J$9,\"!F16\")),\"\")","v":""}]
[null,null,null,null,null,null,null,null,"DISCO 800","DIS.800",825,{"$f":"IF($J$9<>\"\",INDIRECT(CONCATENATE($J$9,\"!A17\")),\"\")","v":""},{"$f":"IF($J$9<>\"\",INDIRECT(CONCATENATE($J$9,\"!B17\")),\"\")","v":""},{"$f":"IF($J$9<>\"\",INDIRECT(CONCATENATE($J$9,\"!C17\")),\"\")","v":""},{"$f":"IF($J$9<>\"\",INDIRECT(CONCATENATE($J$9,\"!D17\")),\"\")","v":""},{"$f":"IF($J$9<>\"\",INDIRECT(CONCATENATE($J$9,\"!E17\")),\"\")","v":""},{"$f":"IF($J$9<>\"\",INDIRECT(CONCATENATE($J$9,\"!F17\")),\"\")","v":""}]
[null,null,null,null,null,null,null,null,"DISCO 750","DIS.750",775,{"$f":"IF($J$9<>\"\",INDIRECT(CONCATENATE($J$9,\"!A18\")),\"\")","v":""},{"$f":"IF($J$9<>\"\",INDIRECT(CONCATENATE($J$9,\"!B18\")),\"\")","v":""},{"$f":"IF($J$9<>\"\",INDIRECT(CONCATENATE($J$9,\"!C18\")),\"\")","v":""},{"$f":"IF($J$9<>\"\",INDIRECT(CONCATENATE($J$9,\"!D18\")),\"\")","v":""},{"$f":"IF($J$9<>\"\",INDIRECT(CONCATENATE($J$9,\"!E18\")),\"\")","v":""},{"$f":"IF($J$9<>\"\",INDIRECT(CONCATENATE($J$9,\"!F18\")),\"\")","v":""}]
[null,null,null,null,null,null,null,null,"MARTILLO 7260","MAR.7260",7285,{"$f":"IF($J$9<>\"\",INDIRECT(CONCATENATE($J$9,\"!A19\")),\"\")","v":""},{"$f":"IF($J$9<>\"\",INDIRECT(CONCATENATE($J$9,\"!B19\")),\"\")","v":""},{"$f":"IF($J$9<>\"\",INDIRECT(CONCATENATE($J$9,\"!C19\")),\"\")","v":""},{"$f":"IF($J$9<>\"\",INDIRECT(CONCATENATE($J$9,\"!D19\")),\"\")","v":""},{"$f":"IF($J$9<>\"\",INDIRECT(CONCATENATE($J$9,\"!E19\")),\"\")","v":""},{"$f":"IF($J$9<>\"\",INDIRECT(CONCATENATE($J$9,\"!F19\")),\"\")","v":""}]
[null,null,null,null,null,null,null,null,"MARTILLO 6000","MAR.6000",6025,{"$f":"IF($J$9<>\"\",INDIRECT(CONCATENATE($J$9,\"!A20\")),\"\")","v":""},{"$f":"IF($J$9<>\"\",INDIRECT(CONCATENATE($J$9,\"!B20\")),\"\")","v":""},{"$f":"IF($J$9<>\"\",INDIRECT(CONCATENATE($J$9,\"!C20\")),\"\")","v":""},{"$f":"IF($J$9<>\"\",INDIRECT(CONCATENATE($J$9,\"!D20\")),\"\")","v":""},{"$f":"IF($J$9<>\"\",INDIRECT(CONCATENATE($J$9,\"!E20\")),\"\")","v":""},{"$f":"IF($J$9<>\"\",INDIRECT(CONCATENATE($J$9,\"!F20\")),\"\")","v":""}]
[null,null,null,null,null,null,null,null,"MARTILLO 5000","MAR.5000",5025,{"$f":"IF($J$9<>\"\",INDIRECT(CONCATENATE($J$9,\"!A21\")),\"\")","v":""},{"$f":"IF($J$9<>\"\",INDIRECT(CONCATENATE($J$9,\"!B21\")),\"\")","v":""},{"$f":"IF($J$9<>\"\",INDIRECT(CONCATENATE($J$9,\"!C21\")),\"\")","v":""},{"$f":"IF($J$9<>\"\",INDIRECT(CONCATENATE($J$9,\"!D21\")),\"\")","v":""},{"$f":"IF($J$9<>\"\",INDIRECT(CONCATENATE($J$9,\"!E21\")),\"\")","v":""},{"$f":"IF($J$9<>\"\",INDIRECT(CONCATENATE($J$9,\"!F21\")),\"\")","v":""}]
[null,null,null,null,null,null,null,null,"MARTILLO 4000","MAR.4000",4025,{"$f":"IF($J$9<>\"\",INDIRECT(CONCATENATE($J$9,\"!A22\")),\"\")","v":""},{"$f":"IF($J$9<>\"\",INDIRECT(CONCATENATE($J$9,\"!B22\")),\"\")","v":""},{"$f":"IF($J$9<>\"\",INDIRECT(CONCATENATE($J$9,\"!C22\")),\"\")","v":""},{"$f":"IF($J$9<>\"\",INDIRECT(CONCATENATE($J$9,\"!D22\")),\"\")","v":""},{"$f":"IF($J$9<>\"\",INDIRECT(CONCATENATE($J$9,\"!E22\")),\"\")","v":""},{"$f":"IF($J$9<>\"\",INDIRECT(CONCATENATE($J$9,\"!F22\")),\"\")","v":""}]
[null,null,null,null,null,null,null,null,"MARTILLO 3000","MAR.3000",3025,{"$f":"IF($J$9<>\"\",INDIRECT(CONCATENATE($J$9,\"!A23\")),\"\")","v":""},{"$f":"IF($J$9<>\"\",INDIRECT(CONCATENATE($J$9,\"!B23\")),\"\")","v":""},{"$f":"IF($J$9<>\"\",INDIRECT(CONCATENATE($J$9,\"!C23\")),\"\")","v":""},{"$f":"IF($J$9<>\"\",INDIRECT(CONCATENATE($J$9,\"!D23\")),\"\")","v":""},{"$f":"IF($J$9<>\"\",INDIRECT(CONCATENATE($J$9,\"!E23\")),\"\")","v":""},{"$f":"IF($J$9<>\"\",INDIRECT(CONCATENATE($J$9,\"!F23\")),\"\")","v":""}]
[null,null,null,null,null,null,null,null,"MARTILLO 2000","MAR.2000",2025,{"$f":"IF($J$9<>\"\",INDIRECT(CONCATENATE($J$9,\"!A24\")),\"\")","v":""},{"$f":"IF($J$9<>\"\",INDIRECT(CONCATENATE($J$9,\"!B24\")),\"\")","v":""},{"$f":"IF($J$9<>\"\",INDIRECT(CONCATENATE($J$9,\"!C24\")),\"\")","v":""},{"$f":"IF($J$9<>\"\",INDIRECT(CONCATENATE($J$9,\"!D24\")),\"\")","v":""},{"$f":"IF($J$9<>\"\",INDIRECT(CONCATENATE($J$9,\"!E24\")),\"\")","v":""},{"$f":"IF($J$9<>\"\",INDIRECT(CONCATENATE($J$9,\"!F24\")),\"\")","v":""}]
[null,null,null,null,null,null,null,null,"PESO 7260","PES.7260",7285,{"$f":"IF($J$9<>\"\",INDIRECT(CONCATENATE($J$9,\"!A25\")),\"\")","v":""},{"$f":"IF($J$9<>\"\",INDIRECT(CONCATENATE($J$9,\"!B25\")),\"\")","v":""},{"$f":"IF($J$9<>\"\",INDIRECT(CONCATENATE($J$9,\"!C25\")),\"\")","v":""},{"$f":"IF($J$9<>\"\",INDIRECT(CONCATENATE($J$9,\"!D25\")),\"\")","v":""},{"$f":"IF($J$9<>\"\",INDIRECT(CONCATENATE($J$9,\"!E25\")),\"\")","v":""},{"$f":"IF($J$9<>\"\",INDIRECT(CONCATENATE($J$9,\"!F25\")),\"\")","v":""}]
[null,null,null,null,null,null,null,null,"PESO 6000","PES.6000",6025,{"$f":"IF($J$9<>\"\",INDIRECT(CONCATENATE($J$9,\"!A26\")),\"\")","v":""},{"$f":"IF($J$9<>\"\",INDIRECT(CONCATENATE($J$9,\"!B26\")),\"\")","v":""},{"$f":"IF($J$9<>\"\",INDIRECT(CONCATENATE($J$9,\"!C26\")),\"\")","v":""},{"$f":"IF($J$9<>\"\",INDIRECT(CONCATENATE($J$9,\"!D26\")),\"\")","v":""},{"$f":"IF($J$9<>\"\",INDIRECT(CONCATENATE($J$9,\"!E26\")),\"\")","v":""},{"$f":"IF($J$9<>\"\",INDIRECT(CONCATENATE($J$9,\"!F26\")),\"\")","v":""}]
[null,null,null,null,null,null,null,null,"PESO 5000","PES.5000",5025,{"$f":"IF($J$9<>\"\",INDIRECT(CONCATENATE($J$9,\"!A27\")),\"\")","v":""},{"$f":"IF($J$9<>\"\",INDIRECT(CONCATENATE($J$9,\"!B27\")),\"\")","v":""},{"$f":"IF($J$9<>\"\",INDIRECT(CONCATENATE($J$9,\"!C27\")),\"\")","v":""},{"$f":"IF($J$9<>\"\",INDIRECT(CONCATENATE($J$9,\"!D27\")),\"\")","v":""},{"$f":"IF($J$9<>\"\",INDIRECT(CONCATENATE($J$9,\"!E27\")),\"\")","v":""},{"$f":"IF($J$9<>\"\",INDIRECT(CONCATENATE($J$9,\"!F27\")),\"\")","v":""}]
[null,null,null,null,null,null,null,null,"PESO 4000H","PES.4000H",4025,{"$f":"IF($J$9<>\"\",INDIRECT(CONCATENATE($J$9,\"!A28\")),\"\")","v":""},{"$f":"IF($J$9<>\"\",INDIRECT(CONCATENATE($J$9,\"!B28\")),\"\")","v":""},{"$f":"IF($J$9<>\"\",INDIRECT(CONCATENATE($J$9,\"!C28\")),\"\")","v":""},{"$f":"IF($J$9<>\"\",INDIRECT(CONCATENATE($J$9,\"!D28\")),\"\")","v":""},{"$f":"IF($J$9<>\"\",INDIRECT(CONCATENATE($J$9,\"!E28\")),\"\")","v":""},{"$f":"IF($J$9<>\"\",INDIRECT(CONCATENATE($J$9,\"!F28\")),\"\")","v":""}]
[null,null,null,null,null,null,null,null,"PESO 4000M","PES.4000M",4025,{"$f":"IF($J$9<>\"\",INDIRECT(CONCATENATE($J$9,\"!A29\")),\"\")","v":""},{"$f":"IF($J$9<>\"\",INDIRECT(CONCATENATE($J$9,\"!B29\")),\"\")","v":""},{"$f":"IF($J$9<>\"\",INDIRECT(CONCATENATE($J$9,\"!C29\")),\"\")","v":""},{"$f":"IF($J$9<>\"\",INDIRECT(CONCATENATE($J$9,\"!D29\")),\"\")","v":""},{"$f":"IF($J$9<>\"\",INDIRECT(CONCATENATE($J$9,\"!E29\")),\"\")","v":""},{"$f":"IF($J$9<>\"\",INDIRECT(CONCATENATE($J$9,\"!F29\")),\"\")","v":""}]
[null,null,null,null,null,null,null,null,"PESO 3000H","PES.3000H",3025,{"$f":"IF($J$9<>\"\",INDIRECT(CONCATENATE($J$9,\"!A30\")),\"\")","v":""},{"$f":"IF($J$9<>\"\",INDIRECT(CONCATENATE($J$9,\"!B30\")),\"\")","v":""},{"$f":"IF($J$9<>\"\",INDIRECT(CONCATENATE($J$9,\"!C30\")),\"\")","v":""},{"$f":"IF($J$9<>\"\",INDIRECT(CONCATENATE($J$9,\"!D30\")),\"\")","v":""},{"$f":"IF($J$9<>\"\",INDIRECT(CONCATENATE($J$9,\"!E30\")),\"\")","v":""},{"$f":"IF($J$9<>\"\",INDIRECT(CONCATENATE($J$9,\"!F30\")),\"\")","v":""}]
[null,null,null,null,null,null,null,null,"PESO 3000M","PES.3000M",3025,{"$f":"IF($J$9<>\"\",INDIRECT(CONCATENATE($J$9,\"!A31\")),\"\")","v":""},{"$f":"IF($J$9<>\"\",INDIRECT(CONCATENATE($J$9,\"!B31\")),\"\")","v":""},{"$f":"IF($J$9<>\"\",INDIRECT(CONCATENATE($J$9,\"!C31\")),\"\")","v":""},{"$f":"IF($J$9<>\"\",INDIRECT(CONCATENATE($J$9,\"!D31\")),\"\")","v":""},{"$f":"IF($J$9<>\"\",INDIRECT(CONCATENATE($J$9,\"!E31\")),\"\")","v":""},{"$f":"IF($J$9<>\"\",INDIRECT(CONCATENATE($J$9,\"!F31\")),\"\")","v":""}]
[null,null,null,null,null,null,null,null,"PESO 2000","PES.2000",2025,{"$f":"IF($J$9<>\"\",INDIRECT(CONCATENATE($J$9,\"!A32\")),\"\")","v":""},{"$f":"IF($J$9<>\"\",INDIRECT(CONCATENATE($J$9,\"!B32\")),\"\")","v":""},{"$f":"IF($J$9<>\"\",INDIRECT(CONCATENATE($J$9,\"!C32\")),\"\")","v":""},{"$f":"IF($J$9<>\"\",INDIRECT(CONCATENATE($J$9,\"!D32\")),\"\")","v":""},{"$f":"IF($J$9<>\"\",INDIRECT(CONCATENATE($J$9,\"!E32\")),\"\")","v":""},{"$f":"IF($J$9<>\"\",INDIRECT(CONCATENATE($J$9,\"!F32\")),\"\")","v":""}]
[null,null,null,null,null,null,null,null,"MARTILLO PESADO 15880","MARP.15880",15905,{"$f":"IF($J$9<>\"\",INDIRECT(CONCATENATE($J$9,\"!A33\")),\"\")","v":""},{"$f":"IF($J$9<>\"\",INDIRECT(CONCATENATE($J$9,\"!B33\")),\"\")","v":""},{"$f":"IF($J$9<>\"\",INDIRECT(CONCATENATE($J$9,\"!C33\")),\"\")","v":""},{"$f":"IF($J$9<>\"\",INDIRECT(CONCATENATE($J$9,\"!D33\")),\"\")","v":""},{"$f":"IF($J$9<>\"\",INDIRECT(CONCATENATE($J$9,\"!E33\")),\"\")","v":""},{"$f":"IF($J$9<>\"\",INDIRECT(CONCATENATE($J$9,\"!F33\")),\"\")","v":""}]
[null,null,null,null,null,null,null,null,"MARTILLO PESADO 11340","MARP.11340",11365,{"$f":"IF($J$9<>\"\",INDIRECT(CONCATENATE($J$9,\"!A34\")),\"\")","v":""},{"$f":"IF($J$9<>\"\",INDIRECT(CONCATENATE($J$9,\"!B34\")),\"\")","v":""},{"$f":"IF($J$9<>\"\",INDIRECT(CONCATENATE($J$9,\"!C34\")),\"\")","v":""},{"$f":"IF($J$9<>\"\",INDIRECT(CONCATENATE($J$9,\"!D34\")),\"\")","v":""},{"$f":"IF($J$9<>\"\",INDIRECT(CONCATENATE($J$9,\"!E34\")),\"\")","v":""},{"$f":"IF($J$9<>\"\",INDIRECT(CONCATENATE($J$9,\"!F34\")),\"\")","v":""}]
[null,null,null,null,null,null,null,null,"MARTILLO PESADO 9080","MARP.9080",9105,{"$f":"IF($J$9<>\"\",INDIRECT(CONCATENATE($J$9,\"!A35\")),\"\")","v":""},{"$f":"IF($J$9<>\"\",INDIRECT(CONCATENATE($J$9,\"!B35\")),\"\")","v":""},{"$f":"IF($J$9<>\"\",INDIRECT(CONCATENATE($J$9,\"!C35\")),\"\")","v":""},{"$f":"IF($J$9<>\"\",INDIRECT(CONCATENATE($J$9,\"!D35\")),\"\")","v":""},{"$f":"IF($J$9<>\"\",INDIRECT(CONCATENATE($J$9,\"!E35\")),\"\")","v":""},{"$f":"IF($J$9<>\"\",INDIRECT(CONCATENATE($J$9,\"!F35\")),\"\")","v":""}]
[null,null,null,null,null,null,null,null,"MARTILLO PESADO 7260","MARP.7260",7285,{"$f":"IF($J$9<>\"\",INDIRECT(CONCATENATE($J$9,\"!A36\")),\"\")","v":""},{"$f":"IF($J$9<>\"\",INDIRECT(CONCATENATE($J$9,\"!B36\")),\"\")","v":""},{"$f":"IF($J$9<>\"\",INDIRECT(CONCATENATE($J$9,\"!C36\")),\"\")","v":""},{"$f":"IF($J$9<>\"\",INDIRECT(CONCATENATE($J$9,\"!D36\")),\"\")","v":""},{"$f":"IF($J$9<>\"\",INDIRECT(CONCATENATE($J$9,\"!E36\")),\"\")","v":""},{"$f":"IF($J$9<>\"\",INDIRECT(CONCATENATE($J$9,\"!F36\")),\"\")","v":""}]
[null,null,null,null,null,null,null,null,"MARTILLO PESADO 5450","MARP.5450",5475,{"$f":"IF($J$9<>\"\",INDIRECT(CONCATENATE($J$9,\"!A37\")),\"\")","v":""},{"$f":"IF($J$9<>\"\",INDIRECT(CONCATENATE($J$9,\"!B37\")),\"\")","v":""},{"$f":"IF($J$9<>\"\",INDIRECT(CONCATENATE($J$9,\"!C37\")),\"\")","v":""},{"$f":"IF($J$9<>\"\",INDIRECT(CONCATENATE($J$9,\"!D37\")),\"\")","v":""},{"$f":"IF($J$9<>\"\",INDIRECT(CONCATENATE($J$9,\"!E37\")),\"\")","v":""},{"$f":"IF($J$9<>\"\",INDIRECT(CONCATENATE($J$9,\"!F37\")),\"\")","v":""}]
[null,null,null,null,null,null,null,null,"MARTILLO PESADO 4000","MARP.4000",4025,{"$f":"IF($J$9<>\"\",INDIRECT(CONCATENATE($J$9,\"!A38\")),\"\")","v":""},{"$f":"IF($J$9<>\"\",INDIRECT(CONCATENATE($J$9,\"!B38\")),\"\")","v":""},{"$f":"IF($J$9<>\"\",INDIRECT(CONCATENATE($J$9,\"!C38\")),\"\")","v":""},{"$f":"IF($J$9<>\"\",INDIRECT(CONCATENATE($J$9,\"!D38\")),\"\")","v":""},{"$f":"IF($J$9<>\"\",INDIRECT(CONCATENATE($J$9,\"!E38\")),\"\")","v":""},{"$f":"IF($J$9<>\"\",INDIRECT(CONCATENATE($J$9,\"!F38\")),\"\")","v":""}]
[null,null,null,null,null,null,null,null,null,null,null,{"$f":"IF($J$9<>\"\",INDIRECT(CONCATENATE($J$9,\"!A39\")),\"\")","v":""},{"$f":"IF($J$9<>\"\",INDIRECT(CONCATENATE($J$9,\"!B39\")),\"\")","v":""},{"$f":"IF($J$9<>\"\",INDIRECT(CONCATENATE($J$9,\"!C39\")),\"\")","v":""},{"$f":"IF($J$9<>\"\",INDIRECT(CONCATENATE($J$9,\"!D39\")),\"\")","v":""},{"$f":"IF($J$9<>\"\",INDIRECT(CONCATENATE($J$9,\"!E39\")),\"\")","v":""},{"$f":"IF($J$9<>\"\",INDIRECT(CONCATENATE($J$9,\"!F39\")),\"\")","v":""}]
[null,null,null,null,null,null,null,null,null,null,null,{"$f":"IF($J$9<>\"\",INDIRECT(CONCATENATE($J$9,\"!A40\")),\"\")","v":""},{"$f":"IF($J$9<>\"\",INDIRECT(CONCATENATE($J$9,\"!B40\")),\"\")","v":""},{"$f":"IF($J$9<>\"\",INDIRECT(CONCATENATE($J$9,\"!C40\")),\"\")","v":""},{"$f":"IF($J$9<>\"\",INDIRECT(CONCATENATE($J$9,\"!D40\")),\"\")","v":""},{"$f":"IF($J$9<>\"\",INDIRECT(CONCATENATE($J$9,\"!E40\")),\"\")","v":""},{"$f":"IF($J$9<>\"\",INDIRECT(CONCATENATE($J$9,\"!F40\")),\"\")","v":""}]
[null,null,null,null,null,null,null,null,null,null,null,{"$f":"IF($J$9<>\"\",INDIRECT(CONCATENATE($J$9,\"!A41\")),\"\")","v":""},{"$f":"IF($J$9<>\"\",INDIRECT(CONCATENATE($J$9,\"!B41\")),\"\")","v":""},{"$f":"IF($J$9<>\"\",INDIRECT(CONCATENATE($J$9,\"!C41\")),\"\")","v":""},{"$f":"IF($J$9<>\"\",INDIRECT(CONCATENATE($J$9,\"!D41\")),\"\")","v":""},{"$f":"IF($J$9<>\"\",INDIRECT(CONCATENATE($J$9,\"!E41\")),\"\")","v":""},{"$f":"IF($J$9<>\"\",INDIRECT(CONCATENATE($J$9,\"!F41\")),\"\")","v":""}]
[null,null,null,null,null,null,null,null,null,null,null,{"$f":"IF($J$9<>\"\",INDIRECT(CONCATENATE($J$9,\"!A42\")),\"\")","v":""},{"$f":"IF($J$9<>\"\",INDIRECT(CONCATENATE($J$9,\"!B42\")),\"\")","v":""},{"$f":"IF($J$9<>\"\",INDIRECT(CONCATENATE($J$9,\"!C42\")),\"\")","v":""},{"$f":"IF($J$9<>\"\",INDIRECT(CONCATENATE($J$9,\"!D42\")),\"\")","v":""},{"$f":"IF($J$9<>\"\",INDIRECT(CONCATENATE($J$9,\"!E42\")),\"\")","v":""},{"$f":"IF($J$9<>\"\",INDIRECT(CONCATENATE($J$9,\"!F42\")),\"\")","v":""}]
[null,null,null,null,null,null,null,null,null,null,null,{"$f":"IF($J$9<>\"\",INDIRECT(CONCATENATE($J$9,\"!A43\")),\"\")","v":""},{"$f":"IF($J$9<>\"\",INDIRECT(CONCATENATE($J$9,\"!B43\")),\"\")","v":""},{"$f":"IF($J$9<>\"\",INDIRECT(CONCATENATE($J$9,\"!C43\")),\"\")","v":""},{"$f":"IF($J$9<>\"\",INDIRECT(CONCATENATE($J$9,\"!D43\")),\"\")","v":""},{"$f":"IF($J$9<>\"\",INDIRECT(CONCATENATE($J$9,\"!E43\")),\"\")","v":""},{"$f":"IF($J$9<>\"\",INDIRECT(CONCATENATE($J$9,\"!F43\")),\"\")","v":""}]
[null,null,null,null,null,null,null,null,null,null,null,{"$f":"IF($J$9<>\"\",INDIRECT(CONCATENATE($J$9,\"!A44\")),\"\")","v":""},{"$f":"IF($J$9<>\"\",INDIRECT(CONCATENATE($J$9,\"!B44\")),\"\")","v":""},{"$f":"IF($J$9<>\"\",INDIRECT(CONCATENATE($J$9,\"!C44\")),\"\")","v":""},{"$f":"IF($J$9<>\"\",INDIRECT(CONCATENATE($J$9,\"!D44\")),\"\")","v":""},{"$f":"IF($J$9<>\"\",INDIRECT(CONCATENATE($J$9,\"!E44\")),\"\")","v":""},{"$f":"IF($J$9<>\"\",INDIRECT(CONCATENATE($J$9,\"!F44\")),\"\")","v":""}]
[null,null,null,null,null,null,null,null,null,null,null,{"$f":"IF($J$9<>\"\",INDIRECT(CONCATENATE($J$9,\"!A45\")),\"\")","v":""},{"$f":"IF($J$9<>\"\",INDIRECT(CONCATENATE($J$9,\"!B45\")),\"\")","v":""},{"$f":"IF($J$9<>\"\",INDIRECT(CONCATENATE($J$9,\"!C45\")),\"\")","v":""},{"$f":"IF($J$9<>\"\",INDIRECT(CONCATENATE($J$9,\"!D45\")),\"\")","v":""},{"$f":"IF($J$9<>\"\",INDIRECT(CONCATENATE($J$9,\"!E45\")),\"\")","v":""},{"$f":"IF($J$9<>\"\",INDIRECT(CONCATENATE($J$9,\"!F45\")),\"\")","v":""}]
[null,null,null,null,null,null,null,null,null,null,null,{"$f":"IF($J$9<>\"\",INDIRECT(CONCATENATE($J$9,\"!A46\")),\"\")","v":""},{"$f":"IF($J$9<>\"\",INDIRECT(CONCATENATE($J$9,\"!B46\")),\"\")","v":""},{"$f":"IF($J$9<>\"\",INDIRECT(CONCATENATE($J$9,\"!C46\")),\"\")","v":""},{"$f":"IF($J$9<>\"\",INDIRECT(CONCATENATE($J$9,\"!D46\")),\"\")","v":""},{"$f":"IF($J$9<>\"\",INDIRECT(CONCATENATE($J$9,\"!E46\")),\"\")","v":""},{"$f":"IF($J$9<>\"\",INDIRECT(CONCATENATE($J$9,\"!F46\")),\"\")","v":""}]
[null,null,null,null,null,null,null,null,null,null,null,{"$f":"IF($J$9<>\"\",INDIRECT(CONCATENATE($J$9,\"!A47\")),\"\")","v":""},{"$f":"IF($J$9<>\"\",INDIRECT(CONCATENATE($J$9,\"!B47\")),\"\")","v":""},{"$f":"IF($J$9<>\"\",INDIRECT(CONCATENATE($J$9,\"!C47\")),\"\")","v":""},{"$f":"IF($J$9<>\"\",INDIRECT(CONCATENATE($J$9,\"!D47\")),\"\")","v":""},{"$f":"IF($J$9<>\"\",INDIRECT(CONCATENATE($J$9,\"!E47\")),\"\")","v":""},{"$f":"IF($J$9<>\"\",INDIRECT(CONCATENATE($J$9,\"!F47\")),\"\")","v":""}]
[null,null,null,null,null,null,null,null,null,null,null,{"$f":"IF($J$9<>\"\",INDIRECT(CONCATENATE($J$9,\"!A48\")),\"\")","v":""},{"$f":"IF($J$9<>\"\",INDIRECT(CONCATENATE($J$9,\"!B48\")),\"\")","v":""},{"$f":"IF($J$9<>\"\",INDIRECT(CONCATENATE($J$9,\"!C48\")),\"\")","v":""},{"$f":"IF($J$9<>\"\",INDIRECT(CONCATENATE($J$9,\"!D48\")),\"\")","v":""},{"$f":"IF($J$9<>\"\",INDIRECT(CONCATENATE($J$9,\"!E48\")),\"\")","v":""},{"$f":"IF($J$9<>\"\",INDIRECT(CONCATENATE($J$9,\"!F48\")),\"\")","v":""}]
[null,null,null,null,null,null,null,null,null,null,null,{"$f":"IF($J$9<>\"\",INDIRECT(CONCATENATE($J$9,\"!A49\")),\"\")","v":""},{"$f":"IF($J$9<>\"\",INDIRECT(CONCATENATE($J$9,\"!B49\")),\"\")","v":""},{"$f":"IF($J$9<>\"\",INDIRECT(CONCATENATE($J$9,\"!C49\")),\"\")","v":""},{"$f":"IF($J$9<>\"\",INDIRECT(CONCATENATE($J$9,\"!D49\")),\"\")","v":""},{"$f":"IF($J$9<>\"\",INDIRECT(CONCATENATE($J$9,\"!E49\")),\"\")","v":""},{"$f":"IF($J$9<>\"\",INDIRECT(CONCATENATE($J$9,\"!F49\")),\"\")","v":""}]
[null,null,null,null,null,null,null,null,null,null,null,{"$f":"IF($J$9<>\"\",INDIRECT(CONCATENATE($J$9,\"!A50\")),\"\")","v":""},{"$f":"IF($J$9<>\"\",INDIRECT(CONCATENATE($J$9,\"!B50\")),\"\")","v":""},{"$f":"IF($J$9<>\"\",INDIRECT(CONCATENATE($J$9,\"!C50\")),\"\")","v":""},{"$f":"IF($J$9<>\"\",INDIRECT(CONCATENATE($J$9,\"!D50\")),\"\")","v":""},{"$f":"IF($J$9<>\"\",INDIRECT(CONCATENATE($J$9,\"!E50\")),\"\")","v":""},{"$f":"IF($J$9<>\"\",INDIRECT(CONCATENATE($J$9,\"!F50\")),\"\")","v":""}]
[null,null,null,null,null,null,null,null,null,null,null,{"$f":"IF($J$9<>\"\",INDIRECT(CONCATENATE($J$9,\"!A51\")),\"\")","v":""},{"$f":"IF($J$9<>\"\",INDIRECT(CONCATENATE($J$9,\"!B51\")),\"\")","v":""},{"$f":"IF($J$9<>\"\",INDIRECT(CONCATENATE($J$9,\"!C51\")),\"\")","v":""},{"$f":"IF($J$9<>\"\",INDIRECT(CONCATENATE($J$9,\"!D51\")),\"\")","v":""},{"$f":"IF($J$9<>\"\",INDIRECT(CONCATENATE($J$9,\"!E51\")),\"\")","v":""},{"$f":"IF($J$9<>\"\",INDIRECT(CONCATENATE($J$9,\"!F51\")),\"\")","v":""}]
[null,null,null,null,null,null,null,null,null,null,null,{"$f":"IF($J$9<>\"\",INDIRECT(CONCATENATE($J$9,\"!A52\")),\"\")","v":""},{"$f":"IF($J$9<>\"\",INDIRECT(CONCATENATE($J$9,\"!B52\")),\"\")","v":""},{"$f":"IF($J$9<>\"\",INDIRECT(CONCATENATE($J$9,\"!C52\")),\"\")","v":""},{"$f":"IF($J$9<>\"\",INDIRECT(CONCATENATE($J$9,\"!D52\")),\"\")","v":""},{"$f":"IF($J$9<>\"\",INDIRECT(CONCATENATE($J$9,\"!E52\")),\"\")","v":""},{"$f":"IF($J$9<>\"\",INDIRECT(CONCATENATE($J$9,\"!F52\")),\"\")","v":""}]
[null,null,null,null,null,null,null,null,null,null,null,{"$f":"IF($J$9<>\"\",INDIRECT(CONCATENATE($J$9,\"!A53\")),\"\")","v":""},{"$f":"IF($J$9<>\"\",INDIRECT(CONCATENATE($J$9,\"!B53\")),\"\")","v":""},{"$f":"IF($J$9<>\"\",INDIRECT(CONCATENATE($J$9,\"!C53\")),\"\")","v":""},{"$f":"IF($J$9<>\"\",INDIRECT(CONCATENATE($J$9,\"!D53\")),\"\")","v":""},{"$f":"IF($J$9<>\"\",INDIRECT(CONCATENATE($J$9,\"!E53\")),\"\")","v":""},{"$f":"IF($J$9<>\"\",INDIRECT(CONCATENATE($J$9,\"!F53\")),\"\")","v":""}]
[null,null,null,null,null,null,null,null,null,null,null,{"$f":"IF($J$9<>\"\",INDIRECT(CONCATENATE($J$9,\"!A54\")),\"\")","v":""},{"$f":"IF($J$9<>\"\",INDIRECT(CONCATENATE($J$9,\"!B54\")),\"\")","v":""},{"$f":"IF($J$9<>\"\",INDIRECT(CONCATENATE($J$9,\"!C54\")),\"\")","v":""},{"$f":"IF($J$9<>\"\",INDIRECT(CONCATENATE($J$9,\"!D54\")),\"\")","v":""},{"$f":"IF($J$9<>\"\",INDIRECT(CONCATENATE($J$9,\"!E54\")),\"\")","v":""},{"$f":"IF($J$9<>\"\",INDIRECT(CONCATENATE($J$9,\"!F54\")),\"\")","v":""}]
[null,null,null,null,null,null,null,null,null,null,null,{"$f":"IF($J$9<>\"\",INDIRECT(CONCATENATE($J$9,\"!A55\")),\"\")","v":""},{"$f":"IF($J$9<>\"\",INDIRECT(CONCATENATE($J$9,\"!B55\")),\"\")","v":""},{"$f":"IF($J$9<>\"\",INDIRECT(CONCATENATE($J$9,\"!C55\")),\"\")","v":""},{"$f":"IF($J$9<>\"\",INDIRECT(CONCATENATE($J$9,\"!D55\")),\"\")","v":""},{"$f":"IF($J$9<>\"\",INDIRECT(CONCATENATE($J$9,\"!E55\")),\"\")","v":""},{"$f":"IF($J$9<>\"\",INDIRECT(CONCATENATE($J$9,\"!F55\")),\"\")","v":""}]
[null,null,null,null,null,null,null,null,null,null,null,{"$f":"IF($J$9<>\"\",INDIRECT(CONCATENATE($J$9,\"!A56\")),\"\")","v":""},{"$f":"IF($J$9<>\"\",INDIRECT(CONCATENATE($J$9,\"!B56\")),\"\")","v":""},{"$f":"IF($J$9<>\"\",INDIRECT(CONCATENATE($J$9,\"!C56\")),\"\")","v":""},{"$f":"IF($J$9<>\"\",INDIRECT(CONCATENATE($J$9,\"!D56\")),\"\")","v":""},{"$f":"IF($J$9<>\"\",INDIRECT(CONCATENATE($J$9,\"!E56\")),\"\")","v":""},{"$f":"IF($J$9<>\"\",INDIRECT(CONCATENATE($J$9,\"!F56\")),\"\")","v":""}]
[null,null,null,null,null,null,null,null,null,null,null,{"$f":"IF($J$9<>\"\",INDIRECT(CONCATENATE($J$9,\"!A57\")),\"\")","v":""},{"$f":"IF($J$9<>\"\",INDIRECT(CONCATENATE($J$9,\"!B57\")),\"\")","v":""},{"$f":"IF($J$9<>\"\",INDIRECT(CONCATENATE($J$9,\"!C57\")),\"\")","v":""},{"$f":"IF($J$9<>\"\",INDIRECT(CONCATENATE($J$9,\"!D57\")),\"\")","v":""},{"$f":"IF($J$9<>\"\",INDIRECT(CONCATENATE($J$9,\"!E57\")),\"\")","v":""},{"$f":"IF($J$9<>\"\",INDIRECT(CONCATENATE($J$9,\"!F57\")),\"\")","v":""}]
[null,null,null,null,null,null,null,null,null,null,null,{"$f":"IF($J$9<>\"\",INDIRECT(CONCATENATE($J$9,\"!A58\")),\"\")","v":""},{"$f":"IF($J$9<>\"\",INDIRECT(CONCATENATE($J$9,\"!B58\")),\"\")","v":""},{"$f":"IF($J$9<>\"\",INDIRECT(CONCATENATE($J$9,\"!C58\")),\"\")","v":""},{"$f":"IF($J$9<>\"\",INDIRECT(CONCATENATE($J$9,\"!D58\")),\"\")","v":""},{"$f":"IF($J$9<>\"\",INDIRECT(CONCATENATE($J$9,\"!E58\")),\"\")","v":""},{"$f":"IF($J$9<>\"\",INDIRECT(CONCATENATE($J$9,\"!F58\")),\"\")","v":""}]
[null,null,null,null,null,null,null,null,null,null,null,{"$f":"IF($J$9<>\"\",INDIRECT(CONCATENATE($J$9,\"!A59\")),\"\")","v":""},{"$f":"IF($J$9<>\"\",INDIRECT(CONCATENATE($J$9,\"!B59\")),\"\")","v":""},{"$f":"IF($J$9<>\"\",INDIRECT(CONCATENATE($J$9,\"!C59\")),\"\")","v":""},{"$f":"IF($J$9<>\"\",INDIRECT(CONCATENATE($J$9,\"!D59\")),\"\")","v":""},{"$f":"IF($J$9<>\"\",INDIRECT(CONCATENATE($J$9,\"!E59\")),\"\")","v":""},{"$f":"IF($J$9<>\"\",INDIRECT(CONCATENATE($J$9,\"!F59\")),\"\")","v":""}]
[null,null,null,null,null,null,null,null,null,null,null,{"$f":"IF($J$9<>\"\",INDIRECT(CONCATENATE($J$9,\"!A60\")),\"\")","v":""},{"$f":"IF($J$9<>\"\",INDIRECT(CONCATENATE($J$9,\"!B60\")),\"\")","v":""},{"$f":"IF($J$9<>\"\",INDIRECT(CONCATENATE($J$9,\"!C60\")),\"\")","v":""},{"$f":"IF($J$9<>\"\",INDIRECT(CONCATENATE($J$9,\"!D60\")),\"\")","v":""},{"$f":"IF($J$9<>\"\",INDIRECT(CONCATENATE($J$9,\"!E60\")),\"\")","v":""},{"$f":"IF($J$9<>\"\",INDIRECT(CONCATENATE($J$9,\"!F60\")),\"\")","v":""}]
[null,null,null,null,null,null,null,null,null,null,null,{"$f":"IF($J$9<>\"\",INDIRECT(CONCATENATE($J$9,\"!A61\")),\"\")","v":""},{"$f":"IF($J$9<>\"\",INDIRECT(CONCATENATE($J$9,\"!B61\")),\"\")","v":""},{"$f":"IF($J$9<>\"\",INDIRECT(CONCATENATE($J$9,\"!C61\")),\"\")","v":""},{"$f":"IF($J$9<>\"\",INDIRECT(CONCATENATE($J$9,\"!D61\")),\"\")","v":""},{"$f":"IF($J$9<>\"\",INDIRECT(CONCATENATE($J$9,\"!E61\")),\"\")","v":""},{"$f":"IF($J$9<>\"\",INDIRECT(CONCATENATE($J$9,\"!F61\")),\"\")","v":""}]
[null,null,null,null,null,null,null,null,null,null,null,{"$f":"IF($J$9<>\"\",INDIRECT(CONCATENATE($J$9,\"!A62\")),\"\")","v":""},{"$f":"IF($J$9<>\"\",INDIRECT(CONCATENATE($J$9,\"!B62\")),\"\")","v":""},{"$f":"IF($J$9<>\"\",INDIRECT(CONCATENATE($J$9,\"!C62\")),\"\")","v":""},{"$f":"IF($J$9<>\"\",INDIRECT(CONCATENATE($J$9,\"!D62\")),\"\")","v":""},{"$f":"IF($J$9<>\"\",INDIRECT(CONCATENATE($J$9,\"!E62\")),\"\")","v":""},{"$f":"IF($J$9<>\"\",INDIRECT(CONCATENATE($J$9,\"!F62\")),\"\")","v":""}]
[null,null,null,null,null,null,null,null,null,null,null,{"$f":"IF($J$9<>\"\",INDIRECT(CONCATENATE($J$9,\"!A63\")),\"\")","v":""},{"$f":"IF($J$9<>\"\",INDIRECT(CONCATENATE($J$9,\"!B63\")),\"\")","v":""},{"$f":"IF($J$9<>\"\",INDIRECT(CONCATENATE($J$9,\"!C63\")),\"\")","v":""},{"$f":"IF($J$9<>\"\",INDIRECT(CONCATENATE($J$9,\"!D63\")),\"\")","v":""},{"$f":"IF($J$9<>\"\",INDIRECT(CONCATENATE($J$9,\"!E63\")),\"\")","v":""},{"$f":"IF($J$9<>\"\",INDIRECT(CONCATENATE($J$9,\"!F63\")),\"\")","v":""}]
[null,null,null,null,null,null,null,null,null,null,null,{"$f":"IF($J$9<>\"\",INDIRECT(CONCATENATE($J$9,\"!A64\")),\"\")","v":""},{"$f":"IF($J$9<>\"\",INDIRECT(CONCATENATE($J$9,\"!B64\")),\"\")","v":""},{"$f":"IF($J$9<>\"\",INDIRECT(CONCATENATE($J$9,\"!C64\")),\"\")","v":""},{"$f":"IF($J$9<>\"\",INDIRECT(CONCATENATE($J$9,\"!D64\")),\"\")","v":""},{"$f":"IF($J$9<>\"\",INDIRECT(CONCATENATE($J$9,\"!E64\")),\"\")","v":""},{"$f":"IF($J$9<>\"\",INDIRECT(CONCATENATE($J$9,\"!F64\")),\"\")","v":""}]
[null,null,null,null,null,null,null,null,null,null,null,{"$f":"IF($J$9<>\"\",INDIRECT(CONCATENATE($J$9,\"!A65\")),\"\")","v":""},{"$f":"IF($J$9<>\"\",INDIRECT(CONCATENATE($J$9,\"!B65\")),\"\")","v":""},{"$f":"IF($J$9<>\"\",INDIRECT(CONCATENATE($J$9,\"!C65\")),\"\")","v":""},{"$f":"IF($J$9<>\"\",INDIRECT(CONCATENATE($J$9,\"!D65\")),\"\")","v":""},{"$f":"IF($J$9<>\"\",INDIRECT(CONCATENATE($J$9,\"!E65\")),\"\")","v":""},{"$f":"IF($J$9<>\"\",INDIRECT(CONCATENATE($J$9,\"!F65\")),\"\")","v":""}]
[null,null,null,null,null,null,null,null,null,null,null,{"$f":"IF($J$9<>\"\",INDIRECT(CONCATENATE($J$9,\"!A66\")),\"\")","v":""},{"$f":"IF($J$9<>\"\",INDIRECT(CONCATENATE($J$9,\"!B66\")),\"\")","v":""},{"$f":"IF($J$9<>\"\",INDIRECT(CONCATENATE($J$9,\"!C66\")),\"\")","v":""},{"$f":"IF($J$9<>\"\",INDIRECT(CONCATENATE($J$9,\"!D66\")),\"\")","v":""},{"$f":"IF($J$9<>\"\",INDIRECT(CONCATENATE($J$9,\"!E66\")),\"\")","v":""},{"$f":"IF($J$9<>\"\",INDIRECT(CONCATENATE($J$9,\"!F66\")),\"\")","v":""}]
[null,null,null,null,null,null,null,null,null,null,null,{"$f":"IF($J$9<>\"\",INDIRECT(CONCATENATE($J$9,\"!A67\")),\"\")","v":""},{"$f":"IF($J$9<>\"\",INDIRECT(CONCATENATE($J$9,\"!B67\")),\"\")","v":""},{"$f":"IF($J$9<>\"\",INDIRECT(CONCATENATE($J$9,\"!C67\")),\"\")","v":""},{"$f":"IF($J$9<>\"\",INDIRECT(CONCATENATE($J$9,\"!D67\")),\"\")","v":""},{"$f":"IF($J$9<>\"\",INDIRECT(CONCATENATE($J$9,\"!E67\")),\"\")","v":""},{"$f":"IF($J$9<>\"\",INDIRECT(CONCATENATE($J$9,\"!F67\")),\"\")","v":""}]
[null,null,null,null,null,null,null,null,null,null,null,{"$f":"IF($J$9<>\"\",INDIRECT(CONCATENATE($J$9,\"!A68\")),\"\")","v":""},{"$f":"IF($J$9<>\"\",INDIRECT(CONCATENATE($J$9,\"!B68\")),\"\")","v":""},{"$f":"IF($J$9<>\"\",INDIRECT(CONCATENATE($J$9,\"!C68\")),\"\")","v":""},{"$f":"IF($J$9<>\"\",INDIRECT(CONCATENATE($J$9,\"!D68\")),\"\")","v":""},{"$f":"IF($J$9<>\"\",INDIRECT(CONCATENATE($J$9,\"!E68\")),\"\")","v":""},{"$f":"IF($J$9<>\"\",INDIRECT(CONCATENATE($J$9,\"!F68\")),\"\")","v":""}]
[null,null,null,null,null,null,null,null,null,null,null,{"$f":"IF($J$9<>\"\",INDIRECT(CONCATENATE($J$9,\"!A69\")),\"\")","v":""},{"$f":"IF($J$9<>\"\",INDIRECT(CONCATENATE($J$9,\"!B69\")),\"\")","v":""},{"$f":"IF($J$9<>\"\",INDIRECT(CONCATENATE($J$9,\"!C69\")),\"\")","v":""},{"$f":"IF($J$9<>\"\",INDIRECT(CONCATENATE($J$9,\"!D69\")),\"\")","v":""},{"$f":"IF($J$9<>\"\",INDIRECT(CONCATENATE($J$9,\"!E69\")),\"\")","v":""},{"$f":"IF($J$9<>\"\",INDIRECT(CONCATENATE($J$9,\"!F69\")),\"\")","v":""}]
[null,null,null,null,null,null,null,null,null,null,null,{"$f":"IF($J$9<>\"\",INDIRECT(CONCATENATE($J$9,\"!A70\")),\"\")","v":""},{"$f":"IF($J$9<>\"\",INDIRECT(CONCATENATE($J$9,\"!B70\")),\"\")","v":""},{"$f":"IF($J$9<>\"\",INDIRECT(CONCATENATE($J$9,\"!C70\")),\"\")","v":""},{"$f":"IF($J$9<>\"\",INDIRECT(CONCATENATE($J$9,\"!D70\")),\"\")","v":""},{"$f":"IF($J$9<>\"\",INDIRECT(CONCATENATE($J$9,\"!E70\")),\"\")","v":""},{"$f":"IF($J$9<>\"\",INDIRECT(CONCATENATE($J$9,\"!F70\")),\"\")","v":""}]
[null,null,null,null,null,null,null,null,null,null,null,{"$f":"IF($J$9<>\"\",INDIRECT(CONCATENATE($J$9,\"!A71\")),\"\")","v":""},{"$f":"IF($J$9<>\"\",INDIRECT(CONCATENATE($J$9,\"!B71\")),\"\")","v":""},{"$f":"IF($J$9<>\"\",INDIRECT(CONCATENATE($J$9,\"!C71\")),\"\")","v":""},{"$f":"IF($J$9<>\"\",INDIRECT(CONCATENATE($J$9,\"!D71\")),\"\")","v":""},{"$f":"IF($J$9<>\"\",INDIRECT(CONCATENATE($J$9,\"!E71\")),\"\")","v":""},{"$f":"IF($J$9<>\"\",INDIRECT(CONCATENATE($J$9,\"!F71\")),\"\")","v":""}]
[null,null,null,null,null,null,null,null,null,null,null,{"$f":"IF($J$9<>\"\",INDIRECT(CONCATENATE($J$9,\"!A72\")),\"\")","v":""},{"$f":"IF($J$9<>\"\",INDIRECT(CONCATENATE($J$9,\"!B72\")),\"\")","v":""},{"$f":"IF($J$9<>\"\",INDIRECT(CONCATENATE($J$9,\"!C72\")),\"\")","v":""},{"$f":"IF($J$9<>\"\",INDIRECT(CONCATENATE($J$9,\"!D72\")),\"\")","v":""},{"$f":"IF($J$9<>\"\",INDIRECT(CONCATENATE($J$9,\"!E72\")),\"\")","v":""},{"$f":"IF($J$9<>\"\",INDIRECT(CONCATENATE($J$9,\"!F72\")),\"\")","v":""}]
[null,null,null,null,null,null,null,null,null,null,null,{"$f":"IF($J$9<>\"\",INDIRECT(CONCATENATE($J$9,\"!A73\")),\"\")","v":""},{"$f":"IF($J$9<>\"\",INDIRECT(CONCATENATE($J$9,\"!B73\")),\"\")","v":""},{"$f":"IF($J$9<>\"\",INDIRECT(CONCATENATE($J$9,\"!C73\")),\"\")","v":""},{"$f":"IF($J$9<>\"\",INDIRECT(CONCATENATE($J$9,\"!D73\")),\"\")","v":""},{"$f":"IF($J$9<>\"\",INDIRECT(CONCATENATE($J$9,\"!E73\")),\"\")","v":""},{"$f":"IF($J$9<>\"\",INDIRECT(CONCATENATE($J$9,\"!F73\")),\"\")","v":""}]
[null,null,null,null,null,null,null,null,null,null,null,{"$f":"IF($J$9<>\"\",INDIRECT(CONCATENATE($J$9,\"!A74\")),\"\")","v":""},{"$f":"IF($J$9<>\"\",INDIRECT(CONCATENATE($J$9,\"!B74\")),\"\")","v":""},{"$f":"IF($J$9<>\"\",INDIRECT(CONCATENATE($J$9,\"!C74\")),\"\")","v":""},{"$f":"IF($J$9<>\"\",INDIRECT(CONCATENATE($J$9,\"!D74\")),\"\")","v":""},{"$f":"IF($J$9<>\"\",INDIRECT(CONCATENATE($J$9,\"!E74\")),\"\")","v":""},{"$f":"IF($J$9<>\"\",INDIRECT(CONCATENATE($J$9,\"!F74\")),\"\")","v":""}]
[null,null,null,null,null,null,null,null,null,null,null,{"$f":"IF($J$9<>\"\",INDIRECT(CONCATENATE($J$9,\"!A75\")),\"\")","v":""},{"$f":"IF($J$9<>\"\",INDIRECT(CONCATENATE($J$9,\"!B75\")),\"\")","v":""},{"$f":"IF($J$9<>\"\",INDIRECT(CONCATENATE($J$9,\"!C75\")),\"\")","v":""},{"$f":"IF($J$9<>\"\",INDIRECT(CONCATENATE($J$9,\"!D75\")),\"\")","v":""},{"$f":"IF($J$9<>\"\",INDIRECT(CONCATENATE($J$9,\"!E75\")),\"\")","v":""},{"$f":"IF($J$9<>\"\",INDIRECT(CONCATENATE($J$9,\"!F75\")),\"\")","v":""}]
[null,null,null,null,null,null,null,null,null,null,null,{"$f":"IF($J$9<>\"\",INDIRECT(CONCATENATE($J$9,\"!A76\")),\"\")","v":""},{"$f":"IF($J$9<>\"\",INDIRECT(CONCATENATE($J$9,\"!B76\")),\"\")","v":""},{"$f":"IF($J$9<>\"\",INDIRECT(CONCATENATE($J$9,\"!C76\")),\"\")","v":""},{"$f":"IF($J$9<>\"\",INDIRECT(CONCATENATE($J$9,\"!D76\")),\"\")","v":""},{"$f":"IF($J$9<>\"\",INDIRECT(CONCATENATE($J$9,\"!E76\")),\"\")","v":""},{"$f":"IF($J$9<>\"\",INDIRECT(CONCATENATE($J$9,\"!F76\")),\"\")","v":""}]
[null,null,null,null,null,null,null,null,null,null,null,{"$f":"IF($J$9<>\"\",INDIRECT(CONCATENATE($J$9,\"!A77\")),\"\")","v":""},{"$f":"IF($J$9<>\"\",INDIRECT(CONCATENATE($J$9,\"!B77\")),\"\")","v":""},{"$f":"IF($J$9<>\"\",INDIRECT(CONCATENATE($J$9,\"!C77\")),\"\")","v":""},{"$f":"IF($J$9<>\"\",INDIRECT(CONCATENATE($J$9,\"!D77\")),\"\")","v":""},{"$f":"IF($J$9<>\"\",INDIRECT(CONCATENATE($J$9,\"!E77\")),\"\")","v":""},{"$f":"IF($J$9<>\"\",INDIRECT(CONCATENATE($J$9,\"!F77\")),\"\")","v":""}]
[null,null,null,null,null,null,null,null,null,null,null,{"$f":"IF($J$9<>\"\",INDIRECT(CONCATENATE($J$9,\"!A78\")),\"\")","v":""},{"$f":"IF($J$9<>\"\",INDIRECT(CONCATENATE($J$9,\"!B78\")),\"\")","v":""},{"$f":"IF($J$9<>\"\",INDIRECT(CONCATENATE($J$9,\"!C78\")),\"\")","v":""},{"$f":"IF($J$9<>\"\",INDIRECT(CONCATENATE($J$9,\"!D78\")),\"\")","v":""},{"$f":"IF($J$9<>\"\",INDIRECT(CONCATENATE($J$9,\"!E78\")),\"\")","v":""},{"$f":"IF($J$9<>\"\",INDIRECT(CONCATENATE($J$9,\"!F78\")),\"\")","v":""}]
[null,null,null,null,null,null,null,null,null,null,null,{"$f":"IF($J$9<>\"\",INDIRECT(CONCATENATE($J$9,\"!A79\")),\"\")","v":""},{"$f":"IF($J$9<>\"\",INDIRECT(CONCATENATE($J$9,\"!B79\")),\"\")","v":""},{"$f":"IF($J$9<>\"\",INDIRECT(CONCATENATE($J$9,\"!C79\")),\"\")","v":""},{"$f":"IF($J$9<>\"\",INDIRECT(CONCATENATE($J$9,\"!D79\")),\"\")","v":""},{"$f":"IF($J$9<>\"\",INDIRECT(CONCATENATE($J$9,\"!E79\")),\"\")","v":""},{"$f":"IF($J$9<>\"\",INDIRECT(CONCATENATE($J$9,\"!F79\")),\"\")","v":""}]
[null,null,null,null,null,null,null,null,null,null,null,{"$f":"IF($J$9<>\"\",INDIRECT(CONCATENATE($J$9,\"!A80\")),\"\")","v":""},{"$f":"IF($J$9<>\"\",INDIRECT(CONCATENATE($J$9,\"!B80\")),\"\")","v":""},{"$f":"IF($J$9<>\"\",INDIRECT(CONCATENATE($J$9,\"!C80\")),\"\")","v":""},{"$f":"IF($J$9<>\"\",INDIRECT(CONCATENATE($J$9,\"!D80\")),\"\")","v":""},{"$f":"IF($J$9<>\"\",INDIRECT(CONCATENATE($J$9,\"!E80\")),\"\")","v":""},{"$f":"IF($J$9<>\"\",INDIRECT(CONCATENATE($J$9,\"!F80\")),\"\")","v":""}]
[null,null,null,null,null,null,null,null,null,null,null,{"$f":"IF($J$9<>\"\",INDIRECT(CONCATENATE($J$9,\"!A81\")),\"\")","v":""},{"$f":"IF($J$9<>\"\",INDIRECT(CONCATENATE($J$9,\"!B81\")),\"\")","v":""},{"$f":"IF($J$9<>\"\",INDIRECT(CONCATENATE($J$9,\"!C81\")),\"\")","v":""},{"$f":"IF($J$9<>\"\",INDIRECT(CONCATENATE($J$9,\"!D81\")),\"\")","v":""},{"$f":"IF($J$9<>\"\",INDIRECT(CONCATENATE($J$9,\"!E81\")),\"\")","v":""},{"$f":"IF($J$9<>\"\",INDIRECT(CONCATENATE($J$9,\"!F81\")),\"\")","v":""}]
[null,null,null,null,null,null,null,null,null,null,null,{"$f":"IF($J$9<>\"\",INDIRECT(CONCATENATE($J$9,\"!A82\")),\"\")","v":""},{"$f":"IF($J$9<>\"\",INDIRECT(CONCATENATE($J$9,\"!B82\")),\"\")","v":""},{"$f":"IF($J$9<>\"\",INDIRECT(CONCATENATE($J$9,\"!C82\")),\"\")","v":""},{"$f":"IF($J$9<>\"\",INDIRECT(CONCATENATE($J$9,\"!D82\")),\"\")","v":""},{"$f":"IF($J$9<>\"\",INDIRECT(CONCATENATE($J$9,\"!E82\")),\"\")","v":""},{"$f":"IF($J$9<>\"\",INDIRECT(CONCATENATE($J$9,\"!F82\")),\"\")","v":""}]
[null,null,null,null,null,null,null,null,null,null,null,{"$f":"IF($J$9<>\"\",INDIRECT(CONCATENATE($J$9,\"!A83\")),\"\")","v":""},{"$f":"IF($J$9<>\"\",INDIRECT(CONCATENATE($J$9,\"!B83\")),\"\")","v":""},{"$f":"IF($J$9<>\"\",INDIRECT(CONCATENATE($J$9,\"!C83\")),\"\")","v":""},{"$f":"IF($J$9<>\"\",INDIRECT(CONCATENATE($J$9,\"!D83\")),\"\")","v":""},{"$f":"IF($J$9<>\"\",INDIRECT(CONCATENATE($J$9,\"!E83\")),\"\")","v":""},{"$f":"IF($J$9<>\"\",INDIRECT(CONCATENATE($J$9,\"!F83\")),\"\")","v":""}]
[null,null,null,null,null,null,null,null,null,null,null,{"$f":"IF($J$9<>\"\",INDIRECT(CONCATENATE($J$9,\"!A84\")),\"\")","v":""},{"$f":"IF($J$9<>\"\",INDIRECT(CONCATENATE($J$9,\"!B84\")),\"\")","v":""},{"$f":"IF($J$9<>\"\",INDIRECT(CONCATENATE($J$9,\"!C84\")),\"\")","v":""},{"$f":"IF($J$9<>\"\",INDIRECT(CONCATENATE($J$9,\"!D84\")),\"\")","v":""},{"$f":"IF($J$9<>\"\",INDIRECT(CONCATENATE($J$9,\"!E84\")),\"\")","v":""},{"$f":"IF($J$9<>\"\",INDIRECT(CONCATENATE($J$9,\"!F84\")),\"\")","v":""}]
[null,null,null,null,null,null,null,null,null,null,null,{"$f":"IF($J$9<>\"\",INDIRECT(CONCATENATE($J$9,\"!A85\")),\"\")","v":""},{"$f":"IF($J$9<>\"\",INDIRECT(CONCATENATE($J$9,\"!B85\")),\"\")","v":""},{"$f":"IF($J$9<>\"\",INDIRECT(CONCATENATE($J$9,\"!C85\")),\"\")","v":""},{"$f":"IF($J$9<>\"\",INDIRECT(CONCATENATE($J$9,\"!D85\")),\"\")","v":""},{"$f":"IF($J$9<>\"\",INDIRECT(CONCATENATE($J$9,\"!E85\")),\"\")","v":""},{"$f":"IF($J$9<>\"\",INDIRECT(CONCATENATE($J$9,\"!F85\")),\"\")","v":""}]
[null,null,null,null,null,null,null,null,null,null,null,{"$f":"IF($J$9<>\"\",INDIRECT(CONCATENATE($J$9,\"!A86\")),\"\")","v":""},{"$f":"IF($J$9<>\"\",INDIRECT(CONCATENATE($J$9,\"!B86\")),\"\")","v":""},{"$f":"IF($J$9<>\"\",INDIRECT(CONCATENATE($J$9,\"!C86\")),\"\")","v":""},{"$f":"IF($J$9<>\"\",INDIRECT(CONCATENATE($J$9,\"!D86\")),\"\")","v":""},{"$f":"IF($J$9<>\"\",INDIRECT(CONCATENATE($J$9,\"!E86\")),\"\")","v":""},{"$f":"IF($J$9<>\"\",INDIRECT(CONCATENATE($J$9,\"!F86\")),\"\")","v":""}]
[null,null,null,null,null,null,null,null,null,null,null,{"$f":"IF($J$9<>\"\",INDIRECT(CONCATENATE($J$9,\"!A87\")),\"\")","v":""},{"$f":"IF($J$9<>\"\",INDIRECT(CONCATENATE($J$9,\"!B87\")),\"\")","v":""},{"$f":"IF($J$9<>\"\",INDIRECT(CONCATENATE($J$9,\"!C87\")),\"\")","v":""},{"$f":"IF($J$9<>\"\",INDIRECT(CONCATENATE($J$9,\"!D87\")),\"\")","v":""},{"$f":"IF($J$9<>\"\",INDIRECT(CONCATENATE($J$9,\"!E87\")),\"\")","v":""},{"$f":"IF($J$9<>\"\",INDIRECT(CONCATENATE($J$9,\"!F87\")),\"\")","v":""}]
[null,null,null,null,null,null,null,null,null,null,null,{"$f":"IF($J$9<>\"\",INDIRECT(CONCATENATE($J$9,\"!A88\")),\"\")","v":""},{"$f":"IF($J$9<>\"\",INDIRECT(CONCATENATE($J$9,\"!B88\")),\"\")","v":""},{"$f":"IF($J$9<>\"\",INDIRECT(CONCATENATE($J$9,\"!C88\")),\"\")","v":""},{"$f":"IF($J$9<>\"\",INDIRECT(CONCATENATE($J$9,\"!D88\")),\"\")","v":""},{"$f":"IF($J$9<>\"\",INDIRECT(CONCATENATE($J$9,\"!E88\")),\"\")","v":""},{"$f":"IF($J$9<>\"\",INDIRECT(CONCATENATE($J$9,\"!F88\")),\"\")","v":""}]
[null,null,null,null,null,null,null,null,null,null,null,{"$f":"IF($J$9<>\"\",INDIRECT(CONCATENATE($J$9,\"!A89\")),\"\")","v":""},{"$f":"IF($J$9<>\"\",INDIRECT(CONCATENATE($J$9,\"!B89\")),\"\")","v":""},{"$f":"IF($J$9<>\"\",INDIRECT(CONCATENATE($J$9,\"!C89\")),\"\")","v":""},{"$f":"IF($J$9<>\"\",INDIRECT(CONCATENATE($J$9,\"!D89\")),\"\")","v":""},{"$f":"IF($J$9<>\"\",INDIRECT(CONCATENATE($J$9,\"!E89\")),\"\")","v":""},{"$f":"IF($J$9<>\"\",INDIRECT(CONCATENATE($J$9,\"!F89\")),\"\")","v":""}]
[null,null,null,null,null,null,null,null,null,null,null,{"$f":"IF($J$9<>\"\",INDIRECT(CONCATENATE($J$9,\"!A90\")),\"\")","v":""},{"$f":"IF($J$9<>\"\",INDIRECT(CONCATENATE($J$9,\"!B90\")),\"\")","v":""},{"$f":"IF($J$9<>\"\",INDIRECT(CONCATENATE($J$9,\"!C90\")),\"\")","v":""},{"$f":"IF($J$9<>\"\",INDIRECT(CONCATENATE($J$9,\"!D90\")),\"\")","v":""},{"$f":"IF($J$9<>\"\",INDIRECT(CONCATENATE($J$9,\"!E90\")),\"\")","v":""},{"$f":"IF($J$9<>\"\",INDIRECT(CONCATENATE($J$9,\"!F90\")),\"\")","v":""}]
[null,null,null,null,null,null,null,null,null,null,null,{"$f":"IF($J$9<>\"\",INDIRECT(CONCATENATE($J$9,\"!A91\")),\"\")","v":""},{"$f":"IF($J$9<>\"\",INDIRECT(CONCATENATE($J$9,\"!B91\")),\"\")","v":""},{"$f":"IF($J$9<>\"\",INDIRECT(CONCATENATE($J$9,\"!C91\")),\"\")","v":""},{"$f":"IF($J$9<>\"\",INDIRECT(CONCATENATE($J$9,\"!D91\")),\"\")","v":""},{"$f":"IF($J$9<>\"\",INDIRECT(CONCATENATE($J$9,\"!E91\")),\"\")","v":""},{"$f":"IF($J$9<>\"\",INDIRECT(CONCATENATE($J$9,\"!F91\")),\"\")","v":""}]
[null,null,null,null,null,null,null,null,null,null,null,{"$f":"IF($J$9<>\"\",INDIRECT(CONCATENATE($J$9,\"!A92\")),\"\")","v":""},{"$f":"IF($J$9<>\"\",INDIRECT(CONCATENATE($J$9,\"!B92\")),\"\")","v":""},{"$f":"IF($J$9<>\"\",INDIRECT(CONCATENATE($J$9,\"!C92\")),\"\")","v":""},{"$f":"IF($J$9<>\"\",INDIRECT(CONCATENATE($J$9,\"!D92\")),\"\")","v":""},{"$f":"IF($J$9<>\"\",INDIRECT(CONCATENATE($J$9,\"!E92\")),\"\")","v":""},{"$f":"IF($J$9<>\"\",INDIRECT(CONCATENATE($J$9,\"!F92\")),\"\")","v":""}]
[null,null,null,null,null,null,null,null,null,null,null,{"$f":"IF($J$9<>\"\",INDIRECT(CONCATENATE($J$9,\"!A93\")),\"\")","v":""},{"$f":"IF($J$9<>\"\",INDIRECT(CONCATENATE($J$9,\"!B93\")),\"\")","v":""},{"$f":"IF($J$9<>\"\",INDIRECT(CONCATENATE($J$9,\"!C93\")),\"\")","v":""},{"$f":"IF($J$9<>\"\",INDIRECT(CONCATENATE($J$9,\"!D93\")),\"\")","v":""},{"$f":"IF($J$9<>\"\",INDIRECT(CONCATENATE($J$9,\"!E93\")),\"\")","v":""},{"$f":"IF($J$9<>\"\",INDIRECT(CONCATENATE($J$9,\"!F93\")),\"\")","v":""}]
[null,null,null,null,null,null,null,null,null,null,null,{"$f":"IF($J$9<>\"\",INDIRECT(CONCATENATE($J$9,\"!A94\")),\"\")","v":""},{"$f":"IF($J$9<>\"\",INDIRECT(CONCATENATE($J$9,\"!B94\")),\"\")","v":""},{"$f":"IF($J$9<>\"\",INDIRECT(CONCATENATE($J$9,\"!C94\")),\"\")","v":""},{"$f":"IF($J$9<>\"\",INDIRECT(CONCATENATE($J$9,\"!D94\")),\"\")","v":""},{"$f":"IF($J$9<>\"\",INDIRECT(CONCATENATE($J$9,\"!E94\")),\"\")","v":""},{"$f":"IF($J$9<>\"\",INDIRECT(CONCATENATE($J$9,\"!F94\")),\"\")","v":""}]
[null,null,null,null,null,null,null,null,null,null,null,{"$f":"IF($J$9<>\"\",INDIRECT(CONCATENATE($J$9,\"!A95\")),\"\")","v":""},{"$f":"IF($J$9<>\"\",INDIRECT(CONCATENATE($J$9,\"!B95\")),\"\")","v":""},{"$f":"IF($J$9<>\"\",INDIRECT(CONCATENATE($J$9,\"!C95\")),\"\")","v":""},{"$f":"IF($J$9<>\"\",INDIRECT(CONCATENATE($J$9,\"!D95\")),\"\")","v":""},{"$f":"IF($J$9<>\"\",INDIRECT(CONCATENATE($J$9,\"!E95\")),\"\")","v":""},{"$f":"IF($J$9<>\"\",INDIRECT(CONCATENATE($J$9,\"!F95\")),\"\")","v":""}]
[null,null,null,null,null,null,null,null,null,null,null,{"$f":"IF($J$9<>\"\",INDIRECT(CONCATENATE($J$9,\"!A96\")),\"\")","v":""},{"$f":"IF($J$9<>\"\",INDIRECT(CONCATENATE($J$9,\"!B96\")),\"\")","v":""},{"$f":"IF($J$9<>\"\",INDIRECT(CONCATENATE($J$9,\"!C96\")),\"\")","v":""},{"$f":"IF($J$9<>\"\",INDIRECT(CONCATENATE($J$9,\"!D96\")),\"\")","v":""},{"$f":"IF($J$9<>\"\",INDIRECT(CONCATENATE($J$9,\"!E96\")),\"\")","v":""},{"$f":"IF($J$9<>\"\",INDIRECT(CONCATENATE($J$9,\"!F96\")),\"\")","v":""}]
[null,null,null,null,null,null,null,null,null,null,null,{"$f":"IF($J$9<>\"\",INDIRECT(CONCATENATE($J$9,\"!A97\")),\"\")","v":""},{"$f":"IF($J$9<>\"\",INDIRECT(CONCATENATE($J$9,\"!B97\")),\"\")","v":""},{"$f":"IF($J$9<>\"\",INDIRECT(CONCATENATE($J$9,\"!C97\")),\"\")","v":""},{"$f":"IF($J$9<>\"\",INDIRECT(CONCATENATE($J$9,\"!D97\")),\"\")","v":""},{"$f":"IF($J$9<>\"\",INDIRECT(CONCATENATE($J$9,\"!E97\")),\"\")","v":""},{"$f":"IF($J$9<>\"\",INDIRECT(CONCATENATE($J$9,\"!F97\")),\"\")","v":""}]
[null,null,null,null,null,null,null,null,null,null,null,{"$f":"IF($J$9<>\"\",INDIRECT(CONCATENATE($J$9,\"!A98\")),\"\")","v":""},{"$f":"IF($J$9<>\"\",INDIRECT(CONCATENATE($J$9,\"!B98\")),\"\")","v":""},{"$f":"IF($J$9<>\"\",INDIRECT(CONCATENATE($J$9,\"!C98\")),\"\")","v":""},{"$f":"IF($J$9<>\"\",INDIRECT(CONCATENATE($J$9,\"!D98\")),\"\")","v":""},{"$f":"IF($J$9<>\"\",INDIRECT(CONCATENATE($J$9,\"!E98\")),\"\")","v":""},{"$f":"IF($J$9<>\"\",INDIRECT(CONCATENATE($J$9,\"!F98\")),\"\")","v":""}]
[null,null,null,null,null,null,null,null,null,null,null,{"$f":"IF($J$9<>\"\",INDIRECT(CONCATENATE($J$9,\"!A99\")),\"\")","v":""},{"$f":"IF($J$9<>\"\",INDIRECT(CONCATENATE($J$9,\"!B99\")),\"\")","v":""},{"$f":"IF($J$9<>\"\",INDIRECT(CONCATENATE($J$9,\"!C99\")),\"\")","v":""},{"$f":"IF($J$9<>\"\",INDIRECT(CONCATENATE($J$9,\"!D99\")),\"\")","v":""},{"$f":"IF($J$9<>\"\",INDIRECT(CONCATENATE($J$9,\"!E99\")),\"\")","v":""},{"$f":"IF($J$9<>\"\",INDIRECT(CONCATENATE($J$9,\"!F99\")),\"\")","v":""}]
[null,null,null,null,null,null,null,null,null,null,null,{"$f":"IF($J$9<>\"\",INDIRECT(CONCATENATE($J$9,\"!A100\")),\"\")","v":""},{"$f":"IF($J$9<>\"\",INDIRECT(CONCATENATE($J$9,\"!B100\")),\"\")","v":""},{"$f":"IF($J$9<>\"\",INDIRECT(CONCATENATE($J$9,\"!C100\")),\"\")","v":""},{"$f":"IF($J$9<>\"\",INDIRECT(CONCATENATE($J$9,\"!D100\")),\"\")","v":""},{"$f":"IF($J$9<>\"\",INDIRECT(CONCATENATE($J$9,\"!E100\")),\"\")","v":""},{"$f":"IF($J$9<>\"\",INDIRECT(CONCATENATE($J$9,\"!F100\")),\"\")","v":""}]
[null,null,null,null,null,null,null,null,null,null,null,{"$f":"IF($J$9<>\"\",INDIRECT(CONCATENATE($J$9,\"!A101\")),\"\")","v":""},{"$f":"IF($J$9<>\"\",INDIRECT(CONCATENATE($J$9,\"!B101\")),\"\")","v":""},{"$f":"IF($J$9<>\"\",INDIRECT(CONCATENATE($J$9,\"!C101\")),\"\")","v":""},{"$f":"IF($J$9<>\"\",INDIRECT(CONCATENATE($J$9,\"!D101\")),\"\")","v":""},{"$f":"IF($J$9<>\"\",INDIRECT(CONCATENATE($J$9,\"!E101\")),\"\")","v":""},{"$f":"IF($J$9<>\"\",INDIRECT(CONCATENATE($J$9,\"!F101\")),\"\")","v":""}]
[null,null,null,null,null,null,null,null,null,null,null,{"$f":"IF($J$9<>\"\",INDIRECT(CONCATENATE($J$9,\"!A102\")),\"\")","v":""},{"$f":"IF($J$9<>\"\",INDIRECT(CONCATENATE($J$9,\"!B102\")),\"\")","v":""},{"$f":"IF($J$9<>\"\",INDIRECT(CONCATENATE($J$9,\"!C102\")),\"\")","v":""},{"$f":"IF($J$9<>\"\",INDIRECT(CONCATENATE($J$9,\"!D102\")),\"\")","v":""},{"$f":"IF($J$9<>\"\",INDIRECT(CONCATENATE($J$9,\"!E102\")),\"\")","v":""},{"$f":"IF($J$9<>\"\",INDIRECT(CONCATENATE($J$9,\"!F102\")),\"\")","v":""}]
[null,null,null,null,null,null,null,null,null,null,null,{"$f":"IF($J$9<>\"\",INDIRECT(CONCATENATE($J$9,\"!A103\")),\"\")","v":""},{"$f":"IF($J$9<>\"\",INDIRECT(CONCATENATE($J$9,\"!B103\")),\"\")","v":""},{"$f":"IF($J$9<>\"\",INDIRECT(CONCATENATE($J$9,\"!C103\")),\"\")","v":""},{"$f":"IF($J$9<>\"\",INDIRECT(CONCATENATE($J$9,\"!D103\")),\"\")","v":""},{"$f":"IF($J$9<>\"\",INDIRECT(CONCATENATE($J$9,\"!E103\")),\"\")","v":""},{"$f":"IF($J$9<>\"\",INDIRECT(CONCATENATE($J$9,\"!F103\")),\"\")","v":""}]
[null,null,null,null,null,null,null,null,null,null,null,{"$f":"IF($J$9<>\"\",INDIRECT(CONCATENATE($J$9,\"!A104\")),\"\")","v":""},{"$f":"IF($J$9<>\"\",INDIRECT(CONCATENATE($J$9,\"!B104\")),\"\")","v":""},{"$f":"IF($J$9<>\"\",INDIRECT(CONCATENATE($J$9,\"!C104\")),\"\")","v":""},{"$f":"IF($J$9<>\"\",INDIRECT(CONCATENATE($J$9,\"!D104\")),\"\")","v":""},{"$f":"IF($J$9<>\"\",INDIRECT(CONCATENATE($J$9,\"!E104\")),\"\")","v":""},{"$f":"IF($J$9<>\"\",INDIRECT(CONCATENATE($J$9,\"!F104\")),\"\")","v":""}]
[null,null,null,null,null,null,null,null,null,null,null,{"$f":"IF($J$9<>\"\",INDIRECT(CONCATENATE($J$9,\"!A105\")),\"\")","v":""},{"$f":"IF($J$9<>\"\",INDIRECT(CONCATENATE($J$9,\"!B105\")),\"\")","v":""},{"$f":"IF($J$9<>\"\",INDIRECT(CONCATENATE($J$9,\"!C105\")),\"\")","v":""},{"$f":"IF($J$9<>\"\",INDIRECT(CONCATENATE($J$9,\"!D105\")),\"\")","v":""},{"$f":"IF($J$9<>\"\",INDIRECT(CONCATENATE($J$9,\"!E105\")),\"\")","v":""},{"$f":"IF($J$9<>\"\",INDIRECT(CONCATENATE($J$9,\"!F105\")),\"\")","v":""}]
[null,null,null,null,null,null,null,null,null,null,null,{"$f":"IF($J$9<>\"\",INDIRECT(CONCATENATE($J$9,\"!A106\")),\"\")","v":""},{"$f":"IF($J$9<>\"\",INDIRECT(CONCATENATE($J$9,\"!B106\")),\"\")","v":""},{"$f":"IF($J$9<>\"\",INDIRECT(CONCATENATE($J$9,\"!C106\")),\"\")","v":""},{"$f":"IF($J$9<>\"\",INDIRECT(CONCATENATE($J$9,\"!D106\")),\"\")","v":""},{"$f":"IF($J$9<>\"\",INDIRECT(CONCATENATE($J$9,\"!E106\")),\"\")","v":""},{"$f":"IF($J$9<>\"\",INDIRECT(CONCATENATE($J$9,\"!F106\")),\"\")","v":""}]
[null,null,null,null,null,null,null,null,null,null,null,{"$f":"IF($J$9<>\"\",INDIRECT(CONCATENATE($J$9,\"!A107\")),\"\")","v":""},{"$f":"IF($J$9<>\"\",INDIRECT(CONCATENATE($J$9,\"!B107\")),\"\")","v":""},{"$f":"IF($J$9<>\"\",INDIRECT(CONCATENATE($J$9,\"!C107\")),\"\")","v":""},{"$f":"IF($J$9<>\"\",INDIRECT(CONCATENATE($J$9,\"!D107\")),\"\")","v":""},{"$f":"IF($J$9<>\"\",INDIRECT(CONCATENATE($J$9,\"!E107\")),\"\")","v":""},{"$f":"IF($J$9<>\"\",INDIRECT(CONCATENATE($J$9,\"!F107\")),\"\")","v":""}]
[null,null,null,null,null,null,null,null,null,null,null,{"$f":"IF($J$9<>\"\",INDIRECT(CONCATENATE($J$9,\"!A108\")),\"\")","v":""},{"$f":"IF($J$9<>\"\",INDIRECT(CONCATENATE($J$9,\"!B108\")),\"\")","v":""},{"$f":"IF($J$9<>\"\",INDIRECT(CONCATENATE($J$9,\"!C108\")),\"\")","v":""},{"$f":"IF($J$9<>\"\",INDIRECT(CONCATENATE($J$9,\"!D108\")),\"\")","v":""},{"$f":"IF($J$9<>\"\",INDIRECT(CONCATENATE($J$9,\"!E108\")),\"\")","v":""},{"$f":"IF($J$9<>\"\",INDIRECT(CONCATENATE($J$9,\"!F108\")),\"\")","v":""}]
[null,null,null,null,null,null,null,null,null,null,null,{"$f":"IF($J$9<>\"\",INDIRECT(CONCATENATE($J$9,\"!A109\")),\"\")","v":""},{"$f":"IF($J$9<>\"\",INDIRECT(CONCATENATE($J$9,\"!B109\")),\"\")","v":""},{"$f":"IF($J$9<>\"\",INDIRECT(CONCATENATE($J$9,\"!C109\")),\"\")","v":""},{"$f":"IF($J$9<>\"\",INDIRECT(CONCATENATE($J$9,\"!D109\")),\"\")","v":""},{"$f":"IF($J$9<>\"\",INDIRECT(CONCATENATE($J$9,\"!E109\")),\"\")","v":""},{"$f":"IF($J$9<>\"\",INDIRECT(CONCATENATE($J$9,\"!F109\")),\"\")","v":""}]
[null,null,null,null,null,null,null,null,null,null,null,{"$f":"IF($J$9<>\"\",INDIRECT(CONCATENATE($J$9,\"!A110\")),\"\")","v":""},{"$f":"IF($J$9<>\"\",INDIRECT(CONCATENATE($J$9,\"!B110\")),\"\")","v":""},{"$f":"IF($J$9<>\"\",INDIRECT(CONCATENATE($J$9,\"!C110\")),\"\")","v":""},{"$f":"IF($J$9<>\"\",INDIRECT(CONCATENATE($J$9,\"!D110\")),\"\")","v":""},{"$f":"IF($J$9<>\"\",INDIRECT(CONCATENATE($J$9,\"!E110\")),\"\")","v":""},{"$f":"IF($J$9<>\"\",INDIRECT(CONCATENATE($J$9,\"!F110\")),\"\")","v":""}]
[null,null,null,null,null,null,null,null,null,null,null,{"$f":"IF($J$9<>\"\",INDIRECT(CONCATENATE($J$9,\"!A111\")),\"\")","v":""},{"$f":"IF($J$9<>\"\",INDIRECT(CONCATENATE($J$9,\"!B111\")),\"\")","v":""},{"$f":"IF($J$9<>\"\",INDIRECT(CONCATENATE($J$9,\"!C111\")),\"\")","v":""},{"$f":"IF($J$9<>\"\",INDIRECT(CONCATENATE($J$9,\"!D111\")),\"\")","v":""},{"$f":"IF($J$9<>\"\",INDIRECT(CONCATENATE($J$9,\"!E111\")),\"\")","v":""},{"$f":"IF($J$9<>\"\",INDIRECT(CONCATENATE($J$9,\"!F111\")),\"\")","v":""}]
[null,null,null,null,null,null,null,null,null,null,null,{"$f":"IF($J$9<>\"\",INDIRECT(CONCATENATE($J$9,\"!A112\")),\"\")","v":""},{"$f":"IF($J$9<>\"\",INDIRECT(CONCATENATE($J$9,\"!B112\")),\"\")","v":""},{"$f":"IF($J$9<>\"\",INDIRECT(CONCATENATE($J$9,\"!C112\")),\"\")","v":""},{"$f":"IF($J$9<>\"\",INDIRECT(CONCATENATE($J$9,\"!D112\")),\"\")","v":""},{"$f":"IF($J$9<>\"\",INDIRECT(CONCATENATE($J$9,\"!E112\")),\"\")","v":""},{"$f":"IF($J$9<>\"\",INDIRECT(CONCATENATE($J$9,\"!F112\")),\"\")","v":""}]
[null,null,null,null,null,null,null,null,null,null,null,{"$f":"IF($J$9<>\"\",INDIRECT(CONCATENATE($J$9,\"!A113\")),\"\")","v":""},{"$f":"IF($J$9<>\"\",INDIRECT(CONCATENATE($J$9,\"!B113\")),\"\")","v":""},{"$f":"IF($J$9<>\"\",INDIRECT(CONCATENATE($J$9,\"!C113\")),\"\")","v":""},{"$f":"IF($J$9<>\"\",INDIRECT(CONCATENATE($J$9,\"!D113\")),\"\")","v":""},{"$f":"IF($J$9<>\"\",INDIRECT(CONCATENATE($J$9,\"!E113\")),\"\")","v":""},{"$f":"IF($J$9<>\"\",INDIRECT(CONCATENATE($J$9,\"!F113\")),\"\")","v":""}]
[null,null,null,null,null,null,null,null,null,null,null,{"$f":"IF($J$9<>\"\",INDIRECT(CONCATENATE($J$9,\"!A114\")),\"\")","v":""},{"$f":"IF($J$9<>\"\",INDIRECT(CONCATENATE($J$9,\"!B114\")),\"\")","v":""},{"$f":"IF($J$9<>\"\",INDIRECT(CONCATENATE($J$9,\"!C114\")),\"\")","v":""},{"$f":"IF($J$9<>\"\",INDIRECT(CONCATENATE($J$9,\"!D114\")),\"\")","v":""},{"$f":"IF($J$9<>\"\",INDIRECT(CONCATENATE($J$9,\"!E114\")),\"\")","v":""},{"$f":"IF($J$9<>\"\",INDIRECT(CONCATENATE($J$9,\"!F114\")),\"\")","v":""}]
[null,null,null,null,null,null,null,null,null,null,null,{"$f":"IF($J$9<>\"\",INDIRECT(CONCATENATE($J$9,\"!A115\")),\"\")","v":""},{"$f":"IF($J$9<>\"\",INDIRECT(CONCATENATE($J$9,\"!B115\")),\"\")","v":""},{"$f":"IF($J$9<>\"\",INDIRECT(CONCATENATE($J$9,\"!C115\")),\"\")","v":""},{"$f":"IF($J$9<>\"\",INDIRECT(CONCATENATE($J$9,\"!D115\")),\"\")","v":""},{"$f":"IF($J$9<>\"\",INDIRECT(CONCATENATE($J$9,\"!E115\")),\"\")","v":""},{"$f":"IF($J$9<>\"\",INDIRECT(CONCATENATE($J$9,\"!F115\")),\"\")","v":""}]
[null,null,null,null,null,null,null,null,null,null,null,{"$f":"IF($J$9<>\"\",INDIRECT(CONCATENATE($J$9,\"!A116\")),\"\")","v":""},{"$f":"IF($J$9<>\"\",INDIRECT(CONCATENATE($J$9,\"!B116\")),\"\")","v":""},{"$f":"IF($J$9<>\"\",INDIRECT(CONCATENATE($J$9,\"!C116\")),\"\")","v":""},{"$f":"IF($J$9<>\"\",INDIRECT(CONCATENATE($J$9,\"!D116\")),\"\")","v":""},{"$f":"IF($J$9<>\"\",INDIRECT(CONCATENATE($J$9,\"!E116\")),\"\")","v":""},{"$f":"IF($J$9<>\"\",INDIRECT(CONCATENATE($J$9,\"!F116\")),\"\")","v":""}]
[null,null,null,null,null,null,null,null,null,null,null,{"$f":"IF($J$9<>\"\",INDIRECT(CONCATENATE($J$9,\"!A117\")),\"\")","v":""},{"$f":"IF($J$9<>\"\",INDIRECT(CONCATENATE($J$9,\"!B117\")),\"\")","v":""},{"$f":"IF($J$9<>\"\",INDIRECT(CONCATENATE($J$9,\"!C117\")),\"\")","v":""},{"$f":"IF($J$9<>\"\",INDIRECT(CONCATENATE($J$9,\"!D117\")),\"\")","v":""},{"$f":"IF($J$9<>\"\",INDIRECT(CONCATENATE($J$9,\"!E117\")),\"\")","v":""},{"$f":"IF($J$9<>\"\",INDIRECT(CONCATENATE($J$9,\"!F117\")),\"\")","v":""}]
[null,null,null,null,null,null,null,null,null,null,null,{"$f":"IF($J$9<>\"\",INDIRECT(CONCATENATE($J$9,\"!A118\")),\"\")","v":""},{"$f":"IF($J$9<>\"\",INDIRECT(CONCATENATE($J$9,\"!B118\")),\"\")","v":""},{"$f":"IF($J$9<>\"\",INDIRECT(CONCATENATE($J$9,\"!C118\")),\"\")","v":""},{"$f":"IF($J$9<>\"\",INDIRECT(CONCATENATE($J$9,\"!D118\")),\"\")","v":""},{"$f":"IF($J$9<>\"\",INDIRECT(CONCATENATE($J$9,\"!E118\")),\"\")","v":""},{"$f":"IF($J$9<>\"\",INDIRECT(CONCATENATE($J$9,\"!F118\")),\"\")","v":""}]
[null,null,null,null,null,null,null,null,null,null,null,{"$f":"IF($J$9<>\"\",INDIRECT(CONCATENATE($J$9,\"!A119\")),\"\")","v":""},{"$f":"IF($J$9<>\"\",INDIRECT(CONCATENATE($J$9,\"!B119\")),\"\")","v":""},{"$f":"IF($J$9<>\"\",INDIRECT(CONCATENATE($J$9,\"!C119\")),\"\")","v":""},{"$f":"IF($J$9<>\"\",INDIRECT(CONCATENATE($J$9,\"!D119\")),\"\")","v":""},{"$f":"IF($J$9<>\"\",INDIRECT(CONCATENATE($J$9,\"!E119\")),\"\")","v":""},{"$f":"IF($J$9<>\"\",INDIRECT(CONCATENATE($J$9,\"!F119\")),\"\")","v":""}]
[null,null,null,null,null,null,null,null,null,null,null,{"$f":"IF($J$9<>\"\",INDIRECT(CONCATENATE($J$9,\"!A120\")),\"\")","v":""},{"$f":"IF($J$9<>\"\",INDIRECT(CONCATENATE($J$9,\"!B120\")),\"\")","v":""},{"$f":"IF($J$9<>\"\",INDIRECT(CONCATENATE($J$9,\"!C120\")),\"\")","v":""},{"$f":"IF($J$9<>\"\",INDIRECT(CONCATENATE($J$9,\"!D120\")),\"\")","v":""},{"$f":"IF($J$9<>\"\",INDIRECT(CONCATENATE($J$9,\"!E120\")),\"\")","v":""},{"$f":"IF($J$9<>\"\",INDIRECT(CONCATENATE($J$9,\"!F120\")),\"\")","v":""}]
[null,null,null,null,null,null,null,null,null,null,null,{"$f":"IF($J$9<>\"\",INDIRECT(CONCATENATE($J$9,\"!A121\")),\"\")","v":""},{"$f":"IF($J$9<>\"\",INDIRECT(CONCATENATE($J$9,\"!B121\")),\"\")","v":""},{"$f":"IF($J$9<>\"\",INDIRECT(CONCATENATE($J$9,\"!C121\")),\"\")","v":""},{"$f":"IF($J$9<>\"\",INDIRECT(CONCATENATE($J$9,\"!D121\")),\"\")","v":""},{"$f":"IF($J$9<>\"\",INDIRECT(CONCATENATE($J$9,\"!E121\")),\"\")","v":""},{"$f":"IF($J$9<>\"\",INDIRECT(CONCATENATE($J$9,\"!F121\")),\"\")","v":""}]
[null,null,null,null,null,null,null,null,null,null,null,{"$f":"IF($J$9<>\"\",INDIRECT(CONCATENATE($J$9,\"!A122\")),\"\")","v":""},{"$f":"IF($J$9<>\"\",INDIRECT(CONCATENATE($J$9,\"!B122\")),\"\")","v":""},{"$f":"IF($J$9<>\"\",INDIRECT(CONCATENATE($J$9,\"!C122\")),\"\")","v":""},{"$f":"IF($J$9<>\"\",INDIRECT(CONCATENATE($J$9,\"!D122\")),\"\")","v":""},{"$f":"IF($J$9<>\"\",INDIRECT(CONCATENATE($J$9,\"!E122\")),\"\")","v":""},{"$f":"IF($J$9<>\"\",INDIRECT(CONCATENATE($J$9,\"!F122\")),\"\")","v":""}]
[null,null,null,null,null,null,null,null,null,null,null,{"$f":"IF($J$9<>\"\",INDIRECT(CONCATENATE($J$9,\"!A123\")),\"\")","v":""},{"$f":"IF($J$9<>\"\",INDIRECT(CONCATENATE($J$9,\"!B123\")),\"\")","v":""},{"$f":"IF($J$9<>\"\",INDIRECT(CONCATENATE($J$9,\"!C123\")),\"\")","v":""},{"$f":"IF($J$9<>\"\",INDIRECT(CONCATENATE($J$9,\"!D123\")),\"\")","v":""},{"$f":"IF($J$9<>\"\",INDIRECT(CONCATENATE($J$9,\"!E123\")),\"\")","v":""},{"$f":"IF($J$9<>\"\",INDIRECT(CONCATENATE($J$9,\"!F123\")),\"\")","v":""}]
[null,null,null,null,null,null,null,null,null,null,null,{"$f":"IF($J$9<>\"\",INDIRECT(CONCATENATE($J$9,\"!A124\")),\"\")","v":""},{"$f":"IF($J$9<>\"\",INDIRECT(CONCATENATE($J$9,\"!B124\")),\"\")","v":""},{"$f":"IF($J$9<>\"\",INDIRECT(CONCATENATE($J$9,\"!C124\")),\"\")","v":""},{"$f":"IF($J$9<>\"\",INDIRECT(CONCATENATE($J$9,\"!D124\")),\"\")","v":""},{"$f":"IF($J$9<>\"\",INDIRECT(CONCATENATE($J$9,\"!E124\")),\"\")","v":""},{"$f":"IF($J$9<>\"\",INDIRECT(CONCATENATE($J$9,\"!F124\")),\"\")","v":""}]
[null,null,null,null,null,null,null,null,null,null,null,{"$f":"IF($J$9<>\"\",INDIRECT(CONCATENATE($J$9,\"!A125\")),\"\")","v":""},{"$f":"IF($J$9<>\"\",INDIRECT(CONCATENATE($J$9,\"!B125\")),\"\")","v":""},{"$f":"IF($J$9<>\"\",INDIRECT(CONCATENATE($J$9,\"!C125\")),\"\")","v":""},{"$f":"IF($J$9<>\"\",INDIRECT(CONCATENATE($J$9,\"!D125\")),\"\")","v":""},{"$f":"IF($J$9<>\"\",INDIRECT(CONCATENATE($J$9,\"!E125\")),\"\")","v":""},{"$f":"IF($J$9<>\"\",INDIRECT(CONCATENATE($J$9,\"!F125\")),\"\")","v":""}]
[null,null,null,null,null,null,null,null,null,null,null,{"$f":"IF($J$9<>\"\",INDIRECT(CONCATENATE($J$9,\"!A126\")),\"\")","v":""},{"$f":"IF($J$9<>\"\",INDIRECT(CONCATENATE($J$9,\"!B126\")),\"\")","v":""},{"$f":"IF($J$9<>\"\",INDIRECT(CONCATENATE($J$9,\"!C126\")),\"\")","v":""},{"$f":"IF($J$9<>\"\",INDIRECT(CONCATENATE($J$9,\"!D126\")),\"\")","v":""},{"$f":"IF($J$9<>\"\",INDIRECT(CONCATENATE($J$9,\"!E126\")),\"\")","v":""},{"$f":"IF($J$9<>\"\",INDIRECT(CONCATENATE($J$9,\"!F126\")),\"\")","v":""}]
[null,null,null,null,null,null,null,null,null,null,null,{"$f":"IF($J$9<>\"\",INDIRECT(CONCATENATE($J$9,\"!A127\")),\"\")","v":""},{"$f":"IF($J$9<>\"\",INDIRECT(CONCATENATE($J$9,\"!B127\")),\"\")","v":""},{"$f":"IF($J$9<>\"\",INDIRECT(CONCATENATE($J$9,\"!C127\")),\"\")","v":""},{"$f":"IF($J$9<>\"\",INDIRECT(CONCATENATE($J$9,\"!D127\")),\"\")","v":""},{"$f":"IF($J$9<>\"\",INDIRECT(CONCATENATE($J$9,\"!E127\")),\"\")","v":""},{"$f":"IF($J$9<>\"\",INDIRECT(CONCATENATE($J$9,\"!F127\")),\"\")","v":""}]
[null,null,null,null,null,null,null,null,null,null,null,{"$f":"IF($J$9<>\"\",INDIRECT(CONCATENATE($J$9,\"!A128\")),\"\")","v":""},{"$f":"IF($J$9<>\"\",INDIRECT(CONCATENATE($J$9,\"!B128\")),\"\")","v":""},{"$f":"IF($J$9<>\"\",INDIRECT(CONCATENATE($J$9,\"!C128\")),\"\")","v":""},{"$f":"IF($J$9<>\"\",INDIRECT(CONCATENATE($J$9,\"!D128\")),\"\")","v":""},{"$f":"IF($J$9<>\"\",INDIRECT(CONCATENATE($J$9,\"!E128\")),\"\")","v":""},{"$f":"IF($J$9<>\"\",INDIRECT(CONCATENATE($J$9,\"!F128\")),\"\")","v":""}]
[null,null,null,null,null,null,null,null,null,null,null,{"$f":"IF($J$9<>\"\",INDIRECT(CONCATENATE($J$9,\"!A129\")),\"\")","v":""},{"$f":"IF($J$9<>\"\",INDIRECT(CONCATENATE($J$9,\"!B129\")),\"\")","v":""},{"$f":"IF($J$9<>\"\",INDIRECT(CONCATENATE($J$9,\"!C129\")),\"\")","v":""},{"$f":"IF($J$9<>\"\",INDIRECT(CONCATENATE($J$9,\"!D129\")),\"\")","v":""},{"$f":"IF($J$9<>\"\",INDIRECT(CONCATENATE($J$9,\"!E129\")),\"\")","v":""},{"$f":"IF($J$9<>\"\",INDIRECT(CONCATENATE($J$9,\"!F129\")),\"\")","v":""}]
[null,null,null,null,null,null,null,null,null,null,null,{"$f":"IF($J$9<>\"\",INDIRECT(CONCATENATE($J$9,\"!A130\")),\"\")","v":""},{"$f":"IF($J$9<>\"\",INDIRECT(CONCATENATE($J$9,\"!B130\")),\"\")","v":""},{"$f":"IF($J$9<>\"\",INDIRECT(CONCATENATE($J$9,\"!C130\")),\"\")","v":""},{"$f":"IF($J$9<>\"\",INDIRECT(CONCATENATE($J$9,\"!D130\")),\"\")","v":""},{"$f":"IF($J$9<>\"\",INDIRECT(CONCATENATE($J$9,\"!E130\")),\"\")","v":""},{"$f":"IF($J$9<>\"\",INDIRECT(CONCATENATE($J$9,\"!F130\")),\"\")","v":""}]
[null,null,null,null,null,null,null,null,null,null,null,{"$f":"IF($J$9<>\"\",INDIRECT(CONCATENATE($J$9,\"!A131\")),\"\")","v":""},{"$f":"IF($J$9<>\"\",INDIRECT(CONCATENATE($J$9,\"!B131\")),\"\")","v":""},{"$f":"IF($J$9<>\"\",INDIRECT(CONCATENATE($J$9,\"!C131\")),\"\")","v":""},{"$f":"IF($J$9<>\"\",INDIRECT(CONCATENATE($J$9,\"!D131\")),\"\")","v":""},{"$f":"IF($J$9<>\"\",INDIRECT(CONCATENATE($J$9,\"!E131\")),\"\")","v":""},{"$f":"IF($J$9<>\"\",INDIRECT(CONCATENATE($J$9,\"!F131\")),\"\")","v":""}]
[null,null,null,null,null,null,null,null,null,null,null,{"$f":"IF($J$9<>\"\",INDIRECT(CONCATENATE($J$9,\"!A132\")),\"\")","v":""},{"$f":"IF($J$9<>\"\",INDIRECT(CONCATENATE($J$9,\"!B132\")),\"\")","v":""},{"$f":"IF($J$9<>\"\",INDIRECT(CONCATENATE($J$9,\"!C132\")),\"\")","v":""},{"$f":"IF($J$9<>\"\",INDIRECT(CONCATENATE($J$9,\"!D132\")),\"\")","v":""},{"$f":"IF($J$9<>\"\",INDIRECT(CONCATENATE($J$9,\"!E132\")),\"\")","v":""},{"$f":"IF($J$9<>\"\",INDIRECT(CONCATENATE($J$9,\"!F132\")),\"\")","v":""}]
[null,null,null,null,null,null,null,null,null,null,null,{"$f":"IF($J$9<>\"\",INDIRECT(CONCATENATE($J$9,\"!A133\")),\"\")","v":""},{"$f":"IF($J$9<>\"\",INDIRECT(CONCATENATE($J$9,\"!B133\")),\"\")","v":""},{"$f":"IF($J$9<>\"\",INDIRECT(CONCATENATE($J$9,\"!C133\")),\"\")","v":""},{"$f":"IF($J$9<>\"\",INDIRECT(CONCATENATE($J$9,\"!D133\")),\"\")","v":""},{"$f":"IF($J$9<>\"\",INDIRECT(CONCATENATE($J$9,\"!E133\")),\"\")","v":""},{"$f":"IF($J$9<>\"\",INDIRECT(CONCATENATE($J$9,\"!F133\")),\"\")","v":""}]
[null,null,null,null,null,null,null,null,null,null,null,{"$f":"IF($J$9<>\"\",INDIRECT(CONCATENATE($J$9,\"!A134\")),\"\")","v":""},{"$f":"IF($J$9<>\"\",INDIRECT(CONCATENATE($J$9,\"!B134\")),\"\")","v":""},{"$f":"IF($J$9<>\"\",INDIRECT(CONCATENATE($J$9,\"!C134\")),\"\")","v":""},{"$f":"IF($J$9<>\"\",INDIRECT(CONCATENATE($J$9,\"!D134\")),\"\")","v":""},{"$f":"IF($J$9<>\"\",INDIRECT(CONCATENATE($J$9,\"!E134\")),\"\")","v":""},{"$f":"IF($J$9<>\"\",INDIRECT(CONCATENATE($J$9,\"!F134\")),\"\")","v":""}]
[null,null,null,null,null,null,null,null,null,null,null,{"$f":"IF($J$9<>\"\",INDIRECT(CONCATENATE($J$9,\"!A135\")),\"\")","v":""},{"$f":"IF($J$9<>\"\",INDIRECT(CONCATENATE($J$9,\"!B135\")),\"\")","v":""},{"$f":"IF($J$9<>\"\",INDIRECT(CONCATENATE($J$9,\"!C135\")),\"\")","v":""},{"$f":"IF($J$9<>\"\",INDIRECT(CONCATENATE($J$9,\"!D135\")),\"\")","v":""},{"$f":"IF($J$9<>\"\",INDIRECT(CONCATENATE($J$9,\"!E135\")),\"\")","v":""},{"$f":"IF($J$9<>\"\",INDIRECT(CONCATENATE($J$9,\"!F135\")),\"\")","v":""}]
[null,null,null,null,null,null,null,null,null,null,null,{"$f":"IF($J$9<>\"\",INDIRECT(CONCATENATE($J$9,\"!A136\")),\"\")","v":""},{"$f":"IF($J$9<>\"\",INDIRECT(CONCATENATE($J$9,\"!B136\")),\"\")","v":""},{"$f":"IF($J$9<>\"\",INDIRECT(CONCATENATE($J$9,\"!C136\")),\"\")","v":""},{"$f":"IF($J$9<>\"\",INDIRECT(CONCATENATE($J$9,\"!D136\")),\"\")","v":""},{"$f":"IF($J$9<>\"\",INDIRECT(CONCATENATE($J$9,\"!E136\")),\"\")","v":""},{"$f":"IF($J$9<>\"\",INDIRECT(CONCATENATE($J$9,\"!F136\")),\"\")","v":""}]
[null,null,null,null,null,null,null,null,null,null,null,{"$f":"IF($J$9<>\"\",INDIRECT(CONCATENATE($J$9,\"!A137\")),\"\")","v":""},{"$f":"IF($J$9<>\"\",INDIRECT(CONCATENATE($J$9,\"!B137\")),\"\")","v":""},{"$f":"IF($J$9<>\"\",INDIRECT(CONCATENATE($J$9,\"!C137\")),\"\")","v":""},{"$f":"IF($J$9<>\"\",INDIRECT(CONCATENATE($J$9,\"!D137\")),\"\")","v":""},{"$f":"IF($J$9<>\"\",INDIRECT(CONCATENATE($J$9,\"!E137\")),\"\")","v":""},{"$f":"IF($J$9<>\"\",INDIRECT(CONCATENATE($J$9,\"!F137\")),\"\")","v":""}]
[null,null,null,null,null,null,null,null,null,null,null,{"$f":"IF($J$9<>\"\",INDIRECT(CONCATENATE($J$9,\"!A138\")),\"\")","v":""},{"$f":"IF($J$9<>\"\",INDIRECT(CONCATENATE($J$9,\"!B138\")),\"\")","v":""},{"$f":"IF($J$9<>\"\",INDIRECT(CONCATENATE($J$9,\"!C138\")),\"\")","v":""},{"$f":"IF($J$9<>\"\",INDIRECT(CONCATENATE($J$9,\"!D138\")),\"\")","v":""},{"$f":"IF($J$9<>\"\",INDIRECT(CONCATENATE($J$9,\"!E138\")),\"\")","v":""},{"$f":"IF($J$9<>\"\",INDIRECT(CONCATENATE($J$9,\"!F138\")),\"\")","v":""}]
[null,null,null,null,null,null,null,null,null,null,null,{"$f":"IF($J$9<>\"\",INDIRECT(CONCATENATE($J$9,\"!A139\")),\"\")","v":""},{"$f":"IF($J$9<>\"\",INDIRECT(CONCATENATE($J$9,\"!B139\")),\"\")","v":""},{"$f":"IF($J$9<>\"\",INDIRECT(CONCATENATE($J$9,\"!C139\")),\"\")","v":""},{"$f":"IF($J$9<>\"\",INDIRECT(CONCATENATE($J$9,\"!D139\")),\"\")","v":""},{"$f":"IF($J$9<>\"\",INDIRECT(CONCATENATE($J$9,\"!E139\")),\"\")","v":""},{"$f":"IF($J$9<>\"\",INDIRECT(CONCATENATE($J$9,\"!F139\")),\"\")","v":""}]
[null,null,null,null,null,null,null,null,null,null,null,{"$f":"IF($J$9<>\"\",INDIRECT(CONCATENATE($J$9,\"!A140\")),\"\")","v":""},{"$f":"IF($J$9<>\"\",INDIRECT(CONCATENATE($J$9,\"!B140\")),\"\")","v":""},{"$f":"IF($J$9<>\"\",INDIRECT(CONCATENATE($J$9,\"!C140\")),\"\")","v":""},{"$f":"IF($J$9<>\"\",INDIRECT(CONCATENATE($J$9,\"!D140\")),\"\")","v":""},{"$f":"IF($J$9<>\"\",INDIRECT(CONCATENATE($J$9,\"!E140\")),\"\")","v":""},{"$f":"IF($J$9<>\"\",INDIRECT(CONCATENATE($J$9,\"!F140\")),\"\")","v":""}]
[null,null,null,null,null,null,null,null,null,null,null,{"$f":"IF($J$9<>\"\",INDIRECT(CONCATENATE($J$9,\"!A141\")),\"\")","v":""},{"$f":"IF($J$9<>\"\",INDIRECT(CONCATENATE($J$9,\"!B141\")),\"\")","v":""},{"$f":"IF($J$9<>\"\",INDIRECT(CONCATENATE($J$9,\"!C141\")),\"\")","v":""},{"$f":"IF($J$9<>\"\",INDIRECT(CONCATENATE($J$9,\"!D141\")),\"\")","v":""},{"$f":"IF($J$9<>\"\",INDIRECT(CONCATENATE($J$9,\"!E141\")),\"\")","v":""},{"$f":"IF($J$9<>\"\",INDIRECT(CONCATENATE($J$9,\"!F141\")),\"\")","v":""}]
[null,null,null,null,null,null,null,null,null,null,null,{"$f":"IF($J$9<>\"\",INDIRECT(CONCATENATE($J$9,\"!A142\")),\"\")","v":""},{"$f":"IF($J$9<>\"\",INDIRECT(CONCATENATE($J$9,\"!B142\")),\"\")","v":""},{"$f":"IF($J$9<>\"\",INDIRECT(CONCATENATE($J$9,\"!C142\")),\"\")","v":""},{"$f":"IF($J$9<>\"\",INDIRECT(CONCATENATE($J$9,\"!D142\")),\"\")","v":""},{"$f":"IF($J$9<>\"\",INDIRECT(CONCATENATE($J$9,\"!E142\")),\"\")","v":""},{"$f":"IF($J$9<>\"\",INDIRECT(CONCATENATE($J$9,\"!F142\")),\"\")","v":""}]
[null,null,null,null,null,null,null,null,null,null,null,{"$f":"IF($J$9<>\"\",INDIRECT(CONCATENATE($J$9,\"!A143\")),\"\")","v":""},{"$f":"IF($J$9<>\"\",INDIRECT(CONCATENATE($J$9,\"!B143\")),\"\")","v":""},{"$f":"IF($J$9<>\"\",INDIRECT(CONCATENATE($J$9,\"!C143\")),\"\")","v":""},{"$f":"IF($J$9<>\"\",INDIRECT(CONCATENATE($J$9,\"!D143\")),\"\")","v":""},{"$f":"IF($J$9<>\"\",INDIRECT(CONCATENATE($J$9,\"!E143\")),\"\")","v":""},{"$f":"IF($J$9<>\"\",INDIRECT(CONCATENATE($J$9,\"!F143\")),\"\")","v":""}]
[null,null,null,null,null,null,null,null,null,null,null,{"$f":"IF($J$9<>\"\",INDIRECT(CONCATENATE($J$9,\"!A144\")),\"\")","v":""},{"$f":"IF($J$9<>\"\",INDIRECT(CONCATENATE($J$9,\"!B144\")),\"\")","v":""},{"$f":"IF($J$9<>\"\",INDIRECT(CONCATENATE($J$9,\"!C144\")),\"\")","v":""},{"$f":"IF($J$9<>\"\",INDIRECT(CONCATENATE($J$9,\"!D144\")),\"\")","v":""},{"$f":"IF($J$9<>\"\",INDIRECT(CONCATENATE($J$9,\"!E144\")),\"\")","v":""},{"$f":"IF($J$9<>\"\",INDIRECT(CONCATENATE($J$9,\"!F144\")),\"\")","v":""}]
[null,null,null,null,null,null,null,null,null,null,null,{"$f":"IF($J$9<>\"\",INDIRECT(CONCATENATE($J$9,\"!A145\")),\"\")","v":""},{"$f":"IF($J$9<>\"\",INDIRECT(CONCATENATE($J$9,\"!B145\")),\"\")","v":""},{"$f":"IF($J$9<>\"\",INDIRECT(CONCATENATE($J$9,\"!C145\")),\"\")","v":""},{"$f":"IF($J$9<>\"\",INDIRECT(CONCATENATE($J$9,\"!D145\")),\"\")","v":""},{"$f":"IF($J$9<>\"\",INDIRECT(CONCATENATE($J$9,\"!E145\")),\"\")","v":""},{"$f":"IF($J$9<>\"\",INDIRECT(CONCATENATE($J$9,\"!F145\")),\"\")","v":""}]
[null,null,null,null,null,null,null,null,null,null,null,{"$f":"IF($J$9<>\"\",INDIRECT(CONCATENATE($J$9,\"!A146\")),\"\")","v":""},{"$f":"IF($J$9<>\"\",INDIRECT(CONCATENATE($J$9,\"!B146\")),\"\")","v":""},{"$f":"IF($J$9<>\"\",INDIRECT(CONCATENATE($J$9,\"!C146\")),\"\")","v":""},{"$f":"IF($J$9<>\"\",INDIRECT(CONCATENATE($J$9,\"!D146\")),\"\")","v":""},{"$f":"IF($J$9<>\"\",INDIRECT(CONCATENATE($J$9,\"!E146\")),\"\")","v":""},{"$f":"IF($J$9<>\"\",INDIRECT(CONCATENATE($J$9,\"!F146\")),\"\")","v":""}]
[null,null,null,null,null,null,null,null,null,null,null,{"$f":"IF($J$9<>\"\",INDIRECT(CONCATENATE($J$9,\"!A147\")),\"\")","v":""},{"$f":"IF($J$9<>\"\",INDIRECT(CONCATENATE($J$9,\"!B147\")),\"\")","v":""},{"$f":"IF($J$9<>\"\",INDIRECT(CONCATENATE($J$9,\"!C147\")),\"\")","v":""},{"$f":"IF($J$9<>\"\",INDIRECT(CONCATENATE($J$9,\"!D147\")),\"\")","v":""},{"$f":"IF($J$9<>\"\",INDIRECT(CONCATENATE($J$9,\"!E147\")),\"\")","v":""},{"$f":"IF($J$9<>\"\",INDIRECT(CONCATENATE($J$9,\"!F147\")),\"\")","v":""}]
[null,null,null,null,null,null,null,null,null,null,null,{"$f":"IF($J$9<>\"\",INDIRECT(CONCATENATE($J$9,\"!A148\")),\"\")","v":""},{"$f":"IF($J$9<>\"\",INDIRECT(CONCATENATE($J$9,\"!B148\")),\"\")","v":""},{"$f":"IF($J$9<>\"\",INDIRECT(CONCATENATE($J$9,\"!C148\")),\"\")","v":""},{"$f":"IF($J$9<>\"\",INDIRECT(CONCATENATE($J$9,\"!D148\")),\"\")","v":""},{"$f":"IF($J$9<>\"\",INDIRECT(CONCATENATE($J$9,\"!E148\")),\"\")","v":""},{"$f":"IF($J$9<>\"\",INDIRECT(CONCATENATE($J$9,\"!F148\")),\"\")","v":""}]
[null,null,null,null,null,null,null,null,null,null,null,{"$f":"IF($J$9<>\"\",INDIRECT(CONCATENATE($J$9,\"!A149\")),\"\")","v":""},{"$f":"IF($J$9<>\"\",INDIRECT(CONCATENATE($J$9,\"!B149\")),\"\")","v":""},{"$f":"IF($J$9<>\"\",INDIRECT(CONCATENATE($J$9,\"!C149\")),\"\")","v":""},{"$f":"IF($J$9<>\"\",INDIRECT(CONCATENATE($J$9,\"!D149\")),\"\")","v":""},{"$f":"IF($J$9<>\"\",INDIRECT(CONCATENATE($J$9,\"!E149\")),\"\")","v":""},{"$f":"IF($J$9<>\"\",INDIRECT(CONCATENATE($J$9,\"!F149\")),\"\")","v":""}]
[null,null,null,null,null,null,null,null,null,null,null,{"$f":"IF($J$9<>\"\",INDIRECT(CONCATENATE($J$9,\"!A150\")),\"\")","v":""},{"$f":"IF($J$9<>\"\",INDIRECT(CONCATENATE($J$9,\"!B150\")),\"\")","v":""},{"$f":"IF($J$9<>\"\",INDIRECT(CONCATENATE($J$9,\"!C150\")),\"\")","v":""},{"$f":"IF($J$9<>\"\",INDIRECT(CONCATENATE($J$9,\"!D150\")),\"\")","v":""},{"$f":"IF($J$9<>\"\",INDIRECT(CONCATENATE($J$9,\"!E150\")),\"\")","v":""},{"$f":"IF($J$9<>\"\",INDIRECT(CONCATENATE($J$9,\"!F150\")),\"\")","v":""}]
[null,null,null,null,null,null,null,null,null,null,null,{"$f":"IF($J$9<>\"\",INDIRECT(CONCATENATE($J$9,\"!A151\")),\"\")","v":""},{"$f":"IF($J$9<>\"\",INDIRECT(CONCATENATE($J$9,\"!B151\")),\"\")","v":""},{"$f":"IF($J$9<>\"\",INDIRECT(CONCATENATE($J$9,\"!C151\")),\"\")","v":""},{"$f":"IF($J$9<>\"\",INDIRECT(CONCATENATE($J$9,\"!D151\")),\"\")","v":""},{"$f":"IF($J$9<>\"\",INDIRECT(CONCATENATE($J$9,\"!E151\")),\"\")","v":""},{"$f":"IF($J$9<>\"\",INDIRECT(CONCATENATE($J$9,\"!F151\")),\"\")","v":""}]
[null,null,null,null,null,null,null,null,null,null,null,{"$f":"IF($J$9<>\"\",INDIRECT(CONCATENATE($J$9,\"!A152\")),\"\")","v":""},{"$f":"IF($J$9<>\"\",INDIRECT(CONCATENATE($J$9,\"!B152\")),\"\")","v":""},{"$f":"IF($J$9<>\"\",INDIRECT(CONCATENATE($J$9,\"!C152\")),\"\")","v":""},{"$f":"IF($J$9<>\"\",INDIRECT(CONCATENATE($J$9,\"!D152\")),\"\")","v":""},{"$f":"IF($J$9<>\"\",INDIRECT(CONCATENATE($J$9,\"!E152\")),\"\")","v":""},{"$f":"IF($J$9<>\"\",INDIRECT(CONCATENATE($J$9,\"!F152\")),\"\")","v":""}]
[null,null,null,null,null,null,null,null,null,null,null,{"$f":"IF($J$9<>\"\",INDIRECT(CONCATENATE($J$9,\"!A153\")),\"\")","v":""},{"$f":"IF($J$9<>\"\",INDIRECT(CONCATENATE($J$9,\"!B153\")),\"\")","v":""},{"$f":"IF($J$9<>\"\",INDIRECT(CONCATENATE($J$9,\"!C153\")),\"\")","v":""},{"$f":"IF($J$9<>\"\",INDIRECT(CONCATENATE($J$9,\"!D153\")),\"\")","v":""},{"$f":"IF($J$9<>\"\",INDIRECT(CONCATENATE($J$9,\"!E153\")),\"\")","v":""},{"$f":"IF($J$9<>\"\",INDIRECT(CONCATENATE($J$9,\"!F153\")),\"\")","v":""}]
[null,null,null,null,null,null,null,null,null,null,null,{"$f":"IF($J$9<>\"\",INDIRECT(CONCATENATE($J$9,\"!A154\")),\"\")","v":""},{"$f":"IF($J$9<>\"\",INDIRECT(CONCATENATE($J$9,\"!B154\")),\"\")","v":""},{"$f":"IF($J$9<>\"\",INDIRECT(CONCATENATE($J$9,\"!C154\")),\"\")","v":""},{"$f":"IF($J$9<>\"\",INDIRECT(CONCATENATE($J$9,\"!D154\")),\"\")","v":""},{"$f":"IF($J$9<>\"\",INDIRECT(CONCATENATE($J$9,\"!E154\")),\"\")","v":""},{"$f":"IF($J$9<>\"\",INDIRECT(CONCATENATE($J$9,\"!F154\")),\"\")","v":""}]
[null,null,null,null,null,null,null,null,null,null,null,{"$f":"IF($J$9<>\"\",INDIRECT(CONCATENATE($J$9,\"!A155\")),\"\")","v":""},{"$f":"IF($J$9<>\"\",INDIRECT(CONCATENATE($J$9,\"!B155\")),\"\")","v":""},{"$f":"IF($J$9<>\"\",INDIRECT(CONCATENATE($J$9,\"!C155\")),\"\")","v":""},{"$f":"IF($J$9<>\"\",INDIRECT(CONCATENATE($J$9,\"!D155\")),\"\")","v":""},{"$f":"IF($J$9<>\"\",INDIRECT(CONCATENATE($J$9,\"!E155\")),\"\")","v":""},{"$f":"IF($J$9<>\"\",INDIRECT(CONCATENATE($J$9,\"!F155\")),\"\")","v":""}]
[null,null,null,null,null,null,null,null,null,null,null,{"$f":"IF($J$9<>\"\",INDIRECT(CONCATENATE($J$9,\"!A156\")),\"\")","v":""},{"$f":"IF($J$9<>\"\",INDIRECT(CONCATENATE($J$9,\"!B156\")),\"\")","v":""},{"$f":"IF($J$9<>\"\",INDIRECT(CONCATENATE($J$9,\"!C156\")),\"\")","v":""},{"$f":"IF($J$9<>\"\",INDIRECT(CONCATENATE($J$9,\"!D156\")),\"\")","v":""},{"$f":"IF($J$9<>\"\",INDIRECT(CONCATENATE($J$9,\"!E156\")),\"\")","v":""},{"$f":"IF($J$9<>\"\",INDIRECT(CONCATENATE($J$9,\"!F156\")),\"\")","v":""}]
[null,null,null,null,null,null,null,null,null,null,null,{"$f":"IF($J$9<>\"\",INDIRECT(CONCATENATE($J$9,\"!A157\")),\"\")","v":""},{"$f":"IF($J$9<>\"\",INDIRECT(CONCATENATE($J$9,\"!B157\")),\"\")","v":""},{"$f":"IF($J$9<>\"\",INDIRECT(CONCATENATE($J$9,\"!C157\")),\"\")","v":""},{"$f":"IF($J$9<>\"\",INDIRECT(CONCATENATE($J$9,\"!D157\")),\"\")","v":""},{"$f":"IF($J$9<>\"\",INDIRECT(CONCATENATE($J$9,\"!E157\")),\"\")","v":""},{"$f":"IF($J$9<>\"\",INDIRECT(CONCATENATE($J$9,\"!F157\")),\"\")","v":""}]
[null,null,null,null,null,null,null,null,null,null,null,{"$f":"IF($J$9<>\"\",INDIRECT(CONCATENATE($J$9,\"!A158\")),\"\")","v":""},{"$f":"IF($J$9<>\"\",INDIRECT(CONCATENATE($J$9,\"!B158\")),\"\")","v":""},{"$f":"IF($J$9<>\"\",INDIRECT(CONCATENATE($J$9,\"!C158\")),\"\")","v":""},{"$f":"IF($J$9<>\"\",INDIRECT(CONCATENATE($J$9,\"!D158\")),\"\")","v":""},{"$f":"IF($J$9<>\"\",INDIRECT(CONCATENATE($J$9,\"!E158\")),\"\")","v":""},{"$f":"IF($J$9<>\"\",INDIRECT(CONCATENATE($J$9,\"!F158\")),\"\")","v":""}]
[null,null,null,null,null,null,null,null,null,null,null,{"$f":"IF($J$9<>\"\",INDIRECT(CONCATENATE($J$9,\"!A159\")),\"\")","v":""},{"$f":"IF($J$9<>\"\",INDIRECT(CONCATENATE($J$9,\"!B159\")),\"\")","v":""},{"$f":"IF($J$9<>\"\",INDIRECT(CONCATENATE($J$9,\"!C159\")),\"\")","v":""},{"$f":"IF($J$9<>\"\",INDIRECT(CONCATENATE($J$9,\"!D159\")),\"\")","v":""},{"$f":"IF($J$9<>\"\",INDIRECT(CONCATENATE($J$9,\"!E159\")),\"\")","v":""},{"$f":"IF($J$9<>\"\",INDIRECT(CONCATENATE($J$9,\"!F159\")),\"\")","v":""}]
[null,null,null,null,null,null,null,null,null,null,null,{"$f":"IF($J$9<>\"\",INDIRECT(CONCATENATE($J$9,\"!A160\")),\"\")","v":""},{"$f":"IF($J$9<>\"\",INDIRECT(CONCATENATE($J$9,\"!B160\")),\"\")","v":""},{"$f":"IF($J$9<>\"\",INDIRECT(CONCATENATE($J$9,\"!C160\")),\"\")","v":""},{"$f":"IF($J$9<>\"\",INDIRECT(CONCATENATE($J$9,\"!D160\")),\"\")","v":""},{"$f":"IF($J$9<>\"\",INDIRECT(CONCATENATE($J$9,\"!E160\")),\"\")","v":""},{"$f":"IF($J$9<>\"\",INDIRECT(CONCATENATE($J$9,\"!F160\")),\"\")","v":""}]
[null,null,null,null,null,null,null,null,null,null,null,{"$f":"IF($J$9<>\"\",INDIRECT(CONCATENATE($J$9,\"!A161\")),\"\")","v":""},{"$f":"IF($J$9<>\"\",INDIRECT(CONCATENATE($J$9,\"!B161\")),\"\")","v":""},{"$f":"IF($J$9<>\"\",INDIRECT(CONCATENATE($J$9,\"!C161\")),\"\")","v":""},{"$f":"IF($J$9<>\"\",INDIRECT(CONCATENATE($J$9,\"!D161\")),\"\")","v":""},{"$f":"IF($J$9<>\"\",INDIRECT(CONCATENATE($J$9,\"!E161\")),\"\")","v":""},{"$f":"IF($J$9<>\"\",INDIRECT(CONCATENATE($J$9,\"!F161\")),\"\")","v":""}]
[null,null,null,null,null,null,null,null,null,null,null,{"$f":"IF($J$9<>\"\",INDIRECT(CONCATENATE($J$9,\"!A162\")),\"\")","v":""},{"$f":"IF($J$9<>\"\",INDIRECT(CONCATENATE($J$9,\"!B162\")),\"\")","v":""},{"$f":"IF($J$9<>\"\",INDIRECT(CONCATENATE($J$9,\"!C162\")),\"\")","v":""},{"$f":"IF($J$9<>\"\",INDIRECT(CONCATENATE($J$9,\"!D162\")),\"\")","v":""},{"$f":"IF($J$9<>\"\",INDIRECT(CONCATENATE($J$9,\"!E162\")),\"\")","v":""},{"$f":"IF($J$9<>\"\",INDIRECT(CONCATENATE($J$9,\"!F162\")),\"\")","v":""}]
[null,null,null,null,null,null,null,null,null,null,null,{"$f":"IF($J$9<>\"\",INDIRECT(CONCATENATE($J$9,\"!A163\")),\"\")","v":""},{"$f":"IF($J$9<>\"\",INDIRECT(CONCATENATE($J$9,\"!B163\")),\"\")","v":""},{"$f":"IF($J$9<>\"\",INDIRECT(CONCATENATE($J$9,\"!C163\")),\"\")","v":""},{"$f":"IF($J$9<>\"\",INDIRECT(CONCATENATE($J$9,\"!D163\")),\"\")","v":""},{"$f":"IF($J$9<>\"\",INDIRECT(CONCATENATE($J$9,\"!E163\")),\"\")","v":""},{"$f":"IF($J$9<>\"\",INDIRECT(CONCATENATE($J$9,\"!F163\")),\"\")","v":""}]
[null,null,null,null,null,null,null,null,null,null,null,{"$f":"IF($J$9<>\"\",INDIRECT(CONCATENATE($J$9,\"!A164\")),\"\")","v":""},{"$f":"IF($J$9<>\"\",INDIRECT(CONCATENATE($J$9,\"!B164\")),\"\")","v":""},{"$f":"IF($J$9<>\"\",INDIRECT(CONCATENATE($J$9,\"!C164\")),\"\")","v":""},{"$f":"IF($J$9<>\"\",INDIRECT(CONCATENATE($J$9,\"!D164\")),\"\")","v":""},{"$f":"IF($J$9<>\"\",INDIRECT(CONCATENATE($J$9,\"!E164\")),\"\")","v":""},{"$f":"IF($J$9<>\"\",INDIRECT(CONCATENATE($J$9,\"!F164\")),\"\")","v":""}]
[null,null,null,null,null,null,null,null,null,null,null,{"$f":"IF($J$9<>\"\",INDIRECT(CONCATENATE($J$9,\"!A165\")),\"\")","v":""},{"$f":"IF($J$9<>\"\",INDIRECT(CONCATENATE($J$9,\"!B165\")),\"\")","v":""},{"$f":"IF($J$9<>\"\",INDIRECT(CONCATENATE($J$9,\"!C165\")),\"\")","v":""},{"$f":"IF($J$9<>\"\",INDIRECT(CONCATENATE($J$9,\"!D165\")),\"\")","v":""},{"$f":"IF($J$9<>\"\",INDIRECT(CONCATENATE($J$9,\"!E165\")),\"\")","v":""},{"$f":"IF($J$9<>\"\",INDIRECT(CONCATENATE($J$9,\"!F165\")),\"\")","v":""}]
[null,null,null,null,null,null,null,null,null,null,null,{"$f":"IF($J$9<>\"\",INDIRECT(CONCATENATE($J$9,\"!A166\")),\"\")","v":""},{"$f":"IF($J$9<>\"\",INDIRECT(CONCATENATE($J$9,\"!B166\")),\"\")","v":""},{"$f":"IF($J$9<>\"\",INDIRECT(CONCATENATE($J$9,\"!C166\")),\"\")","v":""},{"$f":"IF($J$9<>\"\",INDIRECT(CONCATENATE($J$9,\"!D166\")),\"\")","v":""},{"$f":"IF($J$9<>\"\",INDIRECT(CONCATENATE($J$9,\"!E166\")),\"\")","v":""},{"$f":"IF($J$9<>\"\",INDIRECT(CONCATENATE($J$9,\"!F166\")),\"\")","v":""}]
[null,null,null,null,null,null,null,null,null,null,null,{"$f":"IF($J$9<>\"\",INDIRECT(CONCATENATE($J$9,\"!A167\")),\"\")","v":""},{"$f":"IF($J$9<>\"\",INDIRECT(CONCATENATE($J$9,\"!B167\")),\"\")","v":""},{"$f":"IF($J$9<>\"\",INDIRECT(CONCATENATE($J$9,\"!C167\")),\"\")","v":""},{"$f":"IF($J$9<>\"\",INDIRECT(CONCATENATE($J$9,\"!D167\")),\"\")","v":""},{"$f":"IF($J$9<>\"\",INDIRECT(CONCATENATE($J$9,\"!E167\")),\"\")","v":""},{"$f":"IF($J$9<>\"\",INDIRECT(CONCATENATE($J$9,\"!F167\")),\"\")","v":""}]
[null,null,null,null,null,null,null,null,null,null,null,{"$f":"IF($J$9<>\"\",INDIRECT(CONCATENATE($J$9,\"!A168\")),\"\")","v":""},{"$f":"IF($J$9<>\"\",INDIRECT(CONCATENATE($J$9,\"!B168\")),\"\")","v":""},{"$f":"IF($J$9<>\"\",INDIRECT(CONCATENATE($J$9,\"!C168\")),\"\")","v":""},{"$f":"IF($J$9<>\"\",INDIRECT(CONCATENATE($J$9,\"!D168\")),\"\")","v":""},{"$f":"IF($J$9<>\"\",INDIRECT(CONCATENATE($J$9,\"!E168\")),\"\")","v":""},{"$f":"IF($J$9<>\"\",INDIRECT(CONCATENATE($J$9,\"!F168\")),\"\")","v":""}]
[null,null,null,null,null,null,null,null,null,null,null,{"$f":"IF($J$9<>\"\",INDIRECT(CONCATENATE($J$9,\"!A169\")),\"\")","v":""},{"$f":"IF($J$9<>\"\",INDIRECT(CONCATENATE($J$9,\"!B169\")),\"\")","v":""},{"$f":"IF($J$9<>\"\",INDIRECT(CONCATENATE($J$9,\"!C169\")),\"\")","v":""},{"$f":"IF($J$9<>\"\",INDIRECT(CONCATENATE($J$9,\"!D169\")),\"\")","v":""},{"$f":"IF($J$9<>\"\",INDIRECT(CONCATENATE($J$9,\"!E169\")),\"\")","v":""},{"$f":"IF($J$9<>\"\",INDIRECT(CONCATENATE($J$9,\"!F169\")),\"\")","v":""}]
[null,null,null,null,null,null,null,null,null,null,null,{"$f":"IF($J$9<>\"\",INDIRECT(CONCATENATE($J$9,\"!A170\")),\"\")","v":""},{"$f":"IF($J$9<>\"\",INDIRECT(CONCATENATE($J$9,\"!B170\")),\"\")","v":""},{"$f":"IF($J$9<>\"\",INDIRECT(CONCATENATE($J$9,\"!C170\")),\"\")","v":""},{"$f":"IF($J$9<>\"\",INDIRECT(CONCATENATE($J$9,\"!D170\")),\"\")","v":""},{"$f":"IF($J$9<>\"\",INDIRECT(CONCATENATE($J$9,\"!E170\")),\"\")","v":""},{"$f":"IF($J$9<>\"\",INDIRECT(CONCATENATE($J$9,\"!F170\")),\"\")","v":""}]
[null,null,null,null,null,null,null,null,null,null,null,{"$f":"IF($J$9<>\"\",INDIRECT(CONCATENATE($J$9,\"!A171\")),\"\")","v":""},{"$f":"IF($J$9<>\"\",INDIRECT(CONCATENATE($J$9,\"!B171\")),\"\")","v":""},{"$f":"IF($J$9<>\"\",INDIRECT(CONCATENATE($J$9,\"!C171\")),\"\")","v":""},{"$f":"IF($J$9<>\"\",INDIRECT(CONCATENATE($J$9,\"!D171\")),\"\")","v":""},{"$f":"IF($J$9<>\"\",INDIRECT(CONCATENATE($J$9,\"!E171\")),\"\")","v":""},{"$f":"IF($J$9<>\"\",INDIRECT(CONCATENATE($J$9,\"!F171\")),\"\")","v":""}]
[null,null,null,null,null,null,null,null,null,null,null,{"$f":"IF($J$9<>\"\",INDIRECT(CONCATENATE($J$9,\"!A172\")),\"\")","v":""},{"$f":"IF($J$9<>\"\",INDIRECT(CONCATENATE($J$9,\"!B172\")),\"\")","v":""},{"$f":"IF($J$9<>\"\",INDIRECT(CONCATENATE($J$9,\"!C172\")),\"\")","v":""},{"$f":"IF($J$9<>\"\",INDIRECT(CONCATENATE($J$9,\"!D172\")),\"\")","v":""},{"$f":"IF($J$9<>\"\",INDIRECT(CONCATENATE($J$9,\"!E172\")),\"\")","v":""},{"$f":"IF($J$9<>\"\",INDIRECT(CONCATENATE($J$9,\"!F172\")),\"\")","v":""}]
[null,null,null,null,null,null,null,null,null,null,null,{"$f":"IF($J$9<>\"\",INDIRECT(CONCATENATE($J$9,\"!A173\")),\"\")","v":""},{"$f":"IF($J$9<>\"\",INDIRECT(CONCATENATE($J$9,\"!B173\")),\"\")","v":""},{"$f":"IF($J$9<>\"\",INDIRECT(CONCATENATE($J$9,\"!C173\")),\"\")","v":""},{"$f":"IF($J$9<>\"\",INDIRECT(CONCATENATE($J$9,\"!D173\")),\"\")","v":""},{"$f":"IF($J$9<>\"\",INDIRECT(CONCATENATE($J$9,\"!E173\")),\"\")","v":""},{"$f":"IF($J$9<>\"\",INDIRECT(CONCATENATE($J$9,\"!F173\")),\"\")","v":""}]
[null,null,null,null,null,null,null,null,null,null,null,{"$f":"IF($J$9<>\"\",INDIRECT(CONCATENATE($J$9,\"!A174\")),\"\")","v":""},{"$f":"IF($J$9<>\"\",INDIRECT(CONCATENATE($J$9,\"!B174\")),\"\")","v":""},{"$f":"IF($J$9<>\"\",INDIRECT(CONCATENATE($J$9,\"!C174\")),\"\")","v":""},{"$f":"IF($J$9<>\"\",INDIRECT(CONCATENATE($J$9,\"!D174\")),\"\")","v":""},{"$f":"IF($J$9<>\"\",INDIRECT(CONCATENATE($J$9,\"!E174\")),\"\")","v":""},{"$f":"IF($J$9<>\"\",INDIRECT(CONCATENATE($J$9,\"!F174\")),\"\")","v":""}]
[null,null,null,null,null,null,null,null,null,null,null,{"$f":"IF($J$9<>\"\",INDIRECT(CONCATENATE($J$9,\"!A175\")),\"\")","v":""},{"$f":"IF($J$9<>\"\",INDIRECT(CONCATENATE($J$9,\"!B175\")),\"\")","v":""},{"$f":"IF($J$9<>\"\",INDIRECT(CONCATENATE($J$9,\"!C175\")),\"\")","v":""},{"$f":"IF($J$9<>\"\",INDIRECT(CONCATENATE($J$9,\"!D175\")),\"\")","v":""},{"$f":"IF($J$9<>\"\",INDIRECT(CONCATENATE($J$9,\"!E175\")),\"\")","v":""},{"$f":"IF($J$9<>\"\",INDIRECT(CONCATENATE($J$9,\"!F175\")),\"\")","v":""}]
[null,null,null,null,null,null,null,null,null,null,null,{"$f":"IF($J$9<>\"\",INDIRECT(CONCATENATE($J$9,\"!A176\")),\"\")","v":""},{"$f":"IF($J$9<>\"\",INDIRECT(CONCATENATE($J$9,\"!B176\")),\"\")","v":""},{"$f":"IF($J$9<>\"\",INDIRECT(CONCATENATE($J$9,\"!C176\")),\"\")","v":""},{"$f":"IF($J$9<>\"\",INDIRECT(CONCATENATE($J$9,\"!D176\")),\"\")","v":""},{"$f":"IF($J$9<>\"\",INDIRECT(CONCATENATE($J$9,\"!E176\")),\"\")","v":""},{"$f":"IF($J$9<>\"\",INDIRECT(CONCATENATE($J$9,\"!F176\")),\"\")","v":""}]
[null,null,null,null,null,null,null,null,null,null,null,{"$f":"IF($J$9<>\"\",INDIRECT(CONCATENATE($J$9,\"!A177\")),\"\")","v":""},{"$f":"IF($J$9<>\"\",INDIRECT(CONCATENATE($J$9,\"!B177\")),\"\")","v":""},{"$f":"IF($J$9<>\"\",INDIRECT(CONCATENATE($J$9,\"!C177\")),\"\")","v":""},{"$f":"IF($J$9<>\"\",INDIRECT(CONCATENATE($J$9,\"!D177\")),\"\")","v":""},{"$f":"IF($J$9<>\"\",INDIRECT(CONCATENATE($J$9,\"!E177\")),\"\")","v":""},{"$f":"IF($J$9<>\"\",INDIRECT(CONCATENATE($J$9,\"!F177\")),\"\")","v":""}]
[null,null,null,null,null,null,null,null,null,null,null,{"$f":"IF($J$9<>\"\",INDIRECT(CONCATENATE($J$9,\"!A178\")),\"\")","v":""},{"$f":"IF($J$9<>\"\",INDIRECT(CONCATENATE($J$9,\"!B178\")),\"\")","v":""},{"$f":"IF($J$9<>\"\",INDIRECT(CONCATENATE($J$9,\"!C178\")),\"\")","v":""},{"$f":"IF($J$9<>\"\",INDIRECT(CONCATENATE($J$9,\"!D178\")),\"\")","v":""},{"$f":"IF($J$9<>\"\",INDIRECT(CONCATENATE($J$9,\"!E178\")),\"\")","v":""},{"$f":"IF($J$9<>\"\",INDIRECT(CONCATENATE($J$9,\"!F178\")),\"\")","v":""}]
[null,null,null,null,null,null,null,null,null,null,null,{"$f":"IF($J$9<>\"\",INDIRECT(CONCATENATE($J$9,\"!A179\")),\"\")","v":""},{"$f":"IF($J$9<>\"\",INDIRECT(CONCATENATE($J$9,\"!B179\")),\"\")","v":""},{"$f":"IF($J$9<>\"\",INDIRECT(CONCATENATE($J$9,\"!C179\")),\"\")","v":""},{"$f":"IF($J$9<>\"\",INDIRECT(CONCATENATE($J$9,\"!D179\")),\"\")","v":""},{"$f":"IF($J$9<>\"\",INDIRECT(CONCATENATE($J$9,\"!E179\")),\"\")","v":""},{"$f":"IF($J$9<>\"\",INDIRECT(CONCATENATE($J$9,\"!F179\")),\"\")","v":""}]
[null,null,null,null,null,null,null,null,null,null,null,{"$f":"IF($J$9<>\"\",INDIRECT(CONCATENATE($J$9,\"!A180\")),\"\")","v":""},{"$f":"IF($J$9<>\"\",INDIRECT(CONCATENATE($J$9,\"!B180\")),\"\")","v":""},{"$f":"IF($J$9<>\"\",INDIRECT(CONCATENATE($J$9,\"!C180\")),\"\")","v":""},{"$f":"IF($J$9<>\"\",INDIRECT(CONCATENATE($J$9,\"!D180\")),\"\")","v":""},{"$f":"IF($J$9<>\"\",INDIRECT(CONCATENATE($J$9,\"!E180\")),\"\")","v":""},{"$f":"IF($J$9<>\"\",INDIRECT(CONCATENATE($J$9,\"!F180\")),\"\")","v":""}]
[null,null,null,null,null,null,null,null,null,null,null,{"$f":"IF($J$9<>\"\",INDIRECT(CONCATENATE($J$9,\"!A181\")),\"\")","v":""},{"$f":"IF($J$9<>\"\",INDIRECT(CONCATENATE($J$9,\"!B181\")),\"\")","v":""},{"$f":"IF($J$9<>\"\",INDIRECT(CONCATENATE($J$9,\"!C181\")),\"\")","v":""},{"$f":"IF($J$9<>\"\",INDIRECT(CONCATENATE($J$9,\"!D181\")),\"\")","v":""},{"$f":"IF($J$9<>\"\",INDIRECT(CONCATENATE($J$9,\"!E181\")),\"\")","v":""},{"$f":"IF($J$9<>\"\",INDIRECT(CONCATENATE($J$9,\"!F181\")),\"\")","v":""}]
[null,null,null,null,null,null,null,null,null,null,null,{"$f":"IF($J$9<>\"\",INDIRECT(CONCATENATE($J$9,\"!A182\")),\"\")","v":""},{"$f":"IF($J$9<>\"\",INDIRECT(CONCATENATE($J$9,\"!B182\")),\"\")","v":""},{"$f":"IF($J$9<>\"\",INDIRECT(CONCATENATE($J$9,\"!C182\")),\"\")","v":""},{"$f":"IF($J$9<>\"\",INDIRECT(CONCATENATE($J$9,\"!D182\")),\"\")","v":""},{"$f":"IF($J$9<>\"\",INDIRECT(CONCATENATE($J$9,\"!E182\")),\"\")","v":""},{"$f":"IF($J$9<>\"\",INDIRECT(CONCATENATE($J$9,\"!F182\")),\"\")","v":""}]
[null,null,null,null,null,null,null,null,null,null,null,{"$f":"IF($J$9<>\"\",INDIRECT(CONCATENATE($J$9,\"!A183\")),\"\")","v":""},{"$f":"IF($J$9<>\"\",INDIRECT(CONCATENATE($J$9,\"!B183\")),\"\")","v":""},{"$f":"IF($J$9<>\"\",INDIRECT(CONCATENATE($J$9,\"!C183\")),\"\")","v":""},{"$f":"IF($J$9<>\"\",INDIRECT(CONCATENATE($J$9,\"!D183\")),\"\")","v":""},{"$f":"IF($J$9<>\"\",INDIRECT(CONCATENATE($J$9,\"!E183\")),\"\")","v":""},{"$f":"IF($J$9<>\"\",INDIRECT(CONCATENATE($J$9,\"!F183\")),\"\")","v":""}]
[null,null,null,null,null,null,null,null,null,null,null,{"$f":"IF($J$9<>\"\",INDIRECT(CONCATENATE($J$9,\"!A184\")),\"\")","v":""},{"$f":"IF($J$9<>\"\",INDIRECT(CONCATENATE($J$9,\"!B184\")),\"\")","v":""},{"$f":"IF($J$9<>\"\",INDIRECT(CONCATENATE($J$9,\"!C184\")),\"\")","v":""},{"$f":"IF($J$9<>\"\",INDIRECT(CONCATENATE($J$9,\"!D184\")),\"\")","v":""},{"$f":"IF($J$9<>\"\",INDIRECT(CONCATENATE($J$9,\"!E184\")),\"\")","v":""},{"$f":"IF($J$9<>\"\",INDIRECT(CONCATENATE($J$9,\"!F184\")),\"\")","v":""}]
[null,null,null,null,null,null,null,null,null,null,null,{"$f":"IF($J$9<>\"\",INDIRECT(CONCATENATE($J$9,\"!A185\")),\"\")","v":""},{"$f":"IF($J$9<>\"\",INDIRECT(CONCATENATE($J$9,\"!B185\")),\"\")","v":""},{"$f":"IF($J$9<>\"\",INDIRECT(CONCATENATE($J$9,\"!C185\")),\"\")","v":""},{"$f":"IF($J$9<>\"\",INDIRECT(CONCATENATE($J$9,\"!D185\")),\"\")","v":""},{"$f":"IF($J$9<>\"\",INDIRECT(CONCATENATE($J$9,\"!E185\")),\"\")","v":""},{"$f":"IF($J$9<>\"\",INDIRECT(CONCATENATE($J$9,\"!F185\")),\"\")","v":""}]
[null,null,null,null,null,null,null,null,null,null,null,{"$f":"IF($J$9<>\"\",INDIRECT(CONCATENATE($J$9,\"!A186\")),\"\")","v":""},{"$f":"IF($J$9<>\"\",INDIRECT(CONCATENATE($J$9,\"!B186\")),\"\")","v":""},{"$f":"IF($J$9<>\"\",INDIRECT(CONCATENATE($J$9,\"!C186\")),\"\")","v":""},{"$f":"IF($J$9<>\"\",INDIRECT(CONCATENATE($J$9,\"!D186\")),\"\")","v":""},{"$f":"IF($J$9<>\"\",INDIRECT(CONCATENATE($J$9,\"!E186\")),\"\")","v":""},{"$f":"IF($J$9<>\"\",INDIRECT(CONCATENATE($J$9,\"!F186\")),\"\")","v":""}]
[null,null,null,null,null,null,null,null,null,null,null,{"$f":"IF($J$9<>\"\",INDIRECT(CONCATENATE($J$9,\"!A187\")),\"\")","v":""},{"$f":"IF($J$9<>\"\",INDIRECT(CONCATENATE($J$9,\"!B187\")),\"\")","v":""},{"$f":"IF($J$9<>\"\",INDIRECT(CONCATENATE($J$9,\"!C187\")),\"\")","v":""},{"$f":"IF($J$9<>\"\",INDIRECT(CONCATENATE($J$9,\"!D187\")),\"\")","v":""},{"$f":"IF($J$9<>\"\",INDIRECT(CONCATENATE($J$9,\"!E187\")),\"\")","v":""},{"$f":"IF($J$9<>\"\",INDIRECT(CONCATENATE($J$9,\"!F187\")),\"\")","v":""}]
[null,null,null,null,null,null,null,null,null,null,null,{"$f":"IF($J$9<>\"\",INDIRECT(CONCATENATE($J$9,\"!A188\")),\"\")","v":""},{"$f":"IF($J$9<>\"\",INDIRECT(CONCATENATE($J$9,\"!B188\")),\"\")","v":""},{"$f":"IF($J$9<>\"\",INDIRECT(CONCATENATE($J$9,\"!C188\")),\"\")","v":""},{"$f":"IF($J$9<>\"\",INDIRECT(CONCATENATE($J$9,\"!D188\")),\"\")","v":""},{"$f":"IF($J$9<>\"\",INDIRECT(CONCATENATE($J$9,\"!E188\")),\"\")","v":""},{"$f":"IF($J$9<>\"\",INDIRECT(CONCATENATE($J$9,\"!F188\")),\"\")","v":""}]
[null,null,null,null,null,null,null,null,null,null,null,{"$f":"IF($J$9<>\"\",INDIRECT(CONCATENATE($J$9,\"!A189\")),\"\")","v":""},{"$f":"IF($J$9<>\"\",INDIRECT(CONCATENATE($J$9,\"!B189\")),\"\")","v":""},{"$f":"IF($J$9<>\"\",INDIRECT(CONCATENATE($J$9,\"!C189\")),\"\")","v":""},{"$f":"IF($J$9<>\"\",INDIRECT(CONCATENATE($J$9,\"!D189\")),\"\")","v":""},{"$f":"IF($J$9<>\"\",INDIRECT(CONCATENATE($J$9,\"!E189\")),\"\")","v":""},{"$f":"IF($J$9<>\"\",INDIRECT(CONCATENATE($J$9,\"!F189\")),\"\")","v":""}]
[null,null,null,null,null,null,null,null,null,null,null,{"$f":"IF($J$9<>\"\",INDIRECT(CONCATENATE($J$9,\"!A190\")),\"\")","v":""},{"$f":"IF($J$9<>\"\",INDIRECT(CONCATENATE($J$9,\"!B190\")),\"\")","v":""},{"$f":"IF($J$9<>\"\",INDIRECT(CONCATENATE($J$9,\"!C190\")),\"\")","v":""},{"$f":"IF($J$9<>\"\",INDIRECT(CONCATENATE($J$9,\"!D190\")),\"\")","v":""},{"$f":"IF($J$9<>\"\",INDIRECT(CONCATENATE($J$9,\"!E190\")),\"\")","v":""},{"$f":"IF($J$9<>\"\",INDIRECT(CONCATENATE($J$9,\"!F190\")),\"\")","v":""}]
[null,null,null,null,null,null,null,null,null,null,null,{"$f":"IF($J$9<>\"\",INDIRECT(CONCATENATE($J$9,\"!A191\")),\"\")","v":""},{"$f":"IF($J$9<>\"\",INDIRECT(CONCATENATE($J$9,\"!B191\")),\"\")","v":""},{"$f":"IF($J$9<>\"\",INDIRECT(CONCATENATE($J$9,\"!C191\")),\"\")","v":""},{"$f":"IF($J$9<>\"\",INDIRECT(CONCATENATE($J$9,\"!D191\")),\"\")","v":""},{"$f":"IF($J$9<>\"\",INDIRECT(CONCATENATE($J$9,\"!E191\")),\"\")","v":""},{"$f":"IF($J$9<>\"\",INDIRECT(CONCATENATE($J$9,\"!F191\")),\"\")","v":""}]
[null,null,null,null,null,null,null,null,null,null,null,{"$f":"IF($J$9<>\"\",INDIRECT(CONCATENATE($J$9,\"!A192\")),\"\")","v":""},{"$f":"IF($J$9<>\"\",INDIRECT(CONCATENATE($J$9,\"!B192\")),\"\")","v":""},{"$f":"IF($J$9<>\"\",INDIRECT(CONCATENATE($J$9,\"!C192\")),\"\")","v":""},{"$f":"IF($J$9<>\"\",INDIRECT(CONCATENATE($J$9,\"!D192\")),\"\")","v":""},{"$f":"IF($J$9<>\"\",INDIRECT(CONCATENATE($J$9,\"!E192\")),\"\")","v":""},{"$f":"IF($J$9<>\"\",INDIRECT(CONCATENATE($J$9,\"!F192\")),\"\")","v":""}]
[null,null,null,null,null,null,null,null,null,null,null,{"$f":"IF($J$9<>\"\",INDIRECT(CONCATENATE($J$9,\"!A193\")),\"\")","v":""},{"$f":"IF($J$9<>\"\",INDIRECT(CONCATENATE($J$9,\"!B193\")),\"\")","v":""},{"$f":"IF($J$9<>\"\",INDIRECT(CONCATENATE($J$9,\"!C193\")),\"\")","v":""},{"$f":"IF($J$9<>\"\",INDIRECT(CONCATENATE($J$9,\"!D193\")),\"\")","v":""},{"$f":"IF($J$9<>\"\",INDIRECT(CONCATENATE($J$9,\"!E193\")),\"\")","v":""},{"$f":"IF($J$9<>\"\",INDIRECT(CONCATENATE($J$9,\"!F193\")),\"\")","v":""}]
[null,null,null,null,null,null,null,null,null,null,null,{"$f":"IF($J$9<>\"\",INDIRECT(CONCATENATE($J$9,\"!A194\")),\"\")","v":""},{"$f":"IF($J$9<>\"\",INDIRECT(CONCATENATE($J$9,\"!B194\")),\"\")","v":""},{"$f":"IF($J$9<>\"\",INDIRECT(CONCATENATE($J$9,\"!C194\")),\"\")","v":""},{"$f":"IF($J$9<>\"\",INDIRECT(CONCATENATE($J$9,\"!D194\")),\"\")","v":""},{"$f":"IF($J$9<>\"\",INDIRECT(CONCATENATE($J$9,\"!E194\")),\"\")","v":""},{"$f":"IF($J$9<>\"\",INDIRECT(CONCATENATE($J$9,\"!F194\")),\"\")","v":""}]
[null,null,null,null,null,null,null,null,null,null,null,{"$f":"IF($J$9<>\"\",INDIRECT(CONCATENATE($J$9,\"!A195\")),\"\")","v":""},{"$f":"IF($J$9<>\"\",INDIRECT(CONCATENATE($J$9,\"!B195\")),\"\")","v":""},{"$f":"IF($J$9<>\"\",INDIRECT(CONCATENATE($J$9,\"!C195\")),\"\")","v":""},{"$f":"IF($J$9<>\"\",INDIRECT(CONCATENATE($J$9,\"!D195\")),\"\")","v":""},{"$f":"IF($J$9<>\"\",INDIRECT(CONCATENATE($J$9,\"!E195\")),\"\")","v":""},{"$f":"IF($J$9<>\"\",INDIRECT(CONCATENATE($J$9,\"!F195\")),\"\")","v":""}]
[null,null,null,null,null,null,null,null,null,null,null,{"$f":"IF($J$9<>\"\",INDIRECT(CONCATENATE($J$9,\"!A196\")),\"\")","v":""},{"$f":"IF($J$9<>\"\",INDIRECT(CONCATENATE($J$9,\"!B196\")),\"\")","v":""},{"$f":"IF($J$9<>\"\",INDIRECT(CONCATENATE($J$9,\"!C196\")),\"\")","v":""},{"$f":"IF($J$9<>\"\",INDIRECT(CONCATENATE($J$9,\"!D196\")),\"\")","v":""},{"$f":"IF($J$9<>\"\",INDIRECT(CONCATENATE($J$9,\"!E196\")),\"\")","v":""},{"$f":"IF($J$9<>\"\",INDIRECT(CONCATENATE($J$9,\"!F196\")),\"\")","v":""}]
[null,null,null,null,null,null,null,null,null,null,null,{"$f":"IF($J$9<>\"\",INDIRECT(CONCATENATE($J$9,\"!A197\")),\"\")","v":""},{"$f":"IF($J$9<>\"\",INDIRECT(CONCATENATE($J$9,\"!B197\")),\"\")","v":""},{"$f":"IF($J$9<>\"\",INDIRECT(CONCATENATE($J$9,\"!C197\")),\"\")","v":""},{"$f":"IF($J$9<>\"\",INDIRECT(CONCATENATE($J$9,\"!D197\")),\"\")","v":""},{"$f":"IF($J$9<>\"\",INDIRECT(CONCATENATE($J$9,\"!E197\")),\"\")","v":""},{"$f":"IF($J$9<>\"\",INDIRECT(CONCATENATE($J$9,\"!F197\")),\"\")","v":""}]
[null,null,null,null,null,null,null,null,null,null,null,{"$f":"IF($J$9<>\"\",INDIRECT(CONCATENATE($J$9,\"!A198\")),\"\")","v":""},{"$f":"IF($J$9<>\"\",INDIRECT(CONCATENATE($J$9,\"!B198\")),\"\")","v":""},{"$f":"IF($J$9<>\"\",INDIRECT(CONCATENATE($J$9,\"!C198\")),\"\")","v":""},{"$f":"IF($J$9<>\"\",INDIRECT(CONCATENATE($J$9,\"!D198\")),\"\")","v":""},{"$f":"IF($J$9<>\"\",INDIRECT(CONCATENATE($J$9,\"!E198\")),\"\")","v":""},{"$f":"IF($J$9<>\"\",INDIRECT(CONCATENATE($J$9,\"!F198\")),\"\")","v":""}]
[null,null,null,null,null,null,null,null,null,null,null,{"$f":"IF($J$9<>\"\",INDIRECT(CONCATENATE($J$9,\"!A199\")),\"\")","v":""},{"$f":"IF($J$9<>\"\",INDIRECT(CONCATENATE($J$9,\"!B199\")),\"\")","v":""},{"$f":"IF($J$9<>\"\",INDIRECT(CONCATENATE($J$9,\"!C199\")),\"\")","v":""},{"$f":"IF($J$9<>\"\",INDIRECT(CONCATENATE($J$9,\"!D199\")),\"\")","v":""},{"$f":"IF($J$9<>\"\",INDIRECT(CONCATENATE($J$9,\"!E199\")),\"\")","v":""},{"$f":"IF($J$9<>\"\",INDIRECT(CONCATENATE($J$9,\"!F199\")),\"\")","v":""}]
[null,null,null,null,null,null,null,null,null,null,null,{"$f":"IF($J$9<>\"\",INDIRECT(CONCATENATE($J$9,\"!A200\")),\"\")","v":""},{"$f":"IF($J$9<>\"\",INDIRECT(CONCATENATE($J$9,\"!B200\")),\"\")","v":""},{"$f":"IF($J$9<>\"\",INDIRECT(CONCATENATE($J$9,\"!C200\")),\"\")","v":""},{"$f":"IF($J$9<>\"\",INDIRECT(CONCATENATE($J$9,\"!D200\")),\"\")","v":""},{"$f":"IF($J$9<>\"\",INDIRECT(CONCATENATE($J$9,\"!E200\")),\"\")","v":""},{"$f":"IF($J$9<>\"\",INDIRECT(CONCATENATE($J$9,\"!F200\")),\"\")","v":""}]
[null,null,null,null,null,null,null,null,null,null,null,{"$f":"IF($J$9<>\"\",INDIRECT(CONCATENATE($J$9,\"!A201\")),\"\")","v":""},{"$f":"IF($J$9<>\"\",INDIRECT(CONCATENATE($J$9,\"!B201\")),\"\")","v":""},{"$f":"IF($J$9<>\"\",INDIRECT(CONCATENATE($J$9,\"!C201\")),\"\")","v":""},{"$f":"IF($J$9<>\"\",INDIRECT(CONCATENATE($J$9,\"!D201\")),\"\")","v":""},{"$f":"IF($J$9<>\"\",INDIRECT(CONCATENATE($J$9,\"!E201\")),\"\")","v":""},{"$f":"IF($J$9<>\"\",INDIRECT(CONCATENATE($J$9,\"!F201\")),\"\")","v":""}]
[null,null,null,null,null,null,null,null,null,null,null,{"$f":"IF($J$9<>\"\",INDIRECT(CONCATENATE($J$9,\"!A202\")),\"\")","v":""},{"$f":"IF($J$9<>\"\",INDIRECT(CONCATENATE($J$9,\"!B202\")),\"\")","v":""},{"$f":"IF($J$9<>\"\",INDIRECT(CONCATENATE($J$9,\"!C202\")),\"\")","v":""},{"$f":"IF($J$9<>\"\",INDIRECT(CONCATENATE($J$9,\"!D202\")),\"\")","v":""},{"$f":"IF($J$9<>\"\",INDIRECT(CONCATENATE($J$9,\"!E202\")),\"\")","v":""},{"$f":"IF($J$9<>\"\",INDIRECT(CONCATENATE($J$9,\"!F202\")),\"\")","v":""}]
[null,null,null,null,null,null,null,null,null,null,null,{"$f":"IF($J$9<>\"\",INDIRECT(CONCATENATE($J$9,\"!A203\")),\"\")","v":""},{"$f":"IF($J$9<>\"\",INDIRECT(CONCATENATE($J$9,\"!B203\")),\"\")","v":""},{"$f":"IF($J$9<>\"\",INDIRECT(CONCATENATE($J$9,\"!C203\")),\"\")","v":""},{"$f":"IF($J$9<>\"\",INDIRECT(CONCATENATE($J$9,\"!D203\")),\"\")","v":""},{"$f":"IF($J$9<>\"\",INDIRECT(CONCATENATE($J$9,\"!E203\")),\"\")","v":""},{"$f":"IF($J$9<>\"\",INDIRECT(CONCATENATE($J$9,\"!F203\")),\"\")","v":""}]
[null,null,null,null,null,null,null,null,null,null,null,{"$f":"IF($J$9<>\"\",INDIRECT(CONCATENATE($J$9,\"!A204\")),\"\")","v":""},{"$f":"IF($J$9<>\"\",INDIRECT(CONCATENATE($J$9,\"!B204\")),\"\")","v":""},{"$f":"IF($J$9<>\"\",INDIRECT(CONCATENATE($J$9,\"!C204\")),\"\")","v":""},{"$f":"IF($J$9<>\"\",INDIRECT(CONCATENATE($J$9,\"!D204\")),\"\")","v":""},{"$f":"IF($J$9<>\"\",INDIRECT(CONCATENATE($J$9,\"!E204\")),\"\")","v":""},{"$f":"IF($J$9<>\"\",INDIRECT(CONCATENATE($J$9,\"!F204\")),\"\")","v":""}]
[null,null,null,null,null,null,null,null,null,null,null,{"$f":"IF($J$9<>\"\",INDIRECT(CONCATENATE($J$9,\"!A205\")),\"\")","v":""},{"$f":"IF($J$9<>\"\",INDIRECT(CONCATENATE($J$9,\"!B205\")),\"\")","v":""},{"$f":"IF($J$9<>\"\",INDIRECT(CONCATENATE($J$9,\"!C205\")),\"\")","v":""},{"$f":"IF($J$9<>\"\",INDIRECT(CONCATENATE($J$9,\"!D205\")),\"\")","v":""},{"$f":"IF($J$9<>\"\",INDIRECT(CONCATENATE($J$9,\"!E205\")),\"\")","v":""},{"$f":"IF($J$9<>\"\",INDIRECT(CONCATENATE($J$9,\"!F205\")),\"\")","v":""}]
[null,null,null,null,null,null,null,null,null,null,null,{"$f":"IF($J$9<>\"\",INDIRECT(CONCATENATE($J$9,\"!A206\")),\"\")","v":""},{"$f":"IF($J$9<>\"\",INDIRECT(CONCATENATE($J$9,\"!B206\")),\"\")","v":""},{"$f":"IF($J$9<>\"\",INDIRECT(CONCATENATE($J$9,\"!C206\")),\"\")","v":""},{"$f":"IF($J$9<>\"\",INDIRECT(CONCATENATE($J$9,\"!D206\")),\"\")","v":""},{"$f":"IF($J$9<>\"\",INDIRECT(CONCATENATE($J$9,\"!E206\")),\"\")","v":""},{"$f":"IF($J$9<>\"\",INDIRECT(CONCATENATE($J$9,\"!F206\")),\"\")","v":""}]
[null,null,null,null,null,null,null,null,null,null,null,{"$f":"IF($J$9<>\"\",INDIRECT(CONCATENATE($J$9,\"!A207\")),\"\")","v":""},{"$f":"IF($J$9<>\"\",INDIRECT(CONCATENATE($J$9,\"!B207\")),\"\")","v":""},{"$f":"IF($J$9<>\"\",INDIRECT(CONCATENATE($J$9,\"!C207\")),\"\")","v":""},{"$f":"IF($J$9<>\"\",INDIRECT(CONCATENATE($J$9,\"!D207\")),\"\")","v":""},{"$f":"IF($J$9<>\"\",INDIRECT(CONCATENATE($J$9,\"!E207\")),\"\")","v":""},{"$f":"IF($J$9<>\"\",INDIRECT(CONCATENATE($J$9,\"!F207\")),\"\")","v":""}]

{"sheet":"Resumen","index":46,"n_rows":170,"n_cols":28,"rows_kept":170,"cut":false,"hidden":true,"merged":[[7,11,7,12],[7,1,8,1],[7,7,7,8],[7,9,8,9],[7,10,8,10],[0,1,0,12],[5,1,5,12],[6,1,6,4],[6,5,6,8],[6,9,6,12],[3,1,3,2],[3,3,3,7],[2,10,3,10],[2,12,3,12],[7,0,8,0],[7,3,7,4],[7,5,8,5],[7,6,8,6],[7,2,8,2]]}
[null,"RESUMEN DE ARTEFACTOS SOMETIDOS A HOMOLOGACIÓN"]
[]
[null,null,null,null,null,null,null,null,null,null,{"$f":"IF(Inicio!N4=\"\",\"FALTA FECHA\",Inicio!N4)","v":"FALTA FECHA"},null,{"$f":"IF(Inicio!P4=\"\",\"FALTA FECHA\",Inicio!P4)","v":"FALTA FECHA"}]
[null,"Competición: ",null,{"$f":"IF(Inicio!D4=\"\",\"FALTA NOMBRE DE COMPETICIÓN\",Inicio!D4)","v":"FALTA NOMBRE DE COMPETICIÓN"},null,null,null,null,null,"Fecha desde:",null,"hasta:"]
[null,null,null,null,null,null,null,null,null,null,null,null,null,null,null,null,null,null,null,null,null,null,null,null,null,"JABALINA"]
[null,"Propietario",null,null,null,null,null,null,null,null,null,null,null,null,null,null,null,null,null,null,null,null,null,null,null,"Long. punta a C.G.",null,1]
[null,"Instalación",null,null,null,"Organización",null,null,null,"Particular",null,null,null,null,null,null,null,null,null,null,null,null,null,null,null,"Long. cola a C.G.","Jabalina 800",2]
["Tipo de artefacto","Válido","No válido","Invalidado por",null,"Válido","No válido","Invalidado por",null,"Válido","No válido","Invalidado por",null,null,null,null,null,null,null,null,null,null,null,null,null,"Longitud total","Jabalina 700",3]
[null,null,null,"Peso","Medidas",null,null,"Peso","Medidas",null,null,"Peso","Medidas",null,null,null,null,null,null,null,null,null,null,null,null,"Long. cabeza met.","Jabalina 600",4]
[null,null,null,null,null,null,null,null,null,null,null,null,null,null,null,null,null,null,null,null,null,null,null,null,null,"Long. empuñadura","Jabalina 500",5]
[null,null,null,null,null,null,null,null,null,null,null,null,null,null,null,null,null,null,null,null,null,null,null,null,null,"Diám. del. empuñ.","Jabalina 400",6]
[null,null,null,null,null,null,null,null,null,null,null,null,null,null,null,null,null,null,null,null,null,null,null,null,null,"D0-D1","Disco 2000",7]
[null,null,null,null,null,null,null,null,null,null,null,null,null,null,null,null,null,null,null,null,null,null,null,null,null,"D3-D4","Disco 1750",8]
[null,null,null,null,null,null,null,null,null,null,null,null,null,null,null,null,null,null,null,null,null,null,null,null,null,"Diám. 1/2 L1","Disco 1500",9]
[null,null,null,null,null,null,null,null,null,null,null,null,null,null,null,null,null,null,null,null,null,null,null,null,null,"Diám. 1/2 L2","Disco 1000",10]
[null,null,null,null,null,null,null,null,null,null,null,null,null,null,null,null,null,null,null,null,null,null,null,null,null,"Diám. 150 punta","Disco 800",11]
[null,null,null,null,null,null,null,null,null,null,null,null,null,null,null,null,null,null,null,null,null,null,null,null,null,"Diám. 150 cola","Disco 750",12]
[null,null,null,null,null,null,null,null,null,null,null,null,null,null,null,null,null,null,null,null,null,null,null,null,null,"Diám. empuñadura","Martillo 7260",13]
[null,null,null,null,null,null,null,null,null,null,null,null,null,null,null,null,null,null,null,null,null,null,null,null,null,"Diám. cola","Martillo 6000",14]
[null,null,null,null,null,null,null,null,null,null,null,null,null,null,null,null,null,null,null,null,null,null,null,null,null,"Ángulo punta","Martillo 5000",15]
[null,null,null,null,null,null,null,null,null,null,null,null,null,null,null,null,null,null,null,null,null,null,null,null,null,null,"Martillo 4000",16]
[null,null,null,null,null,null,null,null,null,null,null,null,null,null,null,null,null,null,null,null,null,null,null,null,null,"DISCO","Martillo 3000",17]
[null,null,null,null,null,null,null,null,null,null,null,null,null,null,null,null,null,null,null,null,null,null,null,null,null,"Diám. exterior","Martillo 2000",18]
[null,null,null,null,null,null,null,null,null,null,null,null,null,null,null,null,null,null,null,null,null,null,null,null,null,"Diám. placas","Peso 7260",19]
[null,null,null,null,null,null,null,null,null,null,null,null,null,null,null,null,null,null,null,null,null,null,null,null,null,"Grosor placas","Peso 6000",20]
[null,null,null,null,null,null,null,null,null,null,null,null,null,null,null,null,null,null,null,null,null,null,null,null,null,"Grosor llanta","Peso 5000",21]
[null,null,null,null,null,null,null,null,null,null,null,null,null,null,null,null,null,null,null,null,null,null,null,null,null,null,"Peso 4000 H",22]
[null,null,null,null,null,null,null,null,null,null,null,null,null,null,null,null,null,null,null,null,null,null,null,null,null,"MARTILLO","Peso 4000 M",23]
[null,null,null,null,null,null,null,null,null,null,null,null,null,null,null,null,null,null,null,null,null,null,null,null,null,"Long. total","Peso 3000 H",24]
[null,null,null,null,null,null,null,null,null,null,null,null,null,null,null,null,null,null,null,null,null,null,null,null,null,"Diám. cable","Peso 3000 M",25]
[null,null,null,null,null,null,null,null,null,null,null,null,null,null,null,null,null,null,null,null,null,null,null,null,null,"Diám. cabeza","Peso 2000",26]
[null,null,null,null,null,null,null,null,null,null,null,null,null,null,null,null,null,null,null,null,null,null,null,null,null,"Centro de grav.","Martillo Pesado 15880",27]
[null,null,null,null,null,null,null,null,null,null,null,null,null,null,null,null,null,null,null,null,null,null,null,null,null,null,"Martillo Pesado 11340",28]
[null,null,null,null,null,null,null,null,null,null,null,null,null,null,null,null,null,null,null,null,null,null,null,null,null,"PESO","Martillo Pesado 9080",29]
[null,null,null,null,null,null,null,null,null,null,null,null,null,null,null,null,null,null,null,null,null,null,null,null,null,"Diám. cabeza","Martillo Pesado 7260",30]
[null,null,null,null,null,null,null,null,null,null,null,null,null,null,null,null,null,null,null,null,null,null,null,null,null,null,"Martillo Pesado 5450",31]
[null,null,null,null,null,null,null,null,null,null,null,null,null,null,null,null,null,null,null,null,null,null,null,null,null,null,"Martillo Pesado 4000",32]
[null,null,null,null,null,null,null,null,null,null,null,null,null,null,null,null,null,null,null,null,null,null,null,null,null,null,null,33]
[null,null,null,null,null,null,null,null,null,null,null,null,null,null,null,null,null,null,null,null,null,null,null,null,null,null,null,34]
[null,null,null,null,null,null,null,null,null,null,null,null,null,null,null,null,null,null,null,null,null,null,null,null,null,null,null,35]
[null,null,null,null,null,null,null,null,null,null,null,null,null,null,null,null,null,null,null,null,null,null,null,null,null,null,null,36]
[null,null,null,null,null,null,null,null,null,null,null,null,null,null,null,null,null,null,null,null,null,null,null,null,null,null,null,37]
[null,null,null,null,null,null,null,null,null,null,null,null,null,null,null,null,null,null,null,null,null,null,null,null,null,null,null,38]
[null,null,null,null,null,null,null,null,null,null,null,null,null,null,null,null,null,null,null,null,null,null,null,null,null,null,null,39]
[null,null,null,null,null,null,null,null,null,null,null,null,null,null,null,null,null,null,null,null,null,null,null,null,null,null,null,40]
[null,null,null,null,null,null,null,null,null,null,null,null,null,null,null,null,null,null,null,null,null,null,null,null,null,null,null,41]
[null,null,null,null,null,null,null,null,null,null,null,null,null,null,null,null,null,null,null,null,null,null,null,null,null,null,null,42]
[null,null,null,null,null,null,null,null,null,null,null,null,null,null,null,null,null,null,null,null,null,null,null,null,null,null,null,43]
[null,null,null,null,null,null,null,null,null,null,null,null,null,null,null,null,null,null,null,null,null,null,null,null,null,null,null,44]
[null,null,null,null,null,null,null,null,null,null,null,null,null,null,null,null,null,null,null,null,null,null,null,null,null,null,null,45]
[null,null,null,null,null,null,null,null,null,null,null,null,null,null,null,null,null,null,null,null,null,null,null,null,null,null,null,46]
[null,null,null,null,null,null,null,null,null,null,null,null,null,null,null,null,null,null,null,null,null,null,null,null,null,null,null,47]
[null,null,null,null,null,null,null,null,null,null,null,null,null,null,null,null,null,null,null,null,null,null,null,null,null,null,null,48]
[null,null,null,null,null,null,null,null,null,null,null,null,null,null,null,null,null,null,null,null,null,null,null,null,null,null,null,49]
[null,null,null,null,null,null,null,null,null,null,null,null,null,null,null,null,null,null,null,null,null,null,null,null,null,null,null,50]
[null,null,null,null,null,null,null,null,null,null,null,null,null,null,null,null,null,null,null,null,null,null,null,null,null,null,null,51]
[null,null,null,null,null,null,null,null,null,null,null,null,null,null,null,null,null,null,null,null,null,null,null,null,null,null,null,52]
[null,null,null,null,null,null,null,null,null,null,null,null,null,null,null,null,null,null,null,null,null,null,null,null,null,null,null,53]
[null,null,null,null,null,null,null,null,null,null,null,null,null,null,null,null,null,null,null,null,null,null,null,null,null,null,null,54]
[null,null,null,null,null,null,null,null,null,null,null,null,null,null,null,null,null,null,null,null,null,null,null,null,null,null,null,55]
[null,null,null,null,null,null,null,null,null,null,null,null,null,null,null,null,null,null,null,null,null,null,null,null,null,null,null,56]
[null,null,null,null,null,null,null,null,null,null,null,null,null,null,null,null,null,null,null,null,null,null,null,null,null,null,null,57]
[null,null,null,null,null,null,null,null,null,null,null,null,null,null,null,null,null,null,null,null,null,null,null,null,null,null,null,58]
[null,null,null,null,null,null,null,null,null,null,null,null,null,null,null,null,null,null,null,null,null,null,null,null,null,null,null,59]
[null,null,null,null,null,null,null,null,null,null,null,null,null,null,null,null,null,null,null,null,null,null,null,null,null,null,null,60]
[null,null,null,null,null,null,null,null,null,null,null,null,null,null,null,null,null,null,null,null,null,null,null,null,null,null,null,61]
[null,null,null,null,null,null,null,null,null,null,null,null,null,null,null,null,null,null,null,null,null,null,null,null,null,null,null,62]
[null,null,null,null,null,null,null,null,null,null,null,null,null,null,null,null,null,null,null,null,null,null,null,null,null,null,null,63]
[null,null,null,null,null,null,null,null,null,null,null,null,null,null,null,null,null,null,null,null,null,null,null,null,null,null,null,64]
[null,null,null,null,null,null,null,null,null,null,null,null,null,null,null,null,null,null,null,null,null,null,null,null,null,null,null,65]
[null,null,null,null,null,null,null,null,null,null,null,null,null,null,null,null,null,null,null,null,null,null,null,null,null,null,null,66]
[null,null,null,null,null,null,null,null,null,null,null,null,null,null,null,null,null,null,null,null,null,null,null,null,null,null,null,67]
[null,null,null,null,null,null,null,null,null,null,null,null,null,null,null,null,null,null,null,null,null,null,null,null,null,null,null,68]
[null,null,null,null,null,null,null,null,null,null,null,null,null,null,null,null,null,null,null,null,null,null,null,null,null,null,null,69]
[null,null,null,null,null,null,null,null,null,null,null,null,null,null,null,null,null,null,null,null,null,null,null,null,null,null,null,70]
[null,null,null,null,null,null,null,null,null,null,null,null,null,null,null,null,null,null,null,null,null,null,null,null,null,null,null,71]
[null,null,null,null,null,null,null,null,null,null,null,null,null,null,null,null,null,null,null,null,null,null,null,null,null,null,null,72]
[null,null,null,null,null,null,null,null,null,null,null,null,null,null,null,null,null,null,null,null,null,null,null,null,null,null,null,73]
[null,null,null,null,null,null,null,null,null,null,null,null,null,null,null,null,null,null,null,null,null,null,null,null,null,null,null,74]
[null,null,null,null,null,null,null,null,null,null,null,null,null,null,null,null,null,null,null,null,null,null,null,null,null,null,null,75]
[null,null,null,null,null,null,null,null,null,null,null,null,null,null,null,null,null,null,null,null,null,null,null,null,null,null,null,76]
[null,null,null,null,null,null,null,null,null,null,null,null,null,null,null,null,null,null,null,null,null,null,null,null,null,null,null,77]
[null,null,null,null,null,null,null,null,null,null,null,null,null,null,null,null,null,null,null,null,null,null,null,null,null,null,null,78]
[null,null,null,null,null,null,null,null,null,null,null,null,null,null,null,null,null,null,null,null,null,null,null,null,null,null,null,79]
[null,null,null,null,null,null,null,null,null,null,null,null,null,null,null,null,null,null,null,null,null,null,null,null,null,null,null,80]
[null,null,null,null,null,null,null,null,null,null,null,null,null,null,null,null,null,null,null,null,null,null,null,null,null,null,null,81]
[null,null,null,null,null,null,null,null,null,null,null,null,null,null,null,null,null,null,null,null,null,null,null,null,null,null,null,82]
[null,null,null,null,null,null,null,null,null,null,null,null,null,null,null,null,null,null,null,null,null,null,null,null,null,null,null,83]
[null,null,null,null,null,null,null,null,null,null,null,null,null,null,null,null,null,null,null,null,null,null,null,null,null,null,null,84]
[null,null,null,null,null,null,null,null,null,null,null,null,null,null,null,null,null,null,null,null,null,null,null,null,null,null,null,85]
[null,null,null,null,null,null,null,null,null,null,null,null,null,null,null,null,null,null,null,null,null,null,null,null,null,null,null,86]
[null,null,null,null,null,null,null,null,null,null,null,null,null,null,null,null,null,null,null,null,null,null,null,null,null,null,null,87]
[null,null,null,null,null,null,null,null,null,null,null,null,null,null,null,null,null,null,null,null,null,null,null,null,null,null,null,88]
[null,null,null,null,null,null,null,null,null,null,null,null,null,null,null,null,null,null,null,null,null,null,null,null,null,null,null,89]
[null,null,null,null,null,null,null,null,null,null,null,null,null,null,null,null,null,null,null,null,null,null,null,null,null,null,null,90]
[null,null,null,null,null,null,null,null,null,null,null,null,null,null,null,null,null,null,null,null,null,null,null,null,null,null,null,91]
[null,null,null,null,null,null,null,null,null,null,null,null,null,null,null,null,null,null,null,null,null,null,null,null,null,null,null,92]
[null,null,null,null,null,null,null,null,null,null,null,null,null,null,null,null,null,null,null,null,null,null,null,null,null,null,null,93]
[null,null,null,null,null,null,null,null,null,null,null,null,null,null,null,null,null,null,null,null,null,null,null,null,null,null,null,94]
[null,null,null,null,null,null,null,null,null,null,null,null,null,null,null,null,null,null,null,null,null,null,null,null,null,null,null,95]
[null,null,null,null,null,null,null,null,null,null,null,null,null,null,null,null,null,null,null,null,null,null,null,null,null,null,null,96]
[null,null,null,null,null,null,null,null,null,null,null,null,null,null,null,null,null,null,null,null,null,null,null,null,null,null,null,97]
[null,null,null,null,null,null,null,null,null,null,null,null,null,null,null,null,null,null,null,null,null,null,null,null,null,null,null,98]
[null,null,null,null,null,null,null,null,null,null,null,null,null,null,null,null,null,null,null,null,null,null,null,null,null,null,null,99]
[null,null,null,null,null,null,null,null,null,null,null,null,null,null,null,null,null,null,null,null,null,null,null,null,null,null,null,100]
[]
[]
[]
[]
[]
[]
[]
[]
[]
[]
[]
[]
[]
[]
[]
[]
[]
[]
[]
[]
[]
[]
[]
[]
[]
[]
[]
[]
[]
[]
[]
[]
[]
[null,"VI","NVI","NVPI","NVMI","VO","NVO","NVPO","NVMO","VP","NVP","NVPP","NVMP"]
["Jabalina 800",{"$f":"IF(JAB.800!$BR$164>0,JAB.800!$BR$164,\"\")","v":""},{"$f":"IF(JAB.800!$BU$164>0,JAB.800!$BU$164,\"\")","v":""},{"$f":"IF(JAB.800!$BX$164>0,JAB.800!$BX$164,\"\")","v":""},{"$f":"IF(JAB.800!$CA$164>0,JAB.800!$CA$164,\"\")","v":""},{"$f":"IF(JAB.800!$BS$164>0,JAB.800!$BS$164,\"\")","v":""},{"$f":"IF(JAB.800!$BV$164>0,JAB.800!$BV$164,\"\")","v":""},{"$f":"IF(JAB.800!$BY$164>0,JAB.800!$BY$164,\"\")","v":""},{"$f":"IF(JAB.800!$CB$164>0,JAB.800!$CB$164,\"\")","v":""},{"$f":"IF(JAB.800!$BT$164>0,JAB.800!$BT$164,\"\")","v":""},{"$f":"IF(JAB.800!$BW$164>0,JAB.800!$BW$164,\"\")","v":""},{"$f":"IF(JAB.800!$BZ$164>0,JAB.800!$BZ$164,\"\")","v":""},{"$f":"IF(JAB.800!$CC$164>0,JAB.800!$CC$164,\"\")","v":""}]
["Jabalina 700",{"$f":"IF(JAB.700!$BR$202>0,JAB.700!$BR$202,\"\")","v":""},{"$f":"IF(JAB.700!$BU$202>0,JAB.700!$BU$202,\"\")","v":""},{"$f":"IF(JAB.700!$BX$202>0,JAB.700!$BX$202,\"\")","v":""},{"$f":"IF(JAB.700!$CA$202>0,JAB.700!$CA$202,\"\")","v":""},{"$f":"IF(JAB.700!$BS$202>0,JAB.700!$BS$202,\"\")","v":""},{"$f":"IF(JAB.700!$BV$202>0,JAB.700!$BV$202,\"\")","v":""},{"$f":"IF(JAB.700!$BY$202>0,JAB.700!$BY$202,\"\")","v":""},{"$f":"IF(JAB.700!$CB$202>0,JAB.700!$CB$202,\"\")","v":""},{"$f":"IF(JAB.700!$BT$202>0,JAB.700!$BT$202,\"\")","v":""},{"$f":"IF(JAB.700!$BW$202>0,JAB.700!$BW$202,\"\")","v":""},{"$f":"IF(JAB.700!$BZ$202>0,JAB.700!$BZ$202,\"\")","v":""},{"$f":"IF(JAB.700!$CC$202>0,JAB.700!$CC$202,\"\")","v":""}]
["Jabalina 600",{"$f":"IF(JAB.600!$BR$196>0,JAB.600!$BR$196,\"\")","v":""},{"$f":"IF(JAB.600!$BU$196>0,JAB.600!$BU$196,\"\")","v":""},{"$f":"IF(JAB.600!$BX$196>0,JAB.600!$BX$196,\"\")","v":""},{"$f":"IF(JAB.600!$CA$196>0,JAB.600!$CA$196,\"\")","v":""},{"$f":"IF(JAB.600!$BS$196>0,JAB.600!$BS$196,\"\")","v":""},{"$f":"IF(JAB.600!$BV$196>0,JAB.600!$BV$196,\"\")","v":""},{"$f":"IF(JAB.600!$BY$196>0,JAB.600!$BY$196,\"\")","v":""},{"$f":"IF(JAB.600!$CB$196>0,JAB.600!$CB$196,\"\")","v":""},{"$f":"IF(JAB.600!$BT$196>0,JAB.600!$BT$196,\"\")","v":""},{"$f":"IF(JAB.600!$BW$196>0,JAB.600!$BW$196,\"\")","v":""},{"$f":"IF(JAB.600!$BZ$196>0,JAB.600!$BZ$196,\"\")","v":""},{"$f":"IF(JAB.600!$CC$196>0,JAB.600!$CC$196,\"\")","v":""}]
["Jabalina 500",{"$f":"IF(JAB.500!$BR$188>0,JAB.500!$BR$188,\"\")","v":""},{"$f":"IF(JAB.500!$BU$188>0,JAB.500!$BU$188,\"\")","v":""},{"$f":"IF(JAB.500!$BX$188>0,JAB.500!$BX$188,\"\")","v":""},{"$f":"IF(JAB.500!$CA$188>0,JAB.500!$CA$188,\"\")","v":""},{"$f":"IF(JAB.500!$BS$188>0,JAB.500!$BS$188,\"\")","v":""},{"$f":"IF(JAB.500!$BV$188>0,JAB.500!$BV$188,\"\")","v":""},{"$f":"IF(JAB.500!$BY$188>0,JAB.500!$BY$188,\"\")","v":""},{"$f":"IF(JAB.500!$CB$188>0,JAB.500!$CB$188,\"\")","v":""},{"$f":"IF(JAB.500!$BT$188>0,JAB.500!$BT$188,\"\")","v":""},{"$f":"IF(JAB.500!$BW$188>0,JAB.500!$BW$188,\"\")","v":""},{"$f":"IF(JAB.500!$BZ$188>0,JAB.500!$BZ$188,\"\")","v":""},{"$f":"IF(JAB.500!$CC$188>0,JAB.500!$CC$188,\"\")","v":""}]
["Jabalina 400",{"$f":"IF(JAB.400!$BR$202>0,JAB.400!$BR$202,\"\")","v":""},{"$f":"IF(JAB.400!$BU$202>0,JAB.400!$BU$202,\"\")","v":""},{"$f":"IF(JAB.400!$BX$202>0,JAB.400!$BX$202,\"\")","v":""},{"$f":"IF(JAB.400!$CA$202>0,JAB.400!$CA$202,\"\")","v":""},{"$f":"IF(JAB.400!$BS$202>0,JAB.400!$BS$202,\"\")","v":""},{"$f":"IF(JAB.400!$BV$202>0,JAB.400!$BV$202,\"\")","v":""},{"$f":"IF(JAB.400!$BY$202>0,JAB.400!$BY$202,\"\")","v":""},{"$f":"IF(JAB.400!$CB$202>0,JAB.400!$CB$202,\"\")","v":""},{"$f":"IF(JAB.400!$BT$202>0,JAB.400!$BT$202,\"\")","v":""},{"$f":"IF(JAB.400!$BW$202>0,JAB.400!$BW$202,\"\")","v":""},{"$f":"IF(JAB.400!$BZ$202>0,JAB.400!$BZ$202,\"\")","v":""},{"$f":"IF(JAB.400!$CC$202>0,JAB.400!$CC$202,\"\")","v":""}]
["Disco 2000",{"$f":"IF(DIS.2000!$BR$194>0,DIS.2000!$BR$194,\"\")","v":""},{"$f":"IF(DIS.2000!$BU$194>0,DIS.2000!$BU$194,\"\")","v":""},{"$f":"IF(DIS.2000!$BX$194>0,DIS.2000!$BX$194,\"\")","v":""},{"$f":"IF(DIS.2000!$CA$194>0,DIS.2000!$CA$194,\"\")","v":""},{"$f":"IF(DIS.2000!$BS$194>0,DIS.2000!$BS$194,\"\")","v":""},{"$f":"IF(DIS.2000!$BV$194>0,DIS.2000!$BV$194,\"\")","v":""},{"$f":"IF(DIS.2000!$BY$194>0,DIS.2000!$BY$194,\"\")","v":""},{"$f":"IF(DIS.2000!$CB$194>0,DIS.2000!$CB$194,\"\")","v":""},{"$f":"IF(DIS.2000!$BT$194>0,DIS.2000!$BT$194,\"\")","v":""},{"$f":"IF(DIS.2000!$BW$194>0,DIS.2000!$BW$194,\"\")","v":""},{"$f":"IF(DIS.2000!$BZ$194>0,DIS.2000!$BZ$194,\"\")","v":""},{"$f":"IF(DIS.2000!$CC$194>0,DIS.2000!$CC$194,\"\")","v":""}]
["Disco 1750",{"$f":"IF(DIS.1750!$BR$204>0,DIS.1750!$BR$204,\"\")","v":""},{"$f":"IF(DIS.1750!$BU$204>0,DIS.1750!$BU$204,\"\")","v":""},{"$f":"IF(DIS.1750!$BX$204>0,DIS.1750!$BX$204,\"\")","v":""},{"$f":"IF(DIS.1750!$CA$204>0,DIS.1750!$CA$204,\"\")","v":""},{"$f":"IF(DIS.1750!$BS$204>0,DIS.1750!$BS$204,\"\")","v":""},{"$f":"IF(DIS.1750!$BV$204>0,DIS.1750!$BV$204,\"\")","v":""},{"$f":"IF(DIS.1750!$BY$204>0,DIS.1750!$BY$204,\"\")","v":""},{"$f":"IF(DIS.1750!$CB$204>0,DIS.1750!$CB$204,\"\")","v":""},{"$f":"IF(DIS.1750!$BT$204>0,DIS.1750!$BT$204,\"\")","v":""},{"$f":"IF(DIS.1750!$BW$204>0,DIS.1750!$BW$204,\"\")","v":""},{"$f":"IF(DIS.1750!$BZ$204>0,DIS.1750!$BZ$204,\"\")","v":""},{"$f":"IF(DIS.1750!$CC$204>0,DIS.1750!$CC$204,\"\")","v":""}]
["Disco 1500",{"$f":"IF(DIS.1500!$BR$198>0,DIS.1500!$BR$198,\"\")","v":""},{"$f":"IF(DIS.1500!$BU$198>0,DIS.1500!$BU$198,\"\")","v":""},{"$f":"IF(DIS.1500!$BX$198>0,DIS.1500!$BX$198,\"\")","v":""},{"$f":"IF(DIS.1500!$CA$198>0,DIS.1500!$CA$198,\"\")","v":""},{"$f":"IF(DIS.1500!$BS$198>0,DIS.1500!$BS$198,\"\")","v":""},{"$f":"IF(DIS.1500!$BV$198>0,DIS.1500!$BV$198,\"\")","v":""},{"$f":"IF(DIS.1500!$BY$198>0,DIS.1500!$BY$198,\"\")","v":""},{"$f":"IF(DIS.1500!$CB$198>0,DIS.1500!$CB$198,\"\")","v":""},{"$f":"IF(DIS.1500!$BT$198>0,DIS.1500!$BT$198,\"\")","v":""},{"$f":"IF(DIS.1500!$BW$198>0,DIS.1500!$BW$198,\"\")","v":""},{"$f":"IF(DIS.1500!$BZ$198>0,DIS.1500!$BZ$198,\"\")","v":""},{"$f":"IF(DIS.1500!$CC$198>0,DIS.1500!$CC$198,\"\")","v":""}]
["Disco 1000",{"$f":"IF(DIS.1000!$BR$196>0,DIS.1000!$BR$196,\"\")","v":""},{"$f":"IF(DIS.1000!$BU$196>0,DIS.1000!$BU$196,\"\")","v":""},{"$f":"IF(DIS.1000!$BX$196>0,DIS.1000!$BX$196,\"\")","v":""},{"$f":"IF(DIS.1000!$CA$196>0,DIS.1000!$CA$196,\"\")","v":""},{"$f":"IF(DIS.1000!$BS$196>0,DIS.1000!$BS$196,\"\")","v":""},{"$f":"IF(DIS.1000!$BV$196>0,DIS.1000!$BV$196,\"\")","v":""},{"$f":"IF(DIS.1000!$BY$196>0,DIS.1000!$BY$196,\"\")","v":""},{"$f":"IF(DIS.1000!$CB$196>0,DIS.1000!$CB$196,\"\")","v":""},{"$f":"IF(DIS.1000!$BT$196>0,DIS.1000!$BT$196,\"\")","v":""},{"$f":"IF(DIS.1000!$BW$196>0,DIS.1000!$BW$196,\"\")","v":""},{"$f":"IF(DIS.1000!$BZ$196>0,DIS.1000!$BZ$196,\"\")","v":""},{"$f":"IF(DIS.1000!$CC$196>0,DIS.1000!$CC$196,\"\")","v":""}]
["Disco 800",{"$f":"IF(DIS.800!$BR$206>0,DIS.800!$BR$206,\"\")","v":""},{"$f":"IF(DIS.800!$BU$206>0,DIS.800!$BU$206,\"\")","v":""},{"$f":"IF(DIS.800!$BX$206>0,DIS.800!$BX$206,\"\")","v":""},{"$f":"IF(DIS.800!$CA$206>0,DIS.800!$CA$206,\"\")","v":""},{"$f":"IF(DIS.800!$BS$206>0,DIS.800!$BS$206,\"\")","v":""},{"$f":"IF(DIS.800!$BV$206>0,DIS.800!$BV$206,\"\")","v":""},{"$f":"IF(DIS.800!$BY$206>0,DIS.800!$BY$206,\"\")","v":""},{"$f":"IF(DIS.800!$CB$206>0,DIS.800!$CB$206,\"\")","v":""},{"$f":"IF(DIS.800!$BT$206>0,DIS.800!$BT$206,\"\")","v":""},{"$f":"IF(DIS.800!$BW$206>0,DIS.800!$BW$206,\"\")","v":""},{"$f":"IF(DIS.800!$BZ$206>0,DIS.800!$BZ$206,\"\")","v":""},{"$f":"IF(DIS.800!$CC$206>0,DIS.800!$CC$206,\"\")","v":""}]
["Disco 750",{"$f":"IF(DIS.750!$BR$200>0,DIS.750!$BR$200,\"\")","v":""},{"$f":"IF(DIS.750!$BU$200>0,DIS.750!$BU$200,\"\")","v":""},{"$f":"IF(DIS.750!$BX$200>0,DIS.750!$BX$200,\"\")","v":""},{"$f":"IF(DIS.750!$CA$200>0,DIS.750!$CA$200,\"\")","v":""},{"$f":"IF(DIS.750!$BS$200>0,DIS.750!$BS$200,\"\")","v":""},{"$f":"IF(DIS.750!$BV$200>0,DIS.750!$BV$200,\"\")","v":""},{"$f":"IF(DIS.750!$BY$200>0,DIS.750!$BY$200,\"\")","v":""},{"$f":"IF(DIS.750!$CB$200>0,DIS.750!$CB$200,\"\")","v":""},{"$f":"IF(DIS.750!$BT$200>0,DIS.750!$BT$200,\"\")","v":""},{"$f":"IF(DIS.750!$BW$200>0,DIS.750!$BW$200,\"\")","v":""},{"$f":"IF(DIS.750!$BZ$200>0,DIS.750!$BZ$200,\"\")","v":""},{"$f":"IF(DIS.750!$CC$200>0,DIS.750!$CC$200,\"\")","v":""}]
["Martillo 7260",{"$f":"IF(MAR.7260!$BR$202>0,MAR.7260!$BR$202,\"\")","v":""},{"$f":"IF(MAR.7260!$BU$202>0,MAR.7260!$BU$202,\"\")","v":""},{"$f":"IF(MAR.7260!$BX$202>0,MAR.7260!$BX$202,\"\")","v":""},{"$f":"IF(MAR.7260!$CA$202>0,MAR.7260!$CA$202,\"\")","v":""},{"$f":"IF(MAR.7260!$BS$202>0,MAR.7260!$BS$202,\"\")","v":""},{"$f":"IF(MAR.7260!$BV$202>0,MAR.7260!$BV$202,\"\")","v":""},{"$f":"IF(MAR.7260!$BY$202>0,MAR.7260!$BY$202,\"\")","v":""},{"$f":"IF(MAR.7260!$CB$202>0,MAR.7260!$CB$202,\"\")","v":""},{"$f":"IF(MAR.7260!$BT$202>0,MAR.7260!$BT$202,\"\")","v":""},{"$f":"IF(MAR.7260!$BW$202>0,MAR.7260!$BW$202,\"\")","v":""},{"$f":"IF(MAR.7260!$BZ$202>0,MAR.7260!$BZ$202,\"\")","v":""},{"$f":"IF(MAR.7260!$CC$202>0,MAR.7260!$CC$202,\"\")","v":""}]
["Martillo 6000",{"$f":"IF(MAR.6000!$BR$202>0,MAR.6000!$BR$202,\"\")","v":""},{"$f":"IF(MAR.6000!$BU$202>0,MAR.6000!$BU$202,\"\")","v":""},{"$f":"IF(MAR.6000!$BX$202>0,MAR.6000!$BX$202,\"\")","v":""},{"$f":"IF(MAR.6000!$CA$202>0,MAR.6000!$CA$202,\"\")","v":""},{"$f":"IF(MAR.6000!$BS$202>0,MAR.6000!$BS$202,\"\")","v":""},{"$f":"IF(MAR.6000!$BV$202>0,MAR.6000!$BV$202,\"\")","v":""},{"$f":"IF(MAR.6000!$BY$202>0,MAR.6000!$BY$202,\"\")","v":""},{"$f":"IF(MAR.6000!$CB$202>0,MAR.6000!$CB$202,\"\")","v":""},{"$f":"IF(MAR.6000!$BT$202>0,MAR.6000!$BT$202,\"\")","v":""},{"$f":"IF(MAR.6000!$BW$202>0,MAR.6000!$BW$202,\"\")","v":""},{"$f":"IF(MAR.6000!$BZ$202>0,MAR.6000!$BZ$202,\"\")","v":""},{"$f":"IF(MAR.6000!$CC$202>0,MAR.6000!$CC$202,\"\")","v":""}]
["Martillo 5000",{"$f":"IF(MAR.5000!$BR$202>0,MAR.5000!$BR$202,\"\")","v":""},{"$f":"IF(MAR.5000!$BU$202>0,MAR.5000!$BU$202,\"\")","v":""},{"$f":"IF(MAR.5000!$BX$202>0,MAR.5000!$BX$202,\"\")","v":""},{"$f":"IF(MAR.5000!$CA$202>0,MAR.5000!$CA$202,\"\")","v":""},{"$f":"IF(MAR.5000!$BS$202>0,MAR.5000!$BS$202,\"\")","v":""},{"$f":"IF(MAR.5000!$BV$202>0,MAR.5000!$BV$202,\"\")","v":""},{"$f":"IF(MAR.5000!$BY$202>0,MAR.5000!$BY$202,\"\")","v":""},{"$f":"IF(MAR.5000!$CB$202>0,MAR.5000!$CB$202,\"\")","v":""},{"$f":"IF(MAR.5000!$BT$202>0,MAR.5000!$BT$202,\"\")","v":""},{"$f":"IF(MAR.5000!$BW$202>0,MAR.5000!$BW$202,\"\")","v":""},{"$f":"IF(MAR.5000!$BZ$202>0,MAR.5000!$BZ$202,\"\")","v":""},{"$f":"IF(MAR.5000!$CC$202>0,MAR.5000!$CC$202,\"\")","v":""}]
["Martillo 4000",{"$f":"IF(MAR.4000!$BR$204>0,MAR.4000!$BR$204,\"\")","v":""},{"$f":"IF(MAR.4000!$BU$204>0,MAR.4000!$BU$204,\"\")","v":""},{"$f":"IF(MAR.4000!$BX$204>0,MAR.4000!$BX$204,\"\")","v":""},{"$f":"IF(MAR.4000!$CA$204>0,MAR.4000!$CA$204,\"\")","v":""},{"$f":"IF(MAR.4000!$BS$204>0,MAR.4000!$BS$204,\"\")","v":""},{"$f":"IF(MAR.4000!$BV$204>0,MAR.4000!$BV$204,\"\")","v":""},{"$f":"IF(MAR.4000!$BY$204>0,MAR.4000!$BY$204,\"\")","v":""},{"$f":"IF(MAR.4000!$CB$204>0,MAR.4000!$CB$204,\"\")","v":""},{"$f":"IF(MAR.4000!$BT$204>0,MAR.4000!$BT$204,\"\")","v":""},{"$f":"IF(MAR.4000!$BW$204>0,MAR.4000!$BW$204,\"\")","v":""},{"$f":"IF(MAR.4000!$BZ$204>0,MAR.4000!$BZ$204,\"\")","v":""},{"$f":"IF(MAR.4000!$CC$204>0,MAR.4000!$CC$204,\"\")","v":""}]
["Martillo 3000",{"$f":"IF(MAR.3000!$BR$200>0,MAR.3000!$BR$200,\"\")","v":""},{"$f":"IF(MAR.3000!$BU$200>0,MAR.3000!$BU$200,\"\")","v":""},{"$f":"IF(MAR.3000!$BX$200>0,MAR.3000!$BX$200,\"\")","v":""},{"$f":"IF(MAR.3000!$CA$200>0,MAR.3000!$CA$200,\"\")","v":""},{"$f":"IF(MAR.3000!$BS$200>0,MAR.3000!$BS$200,\"\")","v":""},{"$f":"IF(MAR.3000!$BV$200>0,MAR.3000!$BV$200,\"\")","v":""},{"$f":"IF(MAR.3000!$BY$200>0,MAR.3000!$BY$200,\"\")","v":""},{"$f":"IF(MAR.3000!$CB$200>0,MAR.3000!$CB$200,\"\")","v":""},{"$f":"IF(MAR.3000!$BT$200>0,MAR.3000!$BT$200,\"\")","v":""},{"$f":"IF(MAR.3000!$BW$200>0,MAR.3000!$BW$200,\"\")","v":""},{"$f":"IF(MAR.3000!$BZ$200>0,MAR.3000!$BZ$200,\"\")","v":""},{"$f":"IF(MAR.3000!$CC$200>0,MAR.3000!$CC$200,\"\")","v":""}]
["Martillo 2000",{"$f":"IF(MAR.2000!$BR$202>0,MAR.2000!$BR$202,\"\")","v":""},{"$f":"IF(MAR.2000!$BU$202>0,MAR.2000!$BU$202,\"\")","v":""},{"$f":"IF(MAR.2000!$BX$202>0,MAR.2000!$BX$202,\"\")","v":""},{"$f":"IF(MAR.2000!$CA$202>0,MAR.2000!$CA$202,\"\")","v":""},{"$f":"IF(MAR.2000!$BS$202>0,MAR.2000!$BS$202,\"\")","v":""},{"$f":"IF(MAR.2000!$BV$202>0,MAR.2000!$BV$202,\"\")","v":""},{"$f":"IF(MAR.2000!$BY$202>0,MAR.2000!$BY$202,\"\")","v":""},{"$f":"IF(MAR.2000!$CB$202>0,MAR.2000!$CB$202,\"\")","v":""},{"$f":"IF(MAR.2000!$BT$202>0,MAR.2000!$BT$202,\"\")","v":""},{"$f":"IF(MAR.2000!$BW$202>0,MAR.2000!$BW$202,\"\")","v":""},{"$f":"IF(MAR.2000!$BZ$202>0,MAR.2000!$BZ$202,\"\")","v":""},{"$f":"IF(MAR.2000!$CC$202>0,MAR.2000!$CC$202,\"\")","v":""}]
["Peso 7260",{"$f":"IF(PES.7260!$BR$194>0,PES.7260!$BR$194,\"\")","v":""},{"$f":"IF(PES.7260!$BU$194>0,PES.7260!$BU$194,\"\")","v":""},{"$f":"IF(PES.7260!$BX$194>0,PES.7260!$BX$194,\"\")","v":""},{"$f":"IF(PES.7260!$CA$194>0,PES.7260!$CA$194,\"\")","v":""},{"$f":"IF(PES.7260!$BS$194>0,PES.7260!$BS$194,\"\")","v":""},{"$f":"IF(PES.7260!$BV$194>0,PES.7260!$BV$194,\"\")","v":""},{"$f":"IF(PES.7260!$BY$194>0,PES.7260!$BY$194,\"\")","v":""},{"$f":"IF(PES.7260!$CB$194>0,PES.7260!$CB$194,\"\")","v":""},{"$f":"IF(PES.7260!$BT$194>0,PES.7260!$BT$194,\"\")","v":""},{"$f":"IF(PES.7260!$BW$194>0,PES.7260!$BW$194,\"\")","v":""},{"$f":"IF(PES.7260!$BZ$194>0,PES.7260!$BZ$194,\"\")","v":""},{"$f":"IF(PES.7260!$CC$194>0,PES.7260!$CC$194,\"\")","v":""}]
["Peso 6000",{"$f":"IF(PES.6000!$BR$196>0,PES.6000!$BR$196,\"\")","v":""},{"$f":"IF(PES.6000!$BU$196>0,PES.6000!$BU$196,\"\")","v":""},{"$f":"IF(PES.6000!$BX$196>0,PES.6000!$BX$196,\"\")","v":""},{"$f":"IF(PES.6000!$CA$196>0,PES.6000!$CA$196,\"\")","v":""},{"$f":"IF(PES.6000!$BS$196>0,PES.6000!$BS$196,\"\")","v":""},{"$f":"IF(PES.6000!$BV$196>0,PES.6000!$BV$196,\"\")","v":""},{"$f":"IF(PES.6000!$BY$196>0,PES.6000!$BY$196,\"\")","v":""},{"$f":"IF(PES.6000!$CB$196>0,PES.6000!$CB$196,\"\")","v":""},{"$f":"IF(PES.6000!$BT$196>0,PES.6000!$BT$196,\"\")","v":""},{"$f":"IF(PES.6000!$BW$196>0,PES.6000!$BW$196,\"\")","v":""},{"$f":"IF(PES.6000!$BZ$196>0,PES.6000!$BZ$196,\"\")","v":""},{"$f":"IF(PES.6000!$CC$196>0,PES.6000!$CC$196,\"\")","v":""}]
["Peso 5000",{"$f":"IF(PES.5000!$BR$200>0,PES.5000!$BR$200,\"\")","v":""},{"$f":"IF(PES.5000!$BU$200>0,PES.5000!$BU$200,\"\")","v":""},{"$f":"IF(PES.5000!$BX$200>0,PES.5000!$BX$200,\"\")","v":""},{"$f":"IF(PES.5000!$CA$200>0,PES.5000!$CA$200,\"\")","v":""},{"$f":"IF(PES.5000!$BS$200>0,PES.5000!$BS$200,\"\")","v":""},{"$f":"IF(PES.5000!$BV$200>0,PES.5000!$BV$200,\"\")","v":""},{"$f":"IF(PES.5000!$BY$200>0,PES.5000!$BY$200,\"\")","v":""},{"$f":"IF(PES.5000!$CB$200>0,PES.5000!$CB$200,\"\")","v":""},{"$f":"IF(PES.5000!$BT$200>0,PES.5000!$BT$200,\"\")","v":""},{"$f":"IF(PES.5000!$BW$200>0,PES.5000!$BW$200,\"\")","v":""},{"$f":"IF(PES.5000!$BZ$200>0,PES.5000!$BZ$200,\"\")","v":""},{"$f":"IF(PES.5000!$CC$200>0,PES.5000!$CC$200,\"\")","v":""}]
["Peso 4000 H",{"$f":"IF(PES.4000H!$BR$194>0,PES.4000H!$BR$194,\"\")","v":""},{"$f":"IF(PES.4000H!$BU$194>0,PES.4000H!$BU$194,\"\")","v":""},{"$f":"IF(PES.4000H!$BX$194>0,PES.4000H!$BX$194,\"\")","v":""},{"$f":"IF(PES.4000H!$CA$194>0,PES.4000H!$CA$194,\"\")","v":""},{"$f":"IF(PES.4000H!$BS$194>0,PES.4000H!$BS$194,\"\")","v":""},{"$f":"IF(PES.4000H!$BV$194>0,PES.4000H!$BV$194,\"\")","v":""},{"$f":"IF(PES.4000H!$BY$194>0,PES.4000H!$BY$194,\"\")","v":""},{"$f":"IF(PES.4000H!$CB$194>0,PES.4000H!$CB$194,\"\")","v":""},{"$f":"IF(PES.4000H!$BT$194>0,PES.4000H!$BT$194,\"\")","v":""},{"$f":"IF(PES.4000H!$BW$194>0,PES.4000H!$BW$194,\"\")","v":""},{"$f":"IF(PES.4000H!$BZ$194>0,PES.4000H!$BZ$194,\"\")","v":""},{"$f":"IF(PES.4000H!$CC$194>0,PES.4000H!$CC$194,\"\")","v":""}]
["Peso 4000 M",{"$f":"IF(PES.4000M!$BR$206>0,PES.4000M!$BR$206,\"\")","v":""},{"$f":"IF(PES.4000M!$BU$206>0,PES.4000M!$BU$206,\"\")","v":""},{"$f":"IF(PES.4000M!$BX$206>0,PES.4000M!$BX$206,\"\")","v":""},{"$f":"IF(PES.4000M!$CA$206>0,PES.4000M!$CA$206,\"\")","v":""},{"$f":"IF(PES.4000M!$BS$206>0,PES.4000M!$BS$206,\"\")","v":""},{"$f":"IF(PES.4000M!$BV$206>0,PES.4000M!$BV$206,\"\")","v":""},{"$f":"IF(PES.4000M!$BY$206>0,PES.4000M!$BY$206,\"\")","v":""},{"$f":"IF(PES.4000M!$CB$206>0,PES.4000M!$CB$206,\"\")","v":""},{"$f":"IF(PES.4000M!$BT$206>0,PES.4000M!$BT$206,\"\")","v":""},{"$f":"IF(PES.4000M!$BW$206>0,PES.4000M!$BW$206,\"\")","v":""},{"$f":"IF(PES.4000M!$BZ$206>0,PES.4000M!$BZ$206,\"\")","v":""},{"$f":"IF(PES.4000M!$CC$206>0,PES.4000M!$CC$206,\"\")","v":""}]
["Peso 3000 H",{"$f":"IF(PES.3000H!$BR$194>0,PES.3000H!$BR$194,\"\")","v":""},{"$f":"IF(PES.3000H!$BU$194>0,PES.3000H!$BU$194,\"\")","v":""},{"$f":"IF(PES.3000H!$BX$194>0,PES.3000H!$BX$194,\"\")","v":""},{"$f":"IF(PES.3000H!$CA$194>0,PES.3000H!$CA$194,\"\")","v":""},{"$f":"IF(PES.3000H!$BS$194>0,PES.3000H!$BS$194,\"\")","v":""},{"$f":"IF(PES.3000H!$BV$194>0,PES.3000H!$BV$194,\"\")","v":""},{"$f":"IF(PES.3000H!$BY$194>0,PES.3000H!$BY$194,\"\")","v":""},{"$f":"IF(PES.3000H!$CB$194>0,PES.3000H!$CB$194,\"\")","v":""},{"$f":"IF(PES.3000H!$BT$194>0,PES.3000H!$BT$194,\"\")","v":""},{"$f":"IF(PES.3000H!$BW$194>0,PES.3000H!$BW$194,\"\")","v":""},{"$f":"IF(PES.3000H!$BZ$194>0,PES.3000H!$BZ$194,\"\")","v":""},{"$f":"IF(PES.3000H!$CC$194>0,PES.3000H!$CC$194,\"\")","v":""}]
["Peso 3000 M",{"$f":"IF(PES.3000M!$BR$206>0,PES.3000M!$BR$206,\"\")","v":""},{"$f":"IF(PES.3000M!$BU$206>0,PES.3000M!$BU$206,\"\")","v":""},{"$f":"IF(PES.3000M!$BX$206>0,PES.3000M!$BX$206,\"\")","v":""},{"$f":"IF(PES.3000M!$CA$206>0,PES.3000M!$CA$206,\"\")","v":""},{"$f":"IF(PES.3000M!$BS$206>0,PES.3000M!$BS$206,\"\")","v":""},{"$f":"IF(PES.3000M!$BV$206>0,PES.3000M!$BV$206,\"\")","v":""},{"$f":"IF(PES.3000M!$BY$206>0,PES.3000M!$BY$206,\"\")","v":""},{"$f":"IF(PES.3000M!$CB$206>0,PES.3000M!$CB$206,\"\")","v":""},{"$f":"IF(PES.3000M!$BT$206>0,PES.3000M!$BT$206,\"\")","v":""},{"$f":"IF(PES.3000M!$BW$206>0,PES.3000M!$BW$206,\"\")","v":""},{"$f":"IF(PES.3000M!$BZ$206>0,PES.3000M!$BZ$206,\"\")","v":""},{"$f":"IF(PES.3000M!$CC$206>0,PES.3000M!$CC$206,\"\")","v":""}]
["Peso 2000",{"$f":"IF(PES.2000!$BR$194>0,PES.2000!$BR$194,\"\")","v":""},{"$f":"IF(PES.2000!$BU$194>0,PES.2000!$BU$194,\"\")","v":""},{"$f":"IF(PES.2000!$BX$194>0,PES.2000!$BX$194,\"\")","v":""},{"$f":"IF(PES.2000!$CA$194>0,PES.2000!$CA$194,\"\")","v":""},{"$f":"IF(PES.2000!$BS$194>0,PES.2000!$BS$194,\"\")","v":""},{"$f":"IF(PES.2000!$BV$194>0,PES.2000!$BV$194,\"\")","v":""},{"$f":"IF(PES.2000!$BY$194>0,PES.2000!$BY$194,\"\")","v":""},{"$f":"IF(PES.2000!$CB$194>0,PES.2000!$CB$194,\"\")","v":""},{"$f":"IF(PES.2000!$BT$194>0,PES.2000!$BT$194,\"\")","v":""},{"$f":"IF(PES.2000!$BW$194>0,PES.2000!$BW$194,\"\")","v":""},{"$f":"IF(PES.2000!$BZ$194>0,PES.2000!$BZ$194,\"\")","v":""},{"$f":"IF(PES.2000!$CC$194>0,PES.2000!$CC$194,\"\")","v":""}]
["Martillo Pesado 15880",{"$f":"IF(MARP.15880!$BR$204>0,MARP.15880!$BR$204,\"\")","v":""},{"$f":"IF(MARP.15880!$BU$204>0,MARP.15880!$BU$204,\"\")","v":""},{"$f":"IF(MARP.15880!$BX$204>0,MARP.15880!$BX$204,\"\")","v":""},{"$f":"IF(MARP.15880!$CA$204>0,MARP.15880!$CA$204,\"\")","v":""},{"$f":"IF(MARP.15880!$BS$204>0,MARP.15880!$BS$204,\"\")","v":""},{"$f":"IF(MARP.15880!$BV$204>0,MARP.15880!$BV$204,\"\")","v":""},{"$f":"IF(MARP.15880!$BY$204>0,MARP.15880!$BY$204,\"\")","v":""},{"$f":"IF(MARP.15880!$CB$204>0,MARP.15880!$CB$204,\"\")","v":""},{"$f":"IF(MARP.15880!$BT$204>0,MARP.15880!$BT$204,\"\")","v":""},{"$f":"IF(MARP.15880!$BW$204>0,MARP.15880!$BW$204,\"\")","v":""},{"$f":"IF(MARP.15880!$BZ$204>0,MARP.15880!$BZ$204,\"\")","v":""},{"$f":"IF(MARP.15880!$CC$204>0,MARP.15880!$CC$204,\"\")","v":""}]
["Martillo Pesado 11340",{"$f":"IF(MARP.11340!$BR$206>0,MARP.11340!$BR$206,\"\")","v":""},{"$f":"IF(MARP.11340!$BU$206>0,MARP.11340!$BU$206,\"\")","v":""},{"$f":"IF(MARP.11340!$BX$206>0,MARP.11340!$BX$206,\"\")","v":""},{"$f":"IF(MARP.11340!$CA$206>0,MARP.11340!$CA$206,\"\")","v":""},{"$f":"IF(MARP.11340!$BS$206>0,MARP.11340!$BS$206,\"\")","v":""},{"$f":"IF(MARP.11340!$BV$206>0,MARP.11340!$BV$206,\"\")","v":""},{"$f":"IF(MARP.11340!$BY$206>0,MARP.11340!$BY$206,\"\")","v":""},{"$f":"IF(MARP.11340!$CB$206>0,MARP.11340!$CB$206,\"\")","v":""},{"$f":"IF(MARP.11340!$BT$206>0,MARP.11340!$BT$206,\"\")","v":""},{"$f":"IF(MARP.11340!$BW$206>0,MARP.11340!$BW$206,\"\")","v":""},{"$f":"IF(MARP.11340!$BZ$206>0,MARP.11340!$BZ$206,\"\")","v":""},{"$f":"IF(MARP.11340!$CC$206>0,MARP.11340!$CC$206,\"\")","v":""}]
["Martillo Pesado 9080",{"$f":"IF(MARP.9080!$BR$202>0,MARP.9080!$BR$202,\"\")","v":""},{"$f":"IF(MARP.9080!$BU$202>0,MARP.9080!$BU$202,\"\")","v":""},{"$f":"IF(MARP.9080!$BX$202>0,MARP.9080!$BX$202,\"\")","v":""},{"$f":"IF(MARP.9080!$CA$202>0,MARP.9080!$CA$202,\"\")","v":""},{"$f":"IF(MARP.9080!$BS$202>0,MARP.9080!$BS$202,\"\")","v":""},{"$f":"IF(MARP.9080!$BV$202>0,MARP.9080!$BV$202,\"\")","v":""},{"$f":"IF(MARP.9080!$BY$202>0,MARP.9080!$BY$202,\"\")","v":""},{"$f":"IF(MARP.9080!$CB$202>0,MARP.9080!$CB$202,\"\")","v":""},{"$f":"IF(MARP.9080!$BT$202>0,MARP.9080!$BT$202,\"\")","v":""},{"$f":"IF(MARP.9080!$BW$202>0,MARP.9080!$BW$202,\"\")","v":""},{"$f":"IF(MARP.9080!$BZ$202>0,MARP.9080!$BZ$202,\"\")","v":""},{"$f":"IF(MARP.9080!$CC$202>0,MARP.9080!$CC$202,\"\")","v":""}]
["Martillo Pesado 7260",{"$f":"IF(MARP.7260!$BR$202>0,MARP.7260!$BR$202,\"\")","v":""},{"$f":"IF(MARP.7260!$BU$202>0,MARP.7260!$BU$202,\"\")","v":""},{"$f":"IF(MARP.7260!$BX$202>0,MARP.7260!$BX$202,\"\")","v":""},{"$f":"IF(MARP.7260!$CA$202>0,MARP.7260!$CA$202,\"\")","v":""},{"$f":"IF(MARP.7260!$BS$202>0,MARP.7260!$BS$202,\"\")","v":""},{"$f":"IF(MARP.7260!$BV$202>0,MARP.7260!$BV$202,\"\")","v":""},{"$f":"IF(MARP.7260!$BY$202>0,MARP.7260!$BY$202,\"\")","v":""},{"$f":"IF(MARP.7260!$CB$202>0,MARP.7260!$CB$202,\"\")","v":""},{"$f":"IF(MARP.7260!$BT$202>0,MARP.7260!$BT$202,\"\")","v":""},{"$f":"IF(MARP.7260!$BW$202>0,MARP.7260!$BW$202,\"\")","v":""},{"$f":"IF(MARP.7260!$BZ$202>0,MARP.7260!$BZ$202,\"\")","v":""},{"$f":"IF(MARP.7260!$CC$202>0,MARP.7260!$CC$202,\"\")","v":""}]
["Martillo Pesado 5450",{"$f":"IF(MARP.5450!$BR$204>0,MARP.5450!$BR$204,\"\")","v":""},{"$f":"IF(MARP.5450!$BU$204>0,MARP.5450!$BU$204,\"\")","v":""},{"$f":"IF(MARP.5450!$BX$204>0,MARP.5450!$BX$204,\"\")","v":""},{"$f":"IF(MARP.5450!$CA$204>0,MARP.5450!$CA$204,\"\")","v":""},{"$f":"IF(MARP.5450!$BS$204>0,MARP.5450!$BS$204,\"\")","v":""},{"$f":"IF(MARP.5450!$BV$204>0,MARP.5450!$BV$204,\"\")","v":""},{"$f":"IF(MARP.5450!$BY$204>0,MARP.5450!$BY$204,\"\")","v":""},{"$f":"IF(MARP.5450!$CB$204>0,MARP.5450!$CB$204,\"\")","v":""},{"$f":"IF(MARP.5450!$BT$204>0,MARP.5450!$BT$204,\"\")","v":""},{"$f":"IF(MARP.5450!$BW$204>0,MARP.5450!$BW$204,\"\")","v":""},{"$f":"IF(MARP.5450!$BZ$204>0,MARP.5450!$BZ$204,\"\")","v":""},{"$f":"IF(MARP.5450!$CC$204>0,MARP.5450!$CC$204,\"\")","v":""}]
["Martillo Pesado 4000",{"$f":"IF(MARP.4000!$BR$196>0,MARP.4000!$BR$196,\"\")","v":""},{"$f":"IF(MARP.4000!$BU$196>0,MARP.4000!$BU$196,\"\")","v":""},{"$f":"IF(MARP.4000!$BX$196>0,MARP.4000!$BX$196,\"\")","v":""},{"$f":"IF(MARP.4000!$CA$196>0,MARP.4000!$CA$196,\"\")","v":""},{"$f":"IF(MARP.4000!$BS$196>0,MARP.4000!$BS$196,\"\")","v":""},{"$f":"IF(MARP.4000!$BV$196>0,MARP.4000!$BV$196,\"\")","v":""},{"$f":"IF(MARP.4000!$BY$196>0,MARP.4000!$BY$196,\"\")","v":""},{"$f":"IF(MARP.4000!$CB$196>0,MARP.4000!$CB$196,\"\")","v":""},{"$f":"IF(MARP.4000!$BT$196>0,MARP.4000!$BT$196,\"\")","v":""},{"$f":"IF(MARP.4000!$BW$196>0,MARP.4000!$BW$196,\"\")","v":""},{"$f":"IF(MARP.4000!$BZ$196>0,MARP.4000!$BZ$196,\"\")","v":""},{"$f":"IF(MARP.4000!$CC$196>0,MARP.4000!$CC$196,\"\")","v":""}]

{"sheet":"Ayuda","index":47,"n_rows":0,"n_cols":0,"rows_kept":0,"cut":false,"hidden":true,"merged":[]}